{"text_format":"1","workbook":"xlsx","n_sheets":32,"sheets":["Disclaimer","0 Front","1 ADT Direction 1","2 Axle Loads Direction 1","3 Design MESA Direction 1","4 ADT Direction 2","5 Axle Loads Direction 2","6 Design MESA Direction 2","7 ADT Direction 1-SS","8 Axle Loads Direction 1-SS","9 Design MESA Direction 1-SS","10 ADT Direction 2-SS","11 Axle Loads Direction 2-SS","12 Design MESA Direction 2-SS","13 Uniform Sections-CUSUMs","14 Flexible Pavement Structure","15 Flexible Pavement Struct 2","16 Axle Loads Concrete Dir-1","17 Axle Loads Concrete Dir-2","18 Concrete HVAG Dir-1","19 Concrete HVAG Dir-2","20 Concrete Pavement-Undowelled","21 Concrete Pavement-CRCP+Dowel","22 Concrete Catalogue+Cons","23 Table A","24 Table B","25 ORN 18 Diagnosis","26 VCS Form","27 Traffic Tally Form","28 Traffic Tally Form-SS","29 Axle Load Survey Form","30 Axle Load Survey Form-SS"],"not_rendered":{"charts":1,"images":6,"macros":0,"external_links":0,"defined_names":3,"comments":0,"pivot_tables":0},"unopened":[],"bounds":{"document_bytes":16777216,"sheet_cells":100000,"rows_first":2000,"rows_last":500,"rows_between":2000,"halvings":0,"cell_chars":16384,"cell_head_chars":4096},"cells_cut":0,"cells_raw":0,"read":"whole","date_system":"1900"}

{"sheet":"Disclaimer","index":0,"n_rows":21,"n_cols":3,"rows_kept":21,"cut":false,"hidden":false,"merged":[[14,2,18,10],[20,2,21,10],[2,2,9,10]]}
[]
[]
[null,null,"Whilst efforts have been made to ensure the accuracy of the information contained in this spreadsheet, the content is subject to change and TRL Limited, UK Foreign, Commonwealth, Foreign and Development Office (FCDO), and DT Global  and their affiliated organisations cannot guarantee its accuracy or currency. The right is reserved to make changes to the contents without notice.  TRL Limited, UK Foreign, Commonwealth, Foreign and Development Office (FCDO), and DT Global  and their affiliated organisations  do not accept any liability for any direct, indirect, incidental or consequential losses arising from the the use of this tool. By using this tool, you are deemed to have consented to these conditions."]
[]
[]
[]
[]
[]
[]
[]
[]
[]
[]
[]
[]
[]
[]
[]
[]
[]
[null,null,"This spreadsheet was designed by Andrew Otto and and programmed by Chris Collis. For queries please email aotto@trl.co.uk or enquiries@trl.co.uk"]

{"sheet":"0 Front","index":1,"n_rows":51,"n_cols":4,"rows_kept":51,"cut":false,"hidden":false,"merged":[[31,3,31,30],[32,3,32,30],[23,3,23,30],[24,3,24,30],[50,1,51,9],[47,3,47,30],[35,3,35,30],[36,3,36,30],[37,3,37,30],[38,3,38,30],[39,3,39,30],[40,3,40,30],[41,3,41,30],[42,3,42,30],[43,3,43,30],[44,3,44,30],[46,3,46,30],[45,3,45,30],[25,3,25,30],[34,3,34,30],[27,3,27,30],[3,1,7,9],[26,3,26,30],[33,3,33,30],[22,3,22,30],[17,3,17,30],[18,3,18,30],[19,3,19,30],[20,3,20,30],[21,3,21,30],[28,3,28,30],[29,3,29,30],[30,3,30,30]]}
[]
[]
[]
[]
[]
[]
[]
[]
[]
[]
[null,"INSTRUCTIONS"]
[null,"Legend"]
[null,null,"Use green cells to import data"]
[null,null,"Use blue cells to input and iterate results to get values."]
[null,null,"Contains formulae. DO NOT INPUT ANY VALUES"]
[null,null,"DO NOT TAMPER WITH"]
[]
[null,"Tab Number","Name","Description and use"]
[null,1,"ADT Direction 1 ","Use this for Direction 1 of your design section (e.g. Left-Hand Side). Enter the Average Daily Truck Traffic (ADTT) from the traffic counts, diverted and generated traffic factors. Enter the seasonal and grossing factors here as well. You can rename the vehicle types to match with your country/regional nomenclature."]
[null,2,"Axle Loads Direction 1","Use this to input the raw axle loads (in tonnes) for individual trucks weighed in Direction 1"]
[null,3,"Design MESA Direction 1","Use this to compute the MESA in Direction 1. Input the growth rates for each truck type, design periods (in years). As an alternative, if you already have the ESA per truck type and the ADTT for each truck type, you can input these in the lower part of the tab."]
[null,4,"ADT Direction 2 ","Use this for Direction 2 of your design section (e.g. Right-Hand Side). Enter the Average Daily Truck Traffic (ADTT) from the traffic counts, diverted and generated traffic factors. Enter the seasonal and grossing factors here as well. You can rename the vehicle types to match with your country/regional nomenclature."]
[null,5,"Axle Loads Direction 2","Use this to input the raw axle loads (in tonnes) for individual trucks weighed in Direction 2"]
[null,6,"Design MESA Direction 2","Use this to compute the MESA in Direction 2. Input the growth rates for each truck type, design periods (in years). As an alternative, if you already have the ESA per truck type and the ADTT for each truck type, you can input these in the lower part of the tab."]
[null,7,"ADT Direction 1-SS","Similar to Tab 1  BUT use only if you your truck classification takes into account axle configurations (e.g. tandems, tridems) and tyre tyepes (dual tyres or single tyres). See RN 31 Chapter 2 for further details or Row 1009-1025 in the tab. After inputing the axle loads, the truck class must be selected from the drop-down list for each row."]
[null,8,"Axle Loads Direction 1-SS","Similar to Tab 2  BUT use only if you your truck classification takes into account axle configurations (e.g. tandems, tridems) and tyre tyepes (dual tyres or single tyres). See RN 31 Chapter 2 for further details."]
[null,9,"Design MESA Direction 1-SS","Similar to Tab 3  BUT use only if you your truck classification takes into account axle configurations (e.g. tandems, tridems) and tyre tyepes (dual tyres or single tyres). See RN 31 Chapter 2 for further details."]
[null,10,"ADT Direction 2-SS","Similar to Tab 4  BUT use only if you your truck classification takes into account axle configurations (e.g. tandems, tridems) and tyre tyepes (dual tyres or single tyres). See RN 31 Chapter 2 for further details  or Row 1009-1025 in the tab."]
[null,11,"Axle Loads Direction 2-SS","Similar to Tab 5  BUT use only if you your truck classification takes into account axle configurations (e.g. tandems, tridems) and tyre tyepes (dual tyres or single tyres). See RN 31 Chapter 2 for further details. After inputing the axle loads, the truck class must be selected from the drop-down list for each row."]
[null,12,"Design MESA Direction 2-SS","Similar to Tab 6  BUT use only if you your truck classification takes into account axle configurations (e.g. tandems, tridems) and tyre tyepes (dual tyres or single tyres). See RN 31 Chapter 2 for further details."]
[null,13,"Uniform Sections-CUSUMs","Use this to determine uniform design sections. Input the CBR values, or rut depth/deflection (for rehabilitation) or other property by chainage. Then use the CUSUMS graph to delineate unifrom sections. Check that the coefficient of variation is within acceptable limits. (See RN 31 Chapter 3 and 11 for details)"]
[null,14,"Flexible Pavement Structure","Use this to generate flexible pavement options for selection. Options can only be generated for one section at a time. Input the subgrade CBR by chainage for the uniform section under consideration (determined from Tab 13). Input the required level of reliability (80% to 95%), select the required foundation class for design. Then the pavement structure options will be generated automatically. The option for use in the project can then be decided on economic basis or other criteria. Repeat for other uniform sections."]
[null,15,"Flexible Pavement Struct 2","Similar to Tab 14, BUT use if you already know the design traffic and subgrade or foundation class from another source. Enter these into the respective cells."]
[null,16,"Axle Loads Concrete Dir-1","This is similar to Tab 8, BUT it applies only to concrete pavements. It must be filled in, if concrete pavement design is to be undertaken. You can rename the vehicle classification and types to match your country or region classification. Do this in Row 1010 to 1026 in the tab."]
[null,17,"Axle Loads Concrete Dir-2","This is similar to Tab 11, BUT it applies only to concrete pavements. It must be filled in, if concrete pavement design is to be undertaken. You can rename the vehicle classification and types to match your country or region classification. Do this in Row 1010 to 1026 in the tab."]
[null,18,"Concrete HVAG Dir-1","Use this  for the computation of HVAGs (see Chapter 10 for details) for Direction 1 (e.g. LHS).  Input the growth rates for each truck type, design periods (in years). As an alternative, if you already have the ADTT for each truck type, you can input these in the lower part of the tab. You can rename the vehicle classes to match your country/region classification."]
[null,19,"Concrete HVAG Dir-2","Use this  for the computation of HVAGs (see Chapter 10 for details) for Direction 2 (e.g. RHS).  Input the growth rates for each truck type, design periods (in years). As an alternative, if you already have the ADTT for each truck type, you can input these in the lower part of the tab."]
[null,20,"Concrete Pavement-Undowelled","Use this to design slab thickness and reinforcement for UNDOWELLED concrete pavements. Input subgrade CBR for the uniform section, select the sub-base type, select the reliability level, then use trial values of slab thickness in the blue cell until each of \"the sum of damages\" is as close as possible to 100% - but not greater. Once the slab thickness has been selected, design the reinforrcement using subsequent cells."]
[null,21,"Concrete Pavement-CRCP+Dowel","Use this to design slab thickness and reinforcement for DOWELLED concrete pavements. Input subgrade CBR for the uniform section, select the sub-base type, select the reliability level, then use trial values of slab thickness in the blue cell until each of \"the sum of damages\" is as close as possible to 100% - but not greater. Once the slab thickness has been selected, design the reinforrcement using subsequent cells."]
[null,22,"Concrete Catalogue+Cons","This is a catalogue for concrete pavement design+ construction thickness tolerance added (without the need for iterative design)"]
[null,23,"Table A","DO NOT TAMPER - contains import tables used by other tabs"]
[null,24,"Table B","DO NOT TAMPER - contains import tables used by other tabs"]
[null,25,"ORN 18 Diagnosis","SEE SEPARATE SPREADSHEET FILE. Use this for the diagnosis of the cause of defects while undertaking rehabilitation design. Follow the drop-down lists until the end and the likely cause of defect will be generated. Refer to RN 31 Chapter 11 for solutions to adopt."]
[null,26,"VCS Form","This is a form to be printed out for conducting visual condition surveys. Your roads authority may have their own."]
[null,27,"Traffic Tally Form","Print this for use in conducting traffic counts (without classifying vehicles depending on axle and tyre configurations)"]
[null,28,"Traffic Tally Form-SS","Print this for use in conducting traffic counts (classifying vehicles depending on axle and tyre configurations)"]
[null,29,"Axle Load Survey Form","Print this for use in conducting axle load surveys OR use to prepare data for Sheet 2 or 5 (ignoring Supersingles)"]
[null,30,"Axle Load Survey Form-SS","Print this for use in conducting axle load surveys OR use to prepare data for Sheet 8 or 11 (For Supersingles)"]
[]
[]
[null,"This spreadsheet was designed by Andrew Otto and and programmed by Chris Collis. For queries please email aotto@trl.co.uk or enquiries@trl.co.uk"]

{"sheet":"1 ADT Direction 1","index":2,"n_rows":22,"n_cols":26,"rows_kept":22,"cut":false,"hidden":false,"merged":[[6,11,6,16],[6,19,6,24],[11,11,13,16],[11,17,13,17],[2,1,2,8],[3,8,5,8],[3,11,3,17],[3,19,3,25],[4,11,4,16],[4,19,4,24],[5,11,5,16],[5,19,5,24]]}
["Summary Traffic Count in Direction 1"]
[]
[]
["VEHICLE","Medium Truck (2 Axles) - Type 2","Heavy Truck (3 Axles) - Type 3","Heavy Truck (4 Axles) - Type 4","Semi-Trailers (5 Axles) - Type 5","Semi-Trailers (6 Axles) - Type 6","Trailers (7 Axles) - Type 7","Trailers (9 Axles) - Type 9","DAILY averages",null,null,"Computation of 24 hr Average Night Expansion Factor (Weekday)",null,null,null,null,null,null,null,"Computation of 24 hr Average Night Expansion Factor (Weekend)"]
["Vehicle Class",2,3,4,5,6,7,9,null,null,null,"Full day count on day of 24 hr count",null,null,null,null,null,300,null,"Full day count on day of 24 hr count",null,null,null,null,null,300]
["Date",null,null,null,null,null,null,null,null,null,null,"Vehicle number on the 24 hr count day, corresponding to the same counting period for day that requires grossing",null,null,null,null,null,250,null,"Vehicle number on the 24 hr count day, corresponding to the same counting period for day that requires grossing",null,null,null,null,null,250]
["ADTT (Weekday) (Less than 24 hrs)",20,20,20,20,20,20,20,{"$f":"SUM(B7:H7)","v":140},null,null,"Grossing Factor",null,null,null,null,null,{"$f":"R5/R6","v":1.2},null,"Grossing Factor",null,null,null,null,null,{"$f":"Z5/Z6","v":1.2}]
["Full day count on day of 24 hr count",30,30,30,30,30,30,30,{"$f":"SUM(B8:H8)","v":210}]
["Night Expansion Factor",{"$f":"B8/B7","v":1.5},{"$f":"C8/C7","v":1.5},1.5,1.5,1.5,1.5,1.5,{"$f":"AVERAGE(B9:H9)","v":1.5}]
["ADTT (Weekday (24 hrs)",{"$f":"$B$9*B7","v":30},{"$f":"$C$9*C7","v":30},{"$f":"$D$9*D7","v":30},{"$f":"$E$9*E7","v":30},{"$f":"$F$9*F7","v":30},{"$f":"$G$9*G7","v":30},{"$f":"$H$9*H7","v":30},{"$f":"SUM(B10:H10)","v":210}]
[]
["ADTT (Weekend) (Less than 24 hrs)",20,20,20,20,20,20,20,{"$f":"SUM(B12:H12)","v":140},null,null,"Lane Split Factor (or directional split if two-lane road and ADTT entered is Total)",null,null,null,null,null,1]
["Full day count on day of 24 hr count",30,30,30,30,30,30,30,{"$f":"SUM(B13:H13)","v":210}]
["Night Expansion Factor",{"$f":"B13/B12","v":1.5},{"$f":"C13/C12","v":1.5},{"$f":"D13/D12","v":1.5},1.5,1.5,1.5,1.5,{"$f":"AVERAGE(B14:H14)","v":1.5}]
["ADTT (Weekend) (24 hrs)",{"$f":"$B$14*B12","v":30},{"$f":"$C$14*C12","v":30},{"$f":"$D$14*D12","v":30},{"$f":"$E$14*E12","v":30},{"$f":"$F$14*F12","v":30},{"$f":"$G$14*G12","v":30},{"$f":"$H$14*H12","v":30},{"$f":"SUM(B15:H15)","v":210}]
[]
["ADTT (7-day)",{"$f":"(B10*5+B15*2)/7","v":30},{"$f":"(C10*5+C15*2)/7","v":30},30,30,30,30,30,{"$f":"SUM(B17:H17)","v":210}]
["Seasonal Factor",1.2,1.2,1.2,1.2,1.2,1.2,1.2,{"$f":"AVERAGE(B18:H18)","v":1.2}]
["Diverted Traffic Factor",1.2,1.2,1.2,1.2,1.2,1.2,1.2,1.2]
["Generated Traffic Factor",1.1000000000000001,1.1000000000000001,1.1000000000000001,1.1000000000000001,1.1000000000000001,1.1000000000000001,1.1000000000000001,1.0999999999999999]
[]
["AADTT (Design)",{"$f":"B17*$R$12*B18*B19*B20","v":47.519999999999996},{"$f":"C17*$R$12*C18*C19*C20","v":47.519999999999996},47.519999999999996,47.519999999999996,47.519999999999996,47.519999999999996,{"$f":"H17*$R$12*H18*H19*H20","v":47.519999999999996},{"$f":"SUM(B22:H22)","v":332.63999999999993}]

{"sheet":"2 Axle Loads Direction 1","index":3,"n_rows":1016,"n_cols":21,"rows_kept":1016,"cut":false,"hidden":false,"merged":[[1,2,1,10],[2,11,2,20],[2,2,3,2],[2,3,3,3],[2,4,3,4],[2,0,3,0],[2,1,3,1],[2,5,3,5],[2,10,3,10],[2,6,3,6],[2,7,3,7],[2,8,3,8],[2,9,3,9]]}
["Computation of design axle loading from axle load survey data"]
[null,null,"Axle Load (tonnes)",null,null,null,null,null,null,null,null,"n",4]
["Direction","Vehicle Class","Axle 1","Axle 2","Axle 3 ","Axle 4 ","Axle 5","Axle 6","Axle 7","Axle 8","Axle 9","Equivalency factor per axle EF = (Axle Load/8.16)^n"]
[null,null,null,null,null,null,null,null,null,null,null,"Axle 1","Axle 2","Axle 3","Axle 4","Axle 5","Axle 6","Axle 7","Axle 8","Axle 9","Total EF per vehicle"]
[1,2,null,null,null,null,null,null,null,null,null,{"$f":"(C5/8.16)^$M$2","v":0},0,0,0,0,0,0,0,0,{"$f":"SUM(L5:T5)","v":0}]
[1,2,null,null,null,null,null,null,null,null,null,{"$f":"(C6/8.16)^$M$2","v":0},{"$f":"(D6/8.16)^$M$2","v":0},{"$f":"(E6/8.16)^$M$2","v":0},{"$f":"(F6/8.16)^$M$2","v":0},{"$f":"(G6/8.16)^$M$2","v":0},{"$f":"(H6/8.16)^$M$2","v":0},{"$f":"(I6/8.16)^$M$2","v":0},{"$f":"(J6/8.16)^$M$2","v":0},{"$f":"(K6/8.16)^$M$2","v":0},{"$f":"SUM(L6:T6)","v":0}]
[1,2,null,null,null,null,null,null,null,null,null,0,0,0,0,0,0,0,0,0,0]
[1,2,null,null,null,null,null,null,null,null,null,0,0,0,0,0,0,0,0,0,0]
[1,2,null,null,null,null,null,null,null,null,null,0,0,0,0,0,0,0,0,0,0]
[1,2,null,null,null,null,null,null,null,null,null,0,0,0,0,0,0,0,0,0,0]
[1,2,null,null,null,null,null,null,null,null,null,0,0,0,0,0,0,0,0,0,0]
[1,2,null,null,null,null,null,null,null,null,null,0,0,0,0,0,0,0,0,0,0]
[1,2,null,null,null,null,null,null,null,null,null,0,0,0,0,0,0,0,0,0,0]
[1,2,null,null,null,null,null,null,null,null,null,0,0,0,0,0,0,0,0,0,0]
[1,2,null,null,null,null,null,null,null,null,null,0,0,0,0,0,0,0,0,0,0]
[1,2,null,null,null,null,null,null,null,null,null,0,0,0,0,0,0,0,0,0,0]
[1,2,null,null,null,null,null,null,null,null,null,0,0,0,0,0,0,0,0,0,0]
[1,2,null,null,null,null,null,null,null,null,null,0,0,0,0,0,0,0,0,0,0]
[1,2,null,null,null,null,null,null,null,null,null,0,0,0,0,0,0,0,0,0,0]
[1,2,null,null,null,null,null,null,null,null,null,0,0,0,0,0,0,0,0,0,0]
[1,2,null,null,null,null,null,null,null,null,null,0,0,0,0,0,0,0,0,0,0]
[1,2,null,null,null,null,null,null,null,null,null,0,0,0,0,0,0,0,0,0,0]
[1,2,null,null,null,null,null,null,null,null,null,0,0,0,0,0,0,0,0,0,0]
[1,2,null,null,null,null,null,null,null,null,null,0,0,0,0,0,0,0,0,0,0]
[1,2,null,null,null,null,null,null,null,null,null,0,0,0,0,0,0,0,0,0,0]
[1,2,null,null,null,null,null,null,null,null,null,0,0,0,0,0,0,0,0,0,0]
[1,2,null,null,null,null,null,null,null,null,null,0,0,0,0,0,0,0,0,0,0]
[1,2,null,null,null,null,null,null,null,null,null,0,0,0,0,0,0,0,0,0,0]
[1,2,null,null,null,null,null,null,null,null,null,0,0,0,0,0,0,0,0,0,0]
[1,2,null,null,null,null,null,null,null,null,null,0,0,0,0,0,0,0,0,0,0]
[1,2,null,null,null,null,null,null,null,null,null,0,0,0,0,0,0,0,0,0,0]
[1,2,null,null,null,null,null,null,null,null,null,0,0,0,0,0,0,0,0,0,0]
[1,2,null,null,null,null,null,null,null,null,null,0,0,0,0,0,0,0,0,0,0]
[1,2,null,null,null,null,null,null,null,null,null,0,0,0,0,0,0,0,0,0,0]
[1,2,null,null,null,null,null,null,null,null,null,0,0,0,0,0,0,0,0,0,0]
[1,2,null,null,null,null,null,null,null,null,null,0,0,0,0,0,0,0,0,0,0]
[1,2,null,null,null,null,null,null,null,null,null,0,0,0,0,0,0,0,0,0,0]
[1,2,null,null,null,null,null,null,null,null,null,0,0,0,0,0,0,0,0,0,0]
[1,2,null,null,null,null,null,null,null,null,null,0,0,0,0,0,0,0,0,0,0]
[1,2,null,null,null,null,null,null,null,null,null,0,0,0,0,0,0,0,0,0,0]
[1,2,null,null,null,null,null,null,null,null,null,0,0,0,0,0,0,0,0,0,0]
[1,2,null,null,null,null,null,null,null,null,null,0,0,0,0,0,0,0,0,0,0]
[1,2,null,null,null,null,null,null,null,null,null,0,0,0,0,0,0,0,0,0,0]
[1,2,null,null,null,null,null,null,null,null,null,0,0,0,0,0,0,0,0,0,0]
[1,2,null,null,null,null,null,null,null,null,null,0,0,0,0,0,0,0,0,0,0]
[1,2,null,null,null,null,null,null,null,null,null,0,0,0,0,0,0,0,0,0,0]
[1,2,null,null,null,null,null,null,null,null,null,0,0,0,0,0,0,0,0,0,0]
[1,2,null,null,null,null,null,null,null,null,null,0,0,0,0,0,0,0,0,0,0]
[1,2,null,null,null,null,null,null,null,null,null,0,0,0,0,0,0,0,0,0,0]
[1,2,null,null,null,null,null,null,null,null,null,0,0,0,0,0,0,0,0,0,0]
[1,2,null,null,null,null,null,null,null,null,null,0,0,0,0,0,0,0,0,0,0]
[1,2,null,null,null,null,null,null,null,null,null,0,0,0,0,0,0,0,0,0,0]
[1,2,null,null,null,null,null,null,null,null,null,0,0,0,0,0,0,0,0,0,0]
[1,2,null,null,null,null,null,null,null,null,null,0,0,0,0,0,0,0,0,0,0]
[1,2,null,null,null,null,null,null,null,null,null,0,0,0,0,0,0,0,0,0,0]
[1,2,null,null,null,null,null,null,null,null,null,0,0,0,0,0,0,0,0,0,0]
[1,2,null,null,null,null,null,null,null,null,null,0,0,0,0,0,0,0,0,0,0]
[1,2,null,null,null,null,null,null,null,null,null,0,0,0,0,0,0,0,0,0,0]
[1,2,null,null,null,null,null,null,null,null,null,0,0,0,0,0,0,0,0,0,0]
[1,2,null,null,null,null,null,null,null,null,null,0,0,0,0,0,0,0,0,0,0]
[1,2,null,null,null,null,null,null,null,null,null,0,0,0,0,0,0,0,0,0,0]
[1,2,null,null,null,null,null,null,null,null,null,0,0,0,0,0,0,0,0,0,0]
[1,2,null,null,null,null,null,null,null,null,null,0,0,0,0,0,0,0,0,0,0]
[1,2,null,null,null,null,null,null,null,null,null,0,0,0,0,0,0,0,0,0,0]
[1,2,null,null,null,null,null,null,null,null,null,0,0,0,0,0,0,0,0,0,0]
[1,2,null,null,null,null,null,null,null,null,null,0,0,0,0,0,0,0,0,0,0]
[1,2,null,null,null,null,null,null,null,null,null,0,0,0,0,0,0,0,0,0,0]
[1,2,null,null,null,null,null,null,null,null,null,0,0,0,0,0,0,0,0,0,0]
[1,2,null,null,null,null,null,null,null,null,null,0,0,0,0,0,0,0,0,0,0]
[1,2,null,null,null,null,null,null,null,null,null,{"$f":"(C70/8.16)^$M$2","v":0},{"$f":"(D70/8.16)^$M$2","v":0},{"$f":"(E70/8.16)^$M$2","v":0},{"$f":"(F70/8.16)^$M$2","v":0},{"$f":"(G70/8.16)^$M$2","v":0},{"$f":"(H70/8.16)^$M$2","v":0},{"$f":"(I70/8.16)^$M$2","v":0},{"$f":"(J70/8.16)^$M$2","v":0},{"$f":"(K70/8.16)^$M$2","v":0},{"$f":"SUM(L70:T70)","v":0}]
[1,2,null,null,null,null,null,null,null,null,null,0,0,0,0,0,0,0,0,0,0]
[1,2,null,null,null,null,null,null,null,null,null,0,0,0,0,0,0,0,0,0,0]
[1,2,null,null,null,null,null,null,null,null,null,0,0,0,0,0,0,0,0,0,0]
[1,2,null,null,null,null,null,null,null,null,null,0,0,0,0,0,0,0,0,0,0]
[1,2,null,null,null,null,null,null,null,null,null,0,0,0,0,0,0,0,0,0,0]
[1,2,null,null,null,null,null,null,null,null,null,0,0,0,0,0,0,0,0,0,0]
[1,2,null,null,null,null,null,null,null,null,null,0,0,0,0,0,0,0,0,0,0]
[1,2,null,null,null,null,null,null,null,null,null,0,0,0,0,0,0,0,0,0,0]
[1,2,null,null,null,null,null,null,null,null,null,0,0,0,0,0,0,0,0,0,0]
[1,2,null,null,null,null,null,null,null,null,null,0,0,0,0,0,0,0,0,0,0]
[1,2,null,null,null,null,null,null,null,null,null,0,0,0,0,0,0,0,0,0,0]
[1,2,null,null,null,null,null,null,null,null,null,0,0,0,0,0,0,0,0,0,0]
[1,2,null,null,null,null,null,null,null,null,null,0,0,0,0,0,0,0,0,0,0]
[1,2,null,null,null,null,null,null,null,null,null,0,0,0,0,0,0,0,0,0,0]
[1,2,null,null,null,null,null,null,null,null,null,0,0,0,0,0,0,0,0,0,0]
[1,2,null,null,null,null,null,null,null,null,null,0,0,0,0,0,0,0,0,0,0]
[1,2,null,null,null,null,null,null,null,null,null,0,0,0,0,0,0,0,0,0,0]
[1,2,null,null,null,null,null,null,null,null,null,0,0,0,0,0,0,0,0,0,0]
[1,2,null,null,null,null,null,null,null,null,null,0,0,0,0,0,0,0,0,0,0]
[1,2,null,null,null,null,null,null,null,null,null,0,0,0,0,0,0,0,0,0,0]
[1,2,null,null,null,null,null,null,null,null,null,0,0,0,0,0,0,0,0,0,0]
[1,2,null,null,null,null,null,null,null,null,null,0,0,0,0,0,0,0,0,0,0]
[1,2,null,null,null,null,null,null,null,null,null,0,0,0,0,0,0,0,0,0,0]
[1,2,null,null,null,null,null,null,null,null,null,0,0,0,0,0,0,0,0,0,0]
[1,2,null,null,null,null,null,null,null,null,null,0,0,0,0,0,0,0,0,0,0]
[1,2,null,null,null,null,null,null,null,null,null,0,0,0,0,0,0,0,0,0,0]
[1,2,null,null,null,null,null,null,null,null,null,0,0,0,0,0,0,0,0,0,0]
[1,2,null,null,null,null,null,null,null,null,null,0,0,0,0,0,0,0,0,0,0]
[1,2,null,null,null,null,null,null,null,null,null,0,0,0,0,0,0,0,0,0,0]
[1,2,null,null,null,null,null,null,null,null,null,0,0,0,0,0,0,0,0,0,0]
[1,2,null,null,null,null,null,null,null,null,null,0,0,0,0,0,0,0,0,0,0]
[1,2,null,null,null,null,null,null,null,null,null,0,0,0,0,0,0,0,0,0,0]
[1,2,null,null,null,null,null,null,null,null,null,0,0,0,0,0,0,0,0,0,0]
[1,2,null,null,null,null,null,null,null,null,null,0,0,0,0,0,0,0,0,0,0]
[1,2,null,null,null,null,null,null,null,null,null,0,0,0,0,0,0,0,0,0,0]
[1,2,null,null,null,null,null,null,null,null,null,0,0,0,0,0,0,0,0,0,0]
[1,2,null,null,null,null,null,null,null,null,null,0,0,0,0,0,0,0,0,0,0]
[1,2,null,null,null,null,null,null,null,null,null,0,0,0,0,0,0,0,0,0,0]
[1,2,null,null,null,null,null,null,null,null,null,0,0,0,0,0,0,0,0,0,0]
[1,2,null,null,null,null,null,null,null,null,null,0,0,0,0,0,0,0,0,0,0]
[1,2,null,null,null,null,null,null,null,null,null,0,0,0,0,0,0,0,0,0,0]
[1,2,null,null,null,null,null,null,null,null,null,0,0,0,0,0,0,0,0,0,0]
[1,2,null,null,null,null,null,null,null,null,null,0,0,0,0,0,0,0,0,0,0]
[1,2,null,null,null,null,null,null,null,null,null,0,0,0,0,0,0,0,0,0,0]
[1,2,null,null,null,null,null,null,null,null,null,0,0,0,0,0,0,0,0,0,0]
[1,2,null,null,null,null,null,null,null,null,null,0,0,0,0,0,0,0,0,0,0]
[1,2,null,null,null,null,null,null,null,null,null,0,0,0,0,0,0,0,0,0,0]
[1,2,null,null,null,null,null,null,null,null,null,0,0,0,0,0,0,0,0,0,0]
[1,2,null,null,null,null,null,null,null,null,null,0,0,0,0,0,0,0,0,0,0]
[1,2,null,null,null,null,null,null,null,null,null,0,0,0,0,0,0,0,0,0,0]
[1,2,null,null,null,null,null,null,null,null,null,0,0,0,0,0,0,0,0,0,0]
[1,2,null,null,null,null,null,null,null,null,null,0,0,0,0,0,0,0,0,0,0]
[1,2,null,null,null,null,null,null,null,null,null,0,0,0,0,0,0,0,0,0,0]
[1,2,null,null,null,null,null,null,null,null,null,0,0,0,0,0,0,0,0,0,0]
[1,2,null,null,null,null,null,null,null,null,null,0,0,0,0,0,0,0,0,0,0]
[1,2,null,null,null,null,null,null,null,null,null,0,0,0,0,0,0,0,0,0,0]
[1,2,null,null,null,null,null,null,null,null,null,0,0,0,0,0,0,0,0,0,0]
[1,2,null,null,null,null,null,null,null,null,null,0,0,0,0,0,0,0,0,0,0]
[1,2,null,null,null,null,null,null,null,null,null,0,0,0,0,0,0,0,0,0,0]
[1,2,null,null,null,null,null,null,null,null,null,0,0,0,0,0,0,0,0,0,0]
[1,2,null,null,null,null,null,null,null,null,null,0,0,0,0,0,0,0,0,0,0]
[1,2,null,null,null,null,null,null,null,null,null,0,0,0,0,0,0,0,0,0,0]
[1,2,null,null,null,null,null,null,null,null,null,0,0,0,0,0,0,0,0,0,0]
[1,2,null,null,null,null,null,null,null,null,null,{"$f":"(C134/8.16)^$M$2","v":0},{"$f":"(D134/8.16)^$M$2","v":0},{"$f":"(E134/8.16)^$M$2","v":0},{"$f":"(F134/8.16)^$M$2","v":0},{"$f":"(G134/8.16)^$M$2","v":0},{"$f":"(H134/8.16)^$M$2","v":0},{"$f":"(I134/8.16)^$M$2","v":0},{"$f":"(J134/8.16)^$M$2","v":0},{"$f":"(K134/8.16)^$M$2","v":0},{"$f":"SUM(L134:T134)","v":0}]
[1,2,null,null,null,null,null,null,null,null,null,0,0,0,0,0,0,0,0,0,0]
[1,2,null,null,null,null,null,null,null,null,null,0,0,0,0,0,0,0,0,0,0]
[1,2,null,null,null,null,null,null,null,null,null,0,0,0,0,0,0,0,0,0,0]
[1,2,null,null,null,null,null,null,null,null,null,0,0,0,0,0,0,0,0,0,0]
[1,2,null,null,null,null,null,null,null,null,null,0,0,0,0,0,0,0,0,0,0]
[1,2,null,null,null,null,null,null,null,null,null,0,0,0,0,0,0,0,0,0,0]
[1,2,null,null,null,null,null,null,null,null,null,0,0,0,0,0,0,0,0,0,0]
[1,2,null,null,null,null,null,null,null,null,null,0,0,0,0,0,0,0,0,0,0]
[1,2,null,null,null,null,null,null,null,null,null,0,0,0,0,0,0,0,0,0,0]
[1,2,null,null,null,null,null,null,null,null,null,0,0,0,0,0,0,0,0,0,0]
[1,2,null,null,null,null,null,null,null,null,null,0,0,0,0,0,0,0,0,0,0]
[1,2,null,null,null,null,null,null,null,null,null,0,0,0,0,0,0,0,0,0,0]
[1,2,null,null,null,null,null,null,null,null,null,0,0,0,0,0,0,0,0,0,0]
[1,2,null,null,null,null,null,null,null,null,null,0,0,0,0,0,0,0,0,0,0]
[1,2,null,null,null,null,null,null,null,null,null,0,0,0,0,0,0,0,0,0,0]
[1,2,null,null,null,null,null,null,null,null,null,0,0,0,0,0,0,0,0,0,0]
[1,2,null,null,null,null,null,null,null,null,null,0,0,0,0,0,0,0,0,0,0]
[1,2,null,null,null,null,null,null,null,null,null,0,0,0,0,0,0,0,0,0,0]
[1,2,null,null,null,null,null,null,null,null,null,0,0,0,0,0,0,0,0,0,0]
[1,2,null,null,null,null,null,null,null,null,null,0,0,0,0,0,0,0,0,0,0]
[1,2,null,null,null,null,null,null,null,null,null,0,0,0,0,0,0,0,0,0,0]
[1,2,null,null,null,null,null,null,null,null,null,0,0,0,0,0,0,0,0,0,0]
[1,2,null,null,null,null,null,null,null,null,null,0,0,0,0,0,0,0,0,0,0]
[1,2,null,null,null,null,null,null,null,null,null,0,0,0,0,0,0,0,0,0,0]
[1,2,null,null,null,null,null,null,null,null,null,0,0,0,0,0,0,0,0,0,0]
[1,2,null,null,null,null,null,null,null,null,null,0,0,0,0,0,0,0,0,0,0]
[1,2,null,null,null,null,null,null,null,null,null,0,0,0,0,0,0,0,0,0,0]
[1,2,null,null,null,null,null,null,null,null,null,0,0,0,0,0,0,0,0,0,0]
[1,2,null,null,null,null,null,null,null,null,null,0,0,0,0,0,0,0,0,0,0]
[1,2,null,null,null,null,null,null,null,null,null,0,0,0,0,0,0,0,0,0,0]
[1,2,null,null,null,null,null,null,null,null,null,0,0,0,0,0,0,0,0,0,0]
[1,2,null,null,null,null,null,null,null,null,null,0,0,0,0,0,0,0,0,0,0]
[1,2,null,null,null,null,null,null,null,null,null,0,0,0,0,0,0,0,0,0,0]
[1,2,null,null,null,null,null,null,null,null,null,0,0,0,0,0,0,0,0,0,0]
[1,2,null,null,null,null,null,null,null,null,null,0,0,0,0,0,0,0,0,0,0]
[1,2,null,null,null,null,null,null,null,null,null,0,0,0,0,0,0,0,0,0,0]
[1,2,null,null,null,null,null,null,null,null,null,0,0,0,0,0,0,0,0,0,0]
[1,2,null,null,null,null,null,null,null,null,null,0,0,0,0,0,0,0,0,0,0]
[1,2,null,null,null,null,null,null,null,null,null,0,0,0,0,0,0,0,0,0,0]
[1,2,null,null,null,null,null,null,null,null,null,0,0,0,0,0,0,0,0,0,0]
[1,2,null,null,null,null,null,null,null,null,null,0,0,0,0,0,0,0,0,0,0]
[1,2,null,null,null,null,null,null,null,null,null,0,0,0,0,0,0,0,0,0,0]
[1,2,null,null,null,null,null,null,null,null,null,0,0,0,0,0,0,0,0,0,0]
[1,2,null,null,null,null,null,null,null,null,null,0,0,0,0,0,0,0,0,0,0]
[1,2,null,null,null,null,null,null,null,null,null,0,0,0,0,0,0,0,0,0,0]
[1,2,null,null,null,null,null,null,null,null,null,0,0,0,0,0,0,0,0,0,0]
[1,2,null,null,null,null,null,null,null,null,null,0,0,0,0,0,0,0,0,0,0]
[1,2,null,null,null,null,null,null,null,null,null,0,0,0,0,0,0,0,0,0,0]
[1,2,null,null,null,null,null,null,null,null,null,0,0,0,0,0,0,0,0,0,0]
[1,2,null,null,null,null,null,null,null,null,null,0,0,0,0,0,0,0,0,0,0]
[1,2,null,null,null,null,null,null,null,null,null,0,0,0,0,0,0,0,0,0,0]
[1,2,null,null,null,null,null,null,null,null,null,0,0,0,0,0,0,0,0,0,0]
[1,2,null,null,null,null,null,null,null,null,null,0,0,0,0,0,0,0,0,0,0]
[1,2,null,null,null,null,null,null,null,null,null,0,0,0,0,0,0,0,0,0,0]
[1,2,null,null,null,null,null,null,null,null,null,0,0,0,0,0,0,0,0,0,0]
[1,2,null,null,null,null,null,null,null,null,null,0,0,0,0,0,0,0,0,0,0]
[1,2,null,null,null,null,null,null,null,null,null,0,0,0,0,0,0,0,0,0,0]
[1,2,null,null,null,null,null,null,null,null,null,0,0,0,0,0,0,0,0,0,0]
[1,2,null,null,null,null,null,null,null,null,null,0,0,0,0,0,0,0,0,0,0]
[1,2,null,null,null,null,null,null,null,null,null,0,0,0,0,0,0,0,0,0,0]
[1,2,null,null,null,null,null,null,null,null,null,0,0,0,0,0,0,0,0,0,0]
[1,2,null,null,null,null,null,null,null,null,null,0,0,0,0,0,0,0,0,0,0]
[1,2,null,null,null,null,null,null,null,null,null,0,0,0,0,0,0,0,0,0,0]
[1,2,null,null,null,null,null,null,null,null,null,{"$f":"(C198/8.16)^$M$2","v":0},{"$f":"(D198/8.16)^$M$2","v":0},{"$f":"(E198/8.16)^$M$2","v":0},{"$f":"(F198/8.16)^$M$2","v":0},{"$f":"(G198/8.16)^$M$2","v":0},{"$f":"(H198/8.16)^$M$2","v":0},{"$f":"(I198/8.16)^$M$2","v":0},{"$f":"(J198/8.16)^$M$2","v":0},{"$f":"(K198/8.16)^$M$2","v":0},{"$f":"SUM(L198:T198)","v":0}]
[1,2,null,null,null,null,null,null,null,null,null,0,0,0,0,0,0,0,0,0,0]
[1,2,null,null,null,null,null,null,null,null,null,0,0,0,0,0,0,0,0,0,0]
[1,2,null,null,null,null,null,null,null,null,null,0,0,0,0,0,0,0,0,0,0]
[1,2,null,null,null,null,null,null,null,null,null,0,0,0,0,0,0,0,0,0,0]
[1,2,null,null,null,null,null,null,null,null,null,0,0,0,0,0,0,0,0,0,0]
[1,2,null,null,null,null,null,null,null,null,null,0,0,0,0,0,0,0,0,0,0]
[1,2,null,null,null,null,null,null,null,null,null,0,0,0,0,0,0,0,0,0,0]
[1,2,null,null,null,null,null,null,null,null,null,0,0,0,0,0,0,0,0,0,0]
[1,2,null,null,null,null,null,null,null,null,null,0,0,0,0,0,0,0,0,0,0]
[1,2,null,null,null,null,null,null,null,null,null,0,0,0,0,0,0,0,0,0,0]
[1,2,null,null,null,null,null,null,null,null,null,0,0,0,0,0,0,0,0,0,0]
[1,2,null,null,null,null,null,null,null,null,null,0,0,0,0,0,0,0,0,0,0]
[1,2,null,null,null,null,null,null,null,null,null,0,0,0,0,0,0,0,0,0,0]
[1,2,null,null,null,null,null,null,null,null,null,0,0,0,0,0,0,0,0,0,0]
[1,2,null,null,null,null,null,null,null,null,null,0,0,0,0,0,0,0,0,0,0]
[1,2,null,null,null,null,null,null,null,null,null,0,0,0,0,0,0,0,0,0,0]
[1,2,null,null,null,null,null,null,null,null,null,0,0,0,0,0,0,0,0,0,0]
[1,2,null,null,null,null,null,null,null,null,null,0,0,0,0,0,0,0,0,0,0]
[1,2,null,null,null,null,null,null,null,null,null,0,0,0,0,0,0,0,0,0,0]
[1,2,null,null,null,null,null,null,null,null,null,0,0,0,0,0,0,0,0,0,0]
[1,2,null,null,null,null,null,null,null,null,null,0,0,0,0,0,0,0,0,0,0]
[1,2,null,null,null,null,null,null,null,null,null,0,0,0,0,0,0,0,0,0,0]
[1,2,null,null,null,null,null,null,null,null,null,0,0,0,0,0,0,0,0,0,0]
[1,2,null,null,null,null,null,null,null,null,null,0,0,0,0,0,0,0,0,0,0]
[1,2,null,null,null,null,null,null,null,null,null,0,0,0,0,0,0,0,0,0,0]
[1,2,null,null,null,null,null,null,null,null,null,0,0,0,0,0,0,0,0,0,0]
[1,2,null,null,null,null,null,null,null,null,null,0,0,0,0,0,0,0,0,0,0]
[1,2,null,null,null,null,null,null,null,null,null,0,0,0,0,0,0,0,0,0,0]
[1,2,null,null,null,null,null,null,null,null,null,0,0,0,0,0,0,0,0,0,0]
[1,2,null,null,null,null,null,null,null,null,null,0,0,0,0,0,0,0,0,0,0]
[1,2,null,null,null,null,null,null,null,null,null,0,0,0,0,0,0,0,0,0,0]
[1,2,null,null,null,null,null,null,null,null,null,0,0,0,0,0,0,0,0,0,0]
[1,2,null,null,null,null,null,null,null,null,null,0,0,0,0,0,0,0,0,0,0]
[1,2,null,null,null,null,null,null,null,null,null,0,0,0,0,0,0,0,0,0,0]
[1,2,null,null,null,null,null,null,null,null,null,0,0,0,0,0,0,0,0,0,0]
[1,2,null,null,null,null,null,null,null,null,null,0,0,0,0,0,0,0,0,0,0]
[1,2,null,null,null,null,null,null,null,null,null,0,0,0,0,0,0,0,0,0,0]
[1,2,null,null,null,null,null,null,null,null,null,0,0,0,0,0,0,0,0,0,0]
[1,2,null,null,null,null,null,null,null,null,null,0,0,0,0,0,0,0,0,0,0]
[1,2,null,null,null,null,null,null,null,null,null,0,0,0,0,0,0,0,0,0,0]
[1,2,null,null,null,null,null,null,null,null,null,0,0,0,0,0,0,0,0,0,0]
[1,2,null,null,null,null,null,null,null,null,null,0,0,0,0,0,0,0,0,0,0]
[1,2,null,null,null,null,null,null,null,null,null,0,0,0,0,0,0,0,0,0,0]
[1,2,null,null,null,null,null,null,null,null,null,0,0,0,0,0,0,0,0,0,0]
[1,2,null,null,null,null,null,null,null,null,null,0,0,0,0,0,0,0,0,0,0]
[1,2,null,null,null,null,null,null,null,null,null,0,0,0,0,0,0,0,0,0,0]
[1,2,null,null,null,null,null,null,null,null,null,0,0,0,0,0,0,0,0,0,0]
[1,2,null,null,null,null,null,null,null,null,null,0,0,0,0,0,0,0,0,0,0]
[1,2,null,null,null,null,null,null,null,null,null,0,0,0,0,0,0,0,0,0,0]
[1,2,null,null,null,null,null,null,null,null,null,0,0,0,0,0,0,0,0,0,0]
[1,2,null,null,null,null,null,null,null,null,null,0,0,0,0,0,0,0,0,0,0]
[1,2,null,null,null,null,null,null,null,null,null,0,0,0,0,0,0,0,0,0,0]
[1,2,null,null,null,null,null,null,null,null,null,0,0,0,0,0,0,0,0,0,0]
[1,2,null,null,null,null,null,null,null,null,null,0,0,0,0,0,0,0,0,0,0]
[1,2,null,null,null,null,null,null,null,null,null,0,0,0,0,0,0,0,0,0,0]
[1,2,null,null,null,null,null,null,null,null,null,0,0,0,0,0,0,0,0,0,0]
[1,2,null,null,null,null,null,null,null,null,null,0,0,0,0,0,0,0,0,0,0]
[1,2,null,null,null,null,null,null,null,null,null,0,0,0,0,0,0,0,0,0,0]
[1,2,null,null,null,null,null,null,null,null,null,0,0,0,0,0,0,0,0,0,0]
[1,2,null,null,null,null,null,null,null,null,null,0,0,0,0,0,0,0,0,0,0]
[1,2,null,null,null,null,null,null,null,null,null,0,0,0,0,0,0,0,0,0,0]
[1,2,null,null,null,null,null,null,null,null,null,0,0,0,0,0,0,0,0,0,0]
[1,2,null,null,null,null,null,null,null,null,null,0,0,0,0,0,0,0,0,0,0]
[1,2,null,null,null,null,null,null,null,null,null,{"$f":"(C262/8.16)^$M$2","v":0},{"$f":"(D262/8.16)^$M$2","v":0},{"$f":"(E262/8.16)^$M$2","v":0},{"$f":"(F262/8.16)^$M$2","v":0},{"$f":"(G262/8.16)^$M$2","v":0},{"$f":"(H262/8.16)^$M$2","v":0},{"$f":"(I262/8.16)^$M$2","v":0},{"$f":"(J262/8.16)^$M$2","v":0},{"$f":"(K262/8.16)^$M$2","v":0},{"$f":"SUM(L262:T262)","v":0}]
[1,2,null,null,null,null,null,null,null,null,null,0,0,0,0,0,0,0,0,0,0]
[1,2,null,null,null,null,null,null,null,null,null,0,0,0,0,0,0,0,0,0,0]
[1,2,null,null,null,null,null,null,null,null,null,0,0,0,0,0,0,0,0,0,0]
[1,2,null,null,null,null,null,null,null,null,null,0,0,0,0,0,0,0,0,0,0]
[1,2,null,null,null,null,null,null,null,null,null,0,0,0,0,0,0,0,0,0,0]
[1,2,null,null,null,null,null,null,null,null,null,0,0,0,0,0,0,0,0,0,0]
[1,2,null,null,null,null,null,null,null,null,null,0,0,0,0,0,0,0,0,0,0]
[1,2,null,null,null,null,null,null,null,null,null,0,0,0,0,0,0,0,0,0,0]
[1,2,null,null,null,null,null,null,null,null,null,0,0,0,0,0,0,0,0,0,0]
[1,2,null,null,null,null,null,null,null,null,null,0,0,0,0,0,0,0,0,0,0]
[1,2,null,null,null,null,null,null,null,null,null,0,0,0,0,0,0,0,0,0,0]
[1,2,null,null,null,null,null,null,null,null,null,0,0,0,0,0,0,0,0,0,0]
[1,2,null,null,null,null,null,null,null,null,null,0,0,0,0,0,0,0,0,0,0]
[1,2,null,null,null,null,null,null,null,null,null,0,0,0,0,0,0,0,0,0,0]
[1,2,null,null,null,null,null,null,null,null,null,0,0,0,0,0,0,0,0,0,0]
[1,2,null,null,null,null,null,null,null,null,null,0,0,0,0,0,0,0,0,0,0]
[1,2,null,null,null,null,null,null,null,null,null,0,0,0,0,0,0,0,0,0,0]
[1,2,null,null,null,null,null,null,null,null,null,0,0,0,0,0,0,0,0,0,0]
[1,2,null,null,null,null,null,null,null,null,null,0,0,0,0,0,0,0,0,0,0]
[1,2,null,null,null,null,null,null,null,null,null,0,0,0,0,0,0,0,0,0,0]
[1,2,null,null,null,null,null,null,null,null,null,0,0,0,0,0,0,0,0,0,0]
[1,2,null,null,null,null,null,null,null,null,null,0,0,0,0,0,0,0,0,0,0]
[1,2,null,null,null,null,null,null,null,null,null,0,0,0,0,0,0,0,0,0,0]
[1,2,null,null,null,null,null,null,null,null,null,0,0,0,0,0,0,0,0,0,0]
[1,2,null,null,null,null,null,null,null,null,null,0,0,0,0,0,0,0,0,0,0]
[1,2,null,null,null,null,null,null,null,null,null,0,0,0,0,0,0,0,0,0,0]
[1,2,null,null,null,null,null,null,null,null,null,0,0,0,0,0,0,0,0,0,0]
[1,2,null,null,null,null,null,null,null,null,null,0,0,0,0,0,0,0,0,0,0]
[1,2,null,null,null,null,null,null,null,null,null,0,0,0,0,0,0,0,0,0,0]
[1,2,null,null,null,null,null,null,null,null,null,0,0,0,0,0,0,0,0,0,0]
[1,2,null,null,null,null,null,null,null,null,null,0,0,0,0,0,0,0,0,0,0]
[1,2,null,null,null,null,null,null,null,null,null,0,0,0,0,0,0,0,0,0,0]
[1,2,null,null,null,null,null,null,null,null,null,0,0,0,0,0,0,0,0,0,0]
[1,2,null,null,null,null,null,null,null,null,null,0,0,0,0,0,0,0,0,0,0]
[1,2,null,null,null,null,null,null,null,null,null,0,0,0,0,0,0,0,0,0,0]
[1,2,null,null,null,null,null,null,null,null,null,0,0,0,0,0,0,0,0,0,0]
[1,2,null,null,null,null,null,null,null,null,null,0,0,0,0,0,0,0,0,0,0]
[1,2,null,null,null,null,null,null,null,null,null,0,0,0,0,0,0,0,0,0,0]
[1,2,null,null,null,null,null,null,null,null,null,0,0,0,0,0,0,0,0,0,0]
[1,2,null,null,null,null,null,null,null,null,null,0,0,0,0,0,0,0,0,0,0]
[1,2,null,null,null,null,null,null,null,null,null,0,0,0,0,0,0,0,0,0,0]
[1,2,null,null,null,null,null,null,null,null,null,0,0,0,0,0,0,0,0,0,0]
[1,2,null,null,null,null,null,null,null,null,null,0,0,0,0,0,0,0,0,0,0]
[1,2,null,null,null,null,null,null,null,null,null,0,0,0,0,0,0,0,0,0,0]
[1,2,null,null,null,null,null,null,null,null,null,0,0,0,0,0,0,0,0,0,0]
[1,2,null,null,null,null,null,null,null,null,null,0,0,0,0,0,0,0,0,0,0]
[1,2,null,null,null,null,null,null,null,null,null,0,0,0,0,0,0,0,0,0,0]
[1,2,null,null,null,null,null,null,null,null,null,0,0,0,0,0,0,0,0,0,0]
[1,2,null,null,null,null,null,null,null,null,null,0,0,0,0,0,0,0,0,0,0]
[1,2,null,null,null,null,null,null,null,null,null,0,0,0,0,0,0,0,0,0,0]
[1,2,null,null,null,null,null,null,null,null,null,0,0,0,0,0,0,0,0,0,0]
[1,2,null,null,null,null,null,null,null,null,null,0,0,0,0,0,0,0,0,0,0]
[1,2,null,null,null,null,null,null,null,null,null,0,0,0,0,0,0,0,0,0,0]
[1,2,null,null,null,null,null,null,null,null,null,0,0,0,0,0,0,0,0,0,0]
[1,2,null,null,null,null,null,null,null,null,null,0,0,0,0,0,0,0,0,0,0]
[1,2,null,null,null,null,null,null,null,null,null,0,0,0,0,0,0,0,0,0,0]
[1,2,null,null,null,null,null,null,null,null,null,0,0,0,0,0,0,0,0,0,0]
[1,2,null,null,null,null,null,null,null,null,null,0,0,0,0,0,0,0,0,0,0]
[1,2,null,null,null,null,null,null,null,null,null,0,0,0,0,0,0,0,0,0,0]
[1,2,null,null,null,null,null,null,null,null,null,0,0,0,0,0,0,0,0,0,0]
[1,2,null,null,null,null,null,null,null,null,null,0,0,0,0,0,0,0,0,0,0]
[1,2,null,null,null,null,null,null,null,null,null,0,0,0,0,0,0,0,0,0,0]
[1,2,null,null,null,null,null,null,null,null,null,0,0,0,0,0,0,0,0,0,0]
[1,2,null,null,null,null,null,null,null,null,null,{"$f":"(C326/8.16)^$M$2","v":0},{"$f":"(D326/8.16)^$M$2","v":0},{"$f":"(E326/8.16)^$M$2","v":0},{"$f":"(F326/8.16)^$M$2","v":0},{"$f":"(G326/8.16)^$M$2","v":0},{"$f":"(H326/8.16)^$M$2","v":0},{"$f":"(I326/8.16)^$M$2","v":0},{"$f":"(J326/8.16)^$M$2","v":0},{"$f":"(K326/8.16)^$M$2","v":0},{"$f":"SUM(L326:T326)","v":0}]
[1,2,null,null,null,null,null,null,null,null,null,0,0,0,0,0,0,0,0,0,0]
[1,2,null,null,null,null,null,null,null,null,null,0,0,0,0,0,0,0,0,0,0]
[1,2,null,null,null,null,null,null,null,null,null,0,0,0,0,0,0,0,0,0,0]
[1,2,null,null,null,null,null,null,null,null,null,0,0,0,0,0,0,0,0,0,0]
[1,2,null,null,null,null,null,null,null,null,null,0,0,0,0,0,0,0,0,0,0]
[1,2,null,null,null,null,null,null,null,null,null,0,0,0,0,0,0,0,0,0,0]
[1,2,null,null,null,null,null,null,null,null,null,0,0,0,0,0,0,0,0,0,0]
[1,2,null,null,null,null,null,null,null,null,null,0,0,0,0,0,0,0,0,0,0]
[1,2,null,null,null,null,null,null,null,null,null,0,0,0,0,0,0,0,0,0,0]
[1,2,null,null,null,null,null,null,null,null,null,0,0,0,0,0,0,0,0,0,0]
[1,2,null,null,null,null,null,null,null,null,null,0,0,0,0,0,0,0,0,0,0]
[1,2,null,null,null,null,null,null,null,null,null,0,0,0,0,0,0,0,0,0,0]
[1,2,null,null,null,null,null,null,null,null,null,0,0,0,0,0,0,0,0,0,0]
[1,2,null,null,null,null,null,null,null,null,null,0,0,0,0,0,0,0,0,0,0]
[1,2,null,null,null,null,null,null,null,null,null,0,0,0,0,0,0,0,0,0,0]
[1,2,null,null,null,null,null,null,null,null,null,0,0,0,0,0,0,0,0,0,0]
[1,2,null,null,null,null,null,null,null,null,null,0,0,0,0,0,0,0,0,0,0]
[1,2,null,null,null,null,null,null,null,null,null,0,0,0,0,0,0,0,0,0,0]
[1,2,null,null,null,null,null,null,null,null,null,0,0,0,0,0,0,0,0,0,0]
[1,2,null,null,null,null,null,null,null,null,null,0,0,0,0,0,0,0,0,0,0]
[1,2,null,null,null,null,null,null,null,null,null,0,0,0,0,0,0,0,0,0,0]
[1,2,null,null,null,null,null,null,null,null,null,0,0,0,0,0,0,0,0,0,0]
[1,2,null,null,null,null,null,null,null,null,null,0,0,0,0,0,0,0,0,0,0]
[1,2,null,null,null,null,null,null,null,null,null,0,0,0,0,0,0,0,0,0,0]
[1,2,null,null,null,null,null,null,null,null,null,0,0,0,0,0,0,0,0,0,0]
[1,2,null,null,null,null,null,null,null,null,null,0,0,0,0,0,0,0,0,0,0]
[1,2,null,null,null,null,null,null,null,null,null,0,0,0,0,0,0,0,0,0,0]
[1,2,null,null,null,null,null,null,null,null,null,0,0,0,0,0,0,0,0,0,0]
[1,2,null,null,null,null,null,null,null,null,null,0,0,0,0,0,0,0,0,0,0]
[1,2,null,null,null,null,null,null,null,null,null,0,0,0,0,0,0,0,0,0,0]
[1,2,null,null,null,null,null,null,null,null,null,0,0,0,0,0,0,0,0,0,0]
[1,2,null,null,null,null,null,null,null,null,null,0,0,0,0,0,0,0,0,0,0]
[1,2,null,null,null,null,null,null,null,null,null,0,0,0,0,0,0,0,0,0,0]
[1,2,null,null,null,null,null,null,null,null,null,0,0,0,0,0,0,0,0,0,0]
[1,2,null,null,null,null,null,null,null,null,null,0,0,0,0,0,0,0,0,0,0]
[1,2,null,null,null,null,null,null,null,null,null,0,0,0,0,0,0,0,0,0,0]
[1,2,null,null,null,null,null,null,null,null,null,0,0,0,0,0,0,0,0,0,0]
[1,2,null,null,null,null,null,null,null,null,null,0,0,0,0,0,0,0,0,0,0]
[1,2,null,null,null,null,null,null,null,null,null,0,0,0,0,0,0,0,0,0,0]
[1,2,null,null,null,null,null,null,null,null,null,0,0,0,0,0,0,0,0,0,0]
[1,2,null,null,null,null,null,null,null,null,null,0,0,0,0,0,0,0,0,0,0]
[1,2,null,null,null,null,null,null,null,null,null,0,0,0,0,0,0,0,0,0,0]
[1,2,null,null,null,null,null,null,null,null,null,0,0,0,0,0,0,0,0,0,0]
[1,2,null,null,null,null,null,null,null,null,null,0,0,0,0,0,0,0,0,0,0]
[1,2,null,null,null,null,null,null,null,null,null,0,0,0,0,0,0,0,0,0,0]
[1,2,null,null,null,null,null,null,null,null,null,0,0,0,0,0,0,0,0,0,0]
[1,2,null,null,null,null,null,null,null,null,null,0,0,0,0,0,0,0,0,0,0]
[1,2,null,null,null,null,null,null,null,null,null,0,0,0,0,0,0,0,0,0,0]
[1,2,null,null,null,null,null,null,null,null,null,0,0,0,0,0,0,0,0,0,0]
[1,2,null,null,null,null,null,null,null,null,null,0,0,0,0,0,0,0,0,0,0]
[1,2,null,null,null,null,null,null,null,null,null,0,0,0,0,0,0,0,0,0,0]
[1,2,null,null,null,null,null,null,null,null,null,0,0,0,0,0,0,0,0,0,0]
[1,2,null,null,null,null,null,null,null,null,null,0,0,0,0,0,0,0,0,0,0]
[1,2,null,null,null,null,null,null,null,null,null,0,0,0,0,0,0,0,0,0,0]
[1,2,null,null,null,null,null,null,null,null,null,0,0,0,0,0,0,0,0,0,0]
[1,2,null,null,null,null,null,null,null,null,null,0,0,0,0,0,0,0,0,0,0]
[1,2,null,null,null,null,null,null,null,null,null,0,0,0,0,0,0,0,0,0,0]
[1,2,null,null,null,null,null,null,null,null,null,0,0,0,0,0,0,0,0,0,0]
[1,2,null,null,null,null,null,null,null,null,null,0,0,0,0,0,0,0,0,0,0]
[1,2,null,null,null,null,null,null,null,null,null,0,0,0,0,0,0,0,0,0,0]
[1,2,null,null,null,null,null,null,null,null,null,0,0,0,0,0,0,0,0,0,0]
[1,2,null,null,null,null,null,null,null,null,null,0,0,0,0,0,0,0,0,0,0]
[1,2,null,null,null,null,null,null,null,null,null,0,0,0,0,0,0,0,0,0,0]
[1,2,null,null,null,null,null,null,null,null,null,{"$f":"(C390/8.16)^$M$2","v":0},{"$f":"(D390/8.16)^$M$2","v":0},{"$f":"(E390/8.16)^$M$2","v":0},{"$f":"(F390/8.16)^$M$2","v":0},{"$f":"(G390/8.16)^$M$2","v":0},{"$f":"(H390/8.16)^$M$2","v":0},{"$f":"(I390/8.16)^$M$2","v":0},{"$f":"(J390/8.16)^$M$2","v":0},{"$f":"(K390/8.16)^$M$2","v":0},{"$f":"SUM(L390:T390)","v":0}]
[1,2,null,null,null,null,null,null,null,null,null,0,0,0,0,0,0,0,0,0,0]
[1,2,null,null,null,null,null,null,null,null,null,0,0,0,0,0,0,0,0,0,0]
[1,2,null,null,null,null,null,null,null,null,null,0,0,0,0,0,0,0,0,0,0]
[1,2,null,null,null,null,null,null,null,null,null,0,0,0,0,0,0,0,0,0,0]
[1,2,null,null,null,null,null,null,null,null,null,0,0,0,0,0,0,0,0,0,0]
[1,2,null,null,null,null,null,null,null,null,null,0,0,0,0,0,0,0,0,0,0]
[1,2,null,null,null,null,null,null,null,null,null,0,0,0,0,0,0,0,0,0,0]
[1,2,null,null,null,null,null,null,null,null,null,0,0,0,0,0,0,0,0,0,0]
[1,2,null,null,null,null,null,null,null,null,null,0,0,0,0,0,0,0,0,0,0]
[1,2,null,null,null,null,null,null,null,null,null,0,0,0,0,0,0,0,0,0,0]
[1,2,null,null,null,null,null,null,null,null,null,0,0,0,0,0,0,0,0,0,0]
[1,2,null,null,null,null,null,null,null,null,null,0,0,0,0,0,0,0,0,0,0]
[1,2,null,null,null,null,null,null,null,null,null,0,0,0,0,0,0,0,0,0,0]
[1,2,null,null,null,null,null,null,null,null,null,0,0,0,0,0,0,0,0,0,0]
[1,2,null,null,null,null,null,null,null,null,null,0,0,0,0,0,0,0,0,0,0]
[1,2,null,null,null,null,null,null,null,null,null,0,0,0,0,0,0,0,0,0,0]
[1,2,null,null,null,null,null,null,null,null,null,0,0,0,0,0,0,0,0,0,0]
[1,2,null,null,null,null,null,null,null,null,null,0,0,0,0,0,0,0,0,0,0]
[1,2,null,null,null,null,null,null,null,null,null,0,0,0,0,0,0,0,0,0,0]
[1,2,null,null,null,null,null,null,null,null,null,0,0,0,0,0,0,0,0,0,0]
[1,2,null,null,null,null,null,null,null,null,null,0,0,0,0,0,0,0,0,0,0]
[1,2,null,null,null,null,null,null,null,null,null,0,0,0,0,0,0,0,0,0,0]
[1,2,null,null,null,null,null,null,null,null,null,0,0,0,0,0,0,0,0,0,0]
[1,2,null,null,null,null,null,null,null,null,null,0,0,0,0,0,0,0,0,0,0]
[1,2,null,null,null,null,null,null,null,null,null,0,0,0,0,0,0,0,0,0,0]
[1,2,null,null,null,null,null,null,null,null,null,0,0,0,0,0,0,0,0,0,0]
[1,2,null,null,null,null,null,null,null,null,null,0,0,0,0,0,0,0,0,0,0]
[1,2,null,null,null,null,null,null,null,null,null,0,0,0,0,0,0,0,0,0,0]
[1,2,null,null,null,null,null,null,null,null,null,0,0,0,0,0,0,0,0,0,0]
[1,2,null,null,null,null,null,null,null,null,null,0,0,0,0,0,0,0,0,0,0]
[1,2,null,null,null,null,null,null,null,null,null,0,0,0,0,0,0,0,0,0,0]
[1,2,null,null,null,null,null,null,null,null,null,0,0,0,0,0,0,0,0,0,0]
[1,2,null,null,null,null,null,null,null,null,null,0,0,0,0,0,0,0,0,0,0]
[1,2,null,null,null,null,null,null,null,null,null,0,0,0,0,0,0,0,0,0,0]
[1,2,null,null,null,null,null,null,null,null,null,0,0,0,0,0,0,0,0,0,0]
[1,2,null,null,null,null,null,null,null,null,null,0,0,0,0,0,0,0,0,0,0]
[1,2,null,null,null,null,null,null,null,null,null,0,0,0,0,0,0,0,0,0,0]
[1,2,null,null,null,null,null,null,null,null,null,0,0,0,0,0,0,0,0,0,0]
[1,2,null,null,null,null,null,null,null,null,null,0,0,0,0,0,0,0,0,0,0]
[1,2,null,null,null,null,null,null,null,null,null,0,0,0,0,0,0,0,0,0,0]
[1,2,null,null,null,null,null,null,null,null,null,0,0,0,0,0,0,0,0,0,0]
[1,2,null,null,null,null,null,null,null,null,null,0,0,0,0,0,0,0,0,0,0]
[1,2,null,null,null,null,null,null,null,null,null,0,0,0,0,0,0,0,0,0,0]
[1,2,null,null,null,null,null,null,null,null,null,0,0,0,0,0,0,0,0,0,0]
[1,2,null,null,null,null,null,null,null,null,null,0,0,0,0,0,0,0,0,0,0]
[1,2,null,null,null,null,null,null,null,null,null,0,0,0,0,0,0,0,0,0,0]
[1,2,null,null,null,null,null,null,null,null,null,0,0,0,0,0,0,0,0,0,0]
[1,2,null,null,null,null,null,null,null,null,null,0,0,0,0,0,0,0,0,0,0]
[1,2,null,null,null,null,null,null,null,null,null,0,0,0,0,0,0,0,0,0,0]
[1,2,null,null,null,null,null,null,null,null,null,0,0,0,0,0,0,0,0,0,0]
[1,2,null,null,null,null,null,null,null,null,null,0,0,0,0,0,0,0,0,0,0]
[1,2,null,null,null,null,null,null,null,null,null,0,0,0,0,0,0,0,0,0,0]
[1,2,null,null,null,null,null,null,null,null,null,0,0,0,0,0,0,0,0,0,0]
[1,2,null,null,null,null,null,null,null,null,null,0,0,0,0,0,0,0,0,0,0]
[1,2,null,null,null,null,null,null,null,null,null,0,0,0,0,0,0,0,0,0,0]
[1,2,null,null,null,null,null,null,null,null,null,0,0,0,0,0,0,0,0,0,0]
[1,2,null,null,null,null,null,null,null,null,null,0,0,0,0,0,0,0,0,0,0]
[1,2,null,null,null,null,null,null,null,null,null,0,0,0,0,0,0,0,0,0,0]
[1,2,null,null,null,null,null,null,null,null,null,0,0,0,0,0,0,0,0,0,0]
[1,2,null,null,null,null,null,null,null,null,null,0,0,0,0,0,0,0,0,0,0]
[1,2,null,null,null,null,null,null,null,null,null,0,0,0,0,0,0,0,0,0,0]
[1,2,null,null,null,null,null,null,null,null,null,0,0,0,0,0,0,0,0,0,0]
[1,2,null,null,null,null,null,null,null,null,null,0,0,0,0,0,0,0,0,0,0]
[1,2,null,null,null,null,null,null,null,null,null,{"$f":"(C454/8.16)^$M$2","v":0},{"$f":"(D454/8.16)^$M$2","v":0},{"$f":"(E454/8.16)^$M$2","v":0},{"$f":"(F454/8.16)^$M$2","v":0},{"$f":"(G454/8.16)^$M$2","v":0},{"$f":"(H454/8.16)^$M$2","v":0},{"$f":"(I454/8.16)^$M$2","v":0},{"$f":"(J454/8.16)^$M$2","v":0},{"$f":"(K454/8.16)^$M$2","v":0},{"$f":"SUM(L454:T454)","v":0}]
[1,2,null,null,null,null,null,null,null,null,null,0,0,0,0,0,0,0,0,0,0]
[1,2,null,null,null,null,null,null,null,null,null,0,0,0,0,0,0,0,0,0,0]
[1,2,null,null,null,null,null,null,null,null,null,0,0,0,0,0,0,0,0,0,0]
[1,2,null,null,null,null,null,null,null,null,null,0,0,0,0,0,0,0,0,0,0]
[1,2,null,null,null,null,null,null,null,null,null,0,0,0,0,0,0,0,0,0,0]
[1,2,null,null,null,null,null,null,null,null,null,0,0,0,0,0,0,0,0,0,0]
[1,2,null,null,null,null,null,null,null,null,null,0,0,0,0,0,0,0,0,0,0]
[1,2,null,null,null,null,null,null,null,null,null,0,0,0,0,0,0,0,0,0,0]
[1,2,null,null,null,null,null,null,null,null,null,0,0,0,0,0,0,0,0,0,0]
[1,2,null,null,null,null,null,null,null,null,null,0,0,0,0,0,0,0,0,0,0]
[1,2,null,null,null,null,null,null,null,null,null,0,0,0,0,0,0,0,0,0,0]
[1,2,null,null,null,null,null,null,null,null,null,0,0,0,0,0,0,0,0,0,0]
[1,2,null,null,null,null,null,null,null,null,null,0,0,0,0,0,0,0,0,0,0]
[1,2,null,null,null,null,null,null,null,null,null,0,0,0,0,0,0,0,0,0,0]
[1,2,null,null,null,null,null,null,null,null,null,0,0,0,0,0,0,0,0,0,0]
[1,2,null,null,null,null,null,null,null,null,null,0,0,0,0,0,0,0,0,0,0]
[1,2,null,null,null,null,null,null,null,null,null,0,0,0,0,0,0,0,0,0,0]
[1,2,null,null,null,null,null,null,null,null,null,0,0,0,0,0,0,0,0,0,0]
[1,2,null,null,null,null,null,null,null,null,null,0,0,0,0,0,0,0,0,0,0]
[1,2,null,null,null,null,null,null,null,null,null,0,0,0,0,0,0,0,0,0,0]
[1,2,null,null,null,null,null,null,null,null,null,0,0,0,0,0,0,0,0,0,0]
[1,2,null,null,null,null,null,null,null,null,null,0,0,0,0,0,0,0,0,0,0]
[1,2,null,null,null,null,null,null,null,null,null,0,0,0,0,0,0,0,0,0,0]
[1,2,null,null,null,null,null,null,null,null,null,0,0,0,0,0,0,0,0,0,0]
[1,2,null,null,null,null,null,null,null,null,null,0,0,0,0,0,0,0,0,0,0]
[1,2,null,null,null,null,null,null,null,null,null,0,0,0,0,0,0,0,0,0,0]
[1,2,null,null,null,null,null,null,null,null,null,0,0,0,0,0,0,0,0,0,0]
[1,2,null,null,null,null,null,null,null,null,null,0,0,0,0,0,0,0,0,0,0]
[1,2,null,null,null,null,null,null,null,null,null,0,0,0,0,0,0,0,0,0,0]
[1,2,null,null,null,null,null,null,null,null,null,0,0,0,0,0,0,0,0,0,0]
[1,2,null,null,null,null,null,null,null,null,null,0,0,0,0,0,0,0,0,0,0]
[1,2,null,null,null,null,null,null,null,null,null,0,0,0,0,0,0,0,0,0,0]
[1,2,null,null,null,null,null,null,null,null,null,0,0,0,0,0,0,0,0,0,0]
[1,2,null,null,null,null,null,null,null,null,null,0,0,0,0,0,0,0,0,0,0]
[1,2,null,null,null,null,null,null,null,null,null,0,0,0,0,0,0,0,0,0,0]
[1,2,null,null,null,null,null,null,null,null,null,0,0,0,0,0,0,0,0,0,0]
[1,2,null,null,null,null,null,null,null,null,null,0,0,0,0,0,0,0,0,0,0]
[1,2,null,null,null,null,null,null,null,null,null,0,0,0,0,0,0,0,0,0,0]
[1,2,null,null,null,null,null,null,null,null,null,0,0,0,0,0,0,0,0,0,0]
[1,2,null,null,null,null,null,null,null,null,null,0,0,0,0,0,0,0,0,0,0]
[1,2,null,null,null,null,null,null,null,null,null,0,0,0,0,0,0,0,0,0,0]
[1,2,null,null,null,null,null,null,null,null,null,0,0,0,0,0,0,0,0,0,0]
[1,2,null,null,null,null,null,null,null,null,null,0,0,0,0,0,0,0,0,0,0]
[1,2,null,null,null,null,null,null,null,null,null,0,0,0,0,0,0,0,0,0,0]
[1,2,null,null,null,null,null,null,null,null,null,0,0,0,0,0,0,0,0,0,0]
[1,2,null,null,null,null,null,null,null,null,null,0,0,0,0,0,0,0,0,0,0]
[1,2,null,null,null,null,null,null,null,null,null,0,0,0,0,0,0,0,0,0,0]
[1,2,null,null,null,null,null,null,null,null,null,0,0,0,0,0,0,0,0,0,0]
[1,2,null,null,null,null,null,null,null,null,null,0,0,0,0,0,0,0,0,0,0]
[1,2,null,null,null,null,null,null,null,null,null,0,0,0,0,0,0,0,0,0,0]
[1,2,null,null,null,null,null,null,null,null,null,0,0,0,0,0,0,0,0,0,0]
[1,2,null,null,null,null,null,null,null,null,null,0,0,0,0,0,0,0,0,0,0]
[1,2,null,null,null,null,null,null,null,null,null,0,0,0,0,0,0,0,0,0,0]
[1,2,null,null,null,null,null,null,null,null,null,0,0,0,0,0,0,0,0,0,0]
[1,2,null,null,null,null,null,null,null,null,null,0,0,0,0,0,0,0,0,0,0]
[1,2,null,null,null,null,null,null,null,null,null,0,0,0,0,0,0,0,0,0,0]
[1,2,null,null,null,null,null,null,null,null,null,0,0,0,0,0,0,0,0,0,0]
[1,2,null,null,null,null,null,null,null,null,null,0,0,0,0,0,0,0,0,0,0]
[1,2,null,null,null,null,null,null,null,null,null,0,0,0,0,0,0,0,0,0,0]
[1,2,null,null,null,null,null,null,null,null,null,0,0,0,0,0,0,0,0,0,0]
[1,2,null,null,null,null,null,null,null,null,null,0,0,0,0,0,0,0,0,0,0]
[1,2,null,null,null,null,null,null,null,null,null,0,0,0,0,0,0,0,0,0,0]
[1,2,null,null,null,null,null,null,null,null,null,0,0,0,0,0,0,0,0,0,0]
[1,2,null,null,null,null,null,null,null,null,null,{"$f":"(C518/8.16)^$M$2","v":0},{"$f":"(D518/8.16)^$M$2","v":0},{"$f":"(E518/8.16)^$M$2","v":0},{"$f":"(F518/8.16)^$M$2","v":0},{"$f":"(G518/8.16)^$M$2","v":0},{"$f":"(H518/8.16)^$M$2","v":0},{"$f":"(I518/8.16)^$M$2","v":0},{"$f":"(J518/8.16)^$M$2","v":0},{"$f":"(K518/8.16)^$M$2","v":0},{"$f":"SUM(L518:T518)","v":0}]
[1,2,null,null,null,null,null,null,null,null,null,0,0,0,0,0,0,0,0,0,0]
[1,2,null,null,null,null,null,null,null,null,null,0,0,0,0,0,0,0,0,0,0]
[1,2,null,null,null,null,null,null,null,null,null,0,0,0,0,0,0,0,0,0,0]
[1,2,null,null,null,null,null,null,null,null,null,0,0,0,0,0,0,0,0,0,0]
[1,2,null,null,null,null,null,null,null,null,null,0,0,0,0,0,0,0,0,0,0]
[1,2,null,null,null,null,null,null,null,null,null,0,0,0,0,0,0,0,0,0,0]
[1,2,null,null,null,null,null,null,null,null,null,0,0,0,0,0,0,0,0,0,0]
[1,2,null,null,null,null,null,null,null,null,null,0,0,0,0,0,0,0,0,0,0]
[1,2,null,null,null,null,null,null,null,null,null,0,0,0,0,0,0,0,0,0,0]
[1,2,null,null,null,null,null,null,null,null,null,0,0,0,0,0,0,0,0,0,0]
[1,2,null,null,null,null,null,null,null,null,null,0,0,0,0,0,0,0,0,0,0]
[1,2,null,null,null,null,null,null,null,null,null,0,0,0,0,0,0,0,0,0,0]
[1,2,null,null,null,null,null,null,null,null,null,0,0,0,0,0,0,0,0,0,0]
[1,2,null,null,null,null,null,null,null,null,null,0,0,0,0,0,0,0,0,0,0]
[1,2,null,null,null,null,null,null,null,null,null,0,0,0,0,0,0,0,0,0,0]
[1,2,null,null,null,null,null,null,null,null,null,0,0,0,0,0,0,0,0,0,0]
[1,2,null,null,null,null,null,null,null,null,null,0,0,0,0,0,0,0,0,0,0]
[1,2,null,null,null,null,null,null,null,null,null,0,0,0,0,0,0,0,0,0,0]
[1,2,null,null,null,null,null,null,null,null,null,0,0,0,0,0,0,0,0,0,0]
[1,2,null,null,null,null,null,null,null,null,null,0,0,0,0,0,0,0,0,0,0]
[1,2,null,null,null,null,null,null,null,null,null,0,0,0,0,0,0,0,0,0,0]
[1,2,null,null,null,null,null,null,null,null,null,0,0,0,0,0,0,0,0,0,0]
[1,2,null,null,null,null,null,null,null,null,null,0,0,0,0,0,0,0,0,0,0]
[1,2,null,null,null,null,null,null,null,null,null,0,0,0,0,0,0,0,0,0,0]
[1,2,null,null,null,null,null,null,null,null,null,0,0,0,0,0,0,0,0,0,0]
[1,2,null,null,null,null,null,null,null,null,null,0,0,0,0,0,0,0,0,0,0]
[1,2,null,null,null,null,null,null,null,null,null,0,0,0,0,0,0,0,0,0,0]
[1,2,null,null,null,null,null,null,null,null,null,0,0,0,0,0,0,0,0,0,0]
[1,2,null,null,null,null,null,null,null,null,null,0,0,0,0,0,0,0,0,0,0]
[1,2,null,null,null,null,null,null,null,null,null,0,0,0,0,0,0,0,0,0,0]
[1,2,null,null,null,null,null,null,null,null,null,0,0,0,0,0,0,0,0,0,0]
[1,2,null,null,null,null,null,null,null,null,null,0,0,0,0,0,0,0,0,0,0]
[1,2,null,null,null,null,null,null,null,null,null,0,0,0,0,0,0,0,0,0,0]
[1,2,null,null,null,null,null,null,null,null,null,0,0,0,0,0,0,0,0,0,0]
[1,2,null,null,null,null,null,null,null,null,null,0,0,0,0,0,0,0,0,0,0]
[1,2,null,null,null,null,null,null,null,null,null,0,0,0,0,0,0,0,0,0,0]
[1,2,null,null,null,null,null,null,null,null,null,0,0,0,0,0,0,0,0,0,0]
[1,2,null,null,null,null,null,null,null,null,null,0,0,0,0,0,0,0,0,0,0]
[1,2,null,null,null,null,null,null,null,null,null,0,0,0,0,0,0,0,0,0,0]
[1,2,null,null,null,null,null,null,null,null,null,0,0,0,0,0,0,0,0,0,0]
[1,2,null,null,null,null,null,null,null,null,null,0,0,0,0,0,0,0,0,0,0]
[1,2,null,null,null,null,null,null,null,null,null,0,0,0,0,0,0,0,0,0,0]
[1,2,null,null,null,null,null,null,null,null,null,0,0,0,0,0,0,0,0,0,0]
[1,2,null,null,null,null,null,null,null,null,null,0,0,0,0,0,0,0,0,0,0]
[1,2,null,null,null,null,null,null,null,null,null,0,0,0,0,0,0,0,0,0,0]
[1,2,null,null,null,null,null,null,null,null,null,0,0,0,0,0,0,0,0,0,0]
[1,2,null,null,null,null,null,null,null,null,null,0,0,0,0,0,0,0,0,0,0]
[1,2,null,null,null,null,null,null,null,null,null,0,0,0,0,0,0,0,0,0,0]
[1,2,null,null,null,null,null,null,null,null,null,0,0,0,0,0,0,0,0,0,0]
[1,2,null,null,null,null,null,null,null,null,null,0,0,0,0,0,0,0,0,0,0]
[1,2,null,null,null,null,null,null,null,null,null,0,0,0,0,0,0,0,0,0,0]
[1,2,null,null,null,null,null,null,null,null,null,0,0,0,0,0,0,0,0,0,0]
[1,2,null,null,null,null,null,null,null,null,null,0,0,0,0,0,0,0,0,0,0]
[1,2,null,null,null,null,null,null,null,null,null,0,0,0,0,0,0,0,0,0,0]
[1,2,null,null,null,null,null,null,null,null,null,0,0,0,0,0,0,0,0,0,0]
[1,2,null,null,null,null,null,null,null,null,null,0,0,0,0,0,0,0,0,0,0]
[1,2,null,null,null,null,null,null,null,null,null,0,0,0,0,0,0,0,0,0,0]
[1,2,null,null,null,null,null,null,null,null,null,0,0,0,0,0,0,0,0,0,0]
[1,2,null,null,null,null,null,null,null,null,null,0,0,0,0,0,0,0,0,0,0]
[1,2,null,null,null,null,null,null,null,null,null,0,0,0,0,0,0,0,0,0,0]
[1,2,null,null,null,null,null,null,null,null,null,0,0,0,0,0,0,0,0,0,0]
[1,2,null,null,null,null,null,null,null,null,null,0,0,0,0,0,0,0,0,0,0]
[1,2,null,null,null,null,null,null,null,null,null,0,0,0,0,0,0,0,0,0,0]
[1,2,null,null,null,null,null,null,null,null,null,{"$f":"(C582/8.16)^$M$2","v":0},{"$f":"(D582/8.16)^$M$2","v":0},{"$f":"(E582/8.16)^$M$2","v":0},{"$f":"(F582/8.16)^$M$2","v":0},{"$f":"(G582/8.16)^$M$2","v":0},{"$f":"(H582/8.16)^$M$2","v":0},{"$f":"(I582/8.16)^$M$2","v":0},{"$f":"(J582/8.16)^$M$2","v":0},{"$f":"(K582/8.16)^$M$2","v":0},{"$f":"SUM(L582:T582)","v":0}]
[1,2,null,null,null,null,null,null,null,null,null,0,0,0,0,0,0,0,0,0,0]
[1,2,null,null,null,null,null,null,null,null,null,0,0,0,0,0,0,0,0,0,0]
[1,2,null,null,null,null,null,null,null,null,null,0,0,0,0,0,0,0,0,0,0]
[1,2,null,null,null,null,null,null,null,null,null,0,0,0,0,0,0,0,0,0,0]
[1,2,null,null,null,null,null,null,null,null,null,0,0,0,0,0,0,0,0,0,0]
[1,2,null,null,null,null,null,null,null,null,null,0,0,0,0,0,0,0,0,0,0]
[1,2,null,null,null,null,null,null,null,null,null,0,0,0,0,0,0,0,0,0,0]
[1,2,null,null,null,null,null,null,null,null,null,0,0,0,0,0,0,0,0,0,0]
[1,2,null,null,null,null,null,null,null,null,null,0,0,0,0,0,0,0,0,0,0]
[1,2,null,null,null,null,null,null,null,null,null,0,0,0,0,0,0,0,0,0,0]
[1,2,null,null,null,null,null,null,null,null,null,0,0,0,0,0,0,0,0,0,0]
[1,2,null,null,null,null,null,null,null,null,null,0,0,0,0,0,0,0,0,0,0]
[1,2,null,null,null,null,null,null,null,null,null,0,0,0,0,0,0,0,0,0,0]
[1,2,null,null,null,null,null,null,null,null,null,0,0,0,0,0,0,0,0,0,0]
[1,2,null,null,null,null,null,null,null,null,null,0,0,0,0,0,0,0,0,0,0]
[1,2,null,null,null,null,null,null,null,null,null,0,0,0,0,0,0,0,0,0,0]
[1,2,null,null,null,null,null,null,null,null,null,0,0,0,0,0,0,0,0,0,0]
[1,2,null,null,null,null,null,null,null,null,null,0,0,0,0,0,0,0,0,0,0]
[1,2,null,null,null,null,null,null,null,null,null,0,0,0,0,0,0,0,0,0,0]
[1,2,null,null,null,null,null,null,null,null,null,0,0,0,0,0,0,0,0,0,0]
[1,2,null,null,null,null,null,null,null,null,null,0,0,0,0,0,0,0,0,0,0]
[1,2,null,null,null,null,null,null,null,null,null,0,0,0,0,0,0,0,0,0,0]
[1,2,null,null,null,null,null,null,null,null,null,0,0,0,0,0,0,0,0,0,0]
[1,2,null,null,null,null,null,null,null,null,null,0,0,0,0,0,0,0,0,0,0]
[1,2,null,null,null,null,null,null,null,null,null,0,0,0,0,0,0,0,0,0,0]
[1,2,null,null,null,null,null,null,null,null,null,0,0,0,0,0,0,0,0,0,0]
[1,2,null,null,null,null,null,null,null,null,null,0,0,0,0,0,0,0,0,0,0]
[1,2,null,null,null,null,null,null,null,null,null,0,0,0,0,0,0,0,0,0,0]
[1,2,null,null,null,null,null,null,null,null,null,0,0,0,0,0,0,0,0,0,0]
[1,2,null,null,null,null,null,null,null,null,null,0,0,0,0,0,0,0,0,0,0]
[1,2,null,null,null,null,null,null,null,null,null,0,0,0,0,0,0,0,0,0,0]
[1,2,null,null,null,null,null,null,null,null,null,0,0,0,0,0,0,0,0,0,0]
[1,2,null,null,null,null,null,null,null,null,null,0,0,0,0,0,0,0,0,0,0]
[1,2,null,null,null,null,null,null,null,null,null,0,0,0,0,0,0,0,0,0,0]
[1,2,null,null,null,null,null,null,null,null,null,0,0,0,0,0,0,0,0,0,0]
[1,2,null,null,null,null,null,null,null,null,null,0,0,0,0,0,0,0,0,0,0]
[1,2,null,null,null,null,null,null,null,null,null,0,0,0,0,0,0,0,0,0,0]
[1,2,null,null,null,null,null,null,null,null,null,0,0,0,0,0,0,0,0,0,0]
[1,2,null,null,null,null,null,null,null,null,null,0,0,0,0,0,0,0,0,0,0]
[1,2,null,null,null,null,null,null,null,null,null,0,0,0,0,0,0,0,0,0,0]
[1,2,null,null,null,null,null,null,null,null,null,0,0,0,0,0,0,0,0,0,0]
[1,2,null,null,null,null,null,null,null,null,null,0,0,0,0,0,0,0,0,0,0]
[1,2,null,null,null,null,null,null,null,null,null,0,0,0,0,0,0,0,0,0,0]
[1,2,null,null,null,null,null,null,null,null,null,0,0,0,0,0,0,0,0,0,0]
[1,2,null,null,null,null,null,null,null,null,null,0,0,0,0,0,0,0,0,0,0]
[1,2,null,null,null,null,null,null,null,null,null,0,0,0,0,0,0,0,0,0,0]
[1,2,null,null,null,null,null,null,null,null,null,0,0,0,0,0,0,0,0,0,0]
[1,2,null,null,null,null,null,null,null,null,null,0,0,0,0,0,0,0,0,0,0]
[1,2,null,null,null,null,null,null,null,null,null,0,0,0,0,0,0,0,0,0,0]
[1,2,null,null,null,null,null,null,null,null,null,0,0,0,0,0,0,0,0,0,0]
[1,2,null,null,null,null,null,null,null,null,null,0,0,0,0,0,0,0,0,0,0]
[1,2,null,null,null,null,null,null,null,null,null,0,0,0,0,0,0,0,0,0,0]
[1,2,null,null,null,null,null,null,null,null,null,0,0,0,0,0,0,0,0,0,0]
[1,2,null,null,null,null,null,null,null,null,null,0,0,0,0,0,0,0,0,0,0]
[1,2,null,null,null,null,null,null,null,null,null,0,0,0,0,0,0,0,0,0,0]
[1,2,null,null,null,null,null,null,null,null,null,0,0,0,0,0,0,0,0,0,0]
[1,2,null,null,null,null,null,null,null,null,null,0,0,0,0,0,0,0,0,0,0]
[1,2,null,null,null,null,null,null,null,null,null,0,0,0,0,0,0,0,0,0,0]
[1,2,null,null,null,null,null,null,null,null,null,0,0,0,0,0,0,0,0,0,0]
[1,2,null,null,null,null,null,null,null,null,null,0,0,0,0,0,0,0,0,0,0]
[1,2,null,null,null,null,null,null,null,null,null,0,0,0,0,0,0,0,0,0,0]
[1,2,null,null,null,null,null,null,null,null,null,0,0,0,0,0,0,0,0,0,0]
[1,2,null,null,null,null,null,null,null,null,null,0,0,0,0,0,0,0,0,0,0]
[1,2,null,null,null,null,null,null,null,null,null,{"$f":"(C646/8.16)^$M$2","v":0},{"$f":"(D646/8.16)^$M$2","v":0},{"$f":"(E646/8.16)^$M$2","v":0},{"$f":"(F646/8.16)^$M$2","v":0},{"$f":"(G646/8.16)^$M$2","v":0},{"$f":"(H646/8.16)^$M$2","v":0},{"$f":"(I646/8.16)^$M$2","v":0},{"$f":"(J646/8.16)^$M$2","v":0},{"$f":"(K646/8.16)^$M$2","v":0},{"$f":"SUM(L646:T646)","v":0}]
[1,2,null,null,null,null,null,null,null,null,null,0,0,0,0,0,0,0,0,0,0]
[1,2,null,null,null,null,null,null,null,null,null,0,0,0,0,0,0,0,0,0,0]
[1,2,null,null,null,null,null,null,null,null,null,0,0,0,0,0,0,0,0,0,0]
[1,2,null,null,null,null,null,null,null,null,null,0,0,0,0,0,0,0,0,0,0]
[1,2,null,null,null,null,null,null,null,null,null,0,0,0,0,0,0,0,0,0,0]
[1,2,null,null,null,null,null,null,null,null,null,0,0,0,0,0,0,0,0,0,0]
[1,2,null,null,null,null,null,null,null,null,null,0,0,0,0,0,0,0,0,0,0]
[1,2,null,null,null,null,null,null,null,null,null,0,0,0,0,0,0,0,0,0,0]
[1,2,null,null,null,null,null,null,null,null,null,0,0,0,0,0,0,0,0,0,0]
[1,2,null,null,null,null,null,null,null,null,null,0,0,0,0,0,0,0,0,0,0]
[1,2,null,null,null,null,null,null,null,null,null,0,0,0,0,0,0,0,0,0,0]
[1,2,null,null,null,null,null,null,null,null,null,0,0,0,0,0,0,0,0,0,0]
[1,2,null,null,null,null,null,null,null,null,null,0,0,0,0,0,0,0,0,0,0]
[1,2,null,null,null,null,null,null,null,null,null,0,0,0,0,0,0,0,0,0,0]
[1,2,null,null,null,null,null,null,null,null,null,0,0,0,0,0,0,0,0,0,0]
[1,2,null,null,null,null,null,null,null,null,null,0,0,0,0,0,0,0,0,0,0]
[1,2,null,null,null,null,null,null,null,null,null,0,0,0,0,0,0,0,0,0,0]
[1,2,null,null,null,null,null,null,null,null,null,0,0,0,0,0,0,0,0,0,0]
[1,2,null,null,null,null,null,null,null,null,null,0,0,0,0,0,0,0,0,0,0]
[1,2,null,null,null,null,null,null,null,null,null,0,0,0,0,0,0,0,0,0,0]
[1,2,null,null,null,null,null,null,null,null,null,0,0,0,0,0,0,0,0,0,0]
[1,2,null,null,null,null,null,null,null,null,null,0,0,0,0,0,0,0,0,0,0]
[1,2,null,null,null,null,null,null,null,null,null,0,0,0,0,0,0,0,0,0,0]
[1,2,null,null,null,null,null,null,null,null,null,0,0,0,0,0,0,0,0,0,0]
[1,2,null,null,null,null,null,null,null,null,null,0,0,0,0,0,0,0,0,0,0]
[1,2,null,null,null,null,null,null,null,null,null,0,0,0,0,0,0,0,0,0,0]
[1,2,null,null,null,null,null,null,null,null,null,0,0,0,0,0,0,0,0,0,0]
[1,2,null,null,null,null,null,null,null,null,null,0,0,0,0,0,0,0,0,0,0]
[1,2,null,null,null,null,null,null,null,null,null,0,0,0,0,0,0,0,0,0,0]
[1,2,null,null,null,null,null,null,null,null,null,0,0,0,0,0,0,0,0,0,0]
[1,2,null,null,null,null,null,null,null,null,null,0,0,0,0,0,0,0,0,0,0]
[1,2,null,null,null,null,null,null,null,null,null,0,0,0,0,0,0,0,0,0,0]
[1,2,null,null,null,null,null,null,null,null,null,0,0,0,0,0,0,0,0,0,0]
[1,2,null,null,null,null,null,null,null,null,null,0,0,0,0,0,0,0,0,0,0]
[1,2,null,null,null,null,null,null,null,null,null,0,0,0,0,0,0,0,0,0,0]
[1,2,null,null,null,null,null,null,null,null,null,0,0,0,0,0,0,0,0,0,0]
[1,2,null,null,null,null,null,null,null,null,null,0,0,0,0,0,0,0,0,0,0]
[1,2,null,null,null,null,null,null,null,null,null,0,0,0,0,0,0,0,0,0,0]
[1,2,null,null,null,null,null,null,null,null,null,0,0,0,0,0,0,0,0,0,0]
[1,2,null,null,null,null,null,null,null,null,null,0,0,0,0,0,0,0,0,0,0]
[1,2,null,null,null,null,null,null,null,null,null,0,0,0,0,0,0,0,0,0,0]
[1,2,null,null,null,null,null,null,null,null,null,0,0,0,0,0,0,0,0,0,0]
[1,2,null,null,null,null,null,null,null,null,null,0,0,0,0,0,0,0,0,0,0]
[1,2,null,null,null,null,null,null,null,null,null,0,0,0,0,0,0,0,0,0,0]
[1,2,null,null,null,null,null,null,null,null,null,0,0,0,0,0,0,0,0,0,0]
[1,2,null,null,null,null,null,null,null,null,null,0,0,0,0,0,0,0,0,0,0]
[1,2,null,null,null,null,null,null,null,null,null,0,0,0,0,0,0,0,0,0,0]
[1,2,null,null,null,null,null,null,null,null,null,0,0,0,0,0,0,0,0,0,0]
[1,2,null,null,null,null,null,null,null,null,null,0,0,0,0,0,0,0,0,0,0]
[1,2,null,null,null,null,null,null,null,null,null,0,0,0,0,0,0,0,0,0,0]
[1,2,null,null,null,null,null,null,null,null,null,0,0,0,0,0,0,0,0,0,0]
[1,2,null,null,null,null,null,null,null,null,null,0,0,0,0,0,0,0,0,0,0]
[1,2,null,null,null,null,null,null,null,null,null,0,0,0,0,0,0,0,0,0,0]
[1,2,null,null,null,null,null,null,null,null,null,0,0,0,0,0,0,0,0,0,0]
[1,2,null,null,null,null,null,null,null,null,null,0,0,0,0,0,0,0,0,0,0]
[1,2,null,null,null,null,null,null,null,null,null,0,0,0,0,0,0,0,0,0,0]
[1,2,null,null,null,null,null,null,null,null,null,0,0,0,0,0,0,0,0,0,0]
[1,2,null,null,null,null,null,null,null,null,null,0,0,0,0,0,0,0,0,0,0]
[1,2,null,null,null,null,null,null,null,null,null,0,0,0,0,0,0,0,0,0,0]
[1,2,null,null,null,null,null,null,null,null,null,0,0,0,0,0,0,0,0,0,0]
[1,2,null,null,null,null,null,null,null,null,null,0,0,0,0,0,0,0,0,0,0]
[1,2,null,null,null,null,null,null,null,null,null,0,0,0,0,0,0,0,0,0,0]
[1,2,null,null,null,null,null,null,null,null,null,0,0,0,0,0,0,0,0,0,0]
[1,2,null,null,null,null,null,null,null,null,null,{"$f":"(C710/8.16)^$M$2","v":0},{"$f":"(D710/8.16)^$M$2","v":0},{"$f":"(E710/8.16)^$M$2","v":0},{"$f":"(F710/8.16)^$M$2","v":0},{"$f":"(G710/8.16)^$M$2","v":0},{"$f":"(H710/8.16)^$M$2","v":0},{"$f":"(I710/8.16)^$M$2","v":0},{"$f":"(J710/8.16)^$M$2","v":0},{"$f":"(K710/8.16)^$M$2","v":0},{"$f":"SUM(L710:T710)","v":0}]
[1,2,null,null,null,null,null,null,null,null,null,0,0,0,0,0,0,0,0,0,0]
[1,2,null,null,null,null,null,null,null,null,null,0,0,0,0,0,0,0,0,0,0]
[1,2,null,null,null,null,null,null,null,null,null,0,0,0,0,0,0,0,0,0,0]
[1,2,null,null,null,null,null,null,null,null,null,0,0,0,0,0,0,0,0,0,0]
[1,2,null,null,null,null,null,null,null,null,null,0,0,0,0,0,0,0,0,0,0]
[1,2,null,null,null,null,null,null,null,null,null,0,0,0,0,0,0,0,0,0,0]
[1,2,null,null,null,null,null,null,null,null,null,0,0,0,0,0,0,0,0,0,0]
[1,2,null,null,null,null,null,null,null,null,null,0,0,0,0,0,0,0,0,0,0]
[1,2,null,null,null,null,null,null,null,null,null,0,0,0,0,0,0,0,0,0,0]
[1,2,null,null,null,null,null,null,null,null,null,0,0,0,0,0,0,0,0,0,0]
[1,2,null,null,null,null,null,null,null,null,null,0,0,0,0,0,0,0,0,0,0]
[1,2,null,null,null,null,null,null,null,null,null,0,0,0,0,0,0,0,0,0,0]
[1,2,null,null,null,null,null,null,null,null,null,0,0,0,0,0,0,0,0,0,0]
[1,2,null,null,null,null,null,null,null,null,null,0,0,0,0,0,0,0,0,0,0]
[1,2,null,null,null,null,null,null,null,null,null,0,0,0,0,0,0,0,0,0,0]
[1,2,null,null,null,null,null,null,null,null,null,0,0,0,0,0,0,0,0,0,0]
[1,2,null,null,null,null,null,null,null,null,null,0,0,0,0,0,0,0,0,0,0]
[1,2,null,null,null,null,null,null,null,null,null,0,0,0,0,0,0,0,0,0,0]
[1,2,null,null,null,null,null,null,null,null,null,0,0,0,0,0,0,0,0,0,0]
[1,2,null,null,null,null,null,null,null,null,null,0,0,0,0,0,0,0,0,0,0]
[1,2,null,null,null,null,null,null,null,null,null,0,0,0,0,0,0,0,0,0,0]
[1,2,null,null,null,null,null,null,null,null,null,0,0,0,0,0,0,0,0,0,0]
[1,2,null,null,null,null,null,null,null,null,null,0,0,0,0,0,0,0,0,0,0]
[1,2,null,null,null,null,null,null,null,null,null,0,0,0,0,0,0,0,0,0,0]
[1,2,null,null,null,null,null,null,null,null,null,0,0,0,0,0,0,0,0,0,0]
[1,2,null,null,null,null,null,null,null,null,null,0,0,0,0,0,0,0,0,0,0]
[1,2,null,null,null,null,null,null,null,null,null,0,0,0,0,0,0,0,0,0,0]
[1,2,null,null,null,null,null,null,null,null,null,0,0,0,0,0,0,0,0,0,0]
[1,2,null,null,null,null,null,null,null,null,null,0,0,0,0,0,0,0,0,0,0]
[1,2,null,null,null,null,null,null,null,null,null,0,0,0,0,0,0,0,0,0,0]
[1,2,null,null,null,null,null,null,null,null,null,0,0,0,0,0,0,0,0,0,0]
[1,2,null,null,null,null,null,null,null,null,null,0,0,0,0,0,0,0,0,0,0]
[1,2,null,null,null,null,null,null,null,null,null,0,0,0,0,0,0,0,0,0,0]
[1,2,null,null,null,null,null,null,null,null,null,0,0,0,0,0,0,0,0,0,0]
[1,2,null,null,null,null,null,null,null,null,null,0,0,0,0,0,0,0,0,0,0]
[1,2,null,null,null,null,null,null,null,null,null,0,0,0,0,0,0,0,0,0,0]
[1,2,null,null,null,null,null,null,null,null,null,0,0,0,0,0,0,0,0,0,0]
[1,2,null,null,null,null,null,null,null,null,null,0,0,0,0,0,0,0,0,0,0]
[1,2,null,null,null,null,null,null,null,null,null,0,0,0,0,0,0,0,0,0,0]
[1,2,null,null,null,null,null,null,null,null,null,0,0,0,0,0,0,0,0,0,0]
[1,2,null,null,null,null,null,null,null,null,null,0,0,0,0,0,0,0,0,0,0]
[1,2,null,null,null,null,null,null,null,null,null,0,0,0,0,0,0,0,0,0,0]
[1,2,null,null,null,null,null,null,null,null,null,0,0,0,0,0,0,0,0,0,0]
[1,2,null,null,null,null,null,null,null,null,null,0,0,0,0,0,0,0,0,0,0]
[1,2,null,null,null,null,null,null,null,null,null,0,0,0,0,0,0,0,0,0,0]
[1,2,null,null,null,null,null,null,null,null,null,0,0,0,0,0,0,0,0,0,0]
[1,2,null,null,null,null,null,null,null,null,null,0,0,0,0,0,0,0,0,0,0]
[1,2,null,null,null,null,null,null,null,null,null,0,0,0,0,0,0,0,0,0,0]
[1,2,null,null,null,null,null,null,null,null,null,0,0,0,0,0,0,0,0,0,0]
[1,2,null,null,null,null,null,null,null,null,null,0,0,0,0,0,0,0,0,0,0]
[1,2,null,null,null,null,null,null,null,null,null,0,0,0,0,0,0,0,0,0,0]
[1,2,null,null,null,null,null,null,null,null,null,0,0,0,0,0,0,0,0,0,0]
[1,2,null,null,null,null,null,null,null,null,null,0,0,0,0,0,0,0,0,0,0]
[1,2,null,null,null,null,null,null,null,null,null,0,0,0,0,0,0,0,0,0,0]
[1,2,null,null,null,null,null,null,null,null,null,0,0,0,0,0,0,0,0,0,0]
[1,2,null,null,null,null,null,null,null,null,null,0,0,0,0,0,0,0,0,0,0]
[1,2,null,null,null,null,null,null,null,null,null,0,0,0,0,0,0,0,0,0,0]
[1,2,null,null,null,null,null,null,null,null,null,0,0,0,0,0,0,0,0,0,0]
[1,2,null,null,null,null,null,null,null,null,null,0,0,0,0,0,0,0,0,0,0]
[1,2,null,null,null,null,null,null,null,null,null,0,0,0,0,0,0,0,0,0,0]
[1,2,null,null,null,null,null,null,null,null,null,0,0,0,0,0,0,0,0,0,0]
[1,2,null,null,null,null,null,null,null,null,null,0,0,0,0,0,0,0,0,0,0]
[1,2,null,null,null,null,null,null,null,null,null,0,0,0,0,0,0,0,0,0,0]
[1,2,null,null,null,null,null,null,null,null,null,{"$f":"(C774/8.16)^$M$2","v":0},{"$f":"(D774/8.16)^$M$2","v":0},{"$f":"(E774/8.16)^$M$2","v":0},{"$f":"(F774/8.16)^$M$2","v":0},{"$f":"(G774/8.16)^$M$2","v":0},{"$f":"(H774/8.16)^$M$2","v":0},{"$f":"(I774/8.16)^$M$2","v":0},{"$f":"(J774/8.16)^$M$2","v":0},{"$f":"(K774/8.16)^$M$2","v":0},{"$f":"SUM(L774:T774)","v":0}]
[1,2,null,null,null,null,null,null,null,null,null,0,0,0,0,0,0,0,0,0,0]
[1,2,null,null,null,null,null,null,null,null,null,0,0,0,0,0,0,0,0,0,0]
[1,2,null,null,null,null,null,null,null,null,null,0,0,0,0,0,0,0,0,0,0]
[1,2,null,null,null,null,null,null,null,null,null,0,0,0,0,0,0,0,0,0,0]
[1,2,null,null,null,null,null,null,null,null,null,0,0,0,0,0,0,0,0,0,0]
[1,2,null,null,null,null,null,null,null,null,null,0,0,0,0,0,0,0,0,0,0]
[1,2,null,null,null,null,null,null,null,null,null,0,0,0,0,0,0,0,0,0,0]
[1,2,null,null,null,null,null,null,null,null,null,0,0,0,0,0,0,0,0,0,0]
[1,2,null,null,null,null,null,null,null,null,null,0,0,0,0,0,0,0,0,0,0]
[1,2,null,null,null,null,null,null,null,null,null,0,0,0,0,0,0,0,0,0,0]
[1,2,null,null,null,null,null,null,null,null,null,0,0,0,0,0,0,0,0,0,0]
[1,2,null,null,null,null,null,null,null,null,null,0,0,0,0,0,0,0,0,0,0]
[1,2,null,null,null,null,null,null,null,null,null,0,0,0,0,0,0,0,0,0,0]
[1,2,null,null,null,null,null,null,null,null,null,0,0,0,0,0,0,0,0,0,0]
[1,2,null,null,null,null,null,null,null,null,null,0,0,0,0,0,0,0,0,0,0]
[1,2,null,null,null,null,null,null,null,null,null,0,0,0,0,0,0,0,0,0,0]
[1,2,null,null,null,null,null,null,null,null,null,0,0,0,0,0,0,0,0,0,0]
[1,2,null,null,null,null,null,null,null,null,null,0,0,0,0,0,0,0,0,0,0]
[1,2,null,null,null,null,null,null,null,null,null,0,0,0,0,0,0,0,0,0,0]
[1,2,null,null,null,null,null,null,null,null,null,0,0,0,0,0,0,0,0,0,0]
[1,2,null,null,null,null,null,null,null,null,null,0,0,0,0,0,0,0,0,0,0]
[1,2,null,null,null,null,null,null,null,null,null,0,0,0,0,0,0,0,0,0,0]
[1,2,null,null,null,null,null,null,null,null,null,0,0,0,0,0,0,0,0,0,0]
[1,2,null,null,null,null,null,null,null,null,null,0,0,0,0,0,0,0,0,0,0]
[1,2,null,null,null,null,null,null,null,null,null,0,0,0,0,0,0,0,0,0,0]
[1,2,null,null,null,null,null,null,null,null,null,0,0,0,0,0,0,0,0,0,0]
[1,2,null,null,null,null,null,null,null,null,null,0,0,0,0,0,0,0,0,0,0]
[1,2,null,null,null,null,null,null,null,null,null,0,0,0,0,0,0,0,0,0,0]
[1,2,null,null,null,null,null,null,null,null,null,0,0,0,0,0,0,0,0,0,0]
[1,2,null,null,null,null,null,null,null,null,null,0,0,0,0,0,0,0,0,0,0]
[1,2,null,null,null,null,null,null,null,null,null,0,0,0,0,0,0,0,0,0,0]
[1,2,null,null,null,null,null,null,null,null,null,0,0,0,0,0,0,0,0,0,0]
[1,2,null,null,null,null,null,null,null,null,null,0,0,0,0,0,0,0,0,0,0]
[1,2,null,null,null,null,null,null,null,null,null,0,0,0,0,0,0,0,0,0,0]
[1,2,null,null,null,null,null,null,null,null,null,0,0,0,0,0,0,0,0,0,0]
[1,2,null,null,null,null,null,null,null,null,null,0,0,0,0,0,0,0,0,0,0]
[1,2,null,null,null,null,null,null,null,null,null,0,0,0,0,0,0,0,0,0,0]
[1,2,null,null,null,null,null,null,null,null,null,0,0,0,0,0,0,0,0,0,0]
[1,2,null,null,null,null,null,null,null,null,null,0,0,0,0,0,0,0,0,0,0]
[1,2,null,null,null,null,null,null,null,null,null,0,0,0,0,0,0,0,0,0,0]
[1,2,null,null,null,null,null,null,null,null,null,0,0,0,0,0,0,0,0,0,0]
[1,2,null,null,null,null,null,null,null,null,null,0,0,0,0,0,0,0,0,0,0]
[1,2,null,null,null,null,null,null,null,null,null,0,0,0,0,0,0,0,0,0,0]
[1,2,null,null,null,null,null,null,null,null,null,0,0,0,0,0,0,0,0,0,0]
[1,2,null,null,null,null,null,null,null,null,null,0,0,0,0,0,0,0,0,0,0]
[1,2,null,null,null,null,null,null,null,null,null,0,0,0,0,0,0,0,0,0,0]
[1,2,null,null,null,null,null,null,null,null,null,0,0,0,0,0,0,0,0,0,0]
[1,2,null,null,null,null,null,null,null,null,null,0,0,0,0,0,0,0,0,0,0]
[1,2,null,null,null,null,null,null,null,null,null,0,0,0,0,0,0,0,0,0,0]
[1,2,null,null,null,null,null,null,null,null,null,0,0,0,0,0,0,0,0,0,0]
[1,2,null,null,null,null,null,null,null,null,null,0,0,0,0,0,0,0,0,0,0]
[1,2,null,null,null,null,null,null,null,null,null,0,0,0,0,0,0,0,0,0,0]
[1,2,null,null,null,null,null,null,null,null,null,0,0,0,0,0,0,0,0,0,0]
[1,2,null,null,null,null,null,null,null,null,null,0,0,0,0,0,0,0,0,0,0]
[1,2,null,null,null,null,null,null,null,null,null,0,0,0,0,0,0,0,0,0,0]
[1,2,null,null,null,null,null,null,null,null,null,0,0,0,0,0,0,0,0,0,0]
[1,2,null,null,null,null,null,null,null,null,null,0,0,0,0,0,0,0,0,0,0]
[1,2,null,null,null,null,null,null,null,null,null,0,0,0,0,0,0,0,0,0,0]
[1,2,null,null,null,null,null,null,null,null,null,0,0,0,0,0,0,0,0,0,0]
[1,2,null,null,null,null,null,null,null,null,null,0,0,0,0,0,0,0,0,0,0]
[1,2,null,null,null,null,null,null,null,null,null,0,0,0,0,0,0,0,0,0,0]
[1,2,null,null,null,null,null,null,null,null,null,0,0,0,0,0,0,0,0,0,0]
[1,2,null,null,null,null,null,null,null,null,null,0,0,0,0,0,0,0,0,0,0]
[1,2,null,null,null,null,null,null,null,null,null,{"$f":"(C838/8.16)^$M$2","v":0},{"$f":"(D838/8.16)^$M$2","v":0},{"$f":"(E838/8.16)^$M$2","v":0},{"$f":"(F838/8.16)^$M$2","v":0},{"$f":"(G838/8.16)^$M$2","v":0},{"$f":"(H838/8.16)^$M$2","v":0},{"$f":"(I838/8.16)^$M$2","v":0},{"$f":"(J838/8.16)^$M$2","v":0},{"$f":"(K838/8.16)^$M$2","v":0},{"$f":"SUM(L838:T838)","v":0}]
[1,2,null,null,null,null,null,null,null,null,null,0,0,0,0,0,0,0,0,0,0]
[1,2,null,null,null,null,null,null,null,null,null,0,0,0,0,0,0,0,0,0,0]
[1,2,null,null,null,null,null,null,null,null,null,0,0,0,0,0,0,0,0,0,0]
[1,2,null,null,null,null,null,null,null,null,null,0,0,0,0,0,0,0,0,0,0]
[1,2,null,null,null,null,null,null,null,null,null,0,0,0,0,0,0,0,0,0,0]
[1,2,null,null,null,null,null,null,null,null,null,0,0,0,0,0,0,0,0,0,0]
[1,2,null,null,null,null,null,null,null,null,null,0,0,0,0,0,0,0,0,0,0]
[1,2,null,null,null,null,null,null,null,null,null,0,0,0,0,0,0,0,0,0,0]
[1,2,null,null,null,null,null,null,null,null,null,0,0,0,0,0,0,0,0,0,0]
[1,2,null,null,null,null,null,null,null,null,null,0,0,0,0,0,0,0,0,0,0]
[1,2,null,null,null,null,null,null,null,null,null,0,0,0,0,0,0,0,0,0,0]
[1,2,null,null,null,null,null,null,null,null,null,0,0,0,0,0,0,0,0,0,0]
[1,2,null,null,null,null,null,null,null,null,null,0,0,0,0,0,0,0,0,0,0]
[1,2,null,null,null,null,null,null,null,null,null,0,0,0,0,0,0,0,0,0,0]
[1,2,null,null,null,null,null,null,null,null,null,0,0,0,0,0,0,0,0,0,0]
[1,2,null,null,null,null,null,null,null,null,null,0,0,0,0,0,0,0,0,0,0]
[1,2,null,null,null,null,null,null,null,null,null,0,0,0,0,0,0,0,0,0,0]
[1,2,null,null,null,null,null,null,null,null,null,0,0,0,0,0,0,0,0,0,0]
[1,2,null,null,null,null,null,null,null,null,null,0,0,0,0,0,0,0,0,0,0]
[1,2,null,null,null,null,null,null,null,null,null,0,0,0,0,0,0,0,0,0,0]
[1,2,null,null,null,null,null,null,null,null,null,0,0,0,0,0,0,0,0,0,0]
[1,2,null,null,null,null,null,null,null,null,null,0,0,0,0,0,0,0,0,0,0]
[1,2,null,null,null,null,null,null,null,null,null,0,0,0,0,0,0,0,0,0,0]
[1,2,null,null,null,null,null,null,null,null,null,0,0,0,0,0,0,0,0,0,0]
[1,2,null,null,null,null,null,null,null,null,null,0,0,0,0,0,0,0,0,0,0]
[1,2,null,null,null,null,null,null,null,null,null,0,0,0,0,0,0,0,0,0,0]
[1,2,null,null,null,null,null,null,null,null,null,0,0,0,0,0,0,0,0,0,0]
[1,2,null,null,null,null,null,null,null,null,null,0,0,0,0,0,0,0,0,0,0]
[1,2,null,null,null,null,null,null,null,null,null,0,0,0,0,0,0,0,0,0,0]
[1,2,null,null,null,null,null,null,null,null,null,0,0,0,0,0,0,0,0,0,0]
[1,2,null,null,null,null,null,null,null,null,null,0,0,0,0,0,0,0,0,0,0]
[1,2,null,null,null,null,null,null,null,null,null,0,0,0,0,0,0,0,0,0,0]
[1,2,null,null,null,null,null,null,null,null,null,0,0,0,0,0,0,0,0,0,0]
[1,2,null,null,null,null,null,null,null,null,null,0,0,0,0,0,0,0,0,0,0]
[1,2,null,null,null,null,null,null,null,null,null,0,0,0,0,0,0,0,0,0,0]
[1,2,null,null,null,null,null,null,null,null,null,0,0,0,0,0,0,0,0,0,0]
[1,2,null,null,null,null,null,null,null,null,null,0,0,0,0,0,0,0,0,0,0]
[1,2,null,null,null,null,null,null,null,null,null,0,0,0,0,0,0,0,0,0,0]
[1,2,null,null,null,null,null,null,null,null,null,0,0,0,0,0,0,0,0,0,0]
[1,2,null,null,null,null,null,null,null,null,null,0,0,0,0,0,0,0,0,0,0]
[1,2,null,null,null,null,null,null,null,null,null,0,0,0,0,0,0,0,0,0,0]
[1,2,null,null,null,null,null,null,null,null,null,0,0,0,0,0,0,0,0,0,0]
[1,2,null,null,null,null,null,null,null,null,null,0,0,0,0,0,0,0,0,0,0]
[1,2,null,null,null,null,null,null,null,null,null,0,0,0,0,0,0,0,0,0,0]
[1,2,null,null,null,null,null,null,null,null,null,0,0,0,0,0,0,0,0,0,0]
[1,2,null,null,null,null,null,null,null,null,null,0,0,0,0,0,0,0,0,0,0]
[1,2,null,null,null,null,null,null,null,null,null,0,0,0,0,0,0,0,0,0,0]
[1,2,null,null,null,null,null,null,null,null,null,0,0,0,0,0,0,0,0,0,0]
[1,2,null,null,null,null,null,null,null,null,null,0,0,0,0,0,0,0,0,0,0]
[1,2,null,null,null,null,null,null,null,null,null,0,0,0,0,0,0,0,0,0,0]
[1,2,null,null,null,null,null,null,null,null,null,0,0,0,0,0,0,0,0,0,0]
[1,2,null,null,null,null,null,null,null,null,null,0,0,0,0,0,0,0,0,0,0]
[1,2,null,null,null,null,null,null,null,null,null,0,0,0,0,0,0,0,0,0,0]
[1,2,null,null,null,null,null,null,null,null,null,0,0,0,0,0,0,0,0,0,0]
[1,2,null,null,null,null,null,null,null,null,null,0,0,0,0,0,0,0,0,0,0]
[1,2,null,null,null,null,null,null,null,null,null,0,0,0,0,0,0,0,0,0,0]
[1,2,null,null,null,null,null,null,null,null,null,0,0,0,0,0,0,0,0,0,0]
[1,2,null,null,null,null,null,null,null,null,null,0,0,0,0,0,0,0,0,0,0]
[1,2,null,null,null,null,null,null,null,null,null,0,0,0,0,0,0,0,0,0,0]
[1,2,null,null,null,null,null,null,null,null,null,0,0,0,0,0,0,0,0,0,0]
[1,2,null,null,null,null,null,null,null,null,null,0,0,0,0,0,0,0,0,0,0]
[1,2,null,null,null,null,null,null,null,null,null,0,0,0,0,0,0,0,0,0,0]
[1,2,null,null,null,null,null,null,null,null,null,0,0,0,0,0,0,0,0,0,0]
[1,2,null,null,null,null,null,null,null,null,null,{"$f":"(C902/8.16)^$M$2","v":0},{"$f":"(D902/8.16)^$M$2","v":0},{"$f":"(E902/8.16)^$M$2","v":0},{"$f":"(F902/8.16)^$M$2","v":0},{"$f":"(G902/8.16)^$M$2","v":0},{"$f":"(H902/8.16)^$M$2","v":0},{"$f":"(I902/8.16)^$M$2","v":0},{"$f":"(J902/8.16)^$M$2","v":0},{"$f":"(K902/8.16)^$M$2","v":0},{"$f":"SUM(L902:T902)","v":0}]
[1,2,null,null,null,null,null,null,null,null,null,0,0,0,0,0,0,0,0,0,0]
[1,2,null,null,null,null,null,null,null,null,null,0,0,0,0,0,0,0,0,0,0]
[1,2,null,null,null,null,null,null,null,null,null,0,0,0,0,0,0,0,0,0,0]
[1,2,null,null,null,null,null,null,null,null,null,0,0,0,0,0,0,0,0,0,0]
[1,2,null,null,null,null,null,null,null,null,null,0,0,0,0,0,0,0,0,0,0]
[1,2,null,null,null,null,null,null,null,null,null,0,0,0,0,0,0,0,0,0,0]
[1,2,null,null,null,null,null,null,null,null,null,0,0,0,0,0,0,0,0,0,0]
[1,2,null,null,null,null,null,null,null,null,null,0,0,0,0,0,0,0,0,0,0]
[1,2,null,null,null,null,null,null,null,null,null,0,0,0,0,0,0,0,0,0,0]
[1,2,null,null,null,null,null,null,null,null,null,0,0,0,0,0,0,0,0,0,0]
[1,2,null,null,null,null,null,null,null,null,null,0,0,0,0,0,0,0,0,0,0]
[1,2,null,null,null,null,null,null,null,null,null,0,0,0,0,0,0,0,0,0,0]
[1,2,null,null,null,null,null,null,null,null,null,0,0,0,0,0,0,0,0,0,0]
[1,2,null,null,null,null,null,null,null,null,null,0,0,0,0,0,0,0,0,0,0]
[1,2,null,null,null,null,null,null,null,null,null,0,0,0,0,0,0,0,0,0,0]
[1,2,null,null,null,null,null,null,null,null,null,0,0,0,0,0,0,0,0,0,0]
[1,2,null,null,null,null,null,null,null,null,null,0,0,0,0,0,0,0,0,0,0]
[1,2,null,null,null,null,null,null,null,null,null,0,0,0,0,0,0,0,0,0,0]
[1,2,null,null,null,null,null,null,null,null,null,0,0,0,0,0,0,0,0,0,0]
[1,2,null,null,null,null,null,null,null,null,null,0,0,0,0,0,0,0,0,0,0]
[1,2,null,null,null,null,null,null,null,null,null,0,0,0,0,0,0,0,0,0,0]
[1,2,null,null,null,null,null,null,null,null,null,0,0,0,0,0,0,0,0,0,0]
[1,2,null,null,null,null,null,null,null,null,null,0,0,0,0,0,0,0,0,0,0]
[1,2,null,null,null,null,null,null,null,null,null,0,0,0,0,0,0,0,0,0,0]
[1,2,null,null,null,null,null,null,null,null,null,0,0,0,0,0,0,0,0,0,0]
[1,2,null,null,null,null,null,null,null,null,null,0,0,0,0,0,0,0,0,0,0]
[1,2,null,null,null,null,null,null,null,null,null,0,0,0,0,0,0,0,0,0,0]
[1,2,null,null,null,null,null,null,null,null,null,0,0,0,0,0,0,0,0,0,0]
[1,2,null,null,null,null,null,null,null,null,null,0,0,0,0,0,0,0,0,0,0]
[1,2,null,null,null,null,null,null,null,null,null,0,0,0,0,0,0,0,0,0,0]
[1,2,null,null,null,null,null,null,null,null,null,0,0,0,0,0,0,0,0,0,0]
[1,2,null,null,null,null,null,null,null,null,null,0,0,0,0,0,0,0,0,0,0]
[1,2,null,null,null,null,null,null,null,null,null,0,0,0,0,0,0,0,0,0,0]
[1,2,null,null,null,null,null,null,null,null,null,0,0,0,0,0,0,0,0,0,0]
[1,2,null,null,null,null,null,null,null,null,null,0,0,0,0,0,0,0,0,0,0]
[1,2,null,null,null,null,null,null,null,null,null,0,0,0,0,0,0,0,0,0,0]
[1,2,null,null,null,null,null,null,null,null,null,0,0,0,0,0,0,0,0,0,0]
[1,2,null,null,null,null,null,null,null,null,null,0,0,0,0,0,0,0,0,0,0]
[1,2,null,null,null,null,null,null,null,null,null,0,0,0,0,0,0,0,0,0,0]
[1,2,null,null,null,null,null,null,null,null,null,0,0,0,0,0,0,0,0,0,0]
[1,2,null,null,null,null,null,null,null,null,null,0,0,0,0,0,0,0,0,0,0]
[1,2,null,null,null,null,null,null,null,null,null,0,0,0,0,0,0,0,0,0,0]
[1,2,null,null,null,null,null,null,null,null,null,0,0,0,0,0,0,0,0,0,0]
[1,2,null,null,null,null,null,null,null,null,null,0,0,0,0,0,0,0,0,0,0]
[1,2,null,null,null,null,null,null,null,null,null,0,0,0,0,0,0,0,0,0,0]
[1,2,null,null,null,null,null,null,null,null,null,0,0,0,0,0,0,0,0,0,0]
[1,2,null,null,null,null,null,null,null,null,null,0,0,0,0,0,0,0,0,0,0]
[1,2,null,null,null,null,null,null,null,null,null,0,0,0,0,0,0,0,0,0,0]
[1,2,null,null,null,null,null,null,null,null,null,0,0,0,0,0,0,0,0,0,0]
[1,2,null,null,null,null,null,null,null,null,null,0,0,0,0,0,0,0,0,0,0]
[1,2,null,null,null,null,null,null,null,null,null,0,0,0,0,0,0,0,0,0,0]
[1,2,null,null,null,null,null,null,null,null,null,0,0,0,0,0,0,0,0,0,0]
[1,2,null,null,null,null,null,null,null,null,null,0,0,0,0,0,0,0,0,0,0]
[1,2,null,null,null,null,null,null,null,null,null,0,0,0,0,0,0,0,0,0,0]
[1,2,null,null,null,null,null,null,null,null,null,0,0,0,0,0,0,0,0,0,0]
[1,2,null,null,null,null,null,null,null,null,null,0,0,0,0,0,0,0,0,0,0]
[1,2,null,null,null,null,null,null,null,null,null,0,0,0,0,0,0,0,0,0,0]
[1,2,null,null,null,null,null,null,null,null,null,0,0,0,0,0,0,0,0,0,0]
[1,2,null,null,null,null,null,null,null,null,null,0,0,0,0,0,0,0,0,0,0]
[1,2,null,null,null,null,null,null,null,null,null,0,0,0,0,0,0,0,0,0,0]
[1,2,null,null,null,null,null,null,null,null,null,0,0,0,0,0,0,0,0,0,0]
[1,2,null,null,null,null,null,null,null,null,null,0,0,0,0,0,0,0,0,0,0]
[1,2,null,null,null,null,null,null,null,null,null,0,0,0,0,0,0,0,0,0,0]
[1,2,null,null,null,null,null,null,null,null,null,{"$f":"(C966/8.16)^$M$2","v":0},{"$f":"(D966/8.16)^$M$2","v":0},{"$f":"(E966/8.16)^$M$2","v":0},{"$f":"(F966/8.16)^$M$2","v":0},{"$f":"(G966/8.16)^$M$2","v":0},{"$f":"(H966/8.16)^$M$2","v":0},{"$f":"(I966/8.16)^$M$2","v":0},{"$f":"(J966/8.16)^$M$2","v":0},{"$f":"(K966/8.16)^$M$2","v":0},{"$f":"SUM(L966:T966)","v":0}]
[1,2,null,null,null,null,null,null,null,null,null,0,0,0,0,0,0,0,0,0,0]
[1,2,null,null,null,null,null,null,null,null,null,0,0,0,0,0,0,0,0,0,0]
[1,2,null,null,null,null,null,null,null,null,null,0,0,0,0,0,0,0,0,0,0]
[1,2,null,null,null,null,null,null,null,null,null,0,0,0,0,0,0,0,0,0,0]
[1,2,null,null,null,null,null,null,null,null,null,0,0,0,0,0,0,0,0,0,0]
[1,2,null,null,null,null,null,null,null,null,null,0,0,0,0,0,0,0,0,0,0]
[1,2,null,null,null,null,null,null,null,null,null,0,0,0,0,0,0,0,0,0,0]
[1,2,null,null,null,null,null,null,null,null,null,0,0,0,0,0,0,0,0,0,0]
[1,2,null,null,null,null,null,null,null,null,null,0,0,0,0,0,0,0,0,0,0]
[1,2,null,null,null,null,null,null,null,null,null,0,0,0,0,0,0,0,0,0,0]
[1,2,null,null,null,null,null,null,null,null,null,0,0,0,0,0,0,0,0,0,0]
[1,2,null,null,null,null,null,null,null,null,null,0,0,0,0,0,0,0,0,0,0]
[1,2,null,null,null,null,null,null,null,null,null,0,0,0,0,0,0,0,0,0,0]
[1,2,null,null,null,null,null,null,null,null,null,0,0,0,0,0,0,0,0,0,0]
[1,2,null,null,null,null,null,null,null,null,null,0,0,0,0,0,0,0,0,0,0]
[1,2,null,null,null,null,null,null,null,null,null,0,0,0,0,0,0,0,0,0,0]
[1,2,null,null,null,null,null,null,null,null,null,0,0,0,0,0,0,0,0,0,0]
[1,2,null,null,null,null,null,null,null,null,null,0,0,0,0,0,0,0,0,0,0]
[1,2,null,null,null,null,null,null,null,null,null,0,0,0,0,0,0,0,0,0,0]
[1,2,null,null,null,null,null,null,null,null,null,0,0,0,0,0,0,0,0,0,0]
[1,2,null,null,null,null,null,null,null,null,null,0,0,0,0,0,0,0,0,0,0]
[1,2,null,null,null,null,null,null,null,null,null,0,0,0,0,0,0,0,0,0,0]
[1,2,null,null,null,null,null,null,null,null,null,0,0,0,0,0,0,0,0,0,0]
[1,2,null,null,null,null,null,null,null,null,null,0,0,0,0,0,0,0,0,0,0]
[1,2,null,null,null,null,null,null,null,null,null,0,0,0,0,0,0,0,0,0,0]
[1,2,null,null,null,null,null,null,null,null,null,0,0,0,0,0,0,0,0,0,0]
[1,2,null,null,null,null,null,null,null,null,null,0,0,0,0,0,0,0,0,0,0]
[1,2,null,null,null,null,null,null,null,null,null,0,0,0,0,0,0,0,0,0,0]
[1,2,null,null,null,null,null,null,null,null,null,0,0,0,0,0,0,0,0,0,0]
[1,2,null,null,null,null,null,null,null,null,null,0,0,0,0,0,0,0,0,0,0]
[1,2,null,null,null,null,null,null,null,null,null,0,0,0,0,0,0,0,0,0,0]
[1,2,null,null,null,null,null,null,null,null,null,0,0,0,0,0,0,0,0,0,0]
[1,2,null,null,null,null,null,null,null,null,null,0,0,0,0,0,0,0,0,0,0]
[1,2,null,null,null,null,null,null,null,null,null,0,0,0,0,0,0,0,0,0,0]
[1,2,null,null,null,null,null,null,null,null,null,0,0,0,0,0,0,0,0,0,0]
[1,2,null,null,null,null,null,null,null,null,null,0,0,0,0,0,0,0,0,0,0]
[1,2,null,null,null,null,null,null,null,null,null,0,0,0,0,0,0,0,0,0,0]
[1,2,null,null,null,null,null,null,null,null,null,0,0,0,0,0,0,0,0,0,0]
[1,2,null,null,null,null,null,null,null,null,null,0,0,0,0,0,0,0,0,0,0]
[]
[]
[]
[null,"Vehicle Class","Column1","Column2","Column3","Column4","Column5","Column6","Column7"]
[null,2,"Medium Truck (2 Axles) - Type 2",null,null,null,null,null,{"$f":"IFERROR(AVERAGEIF($B$5:$B$1005,'2 Axle Loads Direction 1'!$B1010,$U$5:$U$1005),0)","v":0}]
[null,3,"Heavy Truck (3 Axles) - Type 3",null,null,null,null,null,{"$f":"IFERROR(AVERAGEIF($B$5:$B$1005,'2 Axle Loads Direction 1'!$B1011,$U$5:$U$1005),0)","v":0}]
[null,4,"Heavy Truck (4 Axles) - Type 4",null,null,null,null,null,{"$f":"IFERROR(AVERAGEIF($B$5:$B$1005,'2 Axle Loads Direction 1'!$B1012,$U$5:$U$1005),0)","v":0}]
[null,5,"Semi-Trailers (5 Axles) - Type 5",null,null,null,null,null,{"$f":"IFERROR(AVERAGEIF($B$5:$B$1005,'2 Axle Loads Direction 1'!$B1013,$U$5:$U$1005),0)","v":0}]
[null,6,"Semi-Trailers (6 Axles) - Type 6",null,null,null,null,null,{"$f":"IFERROR(AVERAGEIF($B$5:$B$1005,'2 Axle Loads Direction 1'!$B1014,$U$5:$U$1005),0)","v":0}]
[null,7,"Trailers (7 Axles) - Type 7",null,null,null,null,null,{"$f":"IFERROR(AVERAGEIF($B$5:$B$1005,'2 Axle Loads Direction 1'!$B1015,$U$5:$U$1005),0)","v":0}]
[null,9,"Trailers (9 Axles) - Type 9",null,null,null,null,null,{"$f":"IFERROR(AVERAGEIF($B$5:$B$1005,'2 Axle Loads Direction 1'!$B1016,$U$5:$U$1005),0)","v":0}]

{"sheet":"3 Design MESA Direction 1","index":4,"n_rows":66,"n_cols":15,"rows_kept":66,"cut":false,"hidden":false,"merged":[[61,0,61,2],[54,0,54,6],[54,14,56,14],[55,0,55,6],[56,0,56,6],[57,0,57,6],[58,0,58,6],[58,7,58,13],[5,30,25,43],[11,7,11,13],[13,0,13,6],[13,14,16,14],[14,0,14,6],[20,0,20,6],[20,14,22,14],[21,0,21,6],[10,0,10,4],[24,0,24,6],[15,0,15,6],[16,0,16,6],[17,0,17,6],[24,7,24,13],[39,30,59,43],[45,7,45,13],[47,0,47,6],[47,14,50,14],[48,0,48,6],[49,0,49,6],[44,0,44,4],[50,0,50,6],[51,0,51,6],[51,14,53,14],[52,0,52,6],[53,0,53,6],[28,0,28,2],[17,14,19,14],[18,0,18,6],[19,0,19,6],[22,0,22,6],[23,0,23,6]]}
["Computation of design value of Equivalent Standard Axle Loads"]
[]
["Vehicle ","Vehicle Class","Average ESA/VEF","AADTT","Load distribution factor between lanes","ESA/day for each category"]
["Medium Truck (2 Axles) - Type 2",2,{"$f":"'2 Axle Loads Direction 1'!I1010","v":0},{"$f":"'1 ADT Direction 1'!B22","v":47.519999999999996},1,{"$f":"C4*D4*E4","v":0}]
["Heavy Truck (3 Axles) - Type 3",3,{"$f":"'2 Axle Loads Direction 1'!I1011","v":0},{"$f":"'1 ADT Direction 1'!C22","v":47.519999999999996},1,{"$f":"C5*D5*E5","v":0}]
["Heavy Truck (4 Axles) - Type 4",4,{"$f":"'2 Axle Loads Direction 1'!I1012","v":0},{"$f":"'1 ADT Direction 1'!D22","v":47.519999999999996},1,0]
["Semi-Trailers (5 Axles) - Type 5",5,{"$f":"'2 Axle Loads Direction 1'!I1013","v":0},{"$f":"'1 ADT Direction 1'!E22","v":47.519999999999996},1,0]
["Semi-Trailers (6 Axles) - Type 6",6,{"$f":"'2 Axle Loads Direction 1'!I1014","v":0},{"$f":"'1 ADT Direction 1'!F22","v":47.519999999999996},1,0]
["Trailers (7 Axles) - Type 7",7,{"$f":"'2 Axle Loads Direction 1'!I1015","v":0},{"$f":"'1 ADT Direction 1'!G22","v":47.519999999999996},1,0]
["Trailers (9 Axles) - Type 9",9,{"$f":"'2 Axle Loads Direction 1'!I1016","v":0},{"$f":"'1 ADT Direction 1'!H22","v":47.519999999999996},1,0]
["a - Total ESA/day (one way)",null,null,null,null,{"$f":"SUM(F4:F10)","v":0}]
[null,null,null,null,null,null,null,"Truck Type"]
["Factors",null,null,null,null,null,null,2,3,4,5,6,7,9]
["a=current average annual daily traffic loading in ESA/day (one way) in year of count",null,null,null,null,null,null,{"$f":"F4","v":0},{"$f":"F5","v":0},{"$f":"F6","v":0},{"$f":"F7","v":0},{"$f":"F8","v":0},{"$f":"F9","v":0},{"$f":"F10","v":0},"Growth Period 1"]
["b=annual growth rate (%) for growth Period 1",null,null,null,null,null,null,5,5,5,5,5,5,5]
["c=design life (years) for growth Period 1",null,null,null,null,null,null,10,10,10,10,10,10,10]
["d=number of years to start of design life for growth Period 1",null,null,null,null,null,null,2,2,2,2,2,2,2]
["a=average annual daily traffic loading in ESA/day (one way) at end of growth Period 1/ beginning of Period 2",null,null,null,null,null,null,{"$f":"H14*((1+(H15/100))^(H16+H17))","v":0},{"$f":"I14*((1+(I15/100))^(I16+I17))","v":0},0,0,0,0,0,"Growth Period 2"]
["b=annual growth rate (%) for growth Period 2",null,null,null,null,null,null,4,4,4,4,4,4,4]
["c=design life (years) for growth Period 2",null,null,null,null,null,null,5,5,5,5,5,5,5]
["a=average annual daily traffic loading in ESA/day (one way) at end of growth Period 2/ beginning of Period 3",null,null,null,null,null,null,{"$f":"H18*((1+(H19/100))^(H20))","v":0},{"$f":"I18*((1+(I19/100))^(I20))","v":0},0,0,0,0,0,"Growth Period 3"]
["b=annual growth rate (%) for growth Period 3",null,null,null,null,null,null,3,3,3,3,3,3,3]
["c=design life (years) for growth Period 3",null,null,null,null,null,null,5,5,5,5,5,5,5]
["Total Cummulative ESA by Truck Type (one way)",null,null,null,null,null,null,{"$f":"(((H14*365*100/H15)*(((1+(H15/100))^(H16+H17))-((1+(H15/100))^H17)))/1000000)+(((H18*365*100/H19)*(((1+(H19/100))^H20)-(1)))/1000000)+(((H21*365*100/H22)*(((1+(H22/100))^H23)-(1)))/1000000)","v":0},{"$f":"(((I14*365*100/I15)*(((1+(I15/100))^(I16+I17))-((1+(I15/100))^I17)))/1000000)+(((I18*365*100/I19)*(((1+(I19/100))^I20)-(1)))/1000000)+(((I21*365*100/I22)*(((1+(I22/100))^I23)-(1)))/1000000)","v":0},0,0,0,0,0,"MESA"]
["Total Cummulative Design MESA  (one way)",null,null,null,null,null,null,{"$f":"SUM(H24:N24)","v":0}]
[]
[]
[]
["Pavement Design MESA Direction 1",null,null,{"$f":"H25","v":0},null,51,"If MESA is already known then enter it here"]
[null,null,null,{"$f":"IF(D29>F29,D29,F29)","v":51}]
[]
[]
[]
[]
["Computation of design value of Equivalent Standard Axle Loads (IF YOU ALREADY HAVE VEF per vehicle class and AADTT OR ADTT)"]
[]
["Vehicle ","Vehicle Class","Average ESA/VEF","AADTT/ \nADTT","Load distribution factor between lanes","ESA/day for each category"]
["Medium Truck (2 Axles) - Type 2",2,2,0,1,{"$f":"C38*D38*E38","v":0}]
["Heavy Truck (3 Axles) - Type 3",3,3,0,1,{"$f":"C39*D39*E39","v":0}]
["Heavy Truck (4 Axles) - Type 4",4,3.8,0,1,0]
["Semi-Trailers (5 Axles) - Type 5",5,4.2,0,1,0]
["Semi-Trailers (6 Axles) - Type 6",6,6.2,0,1,0]
["Trailers (7 Axles) - Type 7",7,6.3,0,1,0]
["Trailers (9 Axles) - Type 9",9,6,0,1,0]
["a - Total ESA/day (one way)",null,null,null,null,{"$f":"SUM(F38:F44)","v":0}]
[null,null,null,null,null,null,null,"Truck Type"]
["Factors",null,null,null,null,null,null,2,3,4,5,6,7,9]
["a=current average annual daily traffic loading in ESA/day (one way) in year of count",null,null,null,null,null,null,{"$f":"F38","v":0},{"$f":"F39","v":0},{"$f":"F40","v":0},{"$f":"F41","v":0},{"$f":"F42","v":0},{"$f":"F43","v":0},{"$f":"F44","v":0},"Growth Period 1"]
["b=annual growth rate (%) for growth Period 1",null,null,null,null,null,null,5,5,5,5,5,5,5]
["c=design life (years) for growth Period 1",null,null,null,null,null,null,10,10,10,10,10,10,10]
["d=number of years to start of design life for growth Period 1",null,null,null,null,null,null,2,2,2,2,2,2,2]
["a=average annual daily traffic loading in ESA/day (one way) at end of growth Period 1/ beginning of Period 2",null,null,null,null,null,null,{"$f":"H48*((1+(H49/100))^(H50+H51))","v":0},{"$f":"I48*((1+(I49/100))^(I50+I51))","v":0},0,0,0,0,0,"Growth Period 2"]
["b=annual growth rate (%) for growth Period 2",null,null,null,null,null,null,4,4,4,4,4,4,4]
["c=design life (years) for growth Period 2",null,null,null,null,null,null,5,5,5,5,5,5,5]
["a=average annual daily traffic loading in ESA/day (one way) at end of growth Period 2/ beginning of Period 3",null,null,null,null,null,null,{"$f":"H52*((1+(H53/100))^(H54))","v":0},{"$f":"I52*((1+(I53/100))^(I54))","v":0},0,0,0,0,0,"Growth Period 3"]
["b=annual growth rate (%) for growth Period 3",null,null,null,null,null,null,3,3,3,3,3,3,3]
["c=design life (years) for growth Period 3",null,null,null,null,null,null,5,5,5,5,5,5,5]
["Total Cummulative MESA by Truck Type (one way) ",null,null,null,null,null,null,{"$f":"(((H48*365*100/H49)*(((1+(H49/100))^(H50+H51))-((1+(H49/100))^H51)))/1000000)+(((H52*365*100/H53)*(((1+(H53/100))^H54)-(1)))/1000000)+(((H55*365*100/H56)*(((1+(H56/100))^H57)-(1)))/1000000)","v":0},{"$f":"(((I48*365*100/I49)*(((1+(I49/100))^(I50+I51))-((1+(I49/100))^I51)))/1000000)+(((I52*365*100/I53)*(((1+(I53/100))^I54)-(1)))/1000000)+(((I55*365*100/I56)*(((1+(I56/100))^I57)-(1)))/1000000)","v":0},0,0,0,0,0,"MESA"]
["Total Cummulative Design MESA  (one way)",null,null,null,null,null,null,{"$f":"SUM(H58:N58)","v":0}]
[]
[]
["Pavement Design MESA Direction 1",null,null,{"$f":"H59","v":0}]
[]
[]
[]
["Determinant MESA Direction 1",null,null,{"$f":"IF(D30>D62,D30,D62)","v":51}]

{"sheet":"4 ADT Direction 2","index":5,"n_rows":22,"n_cols":26,"rows_kept":22,"cut":false,"hidden":false,"merged":[[6,11,6,16],[6,19,6,24],[11,11,13,16],[11,17,13,17],[2,1,2,8],[3,8,5,8],[3,11,3,17],[3,19,3,25],[4,11,4,16],[4,19,4,24],[5,11,5,16],[5,19,5,24]]}
["Summary Traffic Count in Direction 2"]
[]
[]
["VEHICLE","Medium Truck (2 Axles) - Type 2","Heavy Truck (3 Axles) - Type 3","Heavy Truck (4 Axles) - Type 4","Semi-Trailers (5 Axles) - Type 5","Semi-Trailers (6 Axles) - Type 6","Trailers (7 Axles) - Type 7","Trailers (9 Axles) - Type 9","DAILY averages",null,null,"Computation of 24 hr Average Night Expansion Factor (Weekday)",null,null,null,null,null,null,null,"Computation of 24 hr Average Night Expansion Factor (Weekend)"]
["Vehicle Class",2,3,4,5,6,7,9,null,null,null,"Full day count on day of 24 hr count",null,null,null,null,null,300,null,"Full day count on day of 24 hr count",null,null,null,null,null,300]
["Date",null,null,null,null,null,null,null,null,null,null,"Vehicle number on the 24 hr count day, corresponding to the same counting period for day that requires grossing",null,null,null,null,null,250,null,"Vehicle number on the 24 hr count day, corresponding to the same counting period for day that requires grossing",null,null,null,null,null,250]
["ADTT (Weekday) (Less than 24 hrs)",20,20,20,20,20,20,20,{"$f":"SUM(B7:H7)","v":140},null,null,"Grossing Factor",null,null,null,null,null,{"$f":"R5/R6","v":1.2},null,"Grossing Factor",null,null,null,null,null,{"$f":"Z5/Z6","v":1.2}]
["Full day count on day of 24 hr count",30,30,30,30,30,30,30,{"$f":"SUM(B8:H8)","v":210}]
["Night Expansion Factor",{"$f":"B8/B7","v":1.5},{"$f":"C8/C7","v":1.5},1.5,1.5,1.5,1.5,1.5,{"$f":"AVERAGE(B9:H9)","v":1.5}]
["ADTT (Weekday (24 hrs)",{"$f":"B7*B9","v":30},30,30,30,30,30,30,{"$f":"SUM(B10:H10)","v":210}]
[]
["ADTT (Weekend) (Less than 24 hrs)",20,20,20,20,20,20,20,{"$f":"SUM(B12:H12)","v":140},null,null,"Lane Split Factor (or directional split if two-lane road and ADTT entered is Total)",null,null,null,null,null,1]
["Full day count on day of 24 hr count",30,30,30,30,30,30,30,{"$f":"SUM(B13:H13)","v":210}]
["Night Expansion Factor",{"$f":"B13/B12","v":1.5},{"$f":"C13/C12","v":1.5},{"$f":"D13/D12","v":1.5},{"$f":"E13/E12","v":1.5},{"$f":"F13/F12","v":1.5},{"$f":"G13/G12","v":1.5},{"$f":"H13/H12","v":1.5},{"$f":"AVERAGE(B14:H14)","v":1.5}]
["ADTT (Weekend) (24 hrs)",{"$f":"B12*B14","v":30},30,30,30,30,30,30,{"$f":"SUM(B15:H15)","v":210}]
[]
["ADTT (7-day)",{"$f":"(B10*5+B15*2)/7","v":30},{"$f":"(C10*5+C15*2)/7","v":30},30,30,30,30,30,{"$f":"SUM(B17:H17)","v":210}]
["Seasonal Factor",1.2,1.2,1.2,1.2,1.2,1.2,1.2,{"$f":"AVERAGE(B18:H18)","v":1.2}]
["Diverted Traffic Factor",1.2,1.2,1.2,1.2,1.2,1.2,1.2,1.2]
["Generated Traffic Factor",1.1000000000000001,1.1000000000000001,1.1000000000000001,1.1000000000000001,1.1000000000000001,1.1000000000000001,1.1000000000000001,1.0999999999999999]
[]
["AADTT (Design)",{"$f":"B17*$R$12*B18*B19*B20","v":47.519999999999996},{"$f":"C17*$R$12*C18*C19*C20","v":47.519999999999996},47.519999999999996,47.519999999999996,47.519999999999996,{"$f":"G17*$R$12*G18*G19*G20","v":47.519999999999996},47.519999999999996,{"$f":"SUM(B22:H22)","v":332.63999999999993}]

{"sheet":"5 Axle Loads Direction 2","index":6,"n_rows":1016,"n_cols":21,"rows_kept":1016,"cut":false,"hidden":false,"merged":[[2,9,3,9],[2,10,3,10],[2,11,2,20],[1,2,1,10],[2,0,3,0],[2,1,3,1],[2,2,3,2],[2,3,3,3],[2,4,3,4],[2,5,3,5],[2,6,3,6],[2,7,3,7],[2,8,3,8]]}
["Computation of design axle loading from axle load survey data"]
[null,null,"Axle Load (tonnes)",null,null,null,null,null,null,null,null,"n",4]
["Direction","Vehicle Class","Axle 1","Axle 2","Axle 3 ","Axle 4 ","Axle 5","Axle 6","Axle 7","Axle 8","Axle 9","Equivalency factor per axle EF = (Axle Load/8.16)^n"]
[null,null,null,null,null,null,null,null,null,null,null,"Axle 1","Axle 2","Axle 3","Axle 4","Axle 5","Axle 6","Axle 7","Axle 8","Axle 9","Total EF per vehicle"]
[2,2,null,null,null,null,null,null,null,null,null,{"$f":"(C5/8.16)^$M$2","v":0},0,0,0,0,0,0,0,0,{"$f":"SUM(L5:T5)","v":0}]
[2,2,null,null,null,null,null,null,null,null,null,0,0,0,0,0,0,0,0,0,{"$f":"SUM(L6:T6)","v":0}]
[2,2,null,null,null,null,null,null,null,null,null,0,0,0,0,0,0,0,0,0,0]
[2,2,null,null,null,null,null,null,null,null,null,0,0,0,0,0,0,0,0,0,0]
[2,2,null,null,null,null,null,null,null,null,null,0,0,0,0,0,0,0,0,0,0]
[2,2,null,null,null,null,null,null,null,null,null,0,0,0,0,0,0,0,0,0,0]
[2,2,null,null,null,null,null,null,null,null,null,0,0,0,0,0,0,0,0,0,0]
[2,2,null,null,null,null,null,null,null,null,null,0,0,0,0,0,0,0,0,0,0]
[2,2,null,null,null,null,null,null,null,null,null,0,0,0,0,0,0,0,0,0,0]
[2,2,null,null,null,null,null,null,null,null,null,0,0,0,0,0,0,0,0,0,0]
[2,2,null,null,null,null,null,null,null,null,null,0,0,0,0,0,0,0,0,0,0]
[2,2,null,null,null,null,null,null,null,null,null,0,0,0,0,0,0,0,0,0,0]
[2,2,null,null,null,null,null,null,null,null,null,0,0,0,0,0,0,0,0,0,0]
[2,2,null,null,null,null,null,null,null,null,null,0,0,0,0,0,0,0,0,0,0]
[2,2,null,null,null,null,null,null,null,null,null,0,0,0,0,0,0,0,0,0,0]
[2,2,null,null,null,null,null,null,null,null,null,0,0,0,0,0,0,0,0,0,0]
[2,2,null,null,null,null,null,null,null,null,null,{"$f":"(C21/8.16)^$M$2","v":0},0,0,0,0,0,0,0,0,0]
[2,2,null,null,null,null,null,null,null,null,null,0,0,0,0,0,0,0,0,0,0]
[2,2,null,null,null,null,null,null,null,null,null,0,0,0,0,0,0,0,0,0,0]
[2,2,null,null,null,null,null,null,null,null,null,0,0,0,0,0,0,0,0,0,0]
[2,2,null,null,null,null,null,null,null,null,null,0,0,0,0,0,0,0,0,0,0]
[2,2,null,null,null,null,null,null,null,null,null,0,0,0,0,0,0,0,0,0,0]
[2,2,null,null,null,null,null,null,null,null,null,0,0,0,0,0,0,0,0,0,0]
[2,2,null,null,null,null,null,null,null,null,null,0,0,0,0,0,0,0,0,0,0]
[2,2,null,null,null,null,null,null,null,null,null,0,0,0,0,0,0,0,0,0,0]
[2,2,null,null,null,null,null,null,null,null,null,0,0,0,0,0,0,0,0,0,0]
[2,2,null,null,null,null,null,null,null,null,null,0,0,0,0,0,0,0,0,0,0]
[2,2,null,null,null,null,null,null,null,null,null,0,0,0,0,0,0,0,0,0,0]
[2,2,null,null,null,null,null,null,null,null,null,0,0,0,0,0,0,0,0,0,0]
[2,2,null,null,null,null,null,null,null,null,null,0,0,0,0,0,0,0,0,0,0]
[2,2,null,null,null,null,null,null,null,null,null,0,0,0,0,0,0,0,0,0,0]
[2,2,null,null,null,null,null,null,null,null,null,0,0,0,0,0,0,0,0,0,0]
[2,2,null,null,null,null,null,null,null,null,null,0,0,0,0,0,0,0,0,0,0]
[2,2,null,null,null,null,null,null,null,null,null,0,0,0,0,0,0,0,0,0,0]
[2,2,null,null,null,null,null,null,null,null,null,0,0,0,0,0,0,0,0,0,0]
[2,2,null,null,null,null,null,null,null,null,null,0,0,0,0,0,0,0,0,0,0]
[2,2,null,null,null,null,null,null,null,null,null,0,0,0,0,0,0,0,0,0,0]
[2,2,null,null,null,null,null,null,null,null,null,0,0,0,0,0,0,0,0,0,0]
[2,2,null,null,null,null,null,null,null,null,null,0,0,0,0,0,0,0,0,0,0]
[2,2,null,null,null,null,null,null,null,null,null,0,0,0,0,0,0,0,0,0,0]
[2,2,null,null,null,null,null,null,null,null,null,0,0,0,0,0,0,0,0,0,0]
[2,2,null,null,null,null,null,null,null,null,null,0,0,0,0,0,0,0,0,0,0]
[2,2,null,null,null,null,null,null,null,null,null,0,0,0,0,0,0,0,0,0,0]
[2,2,null,null,null,null,null,null,null,null,null,0,0,0,0,0,0,0,0,0,0]
[2,2,null,null,null,null,null,null,null,null,null,0,0,0,{"$f":"(F49/8.16)^$M$2","v":0},0,0,0,0,0,0]
[2,2,null,null,null,null,null,null,null,null,null,{"$f":"(C50/8.16)^$M$2","v":0},0,0,0,0,0,0,0,0,0]
[2,2,null,null,null,null,null,null,null,null,null,0,0,0,0,0,0,0,0,0,0]
[2,2,null,null,null,null,null,null,null,null,null,0,0,0,0,0,0,0,0,0,0]
[2,2,null,null,null,null,null,null,null,null,null,0,0,0,0,0,0,0,0,0,0]
[2,2,null,null,null,null,null,null,null,null,null,0,0,0,0,0,0,0,0,0,0]
[2,2,null,null,null,null,null,null,null,null,null,0,0,0,0,0,0,0,0,0,0]
[2,2,null,null,null,null,null,null,null,null,null,0,0,0,0,0,0,0,0,0,0]
[2,2,null,null,null,null,null,null,null,null,null,0,0,0,0,0,0,0,0,0,0]
[2,2,null,null,null,null,null,null,null,null,null,0,0,0,0,0,0,0,0,0,0]
[2,2,null,null,null,null,null,null,null,null,null,0,0,0,0,0,0,0,0,0,0]
[2,2,null,null,null,null,null,null,null,null,null,0,0,0,0,0,0,0,0,0,0]
[2,2,null,null,null,null,null,null,null,null,null,0,0,0,0,0,0,0,0,0,0]
[2,2,null,null,null,null,null,null,null,null,null,0,0,0,0,0,0,0,0,0,0]
[2,2,null,null,null,null,null,null,null,null,null,0,0,0,0,0,0,0,0,0,0]
[2,2,null,null,null,null,null,null,null,null,null,0,0,0,0,0,0,0,0,0,0]
[2,2,null,null,null,null,null,null,null,null,null,0,0,0,0,0,0,0,0,0,0]
[2,2,null,null,null,null,null,null,null,null,null,0,0,0,0,0,0,0,0,0,0]
[2,2,null,null,null,null,null,null,null,null,null,0,0,0,0,0,0,0,0,0,0]
[2,2,null,null,null,null,null,null,null,null,null,0,0,0,0,0,0,0,0,0,0]
[2,2,null,null,null,null,null,null,null,null,null,0,0,0,0,0,0,0,0,0,0]
[2,2,null,null,null,null,null,null,null,null,null,0,0,0,0,0,0,0,0,0,{"$f":"SUM(L70:T70)","v":0}]
[2,2,null,null,null,null,null,null,null,null,null,0,0,0,0,0,0,0,0,0,0]
[2,2,null,null,null,null,null,null,null,null,null,0,0,0,0,0,0,0,0,0,0]
[2,2,null,null,null,null,null,null,null,null,null,0,0,0,0,0,0,0,0,0,0]
[2,2,null,null,null,null,null,null,null,null,null,0,0,0,0,0,0,0,0,0,0]
[2,2,null,null,null,null,null,null,null,null,null,0,0,0,0,0,0,0,0,0,0]
[2,2,null,null,null,null,null,null,null,null,null,0,0,0,0,0,0,0,0,0,0]
[2,2,null,null,null,null,null,null,null,null,null,0,0,0,0,0,0,0,0,0,0]
[2,2,null,null,null,null,null,null,null,null,null,0,0,0,0,0,0,0,0,0,0]
[2,2,null,null,null,null,null,null,null,null,null,0,0,0,0,0,0,0,0,0,0]
[2,2,null,null,null,null,null,null,null,null,null,0,0,0,0,0,0,0,0,0,0]
[2,2,null,null,null,null,null,null,null,null,null,0,0,0,0,0,0,0,0,0,0]
[2,2,null,null,null,null,null,null,null,null,null,0,0,0,0,0,0,0,0,0,0]
[2,2,null,null,null,null,null,null,null,null,null,0,0,0,0,0,0,0,0,0,0]
[2,2,null,null,null,null,null,null,null,null,null,0,0,0,0,0,0,0,0,0,0]
[2,2,null,null,null,null,null,null,null,null,null,0,0,0,0,0,0,0,0,0,0]
[2,2,null,null,null,null,null,null,null,null,null,0,0,0,0,0,0,0,0,0,0]
[2,2,null,null,null,null,null,null,null,null,null,0,0,0,0,0,0,0,0,0,0]
[2,2,null,null,null,null,null,null,null,null,null,0,0,0,0,0,0,0,0,0,0]
[2,2,null,null,null,null,null,null,null,null,null,0,0,0,0,0,0,0,0,0,0]
[2,2,null,null,null,null,null,null,null,null,null,0,0,0,0,0,0,0,0,0,0]
[2,2,null,null,null,null,null,null,null,null,null,0,0,0,0,0,0,{"$f":"(I91/8.16)^$M$2","v":0},0,0,0]
[2,2,null,null,null,null,null,null,null,null,null,0,0,0,0,0,0,0,0,0,0]
[2,2,null,null,null,null,null,null,null,null,null,0,0,0,0,0,0,0,0,0,0]
[2,2,null,null,null,null,null,null,null,null,null,0,0,0,0,0,0,0,0,0,0]
[2,2,null,null,null,null,null,null,null,null,null,0,0,0,0,0,0,0,0,0,0]
[2,2,null,null,null,null,null,null,null,null,null,0,0,0,0,0,0,0,0,0,0]
[2,2,null,null,null,null,null,null,null,null,null,0,0,0,0,0,0,0,0,0,0]
[2,2,null,null,null,null,null,null,null,null,null,0,0,0,0,0,0,0,0,0,0]
[2,2,null,null,null,null,null,null,null,null,null,0,0,0,0,0,0,0,0,0,0]
[2,2,null,null,null,null,null,null,null,null,null,0,0,0,0,0,0,0,0,0,0]
[2,2,null,null,null,null,null,null,null,null,null,0,0,0,0,0,0,0,0,0,0]
[2,2,null,null,null,null,null,null,null,null,null,0,0,0,0,0,0,0,0,0,0]
[2,2,null,null,null,null,null,null,null,null,null,0,0,0,0,0,0,0,0,0,0]
[2,2,null,null,null,null,null,null,null,null,null,0,0,0,0,0,0,0,0,0,0]
[2,2,null,null,null,null,null,null,null,null,null,0,0,0,0,0,0,0,0,0,0]
[2,2,null,null,null,null,null,null,null,null,null,0,0,0,0,0,0,0,0,0,0]
[2,2,null,null,null,null,null,null,null,null,null,0,0,0,0,0,0,0,0,0,0]
[2,2,null,null,null,null,null,null,null,null,null,0,0,0,0,0,0,0,0,0,0]
[2,2,null,null,null,null,null,null,null,null,null,0,0,0,0,0,0,0,0,0,0]
[2,2,null,null,null,null,null,null,null,null,null,0,0,0,0,0,0,0,0,0,0]
[2,2,null,null,null,null,null,null,null,null,null,0,0,0,0,0,0,0,0,0,0]
[2,2,null,null,null,null,null,null,null,null,null,0,0,0,0,0,0,0,0,0,0]
[2,2,null,null,null,null,null,null,null,null,null,0,0,0,{"$f":"(F113/8.16)^$M$2","v":0},0,0,0,0,0,0]
[2,2,null,null,null,null,null,null,null,null,null,{"$f":"(C114/8.16)^$M$2","v":0},0,0,0,0,0,0,0,0,0]
[2,2,null,null,null,null,null,null,null,null,null,0,0,0,0,0,0,0,0,0,0]
[2,2,null,null,null,null,null,null,null,null,null,0,0,0,0,0,0,0,0,0,0]
[2,2,null,null,null,null,null,null,null,null,null,0,0,0,0,0,0,0,0,0,0]
[2,2,null,null,null,null,null,null,null,null,null,0,0,0,0,0,0,0,0,0,0]
[2,2,null,null,null,null,null,null,null,null,null,0,0,0,0,0,0,0,0,0,0]
[2,2,null,null,null,null,null,null,null,null,null,0,0,0,0,0,0,0,0,0,0]
[2,2,null,null,null,null,null,null,null,null,null,0,0,0,0,0,0,0,0,0,0]
[2,2,null,null,null,null,null,null,null,null,null,0,0,0,0,0,0,0,0,0,0]
[2,2,null,null,null,null,null,null,null,null,null,0,0,0,0,0,0,0,0,0,0]
[2,2,null,null,null,null,null,null,null,null,null,0,0,0,0,0,0,0,0,0,0]
[2,2,null,null,null,null,null,null,null,null,null,0,0,0,0,0,0,0,0,0,0]
[2,2,null,null,null,null,null,null,null,null,null,0,0,0,0,0,0,0,0,0,0]
[2,2,null,null,null,null,null,null,null,null,null,0,0,0,0,0,0,0,0,0,0]
[2,2,null,null,null,null,null,null,null,null,null,0,0,0,0,0,0,0,0,0,0]
[2,2,null,null,null,null,null,null,null,null,null,0,0,0,0,0,0,0,0,0,0]
[2,2,null,null,null,null,null,null,null,null,null,0,0,0,0,0,0,0,0,0,0]
[2,2,null,null,null,null,null,null,null,null,null,0,0,0,0,0,0,0,0,0,0]
[2,2,null,null,null,null,null,null,null,null,null,0,0,0,0,0,0,0,0,0,0]
[2,2,null,null,null,null,null,null,null,null,null,0,0,0,0,0,0,0,0,0,0]
[2,2,null,null,null,null,null,null,null,null,null,0,0,0,0,0,0,0,0,0,{"$f":"SUM(L134:T134)","v":0}]
[2,2,null,null,null,null,null,null,null,null,null,0,0,0,0,0,0,0,0,0,0]
[2,2,null,null,null,null,null,null,null,null,null,0,0,0,0,0,0,0,0,0,0]
[2,2,null,null,null,null,null,null,null,null,null,0,0,0,0,0,0,0,0,0,0]
[2,2,null,null,null,null,null,null,null,null,null,0,0,0,0,0,0,0,0,0,0]
[2,2,null,null,null,null,null,null,null,null,null,0,0,0,0,0,0,0,0,0,0]
[2,2,null,null,null,null,null,null,null,null,null,0,0,0,0,0,0,0,0,0,0]
[2,2,null,null,null,null,null,null,null,null,null,0,0,0,0,0,0,0,0,0,0]
[2,2,null,null,null,null,null,null,null,null,null,0,0,0,0,0,0,0,0,0,0]
[2,2,null,null,null,null,null,null,null,null,null,0,0,0,0,0,0,0,0,0,0]
[2,2,null,null,null,null,null,null,null,null,null,0,0,0,0,0,0,0,0,0,0]
[2,2,null,null,null,null,null,null,null,null,null,0,0,0,0,0,0,0,0,0,0]
[2,2,null,null,null,null,null,null,null,null,null,0,0,0,0,0,0,0,0,0,0]
[2,2,null,null,null,null,null,null,null,null,null,0,0,0,0,0,0,0,0,0,0]
[2,2,null,null,null,null,null,null,null,null,null,0,0,0,0,0,0,0,0,0,0]
[2,2,null,null,null,null,null,null,null,null,null,0,0,0,0,0,0,0,0,0,0]
[2,2,null,null,null,null,null,null,null,null,null,0,0,0,0,0,0,0,0,0,0]
[2,2,null,null,null,null,null,null,null,null,null,0,0,0,0,0,0,0,0,0,0]
[2,2,null,null,null,null,null,null,null,null,null,0,0,0,0,0,0,0,0,0,0]
[2,2,null,null,null,null,null,null,null,null,null,0,0,0,0,0,0,0,0,0,0]
[2,2,null,null,null,null,null,null,null,null,null,0,0,0,0,0,0,0,0,0,0]
[2,2,null,null,null,null,null,null,null,null,null,0,0,0,0,0,0,0,0,0,0]
[2,2,null,null,null,null,null,null,null,null,null,{"$f":"(C156/8.16)^$M$2","v":0},{"$f":"(D156/8.16)^$M$2","v":0},{"$f":"(E156/8.16)^$M$2","v":0},{"$f":"(F156/8.16)^$M$2","v":0},{"$f":"(G156/8.16)^$M$2","v":0},{"$f":"(H156/8.16)^$M$2","v":0},{"$f":"(I156/8.16)^$M$2","v":0},{"$f":"(J156/8.16)^$M$2","v":0},{"$f":"(K156/8.16)^$M$2","v":0},{"$f":"SUM(L156:T156)","v":0}]
[2,2,null,null,null,null,null,null,null,null,null,0,0,0,0,0,0,0,0,0,0]
[2,2,null,null,null,null,null,null,null,null,null,0,0,0,0,0,0,0,0,0,0]
[2,2,null,null,null,null,null,null,null,null,null,0,0,0,0,0,0,0,0,0,0]
[2,2,null,null,null,null,null,null,null,null,null,0,0,0,0,0,0,0,0,0,0]
[2,2,null,null,null,null,null,null,null,null,null,0,0,0,0,0,0,0,0,0,0]
[2,2,null,null,null,null,null,null,null,null,null,0,0,0,0,0,0,0,0,0,0]
[2,2,null,null,null,null,null,null,null,null,null,0,0,0,0,0,0,0,0,0,0]
[2,2,null,null,null,null,null,null,null,null,null,0,0,0,0,0,0,0,0,0,0]
[2,2,null,null,null,null,null,null,null,null,null,0,0,0,0,0,0,0,0,0,0]
[2,2,null,null,null,null,null,null,null,null,null,0,0,0,0,0,0,0,0,0,0]
[2,2,null,null,null,null,null,null,null,null,null,0,0,0,0,0,0,0,0,0,0]
[2,2,null,null,null,null,null,null,null,null,null,0,0,0,0,0,0,0,0,0,0]
[2,2,null,null,null,null,null,null,null,null,null,0,0,0,0,0,0,0,0,0,0]
[2,2,null,null,null,null,null,null,null,null,null,0,0,0,0,0,0,0,0,0,0]
[2,2,null,null,null,null,null,null,null,null,null,0,0,0,0,0,0,0,0,0,0]
[2,2,null,null,null,null,null,null,null,null,null,{"$f":"(C172/8.16)^$M$2","v":0},0,0,0,0,0,0,0,0,0]
[2,2,null,null,null,null,null,null,null,null,null,0,0,0,0,0,0,0,0,0,0]
[2,2,null,null,null,null,null,null,null,null,null,0,0,0,0,0,0,0,0,0,0]
[2,2,null,null,null,null,null,null,null,null,null,0,0,0,0,0,0,0,0,0,0]
[2,2,null,null,null,null,null,null,null,null,null,0,0,0,0,0,0,0,0,0,0]
[2,2,null,null,null,null,null,null,null,null,null,0,0,0,0,0,0,0,0,0,0]
[2,2,null,null,null,null,null,null,null,null,null,0,0,0,0,0,0,0,0,0,0]
[2,2,null,null,null,null,null,null,null,null,null,0,0,0,0,0,0,0,0,0,0]
[2,2,null,null,null,null,null,null,null,null,null,0,0,0,0,0,0,0,0,0,0]
[2,2,null,null,null,null,null,null,null,null,null,0,0,0,0,0,0,0,0,0,0]
[2,2,null,null,null,null,null,null,null,null,null,0,0,0,0,0,0,0,0,0,0]
[2,2,null,null,null,null,null,null,null,null,null,0,0,0,0,0,0,0,0,0,0]
[2,2,null,null,null,null,null,null,null,null,null,0,0,0,0,0,0,0,0,0,0]
[2,2,null,null,null,null,null,null,null,null,null,0,0,0,0,0,0,0,0,0,0]
[2,2,null,null,null,null,null,null,null,null,null,0,0,0,0,0,0,0,0,0,0]
[2,2,null,null,null,null,null,null,null,null,null,0,0,0,0,0,0,0,0,0,0]
[2,2,null,null,null,null,null,null,null,null,null,0,0,0,0,0,0,0,0,0,0]
[2,2,null,null,null,null,null,null,null,null,null,0,0,0,0,0,0,0,0,0,0]
[2,2,null,null,null,null,null,null,null,null,null,0,0,0,0,0,0,0,0,0,0]
[2,2,null,null,null,null,null,null,null,null,null,0,0,0,0,0,0,0,0,0,0]
[2,2,null,null,null,null,null,null,null,null,null,0,0,0,0,0,0,0,0,0,0]
[2,2,null,null,null,null,null,null,null,null,null,0,0,0,0,0,0,0,0,0,0]
[2,2,null,null,null,null,null,null,null,null,null,0,0,0,0,0,0,0,0,0,0]
[2,2,null,null,null,null,null,null,null,null,null,0,0,0,0,0,0,0,0,0,0]
[2,2,null,null,null,null,null,null,null,null,null,0,0,0,0,0,0,0,0,0,0]
[2,2,null,null,null,null,null,null,null,null,null,0,0,0,0,0,0,0,0,0,0]
[2,2,null,null,null,null,null,null,null,null,null,0,0,0,0,0,0,0,0,0,0]
[2,2,null,null,null,null,null,null,null,null,null,0,0,0,0,0,0,0,0,0,0]
[2,2,null,null,null,null,null,null,null,null,null,0,0,0,{"$f":"(F200/8.16)^$M$2","v":0},0,0,0,0,0,0]
[2,2,null,null,null,null,null,null,null,null,null,{"$f":"(C201/8.16)^$M$2","v":0},0,0,0,0,0,0,0,0,0]
[2,2,null,null,null,null,null,null,null,null,null,0,0,0,0,0,0,0,0,0,0]
[2,2,null,null,null,null,null,null,null,null,null,0,0,0,0,0,0,0,0,0,0]
[2,2,null,null,null,null,null,null,null,null,null,0,0,0,0,0,0,0,0,0,0]
[2,2,null,null,null,null,null,null,null,null,null,0,0,0,0,0,0,0,0,0,0]
[2,2,null,null,null,null,null,null,null,null,null,0,0,0,0,0,0,0,0,0,0]
[2,2,null,null,null,null,null,null,null,null,null,0,0,0,0,0,0,0,0,0,0]
[2,2,null,null,null,null,null,null,null,null,null,0,0,0,0,0,0,0,0,0,0]
[2,2,null,null,null,null,null,null,null,null,null,0,0,0,0,0,0,0,0,0,0]
[2,2,null,null,null,null,null,null,null,null,null,0,0,0,0,0,0,0,0,0,0]
[2,2,null,null,null,null,null,null,null,null,null,0,0,0,0,0,0,0,0,0,0]
[2,2,null,null,null,null,null,null,null,null,null,0,0,0,0,0,0,0,0,0,0]
[2,2,null,null,null,null,null,null,null,null,null,0,0,0,0,0,0,0,0,0,0]
[2,2,null,null,null,null,null,null,null,null,null,0,0,0,0,0,0,0,0,0,0]
[2,2,null,null,null,null,null,null,null,null,null,0,0,0,0,0,0,0,0,0,0]
[2,2,null,null,null,null,null,null,null,null,null,0,0,0,0,0,0,0,0,0,0]
[2,2,null,null,null,null,null,null,null,null,null,0,0,0,0,0,0,0,0,0,0]
[2,2,null,null,null,null,null,null,null,null,null,0,0,0,0,0,0,0,0,0,0]
[2,2,null,null,null,null,null,null,null,null,null,0,0,0,0,0,0,0,0,0,0]
[2,2,null,null,null,null,null,null,null,null,null,0,0,0,0,0,0,0,0,0,{"$f":"SUM(L220:T220)","v":0}]
[2,2,null,null,null,null,null,null,null,null,null,0,0,0,0,0,0,0,0,0,0]
[2,2,null,null,null,null,null,null,null,null,null,0,0,0,0,0,0,0,0,0,0]
[2,2,null,null,null,null,null,null,null,null,null,0,0,0,0,0,0,0,0,0,0]
[2,2,null,null,null,null,null,null,null,null,null,0,0,0,0,0,0,0,0,0,0]
[2,2,null,null,null,null,null,null,null,null,null,0,0,0,0,0,0,0,0,0,0]
[2,2,null,null,null,null,null,null,null,null,null,0,0,0,0,0,0,0,0,0,0]
[2,2,null,null,null,null,null,null,null,null,null,0,0,0,0,0,0,0,0,0,0]
[2,2,null,null,null,null,null,null,null,null,null,0,0,0,0,0,0,0,0,0,0]
[2,2,null,null,null,null,null,null,null,null,null,0,0,0,0,0,0,0,0,0,0]
[2,2,null,null,null,null,null,null,null,null,null,0,0,0,0,0,0,0,0,0,0]
[2,2,null,null,null,null,null,null,null,null,null,0,0,0,0,0,0,0,0,0,0]
[2,2,null,null,null,null,null,null,null,null,null,0,0,0,0,0,0,0,0,0,0]
[2,2,null,null,null,null,null,null,null,null,null,0,0,0,0,0,0,0,0,0,0]
[2,2,null,null,null,null,null,null,null,null,null,0,0,0,0,0,0,0,0,0,0]
[2,2,null,null,null,null,null,null,null,null,null,0,0,0,0,0,0,0,0,0,0]
[2,2,null,null,null,null,null,null,null,null,null,0,0,0,0,0,0,0,0,0,0]
[2,2,null,null,null,null,null,null,null,null,null,0,0,0,0,0,0,0,0,0,0]
[2,2,null,null,null,null,null,null,null,null,null,0,0,0,0,0,0,0,0,0,0]
[2,2,null,null,null,null,null,null,null,null,null,0,0,0,0,0,0,0,0,0,0]
[2,2,null,null,null,null,null,null,null,null,null,0,0,0,0,0,0,0,0,0,0]
[2,2,null,null,null,null,null,null,null,null,null,0,0,0,0,0,0,0,0,0,0]
[2,2,null,null,null,null,null,null,null,null,null,0,0,0,0,0,0,0,0,0,0]
[2,2,null,null,null,null,null,null,null,null,null,0,0,0,0,0,0,{"$f":"(I243/8.16)^$M$2","v":0},{"$f":"(J243/8.16)^$M$2","v":0},{"$f":"(K243/8.16)^$M$2","v":0},0]
[2,2,null,null,null,null,null,null,null,null,null,0,0,0,0,0,0,0,0,0,0]
[2,2,null,null,null,null,null,null,null,null,null,0,0,0,0,0,0,0,0,0,0]
[2,2,null,null,null,null,null,null,null,null,null,0,0,0,0,0,0,0,0,0,0]
[2,2,null,null,null,null,null,null,null,null,null,0,0,0,0,0,0,0,0,0,0]
[2,2,null,null,null,null,null,null,null,null,null,0,0,0,0,0,0,0,0,0,0]
[2,2,null,null,null,null,null,null,null,null,null,0,0,0,0,0,0,0,0,0,0]
[2,2,null,null,null,null,null,null,null,null,null,0,0,0,0,0,0,0,0,0,0]
[2,2,null,null,null,null,null,null,null,null,null,0,0,0,0,0,0,0,0,0,0]
[2,2,null,null,null,null,null,null,null,null,null,0,0,0,0,0,0,0,0,0,0]
[2,2,null,null,null,null,null,null,null,null,null,0,0,0,0,0,0,0,0,0,0]
[2,2,null,null,null,null,null,null,null,null,null,0,0,0,0,0,0,0,0,0,0]
[2,2,null,null,null,null,null,null,null,null,null,0,0,0,0,0,0,0,0,0,0]
[2,2,null,null,null,null,null,null,null,null,null,0,0,0,0,0,0,0,0,0,0]
[2,2,null,null,null,null,null,null,null,null,null,0,0,0,0,0,0,0,0,0,0]
[2,2,null,null,null,null,null,null,null,null,null,0,0,0,0,0,0,0,0,0,0]
[2,2,null,null,null,null,null,null,null,null,null,0,0,0,0,0,0,0,0,0,0]
[2,2,null,null,null,null,null,null,null,null,null,0,0,0,0,0,0,0,0,0,0]
[2,2,null,null,null,null,null,null,null,null,null,0,0,0,0,0,0,0,0,0,0]
[2,2,null,null,null,null,null,null,null,null,null,0,0,0,0,0,0,0,0,0,0]
[2,2,null,null,null,null,null,null,null,null,null,0,0,0,0,0,0,0,0,0,0]
[2,2,null,null,null,null,null,null,null,null,null,{"$f":"(C264/8.16)^$M$2","v":0},{"$f":"(D264/8.16)^$M$2","v":0},{"$f":"(E264/8.16)^$M$2","v":0},{"$f":"(F264/8.16)^$M$2","v":0},{"$f":"(G264/8.16)^$M$2","v":0},{"$f":"(H264/8.16)^$M$2","v":0},0,0,0,0]
[2,2,null,null,null,null,null,null,null,null,null,0,0,0,0,0,0,0,0,0,0]
[2,2,null,null,null,null,null,null,null,null,null,0,0,0,0,0,0,0,0,0,0]
[2,2,null,null,null,null,null,null,null,null,null,0,0,0,0,0,0,0,0,0,0]
[2,2,null,null,null,null,null,null,null,null,null,0,0,0,0,0,0,0,0,0,0]
[2,2,null,null,null,null,null,null,null,null,null,0,0,0,0,0,0,0,0,0,0]
[2,2,null,null,null,null,null,null,null,null,null,0,0,0,0,0,0,0,0,0,0]
[2,2,null,null,null,null,null,null,null,null,null,0,0,0,0,0,0,0,0,0,0]
[2,2,null,null,null,null,null,null,null,null,null,0,0,0,0,0,0,0,0,0,0]
[2,2,null,null,null,null,null,null,null,null,null,0,0,0,0,0,0,0,0,0,0]
[2,2,null,null,null,null,null,null,null,null,null,0,0,0,0,0,0,0,0,0,0]
[2,2,null,null,null,null,null,null,null,null,null,0,0,0,0,0,0,0,0,0,0]
[2,2,null,null,null,null,null,null,null,null,null,0,0,0,0,0,0,0,0,0,0]
[2,2,null,null,null,null,null,null,null,null,null,0,0,0,0,0,0,0,0,0,0]
[2,2,null,null,null,null,null,null,null,null,null,0,0,0,0,0,0,0,0,0,0]
[2,2,null,null,null,null,null,null,null,null,null,0,0,0,0,0,0,0,0,0,0]
[2,2,null,null,null,null,null,null,null,null,null,0,0,0,0,0,0,0,0,0,0]
[2,2,null,null,null,null,null,null,null,null,null,0,0,0,0,0,0,0,0,0,0]
[2,2,null,null,null,null,null,null,null,null,null,0,0,0,0,0,0,0,0,0,0]
[2,2,null,null,null,null,null,null,null,null,null,0,0,0,0,0,0,0,0,0,0]
[2,2,null,null,null,null,null,null,null,null,null,0,0,0,0,0,0,0,0,0,{"$f":"SUM(L284:T284)","v":0}]
[2,2,null,null,null,null,null,null,null,null,null,0,0,0,0,0,0,0,0,0,0]
[2,2,null,null,null,null,null,null,null,null,null,0,0,0,0,0,0,0,0,0,0]
[2,2,null,null,null,null,null,null,null,null,null,0,0,0,0,0,0,0,0,0,0]
[2,2,null,null,null,null,null,null,null,null,null,0,0,0,0,0,0,0,0,0,0]
[2,2,null,null,null,null,null,null,null,null,null,0,0,0,0,0,0,0,0,0,0]
[2,2,null,null,null,null,null,null,null,null,null,0,0,0,0,0,0,0,0,0,0]
[2,2,null,null,null,null,null,null,null,null,null,0,0,0,0,0,0,0,0,0,0]
[2,2,null,null,null,null,null,null,null,null,null,0,0,0,0,0,0,0,0,0,0]
[2,2,null,null,null,null,null,null,null,null,null,0,0,0,0,0,0,0,0,0,0]
[2,2,null,null,null,null,null,null,null,null,null,0,0,0,0,0,0,0,0,0,0]
[2,2,null,null,null,null,null,null,null,null,null,0,0,0,0,0,0,0,0,0,0]
[2,2,null,null,null,null,null,null,null,null,null,0,0,0,0,0,0,0,0,0,0]
[2,2,null,null,null,null,null,null,null,null,null,0,0,0,0,0,0,0,0,0,0]
[2,2,null,null,null,null,null,null,null,null,null,0,0,0,0,0,0,0,0,0,0]
[2,2,null,null,null,null,null,null,null,null,null,0,0,0,0,0,0,0,0,0,0]
[2,2,null,null,null,null,null,null,null,null,null,0,0,0,0,0,0,0,0,0,0]
[2,2,null,null,null,null,null,null,null,null,null,0,0,0,0,0,0,0,0,0,0]
[2,2,null,null,null,null,null,null,null,null,null,0,0,0,0,0,0,0,0,0,0]
[2,2,null,null,null,null,null,null,null,null,null,0,0,0,0,0,0,0,0,0,0]
[2,2,null,null,null,null,null,null,null,null,null,0,0,0,0,0,0,0,0,0,0]
[2,2,null,null,null,null,null,null,null,null,null,0,0,0,0,0,0,0,0,0,0]
[2,2,null,null,null,null,null,null,null,null,null,0,0,0,0,0,0,0,0,0,{"$f":"SUM(L306:T306)","v":0}]
[2,2,null,null,null,null,null,null,null,null,null,0,0,0,0,0,0,{"$f":"(I307/8.16)^$M$2","v":0},{"$f":"(J307/8.16)^$M$2","v":0},{"$f":"(K307/8.16)^$M$2","v":0},0]
[2,2,null,null,null,null,null,null,null,null,null,0,0,0,0,0,0,0,0,0,0]
[2,2,null,null,null,null,null,null,null,null,null,0,0,0,0,0,0,0,0,0,0]
[2,2,null,null,null,null,null,null,null,null,null,0,0,0,0,0,0,0,0,0,0]
[2,2,null,null,null,null,null,null,null,null,null,0,0,0,0,0,0,0,0,0,0]
[2,2,null,null,null,null,null,null,null,null,null,0,0,0,0,0,0,0,0,0,0]
[2,2,null,null,null,null,null,null,null,null,null,0,0,0,0,0,0,0,0,0,0]
[2,2,null,null,null,null,null,null,null,null,null,0,0,0,0,0,0,0,0,0,0]
[2,2,null,null,null,null,null,null,null,null,null,0,0,0,0,0,0,0,0,0,0]
[2,2,null,null,null,null,null,null,null,null,null,0,0,0,0,0,0,0,0,0,0]
[2,2,null,null,null,null,null,null,null,null,null,0,0,0,0,0,0,0,0,0,0]
[2,2,null,null,null,null,null,null,null,null,null,0,0,0,0,0,0,0,0,0,0]
[2,2,null,null,null,null,null,null,null,null,null,0,0,0,0,0,0,0,0,0,0]
[2,2,null,null,null,null,null,null,null,null,null,0,0,0,0,0,0,0,0,0,0]
[2,2,null,null,null,null,null,null,null,null,null,0,0,0,0,0,0,0,0,0,0]
[2,2,null,null,null,null,null,null,null,null,null,0,0,0,0,0,0,0,0,0,0]
[2,2,null,null,null,null,null,null,null,null,null,{"$f":"(C323/8.16)^$M$2","v":0},0,0,0,0,0,0,0,0,0]
[2,2,null,null,null,null,null,null,null,null,null,0,0,0,0,0,0,0,0,0,0]
[2,2,null,null,null,null,null,null,null,null,null,0,0,0,0,0,0,0,0,0,0]
[2,2,null,null,null,null,null,null,null,null,null,0,0,0,0,0,0,0,0,0,0]
[2,2,null,null,null,null,null,null,null,null,null,0,0,0,0,0,0,0,0,0,0]
[2,2,null,null,null,null,null,null,null,null,null,0,0,0,0,0,0,0,0,0,0]
[2,2,null,null,null,null,null,null,null,null,null,0,0,0,0,0,0,0,0,0,0]
[2,2,null,null,null,null,null,null,null,null,null,0,0,0,0,0,0,0,0,0,0]
[2,2,null,null,null,null,null,null,null,null,null,0,0,0,0,0,0,0,0,0,0]
[2,2,null,null,null,null,null,null,null,null,null,0,0,0,0,0,0,0,0,0,0]
[2,2,null,null,null,null,null,null,null,null,null,0,0,0,0,0,0,0,0,0,0]
[2,2,null,null,null,null,null,null,null,null,null,0,0,0,0,0,0,0,0,0,0]
[2,2,null,null,null,null,null,null,null,null,null,0,0,0,0,0,0,0,0,0,0]
[2,2,null,null,null,null,null,null,null,null,null,0,0,0,0,0,0,0,0,0,0]
[2,2,null,null,null,null,null,null,null,null,null,0,0,0,0,0,0,0,0,0,0]
[2,2,null,null,null,null,null,null,null,null,null,0,0,0,0,0,0,0,0,0,0]
[2,2,null,null,null,null,null,null,null,null,null,0,0,0,0,0,0,0,0,0,0]
[2,2,null,null,null,null,null,null,null,null,null,0,0,0,0,0,0,0,0,0,0]
[2,2,null,null,null,null,null,null,null,null,null,0,0,0,0,0,0,0,0,0,0]
[2,2,null,null,null,null,null,null,null,null,null,0,0,0,0,0,0,0,0,0,0]
[2,2,null,null,null,null,null,null,null,null,null,0,0,0,0,0,0,0,0,0,0]
[2,2,null,null,null,null,null,null,null,null,null,0,0,0,0,0,0,0,0,0,0]
[2,2,null,null,null,null,null,null,null,null,null,0,0,0,0,0,0,0,0,0,0]
[2,2,null,null,null,null,null,null,null,null,null,0,0,0,0,0,0,0,0,0,0]
[2,2,null,null,null,null,null,null,null,null,null,0,0,0,0,0,0,0,0,0,0]
[2,2,null,null,null,null,null,null,null,null,null,0,0,0,0,0,0,0,0,0,0]
[2,2,null,null,null,null,null,null,null,null,null,0,0,0,0,0,0,0,0,0,0]
[2,2,null,null,null,null,null,null,null,null,null,0,0,0,0,0,0,0,0,0,0]
[2,2,null,null,null,null,null,null,null,null,null,0,0,0,{"$f":"(F351/8.16)^$M$2","v":0},0,0,0,0,0,0]
[2,2,null,null,null,null,null,null,null,null,null,{"$f":"(C352/8.16)^$M$2","v":0},0,0,0,0,0,0,0,0,0]
[2,2,null,null,null,null,null,null,null,null,null,0,0,0,0,0,0,0,0,0,0]
[2,2,null,null,null,null,null,null,null,null,null,0,0,0,0,0,0,0,0,0,0]
[2,2,null,null,null,null,null,null,null,null,null,0,0,0,0,0,0,0,0,0,0]
[2,2,null,null,null,null,null,null,null,null,null,0,0,0,0,0,0,0,0,0,0]
[2,2,null,null,null,null,null,null,null,null,null,0,0,0,0,0,0,0,0,0,0]
[2,2,null,null,null,null,null,null,null,null,null,0,0,0,0,0,0,0,0,0,0]
[2,2,null,null,null,null,null,null,null,null,null,0,0,0,0,0,0,0,0,0,0]
[2,2,null,null,null,null,null,null,null,null,null,0,0,0,0,0,0,0,0,0,0]
[2,2,null,null,null,null,null,null,null,null,null,0,0,0,0,0,0,0,0,0,0]
[2,2,null,null,null,null,null,null,null,null,null,0,0,0,0,0,0,0,0,0,0]
[2,2,null,null,null,null,null,null,null,null,null,0,0,0,0,0,0,0,0,0,0]
[2,2,null,null,null,null,null,null,null,null,null,0,0,0,0,0,0,0,0,0,0]
[2,2,null,null,null,null,null,null,null,null,null,0,0,0,0,0,0,0,0,0,0]
[2,2,null,null,null,null,null,null,null,null,null,0,0,0,0,0,0,0,0,0,0]
[2,2,null,null,null,null,null,null,null,null,null,0,0,0,0,0,0,0,0,0,0]
[2,2,null,null,null,null,null,null,null,null,null,0,0,0,0,0,0,0,0,0,0]
[2,2,null,null,null,null,null,null,null,null,null,0,0,0,0,0,0,0,0,0,0]
[2,2,null,null,null,null,null,null,null,null,null,0,0,0,0,0,0,0,0,0,{"$f":"SUM(L370:T370)","v":0}]
[2,2,null,null,null,null,null,null,null,null,null,0,0,0,0,0,0,0,0,0,0]
[2,2,null,null,null,null,null,null,null,null,null,0,0,0,0,0,0,0,0,0,0]
[2,2,null,null,null,null,null,null,null,null,null,0,0,0,0,0,0,0,0,0,0]
[2,2,null,null,null,null,null,null,null,null,null,0,0,0,0,0,0,0,0,0,0]
[2,2,null,null,null,null,null,null,null,null,null,0,0,0,0,0,0,0,0,0,0]
[2,2,null,null,null,null,null,null,null,null,null,0,0,0,0,0,0,0,0,0,0]
[2,2,null,null,null,null,null,null,null,null,null,0,0,0,0,0,0,0,0,0,0]
[2,2,null,null,null,null,null,null,null,null,null,0,0,0,0,0,0,0,0,0,0]
[2,2,null,null,null,null,null,null,null,null,null,0,0,0,0,0,0,0,0,0,0]
[2,2,null,null,null,null,null,null,null,null,null,0,0,0,0,0,0,0,0,0,0]
[2,2,null,null,null,null,null,null,null,null,null,0,0,0,0,0,0,0,0,0,0]
[2,2,null,null,null,null,null,null,null,null,null,0,0,0,0,0,0,0,0,0,0]
[2,2,null,null,null,null,null,null,null,null,null,0,0,0,0,0,0,0,0,0,0]
[2,2,null,null,null,null,null,null,null,null,null,0,0,0,0,0,0,0,0,0,0]
[2,2,null,null,null,null,null,null,null,null,null,0,0,0,0,0,0,0,0,0,0]
[2,2,null,null,null,null,null,null,null,null,null,0,0,0,0,0,0,0,0,0,0]
[2,2,null,null,null,null,null,null,null,null,null,0,0,0,0,0,0,0,0,0,0]
[2,2,null,null,null,null,null,null,null,null,null,0,0,0,0,0,0,0,0,0,0]
[2,2,null,null,null,null,null,null,null,null,null,0,0,0,0,0,0,0,0,0,0]
[2,2,null,null,null,null,null,null,null,null,null,0,0,0,0,0,0,0,0,0,0]
[2,2,null,null,null,null,null,null,null,null,null,0,0,0,0,0,0,0,0,0,0]
[2,2,null,null,null,null,null,null,null,null,null,0,0,0,0,0,0,0,0,0,0]
[2,2,null,null,null,null,null,null,null,null,null,0,0,0,0,0,0,0,0,0,0]
[2,2,null,null,null,null,null,null,null,null,null,0,0,0,0,0,0,{"$f":"(I394/8.16)^$M$2","v":0},{"$f":"(J394/8.16)^$M$2","v":0},{"$f":"(K394/8.16)^$M$2","v":0},0]
[2,2,null,null,null,null,null,null,null,null,null,0,0,0,0,0,0,0,0,0,0]
[2,2,null,null,null,null,null,null,null,null,null,0,0,0,0,0,0,0,0,0,0]
[2,2,null,null,null,null,null,null,null,null,null,0,0,0,0,0,0,0,0,0,0]
[2,2,null,null,null,null,null,null,null,null,null,0,0,0,0,0,0,0,0,0,0]
[2,2,null,null,null,null,null,null,null,null,null,0,0,0,0,0,0,0,0,0,0]
[2,2,null,null,null,null,null,null,null,null,null,0,0,0,0,0,0,0,0,0,0]
[2,2,null,null,null,null,null,null,null,null,null,0,0,0,0,0,0,0,0,0,0]
[2,2,null,null,null,null,null,null,null,null,null,0,0,0,0,0,0,0,0,0,0]
[2,2,null,null,null,null,null,null,null,null,null,0,0,0,0,0,0,0,0,0,0]
[2,2,null,null,null,null,null,null,null,null,null,0,0,0,0,0,0,0,0,0,0]
[2,2,null,null,null,null,null,null,null,null,null,0,0,0,0,0,0,0,0,0,0]
[2,2,null,null,null,null,null,null,null,null,null,0,0,0,0,0,0,0,0,0,0]
[2,2,null,null,null,null,null,null,null,null,null,0,0,0,0,0,0,0,0,0,0]
[2,2,null,null,null,null,null,null,null,null,null,0,0,0,0,0,0,0,0,0,0]
[2,2,null,null,null,null,null,null,null,null,null,0,0,0,0,0,0,0,0,0,0]
[2,2,null,null,null,null,null,null,null,null,null,0,0,0,0,0,0,0,0,0,0]
[2,2,null,null,null,null,null,null,null,null,null,0,0,0,0,0,0,0,0,0,0]
[2,2,null,null,null,null,null,null,null,null,null,0,0,0,0,0,0,0,0,0,0]
[2,2,null,null,null,null,null,null,null,null,null,0,0,0,0,0,0,0,0,0,0]
[2,2,null,null,null,null,null,null,null,null,null,0,0,0,{"$f":"(F414/8.16)^$M$2","v":0},{"$f":"(G414/8.16)^$M$2","v":0},{"$f":"(H414/8.16)^$M$2","v":0},0,0,0,0]
[2,2,null,null,null,null,null,null,null,null,null,{"$f":"(C415/8.16)^$M$2","v":0},{"$f":"(D415/8.16)^$M$2","v":0},{"$f":"(E415/8.16)^$M$2","v":0},0,0,0,0,0,0,0]
[2,2,null,null,null,null,null,null,null,null,null,0,0,0,0,0,0,0,0,0,0]
[2,2,null,null,null,null,null,null,null,null,null,0,0,0,0,0,0,0,0,0,0]
[2,2,null,null,null,null,null,null,null,null,null,0,0,0,0,0,0,0,0,0,0]
[2,2,null,null,null,null,null,null,null,null,null,0,0,0,0,0,0,0,0,0,0]
[2,2,null,null,null,null,null,null,null,null,null,0,0,0,0,0,0,0,0,0,0]
[2,2,null,null,null,null,null,null,null,null,null,0,0,0,0,0,0,0,0,0,0]
[2,2,null,null,null,null,null,null,null,null,null,0,0,0,0,0,0,0,0,0,0]
[2,2,null,null,null,null,null,null,null,null,null,0,0,0,0,0,0,0,0,0,0]
[2,2,null,null,null,null,null,null,null,null,null,0,0,0,0,0,0,0,0,0,0]
[2,2,null,null,null,null,null,null,null,null,null,0,0,0,0,0,0,0,0,0,0]
[2,2,null,null,null,null,null,null,null,null,null,0,0,0,0,0,0,0,0,0,0]
[2,2,null,null,null,null,null,null,null,null,null,0,0,0,0,0,0,0,0,0,0]
[2,2,null,null,null,null,null,null,null,null,null,0,0,0,0,0,0,0,0,0,0]
[2,2,null,null,null,null,null,null,null,null,null,0,0,0,0,0,0,0,0,0,0]
[2,2,null,null,null,null,null,null,null,null,null,0,0,0,0,0,0,0,0,0,0]
[2,2,null,null,null,null,null,null,null,null,null,0,0,0,0,0,0,0,0,0,0]
[2,2,null,null,null,null,null,null,null,null,null,0,0,0,0,0,0,0,0,0,0]
[2,2,null,null,null,null,null,null,null,null,null,0,0,0,0,0,0,0,0,0,0]
[2,2,null,null,null,null,null,null,null,null,null,0,0,0,0,0,0,0,0,0,{"$f":"SUM(L434:T434)","v":0}]
[2,2,null,null,null,null,null,null,null,null,null,0,0,0,0,0,0,0,0,0,0]
[2,2,null,null,null,null,null,null,null,null,null,0,0,0,0,0,0,0,0,0,0]
[2,2,null,null,null,null,null,null,null,null,null,0,0,0,0,0,0,0,0,0,0]
[2,2,null,null,null,null,null,null,null,null,null,0,0,0,0,0,0,0,0,0,0]
[2,2,null,null,null,null,null,null,null,null,null,0,0,0,0,0,0,0,0,0,0]
[2,2,null,null,null,null,null,null,null,null,null,0,0,0,0,0,0,0,0,0,0]
[2,2,null,null,null,null,null,null,null,null,null,0,0,0,0,0,0,0,0,0,0]
[2,2,null,null,null,null,null,null,null,null,null,0,0,0,0,0,0,0,0,0,0]
[2,2,null,null,null,null,null,null,null,null,null,0,0,0,0,0,0,0,0,0,0]
[2,2,null,null,null,null,null,null,null,null,null,0,0,0,0,0,0,0,0,0,0]
[2,2,null,null,null,null,null,null,null,null,null,0,0,0,0,0,0,0,0,0,0]
[2,2,null,null,null,null,null,null,null,null,null,0,0,0,0,0,0,0,0,0,0]
[2,2,null,null,null,null,null,null,null,null,null,0,0,0,0,0,0,0,0,0,0]
[2,2,null,null,null,null,null,null,null,null,null,0,0,0,0,0,0,0,0,0,0]
[2,2,null,null,null,null,null,null,null,null,null,0,0,0,0,0,0,0,0,0,0]
[2,2,null,null,null,null,null,null,null,null,null,0,0,0,0,0,0,0,0,0,0]
[2,2,null,null,null,null,null,null,null,null,null,0,0,0,0,0,0,0,0,0,0]
[2,2,null,null,null,null,null,null,null,null,null,0,0,0,0,0,0,0,0,0,0]
[2,2,null,null,null,null,null,null,null,null,null,0,0,0,0,0,0,0,0,0,0]
[2,2,null,null,null,null,null,null,null,null,null,0,0,0,0,0,0,0,0,0,0]
[2,2,null,null,null,null,null,null,null,null,null,0,0,0,0,0,0,0,0,0,0]
[2,2,null,null,null,null,null,null,null,null,null,0,0,0,0,0,0,0,0,0,{"$f":"SUM(L456:T456)","v":0}]
[2,2,null,null,null,null,null,null,null,null,null,0,0,0,0,0,0,0,0,0,0]
[2,2,null,null,null,null,null,null,null,null,null,0,0,0,0,0,0,{"$f":"(I458/8.16)^$M$2","v":0},{"$f":"(J458/8.16)^$M$2","v":0},{"$f":"(K458/8.16)^$M$2","v":0},0]
[2,2,null,null,null,null,null,null,null,null,null,0,0,0,0,0,0,0,0,0,0]
[2,2,null,null,null,null,null,null,null,null,null,0,0,0,0,0,0,0,0,0,0]
[2,2,null,null,null,null,null,null,null,null,null,0,0,0,0,0,0,0,0,0,0]
[2,2,null,null,null,null,null,null,null,null,null,0,0,0,0,0,0,0,0,0,0]
[2,2,null,null,null,null,null,null,null,null,null,0,0,0,0,0,0,0,0,0,0]
[2,2,null,null,null,null,null,null,null,null,null,0,0,0,0,0,0,0,0,0,0]
[2,2,null,null,null,null,null,null,null,null,null,0,0,0,0,0,0,0,0,0,0]
[2,2,null,null,null,null,null,null,null,null,null,0,0,0,0,0,0,0,0,0,0]
[2,2,null,null,null,null,null,null,null,null,null,0,0,0,0,0,0,0,0,0,0]
[2,2,null,null,null,null,null,null,null,null,null,0,0,0,0,0,0,0,0,0,0]
[2,2,null,null,null,null,null,null,null,null,null,0,0,0,0,0,0,0,0,0,0]
[2,2,null,null,null,null,null,null,null,null,null,0,0,0,0,0,0,0,0,0,0]
[2,2,null,null,null,null,null,null,null,null,null,0,0,0,0,0,0,0,0,0,0]
[2,2,null,null,null,null,null,null,null,null,null,0,0,0,0,0,0,0,0,0,0]
[2,2,null,null,null,null,null,null,null,null,null,0,0,0,0,0,0,0,0,0,0]
[2,2,null,null,null,null,null,null,null,null,null,{"$f":"(C474/8.16)^$M$2","v":0},0,0,0,0,0,0,0,0,0]
[2,2,null,null,null,null,null,null,null,null,null,0,0,0,0,0,0,0,0,0,0]
[2,2,null,null,null,null,null,null,null,null,null,0,0,0,0,0,0,0,0,0,0]
[2,2,null,null,null,null,null,null,null,null,null,0,0,0,0,0,0,0,0,0,0]
[2,2,null,null,null,null,null,null,null,null,null,0,0,0,0,0,0,0,0,0,0]
[2,2,null,null,null,null,null,null,null,null,null,0,0,0,0,0,0,0,0,0,0]
[2,2,null,null,null,null,null,null,null,null,null,0,0,0,0,0,0,0,0,0,0]
[2,2,null,null,null,null,null,null,null,null,null,0,0,0,0,0,0,0,0,0,0]
[2,2,null,null,null,null,null,null,null,null,null,0,0,0,0,0,0,0,0,0,0]
[2,2,null,null,null,null,null,null,null,null,null,0,0,0,0,0,0,0,0,0,0]
[2,2,null,null,null,null,null,null,null,null,null,0,0,0,0,0,0,0,0,0,0]
[2,2,null,null,null,null,null,null,null,null,null,0,0,0,0,0,0,0,0,0,0]
[2,2,null,null,null,null,null,null,null,null,null,0,0,0,0,0,0,0,0,0,0]
[2,2,null,null,null,null,null,null,null,null,null,0,0,0,0,0,0,0,0,0,0]
[2,2,null,null,null,null,null,null,null,null,null,0,0,0,0,0,0,0,0,0,0]
[2,2,null,null,null,null,null,null,null,null,null,0,0,0,0,0,0,0,0,0,0]
[2,2,null,null,null,null,null,null,null,null,null,0,0,0,0,0,0,0,0,0,0]
[2,2,null,null,null,null,null,null,null,null,null,0,0,0,0,0,0,0,0,0,0]
[2,2,null,null,null,null,null,null,null,null,null,0,0,0,0,0,0,0,0,0,0]
[2,2,null,null,null,null,null,null,null,null,null,0,0,0,0,0,0,0,0,0,0]
[2,2,null,null,null,null,null,null,null,null,null,0,0,0,0,0,0,0,0,0,0]
[2,2,null,null,null,null,null,null,null,null,null,0,0,0,0,0,0,0,0,0,0]
[2,2,null,null,null,null,null,null,null,null,null,0,0,0,0,0,0,0,0,0,0]
[2,2,null,null,null,null,null,null,null,null,null,0,0,0,0,0,0,0,0,0,0]
[2,2,null,null,null,null,null,null,null,null,null,0,0,0,0,0,0,0,0,0,0]
[2,2,null,null,null,null,null,null,null,null,null,0,0,0,0,0,0,0,0,0,0]
[2,2,null,null,null,null,null,null,null,null,null,0,0,0,0,0,0,0,0,0,0]
[2,2,null,null,null,null,null,null,null,null,null,0,0,0,0,0,0,0,0,0,0]
[2,2,null,null,null,null,null,null,null,null,null,0,0,0,{"$f":"(F502/8.16)^$M$2","v":0},{"$f":"(G502/8.16)^$M$2","v":0},{"$f":"(H502/8.16)^$M$2","v":0},{"$f":"(I502/8.16)^$M$2","v":0},{"$f":"(J502/8.16)^$M$2","v":0},{"$f":"(K502/8.16)^$M$2","v":0},0]
[2,2,null,null,null,null,null,null,null,null,null,{"$f":"(C503/8.16)^$M$2","v":0},0,0,0,0,0,0,0,0,0]
[2,2,null,null,null,null,null,null,null,null,null,0,0,0,0,0,0,0,0,0,0]
[2,2,null,null,null,null,null,null,null,null,null,0,0,0,0,0,0,0,0,0,0]
[2,2,null,null,null,null,null,null,null,null,null,0,0,0,0,0,0,0,0,0,0]
[2,2,null,null,null,null,null,null,null,null,null,0,0,0,0,0,0,0,0,0,0]
[2,2,null,null,null,null,null,null,null,null,null,0,0,0,0,0,0,0,0,0,0]
[2,2,null,null,null,null,null,null,null,null,null,0,0,0,0,0,0,0,0,0,0]
[2,2,null,null,null,null,null,null,null,null,null,0,0,0,0,0,0,0,0,0,0]
[2,2,null,null,null,null,null,null,null,null,null,0,0,0,0,0,0,0,0,0,0]
[2,2,null,null,null,null,null,null,null,null,null,0,0,0,0,0,0,0,0,0,0]
[2,2,null,null,null,null,null,null,null,null,null,0,0,0,0,0,0,0,0,0,0]
[2,2,null,null,null,null,null,null,null,null,null,0,0,0,0,0,0,0,0,0,0]
[2,2,null,null,null,null,null,null,null,null,null,0,0,0,0,0,0,0,0,0,0]
[2,2,null,null,null,null,null,null,null,null,null,0,0,0,0,0,0,0,0,0,0]
[2,2,null,null,null,null,null,null,null,null,null,0,0,0,0,0,0,0,0,0,0]
[2,2,null,null,null,null,null,null,null,null,null,0,0,0,0,0,0,0,0,0,0]
[2,2,null,null,null,null,null,null,null,null,null,0,0,0,0,0,0,0,0,0,0]
[2,2,null,null,null,null,null,null,null,null,null,0,0,0,0,0,0,0,0,0,{"$f":"SUM(L520:T520)","v":0}]
[2,2,null,null,null,null,null,null,null,null,null,0,0,0,0,0,0,0,0,0,0]
[2,2,null,null,null,null,null,null,null,null,null,0,0,0,0,0,0,0,0,0,0]
[2,2,null,null,null,null,null,null,null,null,null,0,0,0,0,0,0,0,0,0,0]
[2,2,null,null,null,null,null,null,null,null,null,0,0,0,0,0,0,0,0,0,0]
[2,2,null,null,null,null,null,null,null,null,null,0,0,0,0,0,0,0,0,0,0]
[2,2,null,null,null,null,null,null,null,null,null,0,0,0,0,0,0,0,0,0,0]
[2,2,null,null,null,null,null,null,null,null,null,0,0,0,0,0,0,0,0,0,0]
[2,2,null,null,null,null,null,null,null,null,null,0,0,0,0,0,0,0,0,0,0]
[2,2,null,null,null,null,null,null,null,null,null,0,0,0,0,0,0,0,0,0,0]
[2,2,null,null,null,null,null,null,null,null,null,0,0,0,0,0,0,0,0,0,0]
[2,2,null,null,null,null,null,null,null,null,null,0,0,0,0,0,0,0,0,0,0]
[2,2,null,null,null,null,null,null,null,null,null,0,0,0,0,0,0,0,0,0,0]
[2,2,null,null,null,null,null,null,null,null,null,0,0,0,0,0,0,0,0,0,0]
[2,2,null,null,null,null,null,null,null,null,null,0,0,0,0,0,0,0,0,0,0]
[2,2,null,null,null,null,null,null,null,null,null,0,0,0,0,0,0,0,0,0,0]
[2,2,null,null,null,null,null,null,null,null,null,0,0,0,0,0,0,0,0,0,0]
[2,2,null,null,null,null,null,null,null,null,null,0,0,0,0,0,0,0,0,0,0]
[2,2,null,null,null,null,null,null,null,null,null,0,0,0,0,0,0,0,0,0,0]
[2,2,null,null,null,null,null,null,null,null,null,0,0,0,0,0,0,0,0,0,0]
[2,2,null,null,null,null,null,null,null,null,null,0,0,0,0,0,0,0,0,0,0]
[2,2,null,null,null,null,null,null,null,null,null,0,0,0,0,0,0,0,0,0,0]
[2,2,null,null,null,null,null,null,null,null,null,0,0,0,0,0,0,0,0,0,0]
[2,2,null,null,null,null,null,null,null,null,null,0,0,0,0,0,0,0,0,0,0]
[2,2,null,null,null,null,null,null,null,null,null,0,0,0,0,0,0,0,0,0,0]
[2,2,null,null,null,null,null,null,null,null,null,0,0,0,0,0,0,0,0,0,0]
[2,2,null,null,null,null,null,null,null,null,null,0,0,0,0,0,0,0,0,0,0]
[2,2,null,null,null,null,null,null,null,null,null,0,0,0,0,0,0,0,0,0,0]
[2,2,null,null,null,null,null,null,null,null,null,0,0,0,0,0,0,0,0,0,0]
[2,2,null,null,null,null,null,null,null,null,null,0,0,0,0,0,0,0,0,0,0]
[2,2,null,null,null,null,null,null,null,null,null,0,0,0,0,0,0,0,0,0,0]
[2,2,null,null,null,null,null,null,null,null,null,0,0,0,0,0,0,0,0,0,0]
[2,2,null,null,null,null,null,null,null,null,null,0,0,0,0,0,0,0,0,0,0]
[2,2,null,null,null,null,null,null,null,null,null,0,0,0,0,0,0,0,0,0,0]
[2,2,null,null,null,null,null,null,null,null,null,0,0,0,0,0,0,0,0,0,0]
[2,2,null,null,null,null,null,null,null,null,null,0,0,0,0,0,0,0,0,0,0]
[2,2,null,null,null,null,null,null,null,null,null,0,0,0,0,0,0,0,0,0,0]
[2,2,null,null,null,null,null,null,null,null,null,0,0,0,0,0,0,0,0,0,0]
[2,2,null,null,null,null,null,null,null,null,null,0,0,0,0,0,0,0,0,0,0]
[2,2,null,null,null,null,null,null,null,null,null,0,0,0,0,0,0,0,0,0,0]
[2,2,null,null,null,null,null,null,null,null,null,0,0,0,0,0,0,0,0,0,0]
[2,2,null,null,null,null,null,null,null,null,null,0,0,0,0,0,0,0,0,0,0]
[2,2,null,null,null,null,null,null,null,null,null,0,0,0,0,0,0,0,0,0,0]
[2,2,null,null,null,null,null,null,null,null,null,0,0,0,0,0,0,0,0,0,0]
[2,2,null,null,null,null,null,null,null,null,null,0,0,0,0,0,0,0,0,0,0]
[2,2,null,null,null,null,null,null,null,null,null,{"$f":"(C565/8.16)^$M$2","v":0},{"$f":"(D565/8.16)^$M$2","v":0},{"$f":"(E565/8.16)^$M$2","v":0},{"$f":"(F565/8.16)^$M$2","v":0},{"$f":"(G565/8.16)^$M$2","v":0},{"$f":"(H565/8.16)^$M$2","v":0},0,0,0,0]
[2,2,null,null,null,null,null,null,null,null,null,0,0,0,0,0,0,{"$f":"(I566/8.16)^$M$2","v":0},{"$f":"(J566/8.16)^$M$2","v":0},{"$f":"(K566/8.16)^$M$2","v":0},0]
[2,2,null,null,null,null,null,null,null,null,null,0,0,0,0,0,0,0,0,0,0]
[2,2,null,null,null,null,null,null,null,null,null,0,0,0,0,0,0,0,0,0,0]
[2,2,null,null,null,null,null,null,null,null,null,0,0,0,0,0,0,0,0,0,0]
[2,2,null,null,null,null,null,null,null,null,null,0,0,0,0,0,0,0,0,0,0]
[2,2,null,null,null,null,null,null,null,null,null,0,0,0,0,0,0,0,0,0,0]
[2,2,null,null,null,null,null,null,null,null,null,0,0,0,0,0,0,0,0,0,0]
[2,2,null,null,null,null,null,null,null,null,null,0,0,0,0,0,0,0,0,0,0]
[2,2,null,null,null,null,null,null,null,null,null,0,0,0,0,0,0,0,0,0,0]
[2,2,null,null,null,null,null,null,null,null,null,0,0,0,0,0,0,0,0,0,0]
[2,2,null,null,null,null,null,null,null,null,null,0,0,0,0,0,0,0,0,0,0]
[2,2,null,null,null,null,null,null,null,null,null,0,0,0,0,0,0,0,0,0,0]
[2,2,null,null,null,null,null,null,null,null,null,0,0,0,0,0,0,0,0,0,0]
[2,2,null,null,null,null,null,null,null,null,null,0,0,0,0,0,0,0,0,0,0]
[2,2,null,null,null,null,null,null,null,null,null,0,0,0,0,0,0,0,0,0,0]
[2,2,null,null,null,null,null,null,null,null,null,0,0,0,0,0,0,0,0,0,0]
[2,2,null,null,null,null,null,null,null,null,null,0,0,0,0,0,0,0,0,0,0]
[2,2,null,null,null,null,null,null,null,null,null,0,0,0,0,0,0,0,0,0,0]
[2,2,null,null,null,null,null,null,null,null,null,0,0,0,0,0,0,0,0,0,{"$f":"SUM(L584:T584)","v":0}]
[2,2,null,null,null,null,null,null,null,null,null,0,0,0,0,0,0,0,0,0,0]
[2,2,null,null,null,null,null,null,null,null,null,0,0,0,0,0,0,0,0,0,0]
[2,2,null,null,null,null,null,null,null,null,null,0,0,0,0,0,0,0,0,0,0]
[2,2,null,null,null,null,null,null,null,null,null,0,0,0,0,0,0,0,0,0,0]
[2,2,null,null,null,null,null,null,null,null,null,0,0,0,0,0,0,0,0,0,0]
[2,2,null,null,null,null,null,null,null,null,null,0,0,0,0,0,0,0,0,0,0]
[2,2,null,null,null,null,null,null,null,null,null,0,0,0,0,0,0,0,0,0,0]
[2,2,null,null,null,null,null,null,null,null,null,0,0,0,0,0,0,0,0,0,0]
[2,2,null,null,null,null,null,null,null,null,null,0,0,0,0,0,0,0,0,0,0]
[2,2,null,null,null,null,null,null,null,null,null,0,0,0,0,0,0,0,0,0,0]
[2,2,null,null,null,null,null,null,null,null,null,0,0,0,0,0,0,0,0,0,0]
[2,2,null,null,null,null,null,null,null,null,null,0,0,0,0,0,0,0,0,0,0]
[2,2,null,null,null,null,null,null,null,null,null,0,0,0,0,0,0,0,0,0,0]
[2,2,null,null,null,null,null,null,null,null,null,0,0,0,0,0,0,0,0,0,0]
[2,2,null,null,null,null,null,null,null,null,null,0,0,0,0,0,0,0,0,0,0]
[2,2,null,null,null,null,null,null,null,null,null,0,0,0,0,0,0,0,0,0,0]
[2,2,null,null,null,null,null,null,null,null,null,0,0,0,0,0,0,0,0,0,0]
[2,2,null,null,null,null,null,null,null,null,null,0,0,0,0,0,0,0,0,0,0]
[2,2,null,null,null,null,null,null,null,null,null,0,0,0,0,0,0,0,0,0,0]
[2,2,null,null,null,null,null,null,null,null,null,0,0,0,0,0,0,0,0,0,0]
[2,2,null,null,null,null,null,null,null,null,null,0,0,0,0,0,0,0,0,0,0]
[2,2,null,null,null,null,null,null,null,null,null,0,0,0,0,0,0,0,0,0,{"$f":"SUM(L606:T606)","v":0}]
[2,2,null,null,null,null,null,null,null,null,null,0,0,0,0,0,0,0,0,0,0]
[2,2,null,null,null,null,null,null,null,null,null,0,0,0,0,0,0,0,0,0,0]
[2,2,null,null,null,null,null,null,null,null,null,0,0,0,0,0,0,0,0,0,0]
[2,2,null,null,null,null,null,null,null,null,null,0,0,0,0,0,0,0,0,0,0]
[2,2,null,null,null,null,null,null,null,null,null,0,0,0,0,0,0,0,0,0,0]
[2,2,null,null,null,null,null,null,null,null,null,0,0,0,0,0,0,0,0,0,0]
[2,2,null,null,null,null,null,null,null,null,null,0,0,0,0,0,0,0,0,0,0]
[2,2,null,null,null,null,null,null,null,null,null,0,0,0,0,0,0,0,0,0,0]
[2,2,null,null,null,null,null,null,null,null,null,0,0,0,0,0,0,0,0,0,0]
[2,2,null,null,null,null,null,null,null,null,null,0,0,0,0,0,0,0,0,0,0]
[2,2,null,null,null,null,null,null,null,null,null,0,0,0,0,0,0,0,0,0,0]
[2,2,null,null,null,null,null,null,null,null,null,0,0,0,0,0,0,0,0,0,0]
[2,2,null,null,null,null,null,null,null,null,null,0,0,0,0,0,0,0,0,0,0]
[2,2,null,null,null,null,null,null,null,null,null,0,0,0,0,0,0,0,0,0,0]
[2,2,null,null,null,null,null,null,null,null,null,0,0,0,0,0,0,0,0,0,0]
[2,2,null,null,null,null,null,null,null,null,null,0,0,0,0,0,0,0,0,0,0]
[2,2,null,null,null,null,null,null,null,null,null,0,0,0,0,0,0,0,0,0,0]
[2,2,null,null,null,null,null,null,null,null,null,0,0,0,0,0,0,0,0,0,0]
[2,2,null,null,null,null,null,null,null,null,null,{"$f":"(C625/8.16)^$M$2","v":0},0,0,0,0,0,0,0,0,0]
[2,2,null,null,null,null,null,null,null,null,null,0,0,0,0,0,0,0,0,0,0]
[2,2,null,null,null,null,null,null,null,null,null,0,0,0,0,0,0,0,0,0,0]
[2,2,null,null,null,null,null,null,null,null,null,0,0,0,0,0,0,0,0,0,0]
[2,2,null,null,null,null,null,null,null,null,null,0,0,0,0,0,0,0,0,0,0]
[2,2,null,null,null,null,null,null,null,null,null,0,0,0,0,0,0,0,0,0,0]
[2,2,null,null,null,null,null,null,null,null,null,0,0,0,0,0,0,0,0,0,0]
[2,2,null,null,null,null,null,null,null,null,null,0,0,0,0,0,0,0,0,0,0]
[2,2,null,null,null,null,null,null,null,null,null,0,0,0,0,0,0,0,0,0,0]
[2,2,null,null,null,null,null,null,null,null,null,0,0,0,0,0,0,0,0,0,0]
[2,2,null,null,null,null,null,null,null,null,null,0,0,0,0,0,0,0,0,0,0]
[2,2,null,null,null,null,null,null,null,null,null,0,0,0,0,0,0,0,0,0,0]
[2,2,null,null,null,null,null,null,null,null,null,0,0,0,0,0,0,0,0,0,0]
[2,2,null,null,null,null,null,null,null,null,null,0,0,0,0,0,0,0,0,0,0]
[2,2,null,null,null,null,null,null,null,null,null,0,0,0,0,0,0,0,0,0,0]
[2,2,null,null,null,null,null,null,null,null,null,0,0,0,0,0,0,0,0,0,0]
[2,2,null,null,null,null,null,null,null,null,null,0,0,0,0,0,0,0,0,0,0]
[2,2,null,null,null,null,null,null,null,null,null,0,0,0,0,0,0,0,0,0,0]
[2,2,null,null,null,null,null,null,null,null,null,0,0,0,0,0,0,0,0,0,0]
[2,2,null,null,null,null,null,null,null,null,null,0,0,0,0,0,0,0,0,0,0]
[2,2,null,null,null,null,null,null,null,null,null,0,0,0,0,0,0,0,0,0,0]
[2,2,null,null,null,null,null,null,null,null,null,0,0,0,0,0,0,0,0,0,0]
[2,2,null,null,null,null,null,null,null,null,null,0,0,0,0,0,0,0,0,0,0]
[2,2,null,null,null,null,null,null,null,null,null,0,0,0,0,0,0,0,0,0,0]
[2,2,null,null,null,null,null,null,null,null,null,0,0,0,0,0,0,0,0,0,0]
[2,2,null,null,null,null,null,null,null,null,null,0,0,0,0,0,0,0,0,0,0]
[2,2,null,null,null,null,null,null,null,null,null,0,0,0,0,0,0,0,0,0,0]
[2,2,null,null,null,null,null,null,null,null,null,0,0,0,0,0,0,0,0,0,0]
[2,2,null,null,null,null,null,null,null,null,null,0,0,0,{"$f":"(F653/8.16)^$M$2","v":0},{"$f":"(G653/8.16)^$M$2","v":0},{"$f":"(H653/8.16)^$M$2","v":0},{"$f":"(I653/8.16)^$M$2","v":0},{"$f":"(J653/8.16)^$M$2","v":0},{"$f":"(K653/8.16)^$M$2","v":0},0]
[2,2,null,null,null,null,null,null,null,null,null,{"$f":"(C654/8.16)^$M$2","v":0},0,0,0,0,0,0,0,0,0]
[2,2,null,null,null,null,null,null,null,null,null,0,0,0,0,0,0,0,0,0,0]
[2,2,null,null,null,null,null,null,null,null,null,0,0,0,0,0,0,0,0,0,0]
[2,2,null,null,null,null,null,null,null,null,null,0,0,0,0,0,0,0,0,0,0]
[2,2,null,null,null,null,null,null,null,null,null,0,0,0,0,0,0,0,0,0,0]
[2,2,null,null,null,null,null,null,null,null,null,0,0,0,0,0,0,0,0,0,0]
[2,2,null,null,null,null,null,null,null,null,null,0,0,0,0,0,0,0,0,0,0]
[2,2,null,null,null,null,null,null,null,null,null,0,0,0,0,0,0,0,0,0,0]
[2,2,null,null,null,null,null,null,null,null,null,0,0,0,0,0,0,0,0,0,0]
[2,2,null,null,null,null,null,null,null,null,null,0,0,0,0,0,0,0,0,0,0]
[2,2,null,null,null,null,null,null,null,null,null,0,0,0,0,0,0,0,0,0,0]
[2,2,null,null,null,null,null,null,null,null,null,0,0,0,0,0,0,0,0,0,0]
[2,2,null,null,null,null,null,null,null,null,null,0,0,0,0,0,0,0,0,0,0]
[2,2,null,null,null,null,null,null,null,null,null,0,0,0,0,0,0,0,0,0,0]
[2,2,null,null,null,null,null,null,null,null,null,0,0,0,0,0,0,0,0,0,0]
[2,2,null,null,null,null,null,null,null,null,null,0,0,0,0,0,0,0,0,0,0]
[2,2,null,null,null,null,null,null,null,null,null,0,0,0,0,0,0,0,0,0,{"$f":"SUM(L670:T670)","v":0}]
[2,2,null,null,null,null,null,null,null,null,null,0,0,0,0,0,0,0,0,0,0]
[2,2,null,null,null,null,null,null,null,null,null,0,0,0,0,0,0,0,0,0,0]
[2,2,null,null,null,null,null,null,null,null,null,0,0,0,0,0,0,0,0,0,0]
[2,2,null,null,null,null,null,null,null,null,null,0,0,0,0,0,0,0,0,0,0]
[2,2,null,null,null,null,null,null,null,null,null,0,0,0,0,0,0,0,0,0,0]
[2,2,null,null,null,null,null,null,null,null,null,0,0,0,0,0,0,0,0,0,0]
[2,2,null,null,null,null,null,null,null,null,null,0,0,0,0,0,0,0,0,0,0]
[2,2,null,null,null,null,null,null,null,null,null,0,0,0,0,0,0,0,0,0,0]
[2,2,null,null,null,null,null,null,null,null,null,0,0,0,0,0,0,0,0,0,0]
[2,2,null,null,null,null,null,null,null,null,null,0,0,0,0,0,0,0,0,0,0]
[2,2,null,null,null,null,null,null,null,null,null,0,0,0,0,0,0,0,0,0,0]
[2,2,null,null,null,null,null,null,null,null,null,0,0,0,0,0,0,0,0,0,0]
[2,2,null,null,null,null,null,null,null,null,null,0,0,0,0,0,0,0,0,0,0]
[2,2,null,null,null,null,null,null,null,null,null,0,0,0,0,0,0,0,0,0,0]
[2,2,null,null,null,null,null,null,null,null,null,0,0,0,0,0,0,0,0,0,0]
[2,2,null,null,null,null,null,null,null,null,null,0,0,0,0,0,0,0,0,0,0]
[2,2,null,null,null,null,null,null,null,null,null,0,0,0,0,0,0,0,0,0,0]
[2,2,null,null,null,null,null,null,null,null,null,0,0,0,0,0,0,0,0,0,0]
[2,2,null,null,null,null,null,null,null,null,null,0,0,0,0,0,0,0,0,0,0]
[2,2,null,null,null,null,null,null,null,null,null,0,0,0,0,0,0,0,0,0,0]
[2,2,null,null,null,null,null,null,null,null,null,0,0,0,0,0,0,0,0,0,0]
[2,2,null,null,null,null,null,null,null,null,null,0,0,0,0,0,0,0,0,0,0]
[2,2,null,null,null,null,null,null,null,null,null,0,0,0,0,0,0,0,0,0,0]
[2,2,null,null,null,null,null,null,null,null,null,0,0,0,0,0,0,0,0,0,0]
[2,2,null,null,null,null,null,null,null,null,null,0,0,0,0,0,0,0,0,0,0]
[2,2,null,null,null,null,null,null,null,null,null,0,0,0,0,0,0,0,0,0,0]
[2,2,null,null,null,null,null,null,null,null,null,0,0,0,0,0,0,0,0,0,0]
[2,2,null,null,null,null,null,null,null,null,null,0,0,0,0,0,0,0,0,0,0]
[2,2,null,null,null,null,null,null,null,null,null,0,0,0,0,0,0,0,0,0,0]
[2,2,null,null,null,null,null,null,null,null,null,0,0,0,0,0,0,0,0,0,0]
[2,2,null,null,null,null,null,null,null,null,null,0,0,0,0,0,0,0,0,0,0]
[2,2,null,null,null,null,null,null,null,null,null,0,0,0,0,0,0,0,0,0,0]
[2,2,null,null,null,null,null,null,null,null,null,0,0,0,0,0,0,0,0,0,0]
[2,2,null,null,null,null,null,null,null,null,null,0,0,0,0,0,0,0,0,0,0]
[2,2,null,null,null,null,null,null,null,null,null,0,0,0,0,0,0,0,0,0,0]
[2,2,null,null,null,null,null,null,null,null,null,0,0,0,0,0,0,0,0,0,0]
[2,2,null,null,null,null,null,null,null,null,null,0,0,0,0,0,0,0,0,0,0]
[2,2,null,null,null,null,null,null,null,null,null,0,0,0,0,0,0,0,0,0,0]
[2,2,null,null,null,null,null,null,null,null,null,0,0,0,0,0,0,0,0,0,0]
[2,2,null,null,null,null,null,null,null,null,null,0,0,0,0,0,0,0,0,0,0]
[2,2,null,null,null,null,null,null,null,null,null,0,0,0,0,0,0,0,0,0,0]
[2,2,null,null,null,null,null,null,null,null,null,0,0,0,0,0,0,0,0,0,0]
[2,2,null,null,null,null,null,null,null,null,null,0,0,0,0,0,0,0,0,0,0]
[2,2,null,null,null,null,null,null,null,null,null,0,0,0,0,0,0,0,0,0,0]
[2,2,null,null,null,null,null,null,null,null,null,0,0,0,{"$f":"(F715/8.16)^$M$2","v":0},{"$f":"(G715/8.16)^$M$2","v":0},{"$f":"(H715/8.16)^$M$2","v":0},0,0,0,0]
[2,2,null,null,null,null,null,null,null,null,null,{"$f":"(C716/8.16)^$M$2","v":0},{"$f":"(D716/8.16)^$M$2","v":0},{"$f":"(E716/8.16)^$M$2","v":0},0,0,0,0,0,0,0]
[2,2,null,null,null,null,null,null,null,null,null,0,0,0,0,0,0,{"$f":"(I717/8.16)^$M$2","v":0},{"$f":"(J717/8.16)^$M$2","v":0},{"$f":"(K717/8.16)^$M$2","v":0},0]
[2,2,null,null,null,null,null,null,null,null,null,0,0,0,0,0,0,0,0,0,0]
[2,2,null,null,null,null,null,null,null,null,null,0,0,0,0,0,0,0,0,0,0]
[2,2,null,null,null,null,null,null,null,null,null,0,0,0,0,0,0,0,0,0,0]
[2,2,null,null,null,null,null,null,null,null,null,0,0,0,0,0,0,0,0,0,0]
[2,2,null,null,null,null,null,null,null,null,null,0,0,0,0,0,0,0,0,0,0]
[2,2,null,null,null,null,null,null,null,null,null,0,0,0,0,0,0,0,0,0,0]
[2,2,null,null,null,null,null,null,null,null,null,0,0,0,0,0,0,0,0,0,0]
[2,2,null,null,null,null,null,null,null,null,null,0,0,0,0,0,0,0,0,0,0]
[2,2,null,null,null,null,null,null,null,null,null,0,0,0,0,0,0,0,0,0,0]
[2,2,null,null,null,null,null,null,null,null,null,0,0,0,0,0,0,0,0,0,0]
[2,2,null,null,null,null,null,null,null,null,null,0,0,0,0,0,0,0,0,0,0]
[2,2,null,null,null,null,null,null,null,null,null,0,0,0,0,0,0,0,0,0,0]
[2,2,null,null,null,null,null,null,null,null,null,0,0,0,0,0,0,0,0,0,0]
[2,2,null,null,null,null,null,null,null,null,null,0,0,0,0,0,0,0,0,0,0]
[2,2,null,null,null,null,null,null,null,null,null,0,0,0,0,0,0,0,0,0,0]
[2,2,null,null,null,null,null,null,null,null,null,0,0,0,0,0,0,0,0,0,0]
[2,2,null,null,null,null,null,null,null,null,null,0,0,0,0,0,0,0,0,0,{"$f":"SUM(L734:T734)","v":0}]
[2,2,null,null,null,null,null,null,null,null,null,0,0,0,0,0,0,0,0,0,0]
[2,2,null,null,null,null,null,null,null,null,null,0,0,0,0,0,0,0,0,0,0]
[2,2,null,null,null,null,null,null,null,null,null,0,0,0,0,0,0,0,0,0,0]
[2,2,null,null,null,null,null,null,null,null,null,0,0,0,0,0,0,0,0,0,0]
[2,2,null,null,null,null,null,null,null,null,null,0,0,0,0,0,0,0,0,0,0]
[2,2,null,null,null,null,null,null,null,null,null,0,0,0,0,0,0,0,0,0,0]
[2,2,null,null,null,null,null,null,null,null,null,0,0,0,0,0,0,0,0,0,0]
[2,2,null,null,null,null,null,null,null,null,null,0,0,0,0,0,0,0,0,0,0]
[2,2,null,null,null,null,null,null,null,null,null,0,0,0,0,0,0,0,0,0,0]
[2,2,null,null,null,null,null,null,null,null,null,0,0,0,0,0,0,0,0,0,0]
[2,2,null,null,null,null,null,null,null,null,null,0,0,0,0,0,0,0,0,0,0]
[2,2,null,null,null,null,null,null,null,null,null,0,0,0,0,0,0,0,0,0,0]
[2,2,null,null,null,null,null,null,null,null,null,0,0,0,0,0,0,0,0,0,0]
[2,2,null,null,null,null,null,null,null,null,null,0,0,0,0,0,0,0,0,0,0]
[2,2,null,null,null,null,null,null,null,null,null,0,0,0,0,0,0,0,0,0,0]
[2,2,null,null,null,null,null,null,null,null,null,0,0,0,0,0,0,0,0,0,0]
[2,2,null,null,null,null,null,null,null,null,null,0,0,0,0,0,0,0,0,0,0]
[2,2,null,null,null,null,null,null,null,null,null,0,0,0,0,0,0,0,0,0,0]
[2,2,null,null,null,null,null,null,null,null,null,0,0,0,0,0,0,0,0,0,0]
[2,2,null,null,null,null,null,null,null,null,null,0,0,0,0,0,0,0,0,0,0]
[2,2,null,null,null,null,null,null,null,null,null,0,0,0,0,0,0,0,0,0,0]
[2,2,null,null,null,null,null,null,null,null,null,0,0,0,0,0,0,0,0,0,{"$f":"SUM(L756:T756)","v":0}]
[2,2,null,null,null,null,null,null,null,null,null,0,0,0,0,0,0,0,0,0,0]
[2,2,null,null,null,null,null,null,null,null,null,0,0,0,0,0,0,0,0,0,0]
[2,2,null,null,null,null,null,null,null,null,null,0,0,0,0,0,0,0,0,0,0]
[2,2,null,null,null,null,null,null,null,null,null,0,0,0,0,0,0,0,0,0,0]
[2,2,null,null,null,null,null,null,null,null,null,0,0,0,0,0,0,0,0,0,0]
[2,2,null,null,null,null,null,null,null,null,null,0,0,0,0,0,0,0,0,0,0]
[2,2,null,null,null,null,null,null,null,null,null,0,0,0,0,0,0,0,0,0,0]
[2,2,null,null,null,null,null,null,null,null,null,0,0,0,0,0,0,0,0,0,0]
[2,2,null,null,null,null,null,null,null,null,null,0,0,0,0,0,0,0,0,0,0]
[2,2,null,null,null,null,null,null,null,null,null,0,0,0,0,0,0,0,0,0,0]
[2,2,null,null,null,null,null,null,null,null,null,0,0,0,0,0,0,0,0,0,0]
[2,2,null,null,null,null,null,null,null,null,null,0,0,0,0,0,0,0,0,0,0]
[2,2,null,null,null,null,null,null,null,null,null,0,0,0,0,0,0,0,0,0,0]
[2,2,null,null,null,null,null,null,null,null,null,0,0,0,0,0,0,0,0,0,0]
[2,2,null,null,null,null,null,null,null,null,null,0,0,0,0,0,0,0,0,0,0]
[2,2,null,null,null,null,null,null,null,null,null,0,0,0,0,0,0,0,0,0,0]
[2,2,null,null,null,null,null,null,null,null,null,0,0,0,0,0,0,0,0,0,0]
[2,2,null,null,null,null,null,null,null,null,null,0,0,0,0,0,0,0,0,0,0]
[2,2,null,null,null,null,null,null,null,null,null,0,0,0,0,0,0,0,0,0,0]
[2,2,null,null,null,null,null,null,null,null,null,{"$f":"(C776/8.16)^$M$2","v":0},0,0,0,0,0,0,0,0,0]
[2,2,null,null,null,null,null,null,null,null,null,0,0,0,0,0,0,0,0,0,0]
[2,2,null,null,null,null,null,null,null,null,null,0,0,0,0,0,0,0,0,0,0]
[2,2,null,null,null,null,null,null,null,null,null,0,0,0,0,0,0,0,0,0,0]
[2,2,null,null,null,null,null,null,null,null,null,0,0,0,0,0,0,0,0,0,0]
[2,2,null,null,null,null,null,null,null,null,null,0,0,0,0,0,0,0,0,0,0]
[2,2,null,null,null,null,null,null,null,null,null,0,0,0,0,0,0,0,0,0,0]
[2,2,null,null,null,null,null,null,null,null,null,0,0,0,0,0,0,0,0,0,0]
[2,2,null,null,null,null,null,null,null,null,null,0,0,0,0,0,0,0,0,0,0]
[2,2,null,null,null,null,null,null,null,null,null,0,0,0,0,0,0,0,0,0,0]
[2,2,null,null,null,null,null,null,null,null,null,0,0,0,0,0,0,0,0,0,0]
[2,2,null,null,null,null,null,null,null,null,null,0,0,0,0,0,0,0,0,0,0]
[2,2,null,null,null,null,null,null,null,null,null,0,0,0,0,0,0,0,0,0,0]
[2,2,null,null,null,null,null,null,null,null,null,0,0,0,0,0,0,0,0,0,0]
[2,2,null,null,null,null,null,null,null,null,null,0,0,0,0,0,0,0,0,0,0]
[2,2,null,null,null,null,null,null,null,null,null,0,0,0,0,0,0,0,0,0,0]
[2,2,null,null,null,null,null,null,null,null,null,0,0,0,0,0,0,0,0,0,0]
[2,2,null,null,null,null,null,null,null,null,null,0,0,0,0,0,0,0,0,0,0]
[2,2,null,null,null,null,null,null,null,null,null,0,0,0,0,0,0,0,0,0,0]
[2,2,null,null,null,null,null,null,null,null,null,0,0,0,0,0,0,0,0,0,0]
[2,2,null,null,null,null,null,null,null,null,null,0,0,0,0,0,0,0,0,0,0]
[2,2,null,null,null,null,null,null,null,null,null,0,0,0,0,0,0,0,0,0,0]
[2,2,null,null,null,null,null,null,null,null,null,0,0,0,0,0,0,0,0,0,0]
[2,2,null,null,null,null,null,null,null,null,null,0,0,0,0,0,0,0,0,0,0]
[2,2,null,null,null,null,null,null,null,null,null,0,0,0,0,0,0,0,0,0,0]
[2,2,null,null,null,null,null,null,null,null,null,0,0,0,0,0,0,0,0,0,0]
[2,2,null,null,null,null,null,null,null,null,null,0,0,0,0,0,0,0,0,0,0]
[2,2,null,null,null,null,null,null,null,null,null,0,0,0,0,0,0,0,0,0,0]
[2,2,null,null,null,null,null,null,null,null,null,0,0,0,{"$f":"(F804/8.16)^$M$2","v":0},{"$f":"(G804/8.16)^$M$2","v":0},{"$f":"(H804/8.16)^$M$2","v":0},{"$f":"(I804/8.16)^$M$2","v":0},{"$f":"(J804/8.16)^$M$2","v":0},{"$f":"(K804/8.16)^$M$2","v":0},0]
[2,2,null,null,null,null,null,null,null,null,null,{"$f":"(C805/8.16)^$M$2","v":0},0,0,0,0,0,0,0,0,0]
[2,2,null,null,null,null,null,null,null,null,null,0,0,0,0,0,0,0,0,0,0]
[2,2,null,null,null,null,null,null,null,null,null,0,0,0,0,0,0,0,0,0,0]
[2,2,null,null,null,null,null,null,null,null,null,0,0,0,0,0,0,0,0,0,0]
[2,2,null,null,null,null,null,null,null,null,null,0,0,0,0,0,0,0,0,0,0]
[2,2,null,null,null,null,null,null,null,null,null,0,0,0,0,0,0,0,0,0,0]
[2,2,null,null,null,null,null,null,null,null,null,0,0,0,0,0,0,0,0,0,0]
[2,2,null,null,null,null,null,null,null,null,null,0,0,0,0,0,0,0,0,0,0]
[2,2,null,null,null,null,null,null,null,null,null,0,0,0,0,0,0,0,0,0,0]
[2,2,null,null,null,null,null,null,null,null,null,0,0,0,0,0,0,0,0,0,0]
[2,2,null,null,null,null,null,null,null,null,null,0,0,0,0,0,0,0,0,0,0]
[2,2,null,null,null,null,null,null,null,null,null,0,0,0,0,0,0,0,0,0,0]
[2,2,null,null,null,null,null,null,null,null,null,0,0,0,0,0,0,0,0,0,0]
[2,2,null,null,null,null,null,null,null,null,null,0,0,0,0,0,0,0,0,0,0]
[2,2,null,null,null,null,null,null,null,null,null,0,0,0,0,0,0,0,0,0,0]
[2,2,null,null,null,null,null,null,null,null,null,0,0,0,0,0,0,0,0,0,{"$f":"SUM(L820:T820)","v":0}]
[2,2,null,null,null,null,null,null,null,null,null,0,0,0,0,0,0,0,0,0,0]
[2,2,null,null,null,null,null,null,null,null,null,0,0,0,0,0,0,0,0,0,0]
[2,2,null,null,null,null,null,null,null,null,null,0,0,0,0,0,0,0,0,0,0]
[2,2,null,null,null,null,null,null,null,null,null,0,0,0,0,0,0,0,0,0,0]
[2,2,null,null,null,null,null,null,null,null,null,0,0,0,0,0,0,0,0,0,0]
[2,2,null,null,null,null,null,null,null,null,null,0,0,0,0,0,0,0,0,0,0]
[2,2,null,null,null,null,null,null,null,null,null,0,0,0,0,0,0,0,0,0,0]
[2,2,null,null,null,null,null,null,null,null,null,0,0,0,0,0,0,0,0,0,0]
[2,2,null,null,null,null,null,null,null,null,null,0,0,0,0,0,0,0,0,0,0]
[2,2,null,null,null,null,null,null,null,null,null,0,0,0,0,0,0,0,0,0,0]
[2,2,null,null,null,null,null,null,null,null,null,0,0,0,0,0,0,0,0,0,0]
[2,2,null,null,null,null,null,null,null,null,null,0,0,0,0,0,0,0,0,0,0]
[2,2,null,null,null,null,null,null,null,null,null,0,0,0,0,0,0,0,0,0,0]
[2,2,null,null,null,null,null,null,null,null,null,0,0,0,0,0,0,0,0,0,0]
[2,2,null,null,null,null,null,null,null,null,null,0,0,0,0,0,0,0,0,0,0]
[2,2,null,null,null,null,null,null,null,null,null,0,0,0,0,0,0,0,0,0,0]
[2,2,null,null,null,null,null,null,null,null,null,0,0,0,0,0,0,0,0,0,0]
[2,2,null,null,null,null,null,null,null,null,null,0,0,0,0,0,0,0,0,0,0]
[2,2,null,null,null,null,null,null,null,null,null,0,0,0,0,0,0,0,0,0,0]
[2,2,null,null,null,null,null,null,null,null,null,0,0,0,0,0,0,0,0,0,0]
[2,2,null,null,null,null,null,null,null,null,null,0,0,0,0,0,0,0,0,0,0]
[2,2,null,null,null,null,null,null,null,null,null,0,0,0,0,0,0,0,0,0,0]
[2,2,null,null,null,null,null,null,null,null,null,0,0,0,0,0,0,0,0,0,0]
[2,2,null,null,null,null,null,null,null,null,null,0,0,0,0,0,0,0,0,0,0]
[2,2,null,null,null,null,null,null,null,null,null,0,0,0,0,0,0,0,0,0,0]
[2,2,null,null,null,null,null,null,null,null,null,0,0,0,0,0,0,0,0,0,0]
[2,2,null,null,null,null,null,null,null,null,null,0,0,0,0,0,0,0,0,0,0]
[2,2,null,null,null,null,null,null,null,null,null,0,0,0,0,0,0,0,0,0,0]
[2,2,null,null,null,null,null,null,null,null,null,0,0,0,0,0,0,0,0,0,0]
[2,2,null,null,null,null,null,null,null,null,null,0,0,0,0,0,0,0,0,0,0]
[2,2,null,null,null,null,null,null,null,null,null,0,0,0,0,0,0,0,0,0,0]
[2,2,null,null,null,null,null,null,null,null,null,0,0,0,0,0,0,0,0,0,0]
[2,2,null,null,null,null,null,null,null,null,null,0,0,0,0,0,0,0,0,0,0]
[2,2,null,null,null,null,null,null,null,null,null,0,0,0,0,0,0,0,0,0,0]
[2,2,null,null,null,null,null,null,null,null,null,0,0,0,0,0,0,0,0,0,0]
[2,2,null,null,null,null,null,null,null,null,null,0,0,0,0,0,0,0,0,0,0]
[2,2,null,null,null,null,null,null,null,null,null,0,0,0,0,0,0,0,0,0,0]
[2,2,null,null,null,null,null,null,null,null,null,0,0,0,0,0,0,0,0,0,0]
[2,2,null,null,null,null,null,null,null,null,null,0,0,0,0,0,0,0,0,0,0]
[2,2,null,null,null,null,null,null,null,null,null,0,0,0,0,0,0,0,0,0,0]
[2,2,null,null,null,null,null,null,null,null,null,0,0,0,0,0,0,0,0,0,0]
[2,2,null,null,null,null,null,null,null,null,null,0,0,0,0,0,0,0,0,0,0]
[2,2,null,null,null,null,null,null,null,null,null,0,0,0,0,0,0,0,0,0,0]
[2,2,null,null,null,null,null,null,null,null,null,0,0,0,0,0,0,0,0,0,0]
[2,2,null,null,null,null,null,null,null,null,null,0,0,0,0,0,0,0,0,0,0]
[2,2,null,null,null,null,null,null,null,null,null,{"$f":"(C866/8.16)^$M$2","v":0},{"$f":"(D866/8.16)^$M$2","v":0},{"$f":"(E866/8.16)^$M$2","v":0},{"$f":"(F866/8.16)^$M$2","v":0},{"$f":"(G866/8.16)^$M$2","v":0},{"$f":"(H866/8.16)^$M$2","v":0},0,0,0,0]
[2,2,null,null,null,null,null,null,null,null,null,0,0,0,0,0,0,0,0,0,0]
[2,2,null,null,null,null,null,null,null,null,null,0,0,0,0,0,0,{"$f":"(I868/8.16)^$M$2","v":0},{"$f":"(J868/8.16)^$M$2","v":0},{"$f":"(K868/8.16)^$M$2","v":0},0]
[2,2,null,null,null,null,null,null,null,null,null,0,0,0,0,0,0,0,0,0,0]
[2,2,null,null,null,null,null,null,null,null,null,0,0,0,0,0,0,0,0,0,0]
[2,2,null,null,null,null,null,null,null,null,null,0,0,0,0,0,0,0,0,0,0]
[2,2,null,null,null,null,null,null,null,null,null,0,0,0,0,0,0,0,0,0,0]
[2,2,null,null,null,null,null,null,null,null,null,0,0,0,0,0,0,0,0,0,0]
[2,2,null,null,null,null,null,null,null,null,null,0,0,0,0,0,0,0,0,0,0]
[2,2,null,null,null,null,null,null,null,null,null,0,0,0,0,0,0,0,0,0,0]
[2,2,null,null,null,null,null,null,null,null,null,0,0,0,0,0,0,0,0,0,0]
[2,2,null,null,null,null,null,null,null,null,null,0,0,0,0,0,0,0,0,0,0]
[2,2,null,null,null,null,null,null,null,null,null,0,0,0,0,0,0,0,0,0,0]
[2,2,null,null,null,null,null,null,null,null,null,0,0,0,0,0,0,0,0,0,0]
[2,2,null,null,null,null,null,null,null,null,null,0,0,0,0,0,0,0,0,0,0]
[2,2,null,null,null,null,null,null,null,null,null,0,0,0,0,0,0,0,0,0,0]
[2,2,null,null,null,null,null,null,null,null,null,0,0,0,0,0,0,0,0,0,0]
[2,2,null,null,null,null,null,null,null,null,null,0,0,0,0,0,0,0,0,0,0]
[2,2,null,null,null,null,null,null,null,null,null,0,0,0,0,0,0,0,0,0,{"$f":"SUM(L884:T884)","v":0}]
[2,2,null,null,null,null,null,null,null,null,null,0,0,0,0,0,0,0,0,0,0]
[2,2,null,null,null,null,null,null,null,null,null,0,0,0,0,0,0,0,0,0,0]
[2,2,null,null,null,null,null,null,null,null,null,0,0,0,0,0,0,0,0,0,0]
[2,2,null,null,null,null,null,null,null,null,null,0,0,0,0,0,0,0,0,0,0]
[2,2,null,null,null,null,null,null,null,null,null,0,0,0,0,0,0,0,0,0,0]
[2,2,null,null,null,null,null,null,null,null,null,0,0,0,0,0,0,0,0,0,0]
[2,2,null,null,null,null,null,null,null,null,null,0,0,0,0,0,0,0,0,0,0]
[2,2,null,null,null,null,null,null,null,null,null,0,0,0,0,0,0,0,0,0,0]
[2,2,null,null,null,null,null,null,null,null,null,0,0,0,0,0,0,0,0,0,0]
[2,2,null,null,null,null,null,null,null,null,null,0,0,0,0,0,0,0,0,0,0]
[2,2,null,null,null,null,null,null,null,null,null,0,0,0,0,0,0,0,0,0,0]
[2,2,null,null,null,null,null,null,null,null,null,0,0,0,0,0,0,0,0,0,0]
[2,2,null,null,null,null,null,null,null,null,null,0,0,0,0,0,0,0,0,0,0]
[2,2,null,null,null,null,null,null,null,null,null,0,0,0,0,0,0,0,0,0,0]
[2,2,null,null,null,null,null,null,null,null,null,0,0,0,0,0,0,0,0,0,0]
[2,2,null,null,null,null,null,null,null,null,null,0,0,0,0,0,0,0,0,0,0]
[2,2,null,null,null,null,null,null,null,null,null,0,0,0,0,0,0,0,0,0,0]
[2,2,null,null,null,null,null,null,null,null,null,0,0,0,0,0,0,0,0,0,0]
[2,2,null,null,null,null,null,null,null,null,null,0,0,0,0,0,0,0,0,0,0]
[2,2,null,null,null,null,null,null,null,null,null,0,0,0,0,0,0,0,0,0,0]
[2,2,null,null,null,null,null,null,null,null,null,0,0,0,0,0,0,0,0,0,0]
[2,2,null,null,null,null,null,null,null,null,null,0,0,0,0,0,0,0,0,0,{"$f":"SUM(L906:T906)","v":0}]
[2,2,null,null,null,null,null,null,null,null,null,0,0,0,0,0,0,0,0,0,0]
[2,2,null,null,null,null,null,null,null,null,null,0,0,0,0,0,0,0,0,0,0]
[2,2,null,null,null,null,null,null,null,null,null,0,0,0,0,0,0,0,0,0,0]
[2,2,null,null,null,null,null,null,null,null,null,0,0,0,0,0,0,0,0,0,0]
[2,2,null,null,null,null,null,null,null,null,null,0,0,0,0,0,0,0,0,0,0]
[2,2,null,null,null,null,null,null,null,null,null,0,0,0,0,0,0,0,0,0,0]
[2,2,null,null,null,null,null,null,null,null,null,0,0,0,0,0,0,0,0,0,0]
[2,2,null,null,null,null,null,null,null,null,null,0,0,0,0,0,0,0,0,0,0]
[2,2,null,null,null,null,null,null,null,null,null,0,0,0,0,0,0,0,0,0,0]
[2,2,null,null,null,null,null,null,null,null,null,0,0,0,0,0,0,0,0,0,0]
[2,2,null,null,null,null,null,null,null,null,null,0,0,0,0,0,0,0,0,0,0]
[2,2,null,null,null,null,null,null,null,null,null,0,0,0,0,0,0,0,0,0,0]
[2,2,null,null,null,null,null,null,null,null,null,0,0,0,0,0,0,0,0,0,0]
[2,2,null,null,null,null,null,null,null,null,null,0,0,0,0,0,0,0,0,0,0]
[2,2,null,null,null,null,null,null,null,null,null,0,0,0,0,0,0,0,0,0,0]
[2,2,null,null,null,null,null,null,null,null,null,0,0,0,0,0,0,0,0,0,0]
[2,2,null,null,null,null,null,null,null,null,null,0,0,0,0,0,0,0,0,0,0]
[2,2,null,null,null,null,null,null,null,null,null,0,0,0,0,0,0,0,0,0,0]
[2,2,null,null,null,null,null,null,null,null,null,0,0,0,0,0,0,0,0,0,0]
[2,2,null,null,null,null,null,null,null,null,null,0,0,0,0,0,0,0,0,0,0]
[2,2,null,null,null,null,null,null,null,null,null,{"$f":"(C927/8.16)^$M$2","v":0},0,0,0,0,0,0,0,0,0]
[2,2,null,null,null,null,null,null,null,null,null,0,0,0,0,0,0,0,0,0,0]
[2,2,null,null,null,null,null,null,null,null,null,0,0,0,0,0,0,0,0,0,0]
[2,2,null,null,null,null,null,null,null,null,null,0,0,0,0,0,0,0,0,0,0]
[2,2,null,null,null,null,null,null,null,null,null,0,0,0,0,0,0,0,0,0,0]
[2,2,null,null,null,null,null,null,null,null,null,0,0,0,0,0,0,0,0,0,0]
[2,2,null,null,null,null,null,null,null,null,null,0,0,0,0,0,0,0,0,0,0]
[2,2,null,null,null,null,null,null,null,null,null,0,0,0,0,0,0,0,0,0,0]
[2,2,null,null,null,null,null,null,null,null,null,0,0,0,0,0,0,0,0,0,0]
[2,2,null,null,null,null,null,null,null,null,null,0,0,0,0,0,0,0,0,0,0]
[2,2,null,null,null,null,null,null,null,null,null,0,0,0,0,0,0,0,0,0,0]
[2,2,null,null,null,null,null,null,null,null,null,0,0,0,0,0,0,0,0,0,0]
[2,2,null,null,null,null,null,null,null,null,null,0,0,0,0,0,0,0,0,0,0]
[2,2,null,null,null,null,null,null,null,null,null,0,0,0,0,0,0,0,0,0,0]
[2,2,null,null,null,null,null,null,null,null,null,0,0,0,0,0,0,0,0,0,0]
[2,2,null,null,null,null,null,null,null,null,null,0,0,0,0,0,0,0,0,0,0]
[2,2,null,null,null,null,null,null,null,null,null,0,0,0,0,0,0,0,0,0,0]
[2,2,null,null,null,null,null,null,null,null,null,0,0,0,0,0,0,0,0,0,0]
[2,2,null,null,null,null,null,null,null,null,null,0,0,0,0,0,0,0,0,0,0]
[2,2,null,null,null,null,null,null,null,null,null,0,0,0,0,0,0,0,0,0,0]
[2,2,null,null,null,null,null,null,null,null,null,0,0,0,0,0,0,0,0,0,0]
[2,2,null,null,null,null,null,null,null,null,null,0,0,0,0,0,0,0,0,0,0]
[2,2,null,null,null,null,null,null,null,null,null,0,0,0,0,0,0,0,0,0,0]
[2,2,null,null,null,null,null,null,null,null,null,0,0,0,0,0,0,0,0,0,0]
[2,2,null,null,null,null,null,null,null,null,null,0,0,0,0,0,0,0,0,0,0]
[2,2,null,null,null,null,null,null,null,null,null,0,0,0,0,0,0,0,0,0,0]
[2,2,null,null,null,null,null,null,null,null,null,0,0,0,0,0,0,0,0,0,0]
[2,2,null,null,null,null,null,null,null,null,null,0,0,0,0,0,0,0,0,0,0]
[2,2,null,null,null,null,null,null,null,null,null,0,0,0,{"$f":"(F955/8.16)^$M$2","v":0},{"$f":"(G955/8.16)^$M$2","v":0},{"$f":"(H955/8.16)^$M$2","v":0},{"$f":"(I955/8.16)^$M$2","v":0},{"$f":"(J955/8.16)^$M$2","v":0},{"$f":"(K955/8.16)^$M$2","v":0},0]
[2,2,null,null,null,null,null,null,null,null,null,{"$f":"(C956/8.16)^$M$2","v":0},0,0,0,0,0,0,0,0,0]
[2,2,null,null,null,null,null,null,null,null,null,0,0,0,0,0,0,0,0,0,0]
[2,2,null,null,null,null,null,null,null,null,null,0,0,0,0,0,0,0,0,0,0]
[2,2,null,null,null,null,null,null,null,null,null,0,0,0,0,0,0,0,0,0,0]
[2,2,null,null,null,null,null,null,null,null,null,0,0,0,0,0,0,0,0,0,0]
[2,2,null,null,null,null,null,null,null,null,null,0,0,0,0,0,0,0,0,0,0]
[2,2,null,null,null,null,null,null,null,null,null,0,0,0,0,0,0,0,0,0,0]
[2,2,null,null,null,null,null,null,null,null,null,0,0,0,0,0,0,0,0,0,0]
[2,2,null,null,null,null,null,null,null,null,null,0,0,0,0,0,0,0,0,0,0]
[2,2,null,null,null,null,null,null,null,null,null,0,0,0,0,0,0,0,0,0,0]
[2,2,null,null,null,null,null,null,null,null,null,0,0,0,0,0,0,0,0,0,0]
[2,2,null,null,null,null,null,null,null,null,null,0,0,0,0,0,0,0,0,0,0]
[2,2,null,null,null,null,null,null,null,null,null,0,0,0,0,0,0,0,0,0,0]
[2,2,null,null,null,null,null,null,null,null,null,0,0,0,0,0,0,0,0,0,0]
[2,2,null,null,null,null,null,null,null,null,null,0,0,0,0,0,0,0,0,0,{"$f":"SUM(L970:T970)","v":0}]
[2,2,null,null,null,null,null,null,null,null,null,0,0,0,0,0,0,0,0,0,0]
[2,2,null,null,null,null,null,null,null,null,null,0,0,0,0,0,0,0,0,0,0]
[2,2,null,null,null,null,null,null,null,null,null,0,0,0,0,0,0,0,0,0,0]
[2,2,null,null,null,null,null,null,null,null,null,0,0,0,0,0,0,0,0,0,0]
[2,2,null,null,null,null,null,null,null,null,null,0,0,0,0,0,0,0,0,0,0]
[2,2,null,null,null,null,null,null,null,null,null,0,0,0,0,0,0,0,0,0,0]
[2,2,null,null,null,null,null,null,null,null,null,0,0,0,0,0,0,0,0,0,0]
[2,2,null,null,null,null,null,null,null,null,null,0,0,0,0,0,0,0,0,0,0]
[2,2,null,null,null,null,null,null,null,null,null,0,0,0,0,0,0,0,0,0,0]
[2,2,null,null,null,null,null,null,null,null,null,0,0,0,0,0,0,0,0,0,0]
[2,2,null,null,null,null,null,null,null,null,null,0,0,0,0,0,0,0,0,0,0]
[2,2,null,null,null,null,null,null,null,null,null,0,0,0,0,0,0,0,0,0,0]
[2,2,null,null,null,null,null,null,null,null,null,0,0,0,0,0,0,0,0,0,0]
[2,2,null,null,null,null,null,null,null,null,null,0,0,0,0,0,0,0,0,0,0]
[2,2,null,null,null,null,null,null,null,null,null,0,0,0,0,0,0,0,0,0,0]
[2,2,null,null,null,null,null,null,null,null,null,0,0,0,0,0,0,0,0,0,0]
[2,2,null,null,null,null,null,null,null,null,null,0,0,0,0,0,0,0,0,0,0]
[2,2,null,null,null,null,null,null,null,null,null,0,0,0,0,0,0,0,0,0,0]
[2,2,null,null,null,null,null,null,null,null,null,0,0,0,0,0,0,0,0,0,0]
[2,2,null,null,null,null,null,null,null,null,null,0,0,0,0,0,0,0,0,0,0]
[2,2,null,null,null,null,null,null,null,null,null,0,0,0,0,0,0,0,0,0,0]
[2,2,null,null,null,null,null,null,null,null,null,0,0,0,0,0,0,0,0,0,0]
[2,2,null,null,null,null,null,null,null,null,null,0,0,0,0,0,0,0,0,0,0]
[2,2,null,null,null,null,null,null,null,null,null,0,0,0,0,0,0,0,0,0,0]
[2,2,null,null,null,null,null,null,null,null,null,0,0,0,0,0,0,0,0,0,0]
[2,2,null,null,null,null,null,null,null,null,null,0,0,0,0,0,0,0,0,0,0]
[2,2,null,null,null,null,null,null,null,null,null,0,0,0,0,0,0,0,0,0,0]
[2,2,null,null,null,null,null,null,null,null,null,0,0,0,0,0,0,0,0,0,0]
[2,2,null,null,null,null,null,null,null,null,null,0,0,0,0,0,0,0,0,0,0]
[2,2,null,null,null,null,null,null,null,null,null,0,0,0,0,0,0,0,0,0,0]
[2,2,null,null,null,null,null,null,null,null,null,0,0,0,0,0,0,0,0,0,0]
[2,2,null,null,null,null,null,null,null,null,null,0,0,0,0,0,0,0,0,0,0]
[2,2,null,null,null,null,null,null,null,null,null,0,0,0,0,0,0,0,0,0,0]
[2,2,null,null,null,null,null,null,null,null,null,0,0,0,0,0,0,0,0,0,0]
[2,2,null,null,null,null,null,null,null,null,null,0,0,0,0,0,0,0,0,0,0]
[]
[]
[]
[null,"Vehicle Class","Column1","Column2","Column3","Column4","Column5","Column6","Column7"]
[null,2,"Medium Truck (2 Axles) - Type 2",null,null,null,null,null,{"$f":"IFERROR(AVERAGEIF($B$5:$B$1005,'2 Axle Loads Direction 1'!$B1010,$U$5:$U$1005),0)","v":0}]
[null,3,"Heavy Truck (3 Axles) - Type 3",null,null,null,null,null,{"$f":"IFERROR(AVERAGEIF($B$5:$B$1005,'2 Axle Loads Direction 1'!$B1011,$U$5:$U$1005),0)","v":0}]
[null,4,"Heavy Truck (4 Axles) - Type 4",null,null,null,null,null,{"$f":"IFERROR(AVERAGEIF($B$5:$B$1005,'2 Axle Loads Direction 1'!$B1012,$U$5:$U$1005),0)","v":0}]
[null,5,"Semi-Trailers (5 Axles) - Type 5",null,null,null,null,null,{"$f":"IFERROR(AVERAGEIF($B$5:$B$1005,'2 Axle Loads Direction 1'!$B1013,$U$5:$U$1005),0)","v":0}]
[null,6,"Semi-Trailers (6 Axles) - Type 6",null,null,null,null,null,{"$f":"IFERROR(AVERAGEIF($B$5:$B$1005,'2 Axle Loads Direction 1'!$B1014,$U$5:$U$1005),0)","v":0}]
[null,7,"Trailers (7 Axles) - Type 7",null,null,null,null,null,{"$f":"IFERROR(AVERAGEIF($B$5:$B$1005,'2 Axle Loads Direction 1'!$B1015,$U$5:$U$1005),0)","v":0}]
[null,9,"Trailers (9 Axles) - Type 9",null,null,null,null,null,{"$f":"IFERROR(AVERAGEIF($B$5:$B$1005,'2 Axle Loads Direction 1'!$B1016,$U$5:$U$1005),0)","v":0}]

{"sheet":"6 Design MESA Direction 2","index":7,"n_rows":66,"n_cols":15,"rows_kept":66,"cut":false,"hidden":false,"merged":[[61,0,61,2],[54,0,54,6],[54,14,56,14],[55,0,55,6],[56,0,56,6],[57,0,57,6],[58,0,58,6],[58,7,58,13],[5,30,25,43],[11,7,11,13],[13,0,13,6],[13,14,16,14],[14,0,14,6],[20,0,20,6],[20,14,22,14],[21,0,21,6],[10,0,10,4],[24,0,24,6],[15,0,15,6],[16,0,16,6],[17,0,17,6],[24,7,24,13],[39,30,59,43],[45,7,45,13],[47,0,47,6],[47,14,50,14],[48,0,48,6],[49,0,49,6],[44,0,44,4],[50,0,50,6],[51,0,51,6],[51,14,53,14],[52,0,52,6],[53,0,53,6],[28,0,28,2],[17,14,19,14],[18,0,18,6],[19,0,19,6],[22,0,22,6],[23,0,23,6]]}
["Computation of design value of Equivalent Standard Axle Loads"]
[]
["Vehicle ","Vehicle Class","Average ESA/VEF","AADTT","Load distribution factor between lanes","ESA/day for each category"]
["Medium Truck (2 Axles) - Type 2",2,{"$f":"'5 Axle Loads Direction 2'!I1010","v":0},{"$f":"'4 ADT Direction 2'!B22","v":47.519999999999996},1,{"$f":"C4*D4*E4","v":0}]
["Heavy Truck (3 Axles) - Type 3",3,{"$f":"'5 Axle Loads Direction 2'!I1011","v":0},{"$f":"'4 ADT Direction 2'!C22","v":47.519999999999996},1,{"$f":"C5*D5*E5","v":0}]
["Heavy Truck (4 Axles) - Type 4",4,{"$f":"'5 Axle Loads Direction 2'!I1012","v":0},{"$f":"'4 ADT Direction 2'!D22","v":47.519999999999996},1,0]
["Semi-Trailers (5 Axles) - Type 5",5,{"$f":"'5 Axle Loads Direction 2'!I1013","v":0},{"$f":"'4 ADT Direction 2'!E22","v":47.519999999999996},1,0]
["Semi-Trailers (6 Axles) - Type 6",6,{"$f":"'5 Axle Loads Direction 2'!I1014","v":0},{"$f":"'4 ADT Direction 2'!F22","v":47.519999999999996},1,0]
["Trailers (7 Axles) - Type 7",7,{"$f":"'5 Axle Loads Direction 2'!I1015","v":0},{"$f":"'4 ADT Direction 2'!G22","v":47.519999999999996},1,0]
["Trailers (9 Axles) - Type 9",9,{"$f":"'5 Axle Loads Direction 2'!I1016","v":0},{"$f":"'4 ADT Direction 2'!H22","v":47.519999999999996},1,0]
["a - Total ESA/day (one way)",null,null,null,null,{"$f":"SUM(F4:F10)","v":0}]
[null,null,null,null,null,null,null,"Truck Type"]
["Factors",null,null,null,null,null,null,2,3,4,5,6,7,9]
["a=current average annual daily traffic loading in ESA/day (one way) in year of count",null,null,null,null,null,null,{"$f":"F4","v":0},{"$f":"F5","v":0},{"$f":"F6","v":0},{"$f":"F7","v":0},{"$f":"F8","v":0},{"$f":"F9","v":0},{"$f":"F10","v":0},"Growth Period 1"]
["b=annual growth rate (%) for growth Period 1",null,null,null,null,null,null,5,5,5,5,5,5,5]
["c=design life (years) for growth Period 1",null,null,null,null,null,null,10,10,10,10,10,10,10]
["d=number of years to start of design life for growth Period 1",null,null,null,null,null,null,2,2,2,2,2,2,2]
["a=average annual daily traffic loading in ESA/day (one way) at end of growth Period 1/ beginning of Period 2",null,null,null,null,null,null,{"$f":"H14*((1+(H15/100))^(H16+H17))","v":0},{"$f":"I14*((1+(I15/100))^(I16+I17))","v":0},0,0,0,0,0,"Growth Period 2"]
["b=annual growth rate (%) for growth Period 2",null,null,null,null,null,null,4,4,4,4,4,4,4]
["c=design life (years) for growth Period 2",null,null,null,null,null,null,5,5,5,5,5,5,5]
["a=average annual daily traffic loading in ESA/day (one way) at end of growth Period 2/ beginning of Period 3",null,null,null,null,null,null,{"$f":"H18*((1+(H19/100))^(H20))","v":0},{"$f":"I18*((1+(I19/100))^(I20))","v":0},0,0,0,0,0,"Growth Period 3"]
["b=annual growth rate (%) for growth Period 3",null,null,null,null,null,null,3,3,3,3,3,3,3]
["c=design life (years) for growth Period 3",null,null,null,null,null,null,5,5,5,5,5,5,5]
["Total Cummulative ESA by Truck Type (one way)",null,null,null,null,null,null,{"$f":"(((H14*365*100/H15)*(((1+(H15/100))^(H16+H17))-((1+(H15/100))^H17)))/1000000)+(((H18*365*100/H19)*(((1+(H19/100))^H20)-(1)))/1000000)+(((H21*365*100/H22)*(((1+(H22/100))^H23)-(1)))/1000000)","v":0},{"$f":"(((I14*365*100/I15)*(((1+(I15/100))^(I16+I17))-((1+(I15/100))^I17)))/1000000)+(((I18*365*100/I19)*(((1+(I19/100))^I20)-(1)))/1000000)+(((I21*365*100/I22)*(((1+(I22/100))^I23)-(1)))/1000000)","v":0},0,0,0,0,0,"MESA"]
["Total Cummulative Design MESA  (one way)",null,null,null,null,null,null,{"$f":"SUM(H24:N24)","v":0}]
[]
[]
[]
["Pavement Design MESA Direction 2",null,null,{"$f":"H25","v":0},null,0,"If MESA is already known then enter it here"]
[null,null,null,{"$f":"IF(D29>F29,D29,F29)","v":0}]
[]
[]
[]
[]
["Computation of design value of Equivalent Standard Axle Loads (IF YOU ALREADY HAVE VEF per vehicle class and AADTT OR ADTT)"]
[]
["Vehicle ","Vehicle Class","Average ESA/VEF","AADTT/ ADTT","Load distribution factor between lanes","ESA/day for each category"]
["Medium Truck (2 Axles) - Type 2",2,2,0,1,{"$f":"C38*D38*E38","v":0}]
["Heavy Truck (3 Axles) - Type 3",3,3,0,1,{"$f":"C39*D39*E39","v":0}]
["Heavy Truck (4 Axles) - Type 4",4,3.8,0,1,0]
["Semi-Trailers (5 Axles) - Type 5",5,4.2,0,1,0]
["Semi-Trailers (6 Axles) - Type 6",6,6.2,0,1,0]
["Trailers (7 Axles) - Type 7",7,6.3,0,1,0]
["Trailers (9 Axles) - Type 9",9,6,0,1,0]
["a - Total ESA/day (one way)",null,null,null,null,{"$f":"SUM(F38:F44)","v":0}]
[null,null,null,null,null,null,null,"Truck Type"]
["Factors",null,null,null,null,null,null,2,3,4,5,6,7,9]
["a=current average annual daily traffic loading in ESA/day (one way) in year of count",null,null,null,null,null,null,{"$f":"F38","v":0},{"$f":"F39","v":0},{"$f":"F40","v":0},{"$f":"F41","v":0},{"$f":"F42","v":0},{"$f":"F43","v":0},{"$f":"F44","v":0},"Growth Period 1"]
["b=annual growth rate (%) for growth Period 1",null,null,null,null,null,null,5,5,5,5,5,5,5]
["c=design life (years) for growth Period 1",null,null,null,null,null,null,10,10,10,10,10,10,10]
["d=number of years to start of design life for growth Period 1",null,null,null,null,null,null,2,2,2,2,2,2,2]
["a=average annual daily traffic loading in ESA/day (one way) at end of growth Period 1/ beginning of Period 2",null,null,null,null,null,null,{"$f":"H48*((1+(H49/100))^(H50+H51))","v":0},{"$f":"I48*((1+(I49/100))^(I50+I51))","v":0},0,0,0,0,0,"Growth Period 2"]
["b=annual growth rate (%) for growth Period 2",null,null,null,null,null,null,4,4,4,4,4,4,4]
["c=design life (years) for growth Period 2",null,null,null,null,null,null,5,5,5,5,5,5,5]
["a=average annual daily traffic loading in ESA/day (one way) at end of growth Period 2/ beginning of Period 3",null,null,null,null,null,null,{"$f":"H52*((1+(H53/100))^(H54))","v":0},{"$f":"I52*((1+(I53/100))^(I54))","v":0},0,0,0,0,0,"Growth Period 3"]
["b=annual growth rate (%) for growth Period 3",null,null,null,null,null,null,3,3,3,3,3,3,3]
["c=design life (years) for growth Period 3",null,null,null,null,null,null,5,5,5,5,5,5,5]
["Total Cummulative MESA by Truck Type (one way) ",null,null,null,null,null,null,{"$f":"(((H48*365*100/H49)*(((1+(H49/100))^(H50+H51))-((1+(H49/100))^H51)))/1000000)+(((H52*365*100/H53)*(((1+(H53/100))^H54)-(1)))/1000000)+(((H55*365*100/H56)*(((1+(H56/100))^H57)-(1)))/1000000)","v":0},{"$f":"(((I48*365*100/I49)*(((1+(I49/100))^(I50+I51))-((1+(I49/100))^I51)))/1000000)+(((I52*365*100/I53)*(((1+(I53/100))^I54)-(1)))/1000000)+(((I55*365*100/I56)*(((1+(I56/100))^I57)-(1)))/1000000)","v":0},0,0,0,0,0,"MESA"]
["Total Cummulative Design MESA  (one way)",null,null,null,null,null,null,{"$f":"SUM(H58:N58)","v":0}]
[]
[]
["Pavement Design MESA Direction 2",null,null,{"$f":"H59","v":0}]
[]
[]
[]
["Determinant MESA Direction 2",null,null,{"$f":"IF(D30>D62,D30,D62)","v":0}]

{"sheet":"7 ADT Direction 1-SS","index":8,"n_rows":43,"n_cols":35,"rows_kept":43,"cut":false,"hidden":false,"merged":[[41,3,41,4],[41,5,41,6],[41,7,41,8],[41,9,41,10],[42,3,42,4],[42,5,42,6],[42,7,42,8],[42,9,42,10],[39,3,39,4],[39,5,39,6],[39,7,39,8],[40,3,40,4],[40,5,40,6],[40,7,40,8],[37,3,37,4],[37,5,37,7],[38,3,38,4],[38,5,38,6],[38,7,38,8],[35,3,35,4],[35,5,35,7],[36,3,36,4],[36,5,36,7],[33,4,33,6],[34,4,34,6],[30,4,30,5],[31,3,31,4],[31,5,31,6],[32,3,32,4],[32,5,32,6],[6,20,6,25],[6,28,6,33],[11,20,13,25],[11,26,13,26],[28,3,28,4],[2,1,2,17],[3,17,5,17],[3,20,3,26],[3,28,3,34],[4,20,4,25],[4,28,4,33],[5,20,5,25],[5,28,5,33]]}
["Summary Traffic Count in Direction 1"]
[]
[]
["VEHICLE","Medium Truck (2 Axles) - Type 2","Heavy Truck (3 Axles) - Type 3","Heavy Truck (3 Axles) - Type 3B","Heavy Truck (4 Axles) - Type 4","Semi-Trailers (5 Axles) - Type 5","Semi-Trailers (5 Axles) - Type 5B","Semi-Trailers (5 Axles) - Type 5C","Semi-Trailers (5 Axles) - Type 5D","Semi-Trailers (6 Axles) - Type 6","Semi-Trailers (6 Axles) - Type 6B","Semi-Trailers (6 Axles) - Type 6C","Trailers (7 Axles) - Type 7","Trailers (7 Axles) - Type 7B","Trailers (7 Axles) - Type 7C","Trailers (9 Axles) - Type 9","Trailers (9 Axles) - Type 9B","DAILY averages",null,null,"Computation of 24 hr Average Night Expansion Factor (Weekday)",null,null,null,null,null,null,null,"Computation of 24 hr Average Night Expansion Factor (Weekend)"]
["Vehicle Class",2,3,"3B",4,5,"5B","5C","5D",6,"6B","6C",7,"7B","7C",9,"9B",null,null,null,"Full day count on day of 24 hr count",null,null,null,null,null,300,null,"Full day count on day of 24 hr count",null,null,null,null,null,300]
["Date",null,null,null,null,null,null,null,null,null,null,null,null,null,null,null,null,null,null,null,"Vehicle number on the 24 hr count day, corresponding to the same counting period for day that requires grossing",null,null,null,null,null,250,null,"Vehicle number on the 24 hr count day, corresponding to the same counting period for day that requires grossing",null,null,null,null,null,250]
["ADTT (Weekday) (Less than 24 hrs)",20,20,20,20,20,20,20,20,20,20,20,20,20,20,20,20,{"$f":"SUM(B7:Q7)","v":320},null,null,"Grossing Factor",null,null,null,null,null,{"$f":"AA5/AA6","v":1.2},null,"Grossing Factor",null,null,null,null,null,{"$f":"AI5/AI6","v":1.2}]
["Full day count on day of 24 hr count",30,30,30,30,30,30,30,30,30,30,30,30,30,30,30,30,{"$f":"SUM(B8:Q8)","v":480}]
["Night Expansion Factor",{"$f":"B8/B7","v":1.5},1.5,1.5,1.5,1.5,1.5,1.5,1.5,1.5,1.5,1.5,1.5,1.5,1.5,1.5,1.5,{"$f":"AVERAGE(B9:Q9)","v":1.5}]
["ADTT (Weekday (24 hrs)",{"$f":"B7*B9","v":30},30,30,30,30,30,30,30,30,30,30,30,30,30,30,30,{"$f":"SUM(B10:Q10)","v":480}]
[]
["ADTT (Weekend) (Less than 24 hrs)",20,20,20,20,20,20,20,20,20,20,20,20,20,20,20,20,{"$f":"SUM(B12:Q12)","v":320},null,null,"Lane Split Factor (or directional split if two-lane road and ADTT entered is Total)",null,null,null,null,null,1]
["Full day count on day of 24 hr count",30,30,30,30,30,30,30,30,30,30,30,30,30,30,30,30,{"$f":"SUM(B13:Q13)","v":480}]
["Night Expansion Factor",{"$f":"B13/B12","v":1.5},1.5,1.5,1.5,1.5,1.5,1.5,1.5,1.5,1.5,1.5,1.5,1.5,1.5,1.5,1.5,{"$f":"AVERAGE(B14:Q14)","v":1.5}]
["ADTT (Weekend) (24 hrs)",{"$f":"B12*B14","v":30},30,30,30,30,30,30,30,30,30,30,30,30,30,30,30,{"$f":"SUM(B15:Q15)","v":480}]
[]
["ADTT (7-day)",{"$f":"(B10*5+B15*2)/7","v":30},30,30,30,30,30,30,30,30,30,30,30,30,30,30,30,{"$f":"SUM(B17:Q17)","v":480}]
["Seasonal Factor",1.2,1.2,1.2,1.2,1.2,1.2,1.2,1.2,1.2,1.2,1.2,1.2,1.2,1.2,1.2,1.2,{"$f":"AVERAGE(B18:Q18)","v":1.1999999999999997}]
["Diverted Traffic Factor",1.2,1.2,1.2,1.2,1.2,1.2,1.2,1.2,1.2,1.2,1.2,1.2,1.2,1.2,1.2,1.2,{"$f":"AVERAGE(B19:Q19)","v":1.1999999999999997}]
["Generated Traffic Factor",1.1000000000000001,1.1000000000000001,1.1000000000000001,1.1000000000000001,1.1000000000000001,1.1000000000000001,1.1000000000000001,1.1000000000000001,1.1000000000000001,1.1000000000000001,1.1000000000000001,1.1000000000000001,1.1000000000000001,1.1000000000000001,1.1000000000000001,1.1000000000000001,{"$f":"AVERAGE(B20:Q20)","v":1.0999999999999999}]
[]
["AADTT (Design)",{"$f":"B17*$AA$12*B18*B19*B20","v":47.519999999999996},47.519999999999996,47.519999999999996,47.519999999999996,47.519999999999996,47.519999999999996,47.519999999999996,47.519999999999996,47.519999999999996,47.519999999999996,47.519999999999996,47.519999999999996,47.519999999999996,47.519999999999996,47.519999999999996,47.519999999999996,{"$f":"SUM(B22:Q22)","v":760.31999999999982}]
[]
[]
[]
[]
[null,"Truck Type","Axle 1","Axle 2","Axle 3","Axle 4","Axle 5","Axle 6","Axle 7","Axle 8","Axle 9"]
[null,2,"SAST","SADT"]
[null,3,"SAST","TADT"]
[null,"3B","SAST","SADT","SADT"]
[null,4,"SAST","SAST","TADT"]
[null,5,"SAST","TADT",null,"TADT"]
[null,"5B","SAST","TADT",null,"TAST"]
[null,"5C","SAST","SADT","TRDT"]
[null,"5D","SAST","SADT","TRST"]
[null,6,"SAST","TADT",null,"TRDT"]
[null,"6B","SAST","TADT",null,"TRST"]
[null,"6C","SAST","TAST",null,"TRST"]
[null,7,"SAST","TADT",null,"TADT",null,"TADT"]
[null,"7B","SAST","TADT",null,"TAST",null,"TAST"]
[null,"7C","SAST","TAST",null,"TAST",null,"TAST"]
[null,9,"SAST","TADT",null,"TADT",null,"TADT",null,"TADT"]
[null,"9B","SAST","TADT",null,"TAST",null,"TAST",null,"TAST"]

{"sheet":"8 Axle Loads Direction 1-SS","index":9,"n_rows":1025,"n_cols":51,"rows_kept":1025,"cut":false,"hidden":false,"merged":[[1018,5,1018,7],[1023,9,1023,10],[1024,9,1024,10],[1017,5,1017,7],[1019,5,1019,7],[1020,5,1020,6],[1022,5,1022,6],[1023,5,1023,6],[1024,5,1024,6],[1020,7,1020,8],[1022,7,1022,8],[1023,7,1023,8],[1024,7,1024,8],[1021,5,1021,6],[1021,7,1021,8],[1024,3,1024,4],[1010,3,1010,4],[1017,3,1017,4],[1019,3,1019,4],[1020,3,1020,4],[1022,3,1022,4],[1023,3,1023,4],[1018,3,1018,4],[1021,3,1021,4],[1012,4,1012,5],[1013,3,1013,4],[1013,5,1013,6],[1014,3,1014,4],[1014,5,1014,6],[1015,4,1015,6],[1016,4,1016,6],[2,0,3,0],[2,1,3,1],[2,2,3,2],[2,3,3,3],[2,4,3,4],[2,48,2,50],[1,2,1,10],[2,5,3,5],[2,6,3,6],[2,7,3,7],[2,8,3,8],[2,9,3,9],[2,10,3,10],[2,11,2,27],[2,29,2,45],[2,46,3,46]]}
["Computation of design axle loading from axle load survey data",null,null,null,null,null,null,null,null,"n=",4]
[null,null,"Axle Load (tonnes)"]
["Direction","Vehicle Class","Axle 1","Axle 2","Axle 3 ","Axle 4 ","Axle 5","Axle 6","Axle 7","Axle 8","Axle 9","HVAGs Loads (tonnes)",null,null,null,null,null,null,null,null,null,null,null,null,null,null,null,null,null,"HVAGs (ESA)",null,null,null,null,null,null,null,null,null,null,null,null,null,null,null,null,"VEF",null,"QADT"]
[null,null,null,null,null,null,null,null,null,null,null,"SAST1","SAST2","SADT1","SADT2","TADT1","TADT2","TADT3","TADT4","TADT5","TAST1","TAST2","TAST3","TAST4","TRDT1","TRDT2","TRST1","TRST2",null,"SAST1","SAST2","SADT1","SADT2","TADT1","TADT2","TADT3","TADT4","TADT5","TAST1","TAST2","TAST3","TAST4","TRDT1","TRDT2","TRST1","TRST2",null,null,"Load (kN)","Sum of Loads","Proportion of Loads (%/100)"]
[1,3,7,6,6,null,null,null,null,null,null,{"$f":"C5","v":7},{"$f":"IF(B5=4,D5,0)","v":0},{"$f":"IF(OR(B5=2,B5=\"3B\",B5=\"5C\",B5=\"5D\"),D5,0)","v":0},{"$f":"IF(B5=\"3B\",E5,0)","v":0},{"$f":"IF(OR(B5=3,B5=5,B5=\"5B\",B5=6,B5=\"6B\",B5=7,B5=\"7B\",B5=9,B5=\"9B\"),D5+E5,0)","v":12},{"$f":"IF(B5=4,E5+F5,0)","v":0},{"$f":"IF(OR(B5=5,B5=7,B5=9),F5+G5,0)","v":0},{"$f":"IF(OR(B5=7,B5=9),H5+I5,0)","v":0},{"$f":"IF(B5=9,J5+K5,0)","v":0},{"$f":"IF(OR(B5=\"6C\",B5=\"7C\"),D5+E5,0)","v":0},{"$f":"IF(B5=\"4B\",F5+G5,0)","v":0},{"$f":"IF(OR(B5=\"7B\",B5=\"7C\",B5=\"9B\"),H5+I5,0)","v":0},{"$f":"IF(OR(B5=\"9B\"),J5+K5,0)","v":0},{"$f":"IF((B5=\"5C\"),E5+F5+G5,0)","v":0},{"$f":"IF(B5=6,F5+G5+H5,0)","v":0},{"$f":"IF((B5=\"5D\"),E5+F5+G5,0)","v":0},{"$f":"IF(OR(B5=\"6B\",B5=\"6C\"),F5+G5+H5,0)","v":0},null,{"$f":"((L5*10)/58)^$K$1","v":2.1216814816176308},{"$f":"((M5*10)/58)^$K$1","v":0},{"$f":"((N5*10)/80)^$K$1","v":0},{"$f":"((O5*10)/80)^$K$1","v":0},{"$f":"((P5*10)/135)^$K$1","v":0.62429507696997399},{"$f":"((Q5*10)/135)^$K$1","v":0},{"$f":"((R5*10)/135)^$K$1","v":0},{"$f":"((S5*10)/135)^$K$1","v":0},{"$f":"((T5*10)/135)^$K$1","v":0},{"$f":"((U5*10)/98)^$K$1","v":0},{"$f":"((V5*10)/98)^$K$1","v":0},{"$f":"((W5*10)/98)^$K$1","v":0},{"$f":"((X5*10)/98)^$K$1","v":0},{"$f":"((Y5*10)/182)^$K$1","v":0},{"$f":"((Z5*10)/182)^$K$1","v":0},{"$f":"((AA5*10)/132)^$K$1","v":0},{"$f":"((AB5*10)/132)^$K$1","v":0},{"$f":"SUM(AD5:AT5)","v":2.7459765585876048},null,10]
[1,2,4,8,null,null,null,null,null,null,null,{"$f":"C6","v":4},{"$f":"IF(B6=4,D6,0)","v":0},{"$f":"IF(OR(B6=2,B6=\"3B\",B6=\"5C\",B6=\"5D\"),D6,0)","v":8},{"$f":"IF(B6=\"3B\",E6,0)","v":0},{"$f":"IF(OR(B6=3,B6=5,B6=\"5B\",B6=6,B6=\"6B\",B6=7,B6=\"7B\",B6=9,B6=\"9B\"),D6+E6,0)","v":0},{"$f":"IF(B6=4,E6+F6,0)","v":0},{"$f":"IF(OR(B6=5,B6=7,B6=9),F6+G6,0)","v":0},{"$f":"IF(OR(B6=7,B6=9),H6+I6,0)","v":0},{"$f":"IF(B6=9,J6+K6,0)","v":0},{"$f":"IF(OR(B6=\"6C\",B6=\"7C\"),D6+E6,0)","v":0},{"$f":"IF(B6=\"4B\",F6+G6,0)","v":0},{"$f":"IF(OR(B6=\"7B\",B6=\"7C\",B6=\"9B\"),H6+I6,0)","v":0},{"$f":"IF(OR(B6=\"9B\"),J6+K6,0)","v":0},{"$f":"IF((B6=\"5C\"),E6+F6+G6,0)","v":0},{"$f":"IF(B6=6,F6+G6+H6,0)","v":0},{"$f":"IF((B6=\"5D\"),E6+F6+G6,0)","v":0},{"$f":"IF(OR(B6=\"6B\",B6=\"6C\"),F6+G6+H6,0)","v":0},null,0.22621843369184247,0,1,0,0,0,0,0,0,0,0,0,0,0,0,{"$f":"((AA6*10)/132)^$K$1","v":0},{"$f":"((AB6*10)/132)^$K$1","v":0},{"$f":"SUM(AD6:AT6)","v":1.2262184336918425},null,20]
[1,3,null,null,null,null,null,null,null,null,null,0,0,0,0,0,0,0,0,0,0,0,0,0,0,0,0,0,null,0,0,0,0,0,0,0,0,0,0,0,0,0,0,0,0,0,0,null,30]
[1,3,null,null,null,null,null,null,null,null,null,0,0,0,0,0,0,0,0,0,0,0,0,0,0,0,0,0,null,0,0,0,0,0,0,0,0,0,0,0,0,0,0,0,0,0,0,null,40]
[1,3,null,null,null,null,null,null,null,null,null,0,0,0,0,0,0,0,0,0,0,0,0,0,0,0,0,0,null,0,0,0,0,0,0,0,0,0,0,0,0,0,0,0,0,0,0,null,50]
[1,3,null,null,null,null,null,null,null,null,null,0,0,0,0,0,0,0,0,0,0,0,0,0,0,0,0,0,null,0,0,0,0,0,0,0,0,0,0,0,0,0,0,0,0,0,0,null,60]
[1,3,null,null,null,null,null,null,null,null,null,0,0,0,0,0,0,0,0,0,0,0,0,0,0,0,0,0,null,0,0,0,0,0,0,0,0,0,0,0,0,0,0,0,0,0,0,null,70]
[1,"3B",6,10,8,null,null,null,null,null,null,6,0,10,8,0,0,0,0,0,0,0,0,0,0,0,0,0,null,1.1452308205649526,0,2.44140625,1,0,0,0,0,0,0,0,0,0,0,0,0,0,4.5866370705649526,null,80]
[1,3,null,null,null,null,null,null,null,null,null,0,0,0,0,0,0,0,0,0,0,0,0,0,0,0,0,0,null,0,0,0,0,0,0,0,0,0,0,0,0,0,0,0,0,0,0,null,90]
[1,3,null,null,null,null,null,null,null,null,null,0,0,0,0,0,0,0,0,0,0,0,0,0,0,0,0,0,null,0,0,0,0,0,0,0,0,0,0,0,0,0,0,0,0,0,0,null,100]
[1,3,null,null,null,null,null,null,null,null,null,0,0,0,0,0,0,0,0,0,0,0,0,0,0,0,0,0,null,0,0,0,0,0,0,0,0,0,0,0,0,0,0,0,0,0,0,null,110]
[1,3,null,null,null,null,null,null,null,null,null,0,0,0,0,0,0,0,0,0,0,0,0,0,0,0,0,0,null,0,0,0,0,0,0,0,0,0,0,0,0,0,0,0,0,0,0,null,120]
[1,3,null,null,null,null,null,null,null,null,null,0,0,0,0,0,0,0,0,0,0,0,0,0,0,0,0,0,null,0,0,0,0,0,0,0,0,0,0,0,0,0,0,0,0,0,0,null,130]
[1,3,null,null,null,null,null,null,null,null,null,0,0,0,0,0,0,0,0,0,0,0,0,0,0,0,0,0,null,0,0,0,0,0,0,0,0,0,0,0,0,0,0,0,0,0,0,null,140]
[1,3,null,null,null,null,null,null,null,null,null,0,0,0,0,0,0,0,0,0,0,0,0,0,0,0,0,0,null,0,0,0,0,0,0,0,0,0,0,0,0,0,0,0,0,0,0,null,150]
[1,3,null,null,null,null,null,null,null,null,null,0,0,0,0,0,0,0,0,0,0,0,0,0,0,0,0,0,null,0,0,0,0,0,0,0,0,0,0,0,0,0,0,0,0,0,0,null,160]
[1,3,null,null,null,null,null,null,null,null,null,0,0,0,0,0,0,0,0,0,0,0,0,0,0,0,0,0,null,0,0,0,0,0,0,0,0,0,0,0,0,0,0,0,0,0,0,null,170]
[1,"3C",6,8,4,null,null,null,null,null,null,6,0,0,0,0,0,0,0,0,0,0,0,0,0,0,0,0,null,1.1452308205649526,0,0,0,0,0,0,0,0,0,0,0,0,0,0,0,0,1.1452308205649526,null,180]
[1,3,null,null,null,null,null,null,null,null,null,0,0,0,0,0,0,0,0,0,0,0,0,0,0,0,0,0,null,0,0,0,0,0,0,0,0,0,0,0,0,0,0,0,0,0,0,null,190]
[1,3,null,null,null,null,null,null,null,null,null,0,0,0,0,0,0,0,0,0,0,0,0,0,0,0,0,0,null,0,0,0,0,0,0,0,0,0,0,0,0,0,0,0,0,0,0,null,200]
[1,3,null,null,null,null,null,null,null,null,null,0,0,0,0,0,0,0,0,0,0,0,0,0,0,0,0,0,null,0,0,0,0,0,0,0,0,0,0,0,0,0,0,0,0,0,0,null,210]
[1,3,null,null,null,null,null,null,null,null,null,0,0,0,0,0,0,0,0,0,0,0,0,0,0,0,0,0,null,0,0,0,0,0,0,0,0,0,0,0,0,0,0,0,0,0,0,null,220]
[1,3,null,null,null,null,null,null,null,null,null,0,0,0,0,0,0,0,0,0,0,0,0,0,0,0,0,0,null,0,0,0,0,0,0,0,0,0,0,0,0,0,0,0,0,0,0,null,230]
[1,3,null,null,null,null,null,null,null,null,null,0,0,0,0,0,0,0,0,0,0,0,0,0,0,0,0,0,null,0,0,0,0,0,0,0,0,0,0,0,0,0,0,0,0,0,0,null,240]
[1,3,null,null,null,null,null,null,null,null,null,0,0,0,0,0,0,0,0,0,0,0,0,0,0,0,0,0,null,0,0,0,0,0,0,0,0,0,0,0,0,0,0,0,0,0,0,null,250]
[1,4,6,6,8,9,null,null,null,null,null,6,6,0,0,0,17,0,0,0,0,0,0,0,0,0,0,0,null,1.1452308205649526,1.1452308205649526,0,0,0,2.5145519446185003,0,0,0,0,0,0,0,0,0,0,0,4.8050135857484051,null,260]
[1,3,null,null,null,null,null,null,null,null,null,0,0,0,0,0,0,0,0,0,0,0,0,0,0,0,0,0,null,0,0,0,0,0,0,0,0,0,0,0,0,0,0,0,0,0,0,null,270]
[1,3,null,null,null,null,null,null,null,null,null,0,0,0,0,0,0,0,0,0,0,0,0,0,0,0,0,0,null,0,0,0,0,0,0,0,0,0,0,0,0,0,0,0,0,0,0,null,280]
[1,3,null,null,null,null,null,null,null,null,null,0,0,0,0,0,0,0,0,0,0,0,0,0,0,0,0,0,null,0,0,0,0,0,0,0,0,0,0,0,0,0,0,0,0,0,0,null,290]
[1,3,null,null,null,null,null,null,null,null,null,0,0,0,0,0,0,0,0,0,0,0,0,0,0,0,0,0,null,0,0,0,0,0,0,0,0,0,0,0,0,0,0,0,0,0,0,null,300]
[1,"4B",6,6,10,10,null,null,null,null,null,6,0,0,0,0,0,0,0,0,0,10,0,0,0,0,0,0,null,1.1452308205649526,0,0,0,0,0,0,0,0,0,1.0841657847339399,0,0,0,0,0,0,2.2293966052988923,null,310]
[1,3,null,null,null,null,null,null,null,null,null,0,0,0,0,0,0,0,0,0,0,0,0,0,0,0,0,0,null,0,0,0,0,0,0,0,0,0,0,0,0,0,0,0,0,0,0,null,320]
[1,3,null,null,null,null,null,null,null,null,null,0,0,0,0,0,0,0,0,0,0,0,0,0,0,0,0,0,null,{"$f":"((L37*10)/58)^$K$1","v":0},{"$f":"((M37*10)/58)^$K$1","v":0},{"$f":"((N37*10)/80)^$K$1","v":0},{"$f":"((O37*10)/80)^$K$1","v":0},0,0,0,0,0,{"$f":"((U37*10)/98)^$K$1","v":0},{"$f":"((V37*10)/98)^$K$1","v":0},{"$f":"((W37*10)/98)^$K$1","v":0},{"$f":"((X37*10)/98)^$K$1","v":0},0,0,0,0,0,null,330]
[1,3,null,null,null,null,null,null,null,null,null,0,0,0,0,0,0,0,0,0,0,0,0,0,0,0,0,0,null,0,0,0,0,0,0,0,0,0,0,0,0,0,0,0,0,0,0,null,340]
[1,3,null,null,null,null,null,null,null,null,null,0,0,0,0,0,0,0,0,0,0,0,0,0,0,0,0,0,null,0,0,0,0,0,0,0,0,0,0,0,0,0,0,0,0,0,0,null,350]
[1,3,null,null,null,null,null,null,null,null,null,0,0,0,0,0,0,0,0,0,0,0,0,0,0,0,0,0,null,0,0,0,0,0,0,0,0,0,0,0,0,0,0,0,0,0,0,null,"Sum",null,{"$f":"SUM(AY5:AY39)","v":0}]
[1,3,null,null,null,null,null,null,null,null,null,0,0,0,0,0,0,0,0,0,0,0,0,0,0,0,0,0,null,0,0,0,0,0,0,0,0,0,0,0,0,0,0,0,0,0,0]
[1,3,null,null,null,null,null,null,null,null,null,0,0,0,0,0,0,0,0,0,0,0,0,0,0,0,0,0,null,0,0,0,0,0,0,0,0,0,0,0,0,0,0,0,0,0,0]
[1,3,null,null,null,null,null,null,null,null,null,0,0,0,0,0,0,0,0,0,0,0,0,0,0,0,0,0,null,0,0,0,0,0,0,0,0,0,0,0,0,0,0,0,0,0,0]
[1,3,null,null,null,null,null,null,null,null,null,0,0,0,0,0,0,0,0,0,0,0,0,0,0,0,0,0,null,0,0,0,0,0,0,0,0,0,0,0,0,0,0,0,0,0,0]
[1,5,null,null,null,null,null,null,null,null,null,0,0,0,0,0,0,0,0,0,0,0,0,0,0,0,0,0,null,0,0,0,0,0,0,0,0,0,0,0,0,0,0,0,0,0,0]
[1,3,null,null,null,null,null,null,null,null,null,0,0,0,0,0,0,0,0,0,0,0,0,0,0,0,0,0,null,0,0,0,0,0,0,0,0,0,0,0,0,0,0,0,0,0,0]
[1,3,null,null,null,null,null,null,null,null,null,0,0,0,0,0,0,0,0,0,0,0,0,0,0,0,0,0,null,0,0,0,0,0,0,0,0,0,0,0,0,0,0,0,0,0,0]
[1,3,null,null,null,null,null,null,null,null,null,0,0,0,0,0,0,0,0,0,0,0,0,0,0,0,0,0,null,0,0,0,0,0,0,0,0,0,0,0,0,0,0,0,0,0,0]
[1,3,null,null,null,null,null,null,null,null,null,0,0,0,0,0,0,0,0,0,0,0,0,0,0,0,0,0,null,0,0,0,0,0,0,0,0,0,0,0,0,0,0,0,0,0,0]
[1,3,null,null,null,null,null,null,null,null,null,0,0,0,0,0,0,0,0,0,0,0,0,0,0,0,0,0,null,0,0,0,0,0,0,0,0,0,0,0,0,0,0,0,0,0,0]
[1,"5B",4,6,6,9,9,null,null,null,null,4,0,0,0,12,0,0,0,0,0,0,0,0,0,0,0,0,null,0.22621843369184247,0,0,0,0.62429507696997399,0,0,0,0,0,0,0,0,0,0,0,0,0.85051351066181646]
[1,3,null,null,null,null,null,null,null,null,null,0,0,0,0,0,0,0,0,0,0,0,0,0,0,0,0,0,null,0,0,0,0,0,0,0,0,0,0,0,0,0,0,0,0,0,0]
[1,3,null,null,null,null,null,null,null,null,null,0,0,0,0,0,0,0,0,0,0,0,0,0,0,0,0,0,null,0,0,0,0,0,0,0,0,0,0,0,0,0,0,0,0,0,0]
[1,3,null,null,null,null,null,null,null,null,null,0,0,0,0,0,0,0,0,0,0,0,0,0,0,0,0,0,null,0,0,0,0,0,0,0,0,0,0,0,0,0,0,0,0,0,0]
[1,3,null,null,null,null,null,null,null,null,null,0,0,0,0,0,0,0,0,0,0,0,0,0,0,0,0,0,null,0,0,0,0,0,0,0,0,0,0,0,0,0,0,0,0,0,0]
[1,3,null,null,null,null,null,null,null,null,null,0,0,0,0,0,0,0,0,0,0,0,0,0,0,0,0,0,null,0,0,0,0,0,0,0,0,0,0,0,0,0,0,0,0,0,0]
[1,3,null,null,null,null,null,null,null,null,null,0,0,0,0,0,0,0,0,0,0,0,0,0,0,0,0,0,null,0,0,0,0,0,0,0,0,0,0,0,0,0,0,0,0,0,0]
[1,6,5,6,6,9,9,9,null,null,null,5,0,0,0,12,0,0,0,0,0,0,0,0,0,27,0,0,null,0.55229109788047448,0,0,0,0.62429507696997399,0,0,0,0,0,0,0,0,0,4.8436137645050952,0,0,6.0201999393555434]
[1,3,null,null,null,null,null,null,null,null,null,0,0,0,0,0,0,0,0,0,0,0,0,0,0,0,0,0,null,0,0,0,0,0,0,0,0,0,0,0,0,0,0,0,0,0,0]
[1,3,null,null,null,null,null,null,null,null,null,0,0,0,0,0,0,0,0,0,0,0,0,0,0,0,0,0,null,0,0,0,0,0,0,0,0,0,0,0,0,0,0,0,0,0,0]
[1,3,null,null,null,null,null,null,null,null,null,0,0,0,0,0,0,0,0,0,0,0,0,0,0,0,0,0,null,0,0,0,0,0,0,0,0,0,0,0,0,0,0,0,0,0,0]
[1,3,null,null,null,null,null,null,null,null,null,0,0,0,0,0,0,0,0,0,0,0,0,0,0,0,0,0,null,0,0,0,0,0,0,0,0,0,0,0,0,0,0,0,0,0,0]
[1,"6B",5,7,7,9,9,9,null,null,null,5,0,0,0,14,0,0,0,0,0,0,0,0,0,0,0,27,null,0.55229109788047448,0,0,0,1.1565837035531692,0,0,0,0,0,0,0,0,0,0,0,17.504887815039957,19.213762616473602]
[1,3,null,null,null,null,null,null,null,null,null,0,0,0,0,0,0,0,0,0,0,0,0,0,0,0,0,0,null,0,0,0,0,0,0,0,0,0,0,0,0,0,0,0,0,0,0]
[1,3,null,null,null,null,null,null,null,null,null,0,0,0,0,0,0,0,0,0,0,0,0,0,0,0,0,0,null,0,0,0,0,0,0,0,0,0,0,0,0,0,0,0,0,0,0]
[1,3,null,null,null,null,null,null,null,null,null,0,0,0,0,0,0,0,0,0,0,0,0,0,0,0,0,0,null,0,0,0,0,0,0,0,0,0,0,0,0,0,0,0,0,0,0]
[1,3,null,null,null,null,null,null,null,null,null,0,0,0,0,0,0,0,0,0,0,0,0,0,0,0,0,0,null,0,0,0,0,0,0,0,0,0,0,0,0,0,0,0,0,0,0]
[1,7,4,6,6,10,10,9,9,null,null,4,0,0,0,12,0,20,18,0,0,0,0,0,0,0,0,0,null,0.22621843369184247,0,0,0,0.62429507696997399,0,4.8170916432868358,3.1604938271604937,0,0,0,0,0,0,0,0,0,8.8280989811091466]
[1,3,null,null,null,null,null,null,null,null,null,0,0,0,0,0,0,0,0,0,0,0,0,0,0,0,0,0,null,{"$f":"((L69*10)/58)^$K$1","v":0},{"$f":"((M69*10)/58)^$K$1","v":0},{"$f":"((N69*10)/80)^$K$1","v":0},{"$f":"((O69*10)/80)^$K$1","v":0},{"$f":"((P69*10)/135)^$K$1","v":0},{"$f":"((Q69*10)/135)^$K$1","v":0},{"$f":"((R69*10)/135)^$K$1","v":0},{"$f":"((S69*10)/135)^$K$1","v":0},{"$f":"((T69*10)/135)^$K$1","v":0},{"$f":"((U69*10)/98)^$K$1","v":0},{"$f":"((V69*10)/98)^$K$1","v":0},{"$f":"((W69*10)/98)^$K$1","v":0},{"$f":"((X69*10)/98)^$K$1","v":0},{"$f":"((Y69*10)/182)^$K$1","v":0},{"$f":"((Z69*10)/182)^$K$1","v":0},0,0,0]
[1,3,null,null,null,null,null,null,null,null,null,{"$f":"C70","v":0},{"$f":"IF(B70=4,D70,0)","v":0},{"$f":"IF(OR(B70=2,B70=\"3B\",B70=\"5C\",B70=\"5D\"),D70,0)","v":0},{"$f":"IF(B70=\"3B\",E70,0)","v":0},{"$f":"IF(OR(B70=3,B70=5,B70=\"5B\",B70=6,B70=\"6B\",B70=7,B70=\"7B\",B70=9,B70=\"9B\"),D70+E70,0)","v":0},{"$f":"IF(B70=4,E70+F70,0)","v":0},{"$f":"IF(OR(B70=5,B70=7,B70=9),F70+G70,0)","v":0},{"$f":"IF(OR(B70=7,B70=9),H70+I70,0)","v":0},{"$f":"IF(B70=9,J70+K70,0)","v":0},{"$f":"IF(OR(B70=\"6C\",B70=\"7C\"),D70+E70,0)","v":0},{"$f":"IF(B70=\"4B\",F70+G70,0)","v":0},{"$f":"IF(OR(B70=\"7B\",B70=\"7C\",B70=\"9B\"),H70+I70,0)","v":0},{"$f":"IF(OR(B70=\"9B\"),J70+K70,0)","v":0},{"$f":"IF((B70=\"5C\"),E70+F70+G70,0)","v":0},{"$f":"IF(B70=6,F70+G70+H70,0)","v":0},{"$f":"IF((B70=\"5D\"),E70+F70+G70,0)","v":0},{"$f":"IF(OR(B70=\"6B\",B70=\"6C\"),F70+G70+H70,0)","v":0},null,0,0,0,0,0,0,0,0,0,0,0,0,0,0,0,{"$f":"((AA70*10)/132)^$K$1","v":0},{"$f":"((AB70*10)/132)^$K$1","v":0},{"$f":"SUM(AD70:AT70)","v":0}]
[1,"7B",4,6,6,10,10,9,9,null,null,4,0,0,0,12,0,0,0,0,0,0,18,0,0,0,0,0,null,0.22621843369184247,0,0,0,0.62429507696997399,0,0,0,0,0,0,11.381138741823007,0,0,0,0,0,12.231652252484823]
[1,3,null,null,null,null,null,null,null,null,null,0,0,0,0,0,0,0,0,0,0,0,0,0,0,0,0,0,null,0,0,0,0,0,0,0,0,0,0,0,0,0,0,0,0,0,0]
[1,3,null,null,null,null,null,null,null,null,null,0,0,0,0,0,0,0,0,0,0,0,0,0,0,0,0,0,null,0,0,0,0,0,0,0,0,0,0,0,0,0,0,0,0,0,0]
[1,3,null,null,null,null,null,null,null,null,null,0,0,0,0,0,0,0,0,0,0,0,0,0,0,0,0,0,null,0,0,0,0,0,0,0,0,0,0,0,0,0,0,0,0,0,0]
[1,3,null,null,null,null,null,null,null,null,null,0,0,0,0,0,0,0,0,0,0,0,0,0,0,0,0,0,null,0,0,0,0,0,0,0,0,0,0,0,0,0,0,0,0,0,0]
[1,3,null,null,null,null,null,null,null,null,null,0,0,0,0,0,0,0,0,0,0,0,0,0,0,0,0,0,null,0,0,0,0,0,0,0,0,0,0,0,0,0,0,0,0,0,0]
[1,9,4,4,6,6,7,7,7,7,8,4,0,0,0,10,0,13,14,15,0,0,0,0,0,0,0,0,null,0.22621843369184247,0,0,0,0.30106822770542724,0,0.85988096514947066,1.1565837035531692,1.5241579027587262,0,0,0,0,0,0,0,0,4.0679092328586357]
[1,3,null,null,null,null,null,null,null,null,null,0,0,0,0,0,0,0,0,0,0,0,0,0,0,0,0,0,null,0,0,0,0,0,0,0,0,0,0,0,0,0,0,0,0,0,0]
[1,3,null,null,null,null,null,null,null,null,null,0,0,0,0,0,0,0,0,0,0,0,0,0,0,0,0,0,null,0,0,0,0,0,0,0,0,0,0,0,0,0,0,0,0,0,0]
[1,3,null,null,null,null,null,null,null,null,null,0,0,0,0,0,0,0,0,0,0,0,0,0,0,0,0,0,null,0,0,0,0,0,0,0,0,0,0,0,0,0,0,0,0,0,0]
[1,3,null,null,null,null,null,null,null,null,null,0,0,0,0,0,0,0,0,0,0,0,0,0,0,0,0,0,null,0,0,0,0,0,0,0,0,0,0,0,0,0,0,0,0,0,0]
[1,3,null,null,null,null,null,null,null,null,null,0,0,0,0,0,0,0,0,0,0,0,0,0,0,0,0,0,null,0,0,0,0,0,0,0,0,0,0,0,0,0,0,0,0,0,0]
[1,"9B",4,4,6,6,7,9,9,7,8,4,0,0,0,10,0,0,0,0,0,0,18,15,0,0,0,0,null,0.22621843369184247,0,0,0,0.30106822770542724,0,0,0,0,0,0,11.381138741823007,5.4885892852155678,0,0,0,0,17.397014688435846]
[1,3,null,null,null,null,null,null,null,null,null,0,0,0,0,0,0,0,0,0,0,0,0,0,0,0,0,0,null,0,0,0,0,0,0,0,0,0,0,0,0,0,0,0,0,0,0]
[1,3,null,null,null,null,null,null,null,null,null,0,0,0,0,0,0,0,0,0,0,0,0,0,0,0,0,0,null,0,0,0,0,0,0,0,0,0,0,0,0,0,0,0,0,0,0]
[1,3,null,null,null,null,null,null,null,null,null,0,0,0,0,0,0,0,0,0,0,0,0,0,0,0,0,0,null,0,0,0,0,0,0,0,0,0,0,0,0,0,0,0,0,0,0]
[1,3,null,null,null,null,null,null,null,null,null,0,0,0,0,0,0,0,0,0,0,0,0,0,0,0,0,0,null,0,0,0,0,0,0,0,0,0,0,0,0,0,0,0,0,0,0]
[1,3,null,null,null,null,null,null,null,null,null,0,0,0,0,0,0,0,0,0,0,0,0,0,0,0,0,0,null,0,0,0,0,0,0,0,0,0,0,0,0,0,0,0,0,0,0]
[1,3,null,null,null,null,null,null,null,null,null,0,0,0,0,0,0,0,0,0,0,0,0,0,0,0,0,0,null,0,0,0,0,0,0,0,0,0,0,0,0,0,0,0,0,0,0]
[1,3,null,null,null,null,null,null,null,null,null,0,0,0,0,0,0,0,0,0,0,0,0,0,0,0,0,0,null,0,0,0,0,0,0,0,0,0,0,0,0,0,0,0,0,0,0]
[1,3,null,null,null,null,null,null,null,null,null,0,0,0,0,0,0,0,0,0,0,0,0,0,0,0,0,0,null,0,0,0,0,0,0,0,0,0,0,0,0,0,0,0,0,0,0]
[1,3,null,null,null,null,null,null,null,null,null,0,0,0,0,0,0,0,0,0,0,0,0,0,0,0,0,0,null,0,0,0,0,0,0,0,0,0,0,0,0,0,0,0,0,0,0]
[1,3,null,null,null,null,null,null,null,null,null,0,0,0,0,0,0,0,0,0,0,0,0,0,0,0,0,0,null,0,0,0,0,0,0,0,0,0,0,0,0,0,0,0,0,0,0]
[1,3,null,null,null,null,null,null,null,null,null,0,0,0,0,0,0,0,0,0,0,0,0,0,0,0,0,0,null,0,0,0,0,0,0,0,0,0,0,0,0,0,0,0,0,0,0]
[1,3,null,null,null,null,null,null,null,null,null,0,0,0,0,0,0,0,0,0,0,0,0,0,0,0,0,0,null,0,0,0,0,0,0,0,0,0,0,0,0,0,0,0,0,0,0]
[1,3,null,null,null,null,null,null,null,null,null,0,0,0,0,0,0,0,0,0,0,0,0,0,0,0,0,0,null,0,0,0,0,0,0,0,0,0,0,0,0,0,0,0,0,0,0]
[1,3,null,null,null,null,null,null,null,null,null,0,0,0,0,0,0,0,0,0,0,0,0,0,0,0,0,0,null,0,0,0,0,0,0,0,0,0,0,0,0,0,0,0,0,0,0]
[1,3,null,null,null,null,null,null,null,null,null,0,0,0,0,0,0,0,0,0,0,0,0,0,0,0,0,0,null,0,0,0,0,0,0,0,0,0,0,0,0,0,0,0,0,0,0]
[1,3,null,null,null,null,null,null,null,null,null,0,0,0,0,0,0,0,0,0,0,0,0,0,0,0,0,0,null,0,0,0,0,0,0,0,0,0,0,0,0,0,0,0,0,0,0]
[1,3,null,null,null,null,null,null,null,null,null,0,0,0,0,0,0,0,0,0,0,0,0,0,0,0,0,0,null,0,0,0,0,0,0,0,0,0,0,0,0,0,0,0,0,0,0]
[1,3,null,null,null,null,null,null,null,null,null,0,0,0,0,0,0,0,0,0,0,0,0,0,0,0,0,0,null,{"$f":"((L101*10)/58)^$K$1","v":0},{"$f":"((M101*10)/58)^$K$1","v":0},{"$f":"((N101*10)/80)^$K$1","v":0},{"$f":"((O101*10)/80)^$K$1","v":0},0,0,0,0,0,{"$f":"((U101*10)/98)^$K$1","v":0},{"$f":"((V101*10)/98)^$K$1","v":0},{"$f":"((W101*10)/98)^$K$1","v":0},{"$f":"((X101*10)/98)^$K$1","v":0},0,0,0,0,0]
[1,3,null,null,null,null,null,null,null,null,null,0,0,0,0,0,0,0,0,0,0,0,0,0,0,0,0,0,null,0,0,0,0,0,0,0,0,0,0,0,0,0,0,0,0,0,0]
[1,3,null,null,null,null,null,null,null,null,null,0,0,0,0,0,0,0,0,0,0,0,0,0,0,0,0,0,null,0,0,0,0,0,0,0,0,0,0,0,0,0,0,0,0,0,0]
[1,3,null,null,null,null,null,null,null,null,null,0,0,0,0,0,0,0,0,0,0,0,0,0,0,0,0,0,null,0,0,0,0,0,0,0,0,0,0,0,0,0,0,0,0,0,0]
[1,3,null,null,null,null,null,null,null,null,null,0,0,0,0,0,0,0,0,0,0,0,0,0,0,0,0,0,null,0,0,0,0,0,0,0,0,0,0,0,0,0,0,0,0,0,0]
[1,3,null,null,null,null,null,null,null,null,null,0,0,0,0,0,0,0,0,0,0,0,0,0,0,0,0,0,null,0,0,0,0,0,0,0,0,0,0,0,0,0,0,0,0,0,0]
[1,3,null,null,null,null,null,null,null,null,null,0,0,0,0,0,0,0,0,0,0,0,0,0,0,0,0,0,null,0,0,0,0,0,0,0,0,0,0,0,0,0,0,0,0,0,0]
[1,3,null,null,null,null,null,null,null,null,null,0,0,0,0,0,0,0,0,0,0,0,0,0,0,0,0,0,null,0,0,0,0,0,0,0,0,0,0,0,0,0,0,0,0,0,0]
[1,3,null,null,null,null,null,null,null,null,null,0,0,0,0,0,0,0,0,0,0,0,0,0,0,0,0,0,null,0,0,0,0,0,0,0,0,0,0,0,0,0,0,0,0,0,0]
[1,3,null,null,null,null,null,null,null,null,null,0,0,0,0,0,0,0,0,0,0,0,0,0,0,0,0,0,null,0,0,0,0,0,0,0,0,0,0,0,0,0,0,0,0,0,0]
[1,3,null,null,null,null,null,null,null,null,null,0,0,0,0,0,0,0,0,0,0,0,0,0,0,0,0,0,null,0,0,0,0,0,0,0,0,0,0,0,0,0,0,0,0,0,0]
[1,3,null,null,null,null,null,null,null,null,null,0,0,0,0,0,0,0,0,0,0,0,0,0,0,0,0,0,null,0,0,0,0,0,0,0,0,0,0,0,0,0,0,0,0,0,0]
[1,3,null,null,null,null,null,null,null,null,null,0,0,0,0,0,0,0,0,0,0,0,0,0,0,0,0,0,null,0,0,0,0,0,0,0,0,0,0,0,0,0,0,0,0,0,0]
[1,3,null,null,null,null,null,null,null,null,null,0,0,0,0,0,0,0,0,0,0,0,0,0,0,0,0,0,null,0,0,0,0,0,0,0,0,0,0,0,0,0,0,0,0,0,0]
[1,3,null,null,null,null,null,null,null,null,null,0,0,0,0,0,0,0,0,0,0,0,0,0,0,0,0,0,null,0,0,0,0,0,0,0,0,0,0,0,0,0,0,0,0,0,0]
[1,3,null,null,null,null,null,null,null,null,null,0,0,0,0,0,0,0,0,0,0,0,0,0,0,0,0,0,null,0,0,0,0,0,0,0,0,0,0,0,0,0,0,0,0,0,0]
[1,3,null,null,null,null,null,null,null,null,null,0,0,0,0,0,0,0,0,0,0,0,0,0,0,0,0,0,null,0,0,0,0,0,0,0,0,0,0,0,0,0,0,0,0,0,0]
[1,3,null,null,null,null,null,null,null,null,null,0,0,0,0,0,0,0,0,0,0,0,0,0,0,0,0,0,null,0,0,0,0,0,0,0,0,0,0,0,0,0,0,0,0,0,0]
[1,3,null,null,null,null,null,null,null,null,null,0,0,0,0,0,0,0,0,0,0,0,0,0,0,0,0,0,null,0,0,0,0,0,0,0,0,0,0,0,0,0,0,0,0,0,0]
[1,3,null,null,null,null,null,null,null,null,null,0,0,0,0,0,0,0,0,0,0,0,0,0,0,0,0,0,null,0,0,0,0,0,0,0,0,0,0,0,0,0,0,0,0,0,0]
[1,3,null,null,null,null,null,null,null,null,null,0,0,0,0,0,0,0,0,0,0,0,0,0,0,0,0,0,null,0,0,0,0,0,0,0,0,0,0,0,0,0,0,0,0,0,0]
[1,3,null,null,null,null,null,null,null,null,null,0,0,0,0,0,0,0,0,0,0,0,0,0,0,0,0,0,null,0,0,0,0,0,0,0,0,0,0,0,0,0,0,0,0,0,0]
[1,3,null,null,null,null,null,null,null,null,null,0,0,0,0,0,0,0,0,0,0,0,0,0,0,0,0,0,null,0,0,0,0,0,0,0,0,0,0,0,0,0,0,0,0,0,0]
[1,3,null,null,null,null,null,null,null,null,null,0,0,0,0,0,0,0,0,0,0,0,0,0,0,0,0,0,null,0,0,0,0,0,0,0,0,0,0,0,0,0,0,0,0,0,0]
[1,3,null,null,null,null,null,null,null,null,null,0,0,0,0,0,0,0,0,0,0,0,0,0,0,0,0,0,null,0,0,0,0,0,0,0,0,0,0,0,0,0,0,0,0,0,0]
[1,3,null,null,null,null,null,null,null,null,null,0,0,0,0,0,0,0,0,0,0,0,0,0,0,0,0,0,null,0,0,0,0,0,0,0,0,0,0,0,0,0,0,0,0,0,0]
[1,3,null,null,null,null,null,null,null,null,null,0,0,0,0,0,0,0,0,0,0,0,0,0,0,0,0,0,null,0,0,0,0,0,0,0,0,0,0,0,0,0,0,0,0,0,0]
[1,3,null,null,null,null,null,null,null,null,null,0,0,0,0,0,0,0,0,0,0,0,0,0,0,0,0,0,null,0,0,0,0,0,0,0,0,0,0,0,0,0,0,0,0,0,0]
[1,3,null,null,null,null,null,null,null,null,null,0,0,0,0,0,0,0,0,0,0,0,0,0,0,0,0,0,null,0,0,0,0,0,0,0,0,0,0,0,0,0,0,0,0,0,0]
[1,3,null,null,null,null,null,null,null,null,null,0,0,0,0,0,0,0,0,0,0,0,0,0,0,0,0,0,null,0,0,0,0,0,0,0,0,0,0,0,0,0,0,0,0,0,0]
[1,3,null,null,null,null,null,null,null,null,null,0,0,0,0,0,0,0,0,0,0,0,0,0,0,0,0,0,null,0,0,0,0,0,0,0,0,0,0,0,0,0,0,0,0,0,0]
[1,3,null,null,null,null,null,null,null,null,null,0,0,0,0,0,0,0,0,0,0,0,0,0,0,0,0,0,null,0,0,0,0,0,0,0,0,0,0,0,0,0,0,0,0,0,0]
[1,3,null,null,null,null,null,null,null,null,null,0,0,0,0,0,0,0,0,0,0,0,0,0,0,0,0,0,null,{"$f":"((L133*10)/58)^$K$1","v":0},{"$f":"((M133*10)/58)^$K$1","v":0},{"$f":"((N133*10)/80)^$K$1","v":0},{"$f":"((O133*10)/80)^$K$1","v":0},{"$f":"((P133*10)/135)^$K$1","v":0},{"$f":"((Q133*10)/135)^$K$1","v":0},{"$f":"((R133*10)/135)^$K$1","v":0},{"$f":"((S133*10)/135)^$K$1","v":0},{"$f":"((T133*10)/135)^$K$1","v":0},{"$f":"((U133*10)/98)^$K$1","v":0},{"$f":"((V133*10)/98)^$K$1","v":0},{"$f":"((W133*10)/98)^$K$1","v":0},{"$f":"((X133*10)/98)^$K$1","v":0},{"$f":"((Y133*10)/182)^$K$1","v":0},{"$f":"((Z133*10)/182)^$K$1","v":0},0,0,0]
[1,3,null,null,null,null,null,null,null,null,null,{"$f":"C134","v":0},{"$f":"IF(B134=4,D134,0)","v":0},{"$f":"IF(OR(B134=2,B134=\"3B\",B134=\"5C\",B134=\"5D\"),D134,0)","v":0},{"$f":"IF(B134=\"3B\",E134,0)","v":0},{"$f":"IF(OR(B134=3,B134=5,B134=\"5B\",B134=6,B134=\"6B\",B134=7,B134=\"7B\",B134=9,B134=\"9B\"),D134+E134,0)","v":0},{"$f":"IF(B134=4,E134+F134,0)","v":0},{"$f":"IF(OR(B134=5,B134=7,B134=9),F134+G134,0)","v":0},{"$f":"IF(OR(B134=7,B134=9),H134+I134,0)","v":0},{"$f":"IF(B134=9,J134+K134,0)","v":0},{"$f":"IF(OR(B134=\"6C\",B134=\"7C\"),D134+E134,0)","v":0},{"$f":"IF(B134=\"4B\",F134+G134,0)","v":0},{"$f":"IF(OR(B134=\"7B\",B134=\"7C\",B134=\"9B\"),H134+I134,0)","v":0},{"$f":"IF(OR(B134=\"9B\"),J134+K134,0)","v":0},{"$f":"IF((B134=\"5C\"),E134+F134+G134,0)","v":0},{"$f":"IF(B134=6,F134+G134+H134,0)","v":0},{"$f":"IF((B134=\"5D\"),E134+F134+G134,0)","v":0},{"$f":"IF(OR(B134=\"6B\",B134=\"6C\"),F134+G134+H134,0)","v":0},null,0,0,0,0,0,0,0,0,0,0,0,0,0,0,0,{"$f":"((AA134*10)/132)^$K$1","v":0},{"$f":"((AB134*10)/132)^$K$1","v":0},{"$f":"SUM(AD134:AT134)","v":0}]
[1,3,null,null,null,null,null,null,null,null,null,0,0,0,0,0,0,0,0,0,0,0,0,0,0,0,0,0,null,0,0,0,0,0,0,0,0,0,0,0,0,0,0,0,0,0,0]
[1,3,null,null,null,null,null,null,null,null,null,0,0,0,0,0,0,0,0,0,0,0,0,0,0,0,0,0,null,0,0,0,0,0,0,0,0,0,0,0,0,0,0,0,0,0,0]
[1,3,null,null,null,null,null,null,null,null,null,0,0,0,0,0,0,0,0,0,0,0,0,0,0,0,0,0,null,0,0,0,0,0,0,0,0,0,0,0,0,0,0,0,0,0,0]
[1,3,null,null,null,null,null,null,null,null,null,0,0,0,0,0,0,0,0,0,0,0,0,0,0,0,0,0,null,0,0,0,0,0,0,0,0,0,0,0,0,0,0,0,0,0,0]
[1,3,null,null,null,null,null,null,null,null,null,0,0,0,0,0,0,0,0,0,0,0,0,0,0,0,0,0,null,0,0,0,0,0,0,0,0,0,0,0,0,0,0,0,0,0,0]
[1,3,null,null,null,null,null,null,null,null,null,0,0,0,0,0,0,0,0,0,0,0,0,0,0,0,0,0,null,0,0,0,0,0,0,0,0,0,0,0,0,0,0,0,0,0,0]
[1,3,null,null,null,null,null,null,null,null,null,0,0,0,0,0,0,0,0,0,0,0,0,0,0,0,0,0,null,0,0,0,0,0,0,0,0,0,0,0,0,0,0,0,0,0,0]
[1,3,null,null,null,null,null,null,null,null,null,0,0,0,0,0,0,0,0,0,0,0,0,0,0,0,0,0,null,0,0,0,0,0,0,0,0,0,0,0,0,0,0,0,0,0,0]
[1,3,null,null,null,null,null,null,null,null,null,0,0,0,0,0,0,0,0,0,0,0,0,0,0,0,0,0,null,0,0,0,0,0,0,0,0,0,0,0,0,0,0,0,0,0,0]
[1,"3B",null,null,null,null,null,null,null,null,null,0,0,0,0,0,0,0,0,0,0,0,0,0,0,0,0,0,null,0,0,0,0,0,0,0,0,0,0,0,0,0,0,0,0,0,0]
[1,"3C",null,null,null,null,null,null,null,null,null,0,0,0,0,0,0,0,0,0,0,0,0,0,0,0,0,0,null,0,0,0,0,0,0,0,0,0,0,0,0,0,0,0,0,0,0]
[1,4,null,null,null,null,null,null,null,null,null,0,0,0,0,0,0,0,0,0,0,0,0,0,0,0,0,0,null,0,0,0,0,0,0,0,0,0,0,0,0,0,0,0,0,0,0]
[1,"4B",null,null,null,null,null,null,null,null,null,0,0,0,0,0,0,0,0,0,0,0,0,0,0,0,0,0,null,0,0,0,0,0,0,0,0,0,0,0,0,0,0,0,0,0,0]
[1,5,null,null,null,null,null,null,null,null,null,0,0,0,0,0,0,0,0,0,0,0,0,0,0,0,0,0,null,0,0,0,0,0,0,0,0,0,0,0,0,0,0,0,0,0,0]
[1,"5B",null,null,null,null,null,null,null,null,null,0,0,0,0,0,0,0,0,0,0,0,0,0,0,0,0,0,null,0,0,0,0,0,0,0,0,0,0,0,0,0,0,0,0,0,0]
[1,6,null,null,null,null,null,null,null,null,null,0,0,0,0,0,0,0,0,0,0,0,0,0,0,0,0,0,null,0,0,0,0,0,0,0,0,0,0,0,0,0,0,0,0,0,0]
[1,"6B",null,null,null,null,null,null,null,null,null,0,0,0,0,0,0,0,0,0,0,0,0,0,0,0,0,0,null,0,0,0,0,0,0,0,0,0,0,0,0,0,0,0,0,0,0]
[1,7,null,null,null,null,null,null,null,null,null,0,0,0,0,0,0,0,0,0,0,0,0,0,0,0,0,0,null,0,0,0,0,0,0,0,0,0,0,0,0,0,0,0,0,0,0]
[1,"7B",null,null,null,null,null,null,null,null,null,0,0,0,0,0,0,0,0,0,0,0,0,0,0,0,0,0,null,0,0,0,0,0,0,0,0,0,0,0,0,0,0,0,0,0,0]
[1,9,null,null,null,null,null,null,null,null,null,0,0,0,0,0,0,0,0,0,0,0,0,0,0,0,0,0,null,0,0,0,0,0,0,0,0,0,0,0,0,0,0,0,0,0,0]
[1,"9B",null,null,null,null,null,null,null,null,null,0,0,0,0,0,0,0,0,0,0,0,0,0,0,0,0,0,null,0,0,0,0,0,0,0,0,0,0,0,0,0,0,0,0,0,0]
[1,2,4,8,null,null,null,null,null,null,null,4,0,8,0,0,0,0,0,0,0,0,0,0,0,0,0,0,null,{"$f":"((L156*10)/58)^$K$1","v":0.22621843369184247},{"$f":"((M156*10)/58)^$K$1","v":0},{"$f":"((N156*10)/80)^$K$1","v":1},{"$f":"((O156*10)/80)^$K$1","v":0},0,0,0,0,0,0,0,0,0,0,0,0,0,1.2262184336918425,null,20]
[1,3,null,null,null,null,null,null,null,null,null,0,0,0,0,0,0,0,0,0,0,0,0,0,0,0,0,0,null,0,0,0,0,0,0,0,0,0,0,0,0,0,0,0,0,0,0,null,30]
[1,3,null,null,null,null,null,null,null,null,null,0,0,0,0,0,0,0,0,0,0,0,0,0,0,0,0,0,null,0,0,0,0,0,0,0,0,0,0,0,0,0,0,0,0,0,0,null,40]
[1,3,null,null,null,null,null,null,null,null,null,0,0,0,0,0,0,0,0,0,0,0,0,0,0,0,0,0,null,0,0,0,0,0,0,0,0,0,0,0,0,0,0,0,0,0,0,null,50]
[1,3,null,null,null,null,null,null,null,null,null,0,0,0,0,0,0,0,0,0,0,0,0,0,0,0,0,0,null,0,0,0,0,0,0,0,0,0,0,0,0,0,0,0,0,0,0,null,60]
[1,3,null,null,null,null,null,null,null,null,null,0,0,0,0,0,0,0,0,0,0,0,0,0,0,0,0,0,null,0,0,0,0,0,0,0,0,0,0,0,0,0,0,0,0,0,0,null,70]
[1,"3B",6,10,8,null,null,null,null,null,null,6,0,10,8,0,0,0,0,0,0,0,0,0,0,0,0,0,null,1.1452308205649526,0,2.44140625,1,0,0,0,0,0,0,0,0,0,0,0,0,0,4.5866370705649526,null,80]
[1,3,null,null,null,null,null,null,null,null,null,0,0,0,0,0,0,0,0,0,0,0,0,0,0,0,0,0,null,0,0,0,0,0,0,0,0,0,0,0,0,0,0,0,0,0,0,null,90]
[1,3,null,null,null,null,null,null,null,null,null,0,0,0,0,0,0,0,0,0,0,0,0,0,0,0,0,0,null,0,0,0,0,0,0,0,0,0,0,0,0,0,0,0,0,0,0,null,100]
[1,3,null,null,null,null,null,null,null,null,null,0,0,0,0,0,0,0,0,0,0,0,0,0,0,0,0,0,null,0,0,0,0,0,0,0,0,0,{"$f":"((U165*10)/98)^$K$1","v":0},{"$f":"((V165*10)/98)^$K$1","v":0},{"$f":"((W165*10)/98)^$K$1","v":0},{"$f":"((X165*10)/98)^$K$1","v":0},0,0,0,0,0,null,110]
[1,3,null,null,null,null,null,null,null,null,null,0,0,0,0,0,0,0,0,0,0,0,0,0,0,0,0,0,null,0,0,0,0,0,0,0,0,0,0,0,0,0,0,0,0,0,0,null,120]
[1,3,null,null,null,null,null,null,null,null,null,0,0,0,0,0,0,0,0,0,0,0,0,0,0,0,0,0,null,0,0,0,0,0,0,0,0,0,0,0,0,0,0,0,0,0,0,null,130]
[1,3,null,null,null,null,null,null,null,null,null,0,0,0,0,0,0,0,0,0,0,0,0,0,0,0,0,0,null,0,0,0,0,0,0,0,0,0,0,0,0,0,0,0,0,0,0,null,140]
[1,3,null,null,null,null,null,null,null,null,null,0,0,0,0,0,0,0,0,0,0,0,0,0,0,0,0,0,null,0,0,0,0,0,0,0,0,0,0,0,0,0,0,0,0,0,0,null,150]
[1,3,null,null,null,null,null,null,null,null,null,0,0,0,0,0,0,0,0,0,0,0,0,0,0,0,0,0,null,0,0,0,0,0,0,0,0,0,0,0,0,0,0,0,0,0,0,null,160]
[1,3,null,null,null,null,null,null,null,null,null,0,0,0,0,0,0,0,0,0,0,0,0,0,0,0,0,0,null,0,0,0,0,0,0,0,0,0,0,0,0,0,0,0,0,0,0,null,170]
[1,"3C",6,8,4,null,null,null,null,null,null,6,0,0,0,0,0,0,0,0,0,0,0,0,0,0,0,0,null,1.1452308205649526,0,0,0,0,0,0,0,0,0,0,0,0,0,0,0,0,1.1452308205649526,null,180]
[1,3,null,null,null,null,null,null,null,null,null,0,0,0,0,0,0,0,0,0,0,0,0,0,0,0,0,0,null,0,0,0,0,0,0,0,0,0,0,0,0,0,0,0,0,0,0,null,190]
[1,3,null,null,null,null,null,null,null,null,null,0,0,0,0,0,0,0,0,0,0,0,0,0,0,0,0,0,null,0,0,0,0,0,0,0,0,0,0,0,0,0,0,0,0,0,0,null,200]
[1,3,null,null,null,null,null,null,null,null,null,0,0,0,0,0,0,0,0,0,0,0,0,0,0,0,0,0,null,0,0,0,0,0,0,0,0,0,0,0,0,0,0,0,0,0,0,null,210]
[1,3,null,null,null,null,null,null,null,null,null,0,0,0,0,0,0,0,0,0,0,0,0,0,0,0,0,0,null,0,0,0,0,0,0,0,0,0,0,0,0,0,0,0,0,0,0,null,220]
[1,3,null,null,null,null,null,null,null,null,null,0,0,0,0,0,0,0,0,0,0,0,0,0,0,0,0,0,null,0,0,0,0,0,0,0,0,0,0,0,0,0,0,0,0,0,0,null,230]
[1,3,null,null,null,null,null,null,null,null,null,0,0,0,0,0,0,0,0,0,0,0,0,0,0,0,0,0,null,0,0,0,0,0,0,0,0,0,0,0,0,0,0,0,0,0,0,null,240]
[1,3,null,null,null,null,null,null,null,null,null,0,0,0,0,0,0,0,0,0,0,0,0,0,0,0,0,0,null,0,0,0,0,0,0,0,0,0,0,0,0,0,0,0,0,0,0,null,250]
[1,4,6,6,8,9,null,null,null,null,null,6,6,0,0,0,17,0,0,0,0,0,0,0,0,0,0,0,null,1.1452308205649526,1.1452308205649526,0,0,0,2.5145519446185003,0,0,0,0,0,0,0,0,0,0,0,4.8050135857484051,null,260]
[1,3,null,null,null,null,null,null,null,null,null,0,0,0,0,0,0,0,0,0,0,0,0,0,0,0,0,0,null,0,0,0,0,0,0,0,0,0,0,0,0,0,0,0,0,0,0,null,270]
[1,3,null,null,null,null,null,null,null,null,null,0,0,0,0,0,0,0,0,0,0,0,0,0,0,0,0,0,null,0,0,0,0,0,0,0,0,0,0,0,0,0,0,0,0,0,0,null,280]
[1,3,null,null,null,null,null,null,null,null,null,0,0,0,0,0,0,0,0,0,0,0,0,0,0,0,0,0,null,0,0,0,0,0,0,0,0,0,0,0,0,0,0,0,0,0,0,null,290]
[1,3,null,null,null,null,null,null,null,null,null,0,0,0,0,0,0,0,0,0,0,0,0,0,0,0,0,0,null,0,0,0,0,0,0,0,0,0,0,0,0,0,0,0,0,0,0,null,300]
[1,"4B",6,6,10,10,null,null,null,null,null,6,0,0,0,0,0,0,0,0,0,10,0,0,0,0,0,0,null,1.1452308205649526,0,0,0,0,0,0,0,0,0,1.0841657847339399,0,0,0,0,0,0,2.2293966052988923,null,310]
[1,3,null,null,null,null,null,null,null,null,null,0,0,0,0,0,0,0,0,0,0,0,0,0,0,0,0,0,null,0,0,0,0,0,0,0,0,0,0,0,0,0,0,0,0,0,0,null,320]
[1,3,null,null,null,null,null,null,null,null,null,0,0,0,0,0,0,0,0,0,0,0,0,0,0,0,0,0,null,0,0,0,0,0,0,0,0,0,0,0,0,0,0,0,0,0,0,null,330]
[1,3,null,null,null,null,null,null,null,null,null,0,0,0,0,0,0,0,0,0,0,0,0,0,0,0,0,0,null,0,0,0,0,0,0,0,0,0,0,0,0,0,0,0,0,0,0,null,340]
[1,3,null,null,null,null,null,null,null,null,null,0,0,0,0,0,0,0,0,0,0,0,0,0,0,0,0,0,null,0,0,0,0,0,0,0,0,0,0,0,0,0,0,0,0,0,0,null,350]
[1,3,null,null,null,null,null,null,null,null,null,0,0,0,0,0,0,0,0,0,0,0,0,0,0,0,0,0,null,0,0,0,0,0,0,0,0,0,0,0,0,0,0,0,0,0,0,null,"Sum",null,{"$f":"SUM(AY155:AY189)","v":0}]
[1,3,null,null,null,null,null,null,null,null,null,0,0,0,0,0,0,0,0,0,0,0,0,0,0,0,0,0,null,0,0,0,0,0,0,0,0,0,0,0,0,0,0,0,0,0,0]
[1,3,null,null,null,null,null,null,null,null,null,0,0,0,0,0,0,0,0,0,0,0,0,0,0,0,0,0,null,0,0,0,0,0,0,0,0,0,0,0,0,0,0,0,0,0,0]
[1,3,null,null,null,null,null,null,null,null,null,0,0,0,0,0,0,0,0,0,0,0,0,0,0,0,0,0,null,0,0,0,0,0,0,0,0,0,0,0,0,0,0,0,0,0,0]
[1,3,null,null,null,null,null,null,null,null,null,0,0,0,0,0,0,0,0,0,0,0,0,0,0,0,0,0,null,0,0,0,0,0,0,0,0,0,0,0,0,0,0,0,0,0,0]
[1,5,null,null,null,null,null,null,null,null,null,0,0,0,0,0,0,0,0,0,0,0,0,0,0,0,0,0,null,0,0,0,0,0,0,0,0,0,0,0,0,0,0,0,0,0,0]
[1,3,null,null,null,null,null,null,null,null,null,0,0,0,0,0,0,0,0,0,0,0,0,0,0,0,0,0,null,0,0,0,0,0,0,0,0,0,0,0,0,0,0,0,0,0,0]
[1,3,null,null,null,null,null,null,null,null,null,0,0,0,0,0,0,0,0,0,0,0,0,0,0,0,0,0,null,0,0,0,0,{"$f":"((P197*10)/135)^$K$1","v":0},{"$f":"((Q197*10)/135)^$K$1","v":0},{"$f":"((R197*10)/135)^$K$1","v":0},{"$f":"((S197*10)/135)^$K$1","v":0},{"$f":"((T197*10)/135)^$K$1","v":0},{"$f":"((U197*10)/98)^$K$1","v":0},{"$f":"((V197*10)/98)^$K$1","v":0},{"$f":"((W197*10)/98)^$K$1","v":0},{"$f":"((X197*10)/98)^$K$1","v":0},{"$f":"((Y197*10)/182)^$K$1","v":0},{"$f":"((Z197*10)/182)^$K$1","v":0},0,0,0]
[1,3,null,null,null,null,null,null,null,null,null,{"$f":"C198","v":0},{"$f":"IF(B198=4,D198,0)","v":0},{"$f":"IF(OR(B198=2,B198=\"3B\",B198=\"5C\",B198=\"5D\"),D198,0)","v":0},{"$f":"IF(B198=\"3B\",E198,0)","v":0},{"$f":"IF(OR(B198=3,B198=5,B198=\"5B\",B198=6,B198=\"6B\",B198=7,B198=\"7B\",B198=9,B198=\"9B\"),D198+E198,0)","v":0},{"$f":"IF(B198=4,E198+F198,0)","v":0},{"$f":"IF(OR(B198=5,B198=7,B198=9),F198+G198,0)","v":0},{"$f":"IF(OR(B198=7,B198=9),H198+I198,0)","v":0},{"$f":"IF(B198=9,J198+K198,0)","v":0},{"$f":"IF(OR(B198=\"6C\",B198=\"7C\"),D198+E198,0)","v":0},{"$f":"IF(B198=\"4B\",F198+G198,0)","v":0},{"$f":"IF(OR(B198=\"7B\",B198=\"7C\",B198=\"9B\"),H198+I198,0)","v":0},{"$f":"IF(OR(B198=\"9B\"),J198+K198,0)","v":0},{"$f":"IF((B198=\"5C\"),E198+F198+G198,0)","v":0},{"$f":"IF(B198=6,F198+G198+H198,0)","v":0},{"$f":"IF((B198=\"5D\"),E198+F198+G198,0)","v":0},{"$f":"IF(OR(B198=\"6B\",B198=\"6C\"),F198+G198+H198,0)","v":0},null,0,0,0,0,0,0,0,0,0,0,0,0,0,0,0,{"$f":"((AA198*10)/132)^$K$1","v":0},{"$f":"((AB198*10)/132)^$K$1","v":0},{"$f":"SUM(AD198:AT198)","v":0}]
[1,3,null,null,null,null,null,null,null,null,null,0,0,0,0,0,0,0,0,0,0,0,0,0,0,0,0,0,null,0,0,0,0,0,0,0,0,0,0,0,0,0,0,0,0,0,0]
[1,3,null,null,null,null,null,null,null,null,null,0,0,0,0,0,0,0,0,0,0,0,0,0,0,0,0,0,null,0,0,0,0,0,0,0,0,0,0,0,0,0,0,0,0,0,0]
[1,"5B",4,6,6,9,9,null,null,null,null,4,0,0,0,12,0,0,0,0,0,0,0,0,0,0,0,0,null,0.22621843369184247,0,0,0,0.62429507696997399,0,0,0,0,0,0,0,0,0,0,0,0,0.85051351066181646]
[1,3,null,null,null,null,null,null,null,null,null,0,0,0,0,0,0,0,0,0,0,0,0,0,0,0,0,0,null,0,0,0,0,0,0,0,0,0,0,0,0,0,0,0,0,0,0]
[1,3,null,null,null,null,null,null,null,null,null,0,0,0,0,0,0,0,0,0,0,0,0,0,0,0,0,0,null,0,0,0,0,0,0,0,0,0,0,0,0,0,0,0,0,0,0]
[1,3,null,null,null,null,null,null,null,null,null,0,0,0,0,0,0,0,0,0,0,0,0,0,0,0,0,0,null,0,0,0,0,0,0,0,0,0,0,0,0,0,0,0,0,0,0]
[1,3,null,null,null,null,null,null,null,null,null,0,0,0,0,0,0,0,0,0,0,0,0,0,0,0,0,0,null,0,0,0,0,0,0,0,0,0,0,0,0,0,0,0,0,0,0]
[1,3,null,null,null,null,null,null,null,null,null,0,0,0,0,0,0,0,0,0,0,0,0,0,0,0,0,0,null,0,0,0,0,0,0,0,0,0,0,0,0,0,0,0,0,0,0]
[1,3,null,null,null,null,null,null,null,null,null,0,0,0,0,0,0,0,0,0,0,0,0,0,0,0,0,0,null,0,0,0,0,0,0,0,0,0,0,0,0,0,0,0,0,0,0]
[1,6,5,6,6,9,9,9,null,null,null,5,0,0,0,12,0,0,0,0,0,0,0,0,0,27,0,0,null,0.55229109788047448,0,0,0,0.62429507696997399,0,0,0,0,0,0,0,0,0,4.8436137645050952,0,0,6.0201999393555434]
[1,3,null,null,null,null,null,null,null,null,null,0,0,0,0,0,0,0,0,0,0,0,0,0,0,0,0,0,null,0,0,0,0,0,0,0,0,0,0,0,0,0,0,0,0,0,0]
[1,3,null,null,null,null,null,null,null,null,null,0,0,0,0,0,0,0,0,0,0,0,0,0,0,0,0,0,null,0,0,0,0,0,0,0,0,0,0,0,0,0,0,0,0,0,0]
[1,3,null,null,null,null,null,null,null,null,null,0,0,0,0,0,0,0,0,0,0,0,0,0,0,0,0,0,null,0,0,0,0,0,0,0,0,0,0,0,0,0,0,0,0,0,0]
[1,3,null,null,null,null,null,null,null,null,null,0,0,0,0,0,0,0,0,0,0,0,0,0,0,0,0,0,null,0,0,0,0,0,0,0,0,0,0,0,0,0,0,0,0,0,0]
[1,"6B",5,7,7,9,9,9,null,null,null,5,0,0,0,14,0,0,0,0,0,0,0,0,0,0,0,27,null,0.55229109788047448,0,0,0,1.1565837035531692,0,0,0,0,0,0,0,0,0,0,0,17.504887815039957,19.213762616473602]
[1,3,null,null,null,null,null,null,null,null,null,0,0,0,0,0,0,0,0,0,0,0,0,0,0,0,0,0,null,0,0,0,0,0,0,0,0,0,0,0,0,0,0,0,0,0,0]
[1,3,null,null,null,null,null,null,null,null,null,0,0,0,0,0,0,0,0,0,0,0,0,0,0,0,0,0,null,0,0,0,0,0,0,0,0,0,0,0,0,0,0,0,0,0,0]
[1,3,null,null,null,null,null,null,null,null,null,0,0,0,0,0,0,0,0,0,0,0,0,0,0,0,0,0,null,0,0,0,0,0,0,0,0,0,0,0,0,0,0,0,0,0,0]
[1,3,null,null,null,null,null,null,null,null,null,0,0,0,0,0,0,0,0,0,0,0,0,0,0,0,0,0,null,0,0,0,0,0,0,0,0,0,0,0,0,0,0,0,0,0,0]
[1,7,4,6,6,10,10,9,9,null,null,4,0,0,0,12,0,20,18,0,0,0,0,0,0,0,0,0,null,0.22621843369184247,0,0,0,0.62429507696997399,0,4.8170916432868358,3.1604938271604937,0,0,0,0,0,0,0,0,0,8.8280989811091466]
[1,3,null,null,null,null,null,null,null,null,null,0,0,0,0,0,0,0,0,0,0,0,0,0,0,0,0,0,null,0,0,0,0,0,0,0,0,0,0,0,0,{"$f":"((X219*10)/98)^$K$1","v":0},0,0,0,0,0]
[1,3,null,null,null,null,null,null,null,null,null,0,0,0,0,0,0,0,0,0,0,0,0,0,0,0,0,0,null,{"$f":"((L220*10)/58)^$K$1","v":0},{"$f":"((M220*10)/58)^$K$1","v":0},{"$f":"((N220*10)/80)^$K$1","v":0},{"$f":"((O220*10)/80)^$K$1","v":0},0,0,0,0,0,{"$f":"((U220*10)/98)^$K$1","v":0},{"$f":"((V220*10)/98)^$K$1","v":0},{"$f":"((W220*10)/98)^$K$1","v":0},0,0,0,0,0,0]
[1,"7B",4,6,6,10,10,9,9,null,null,4,0,0,0,12,0,0,0,0,0,0,18,0,0,0,0,0,null,0.22621843369184247,0,0,0,0.62429507696997399,0,0,0,0,0,0,11.381138741823007,0,0,0,0,0,12.231652252484823]
[1,3,null,null,null,null,null,null,null,null,null,0,0,0,0,0,0,0,0,0,0,0,0,0,0,0,0,0,null,0,0,0,0,0,0,0,0,0,0,0,0,0,0,0,0,0,0]
[1,3,null,null,null,null,null,null,null,null,null,0,0,0,0,0,0,0,0,0,0,0,0,0,0,0,0,0,null,0,0,0,0,0,0,0,0,0,0,0,0,0,0,0,0,0,0]
[1,3,null,null,null,null,null,null,null,null,null,0,0,0,0,0,0,0,0,0,0,0,0,0,0,0,0,0,null,0,0,0,0,0,0,0,0,0,0,0,0,0,0,0,0,0,0]
[1,3,null,null,null,null,null,null,null,null,null,0,0,0,0,0,0,0,0,0,0,0,0,0,0,0,0,0,null,0,0,0,0,0,0,0,0,0,0,0,0,0,0,0,0,0,0]
[1,3,null,null,null,null,null,null,null,null,null,0,0,0,0,0,0,0,0,0,0,0,0,0,0,0,0,0,null,0,0,0,0,0,0,0,0,0,0,0,0,0,0,0,0,0,0]
[1,9,4,4,6,6,7,7,7,7,8,4,0,0,0,10,0,13,14,15,0,0,0,0,0,0,0,0,null,0.22621843369184247,0,0,0,0.30106822770542724,0,0.85988096514947066,1.1565837035531692,1.5241579027587262,0,0,0,0,0,0,0,0,4.0679092328586357]
[1,3,null,null,null,null,null,null,null,null,null,0,0,0,0,0,0,0,0,0,0,0,0,0,0,0,0,0,null,0,0,0,0,0,0,0,0,0,0,0,0,0,0,0,0,0,0]
[1,3,null,null,null,null,null,null,null,null,null,0,0,0,0,0,0,0,0,0,0,0,0,0,0,0,0,0,null,0,0,0,0,0,0,0,0,0,0,0,0,0,0,0,0,0,0]
[1,3,null,null,null,null,null,null,null,null,null,0,0,0,0,0,0,0,0,0,0,0,0,0,0,0,0,0,null,0,0,0,0,0,0,0,0,0,0,0,0,0,0,0,0,0,0]
[1,3,null,null,null,null,null,null,null,null,null,0,0,0,0,0,0,0,0,0,0,0,0,0,0,0,0,0,null,0,0,0,0,0,0,0,0,0,0,0,0,0,0,0,0,0,0]
[1,3,null,null,null,null,null,null,null,null,null,0,0,0,0,0,0,0,0,0,0,0,0,0,0,0,0,0,null,0,0,0,0,0,0,0,0,0,0,0,0,0,0,0,0,0,0]
[1,"9B",4,4,6,6,7,9,9,7,8,4,0,0,0,10,0,0,0,0,0,0,18,15,0,0,0,0,null,0.22621843369184247,0,0,0,0.30106822770542724,0,0,0,0,0,0,11.381138741823007,5.4885892852155678,0,0,0,0,17.397014688435846]
[1,3,null,null,null,null,null,null,null,null,null,0,0,0,0,0,0,0,0,0,0,0,0,0,0,0,0,0,null,0,0,0,0,0,0,0,0,0,0,0,0,0,0,0,0,0,0]
[1,3,null,null,null,null,null,null,null,null,null,0,0,0,0,0,0,0,0,0,0,0,0,0,0,0,0,0,null,0,0,0,0,0,0,0,0,0,0,0,0,0,0,0,0,0,0]
[1,3,null,null,null,null,null,null,null,null,null,0,0,0,0,0,0,0,0,0,0,0,0,0,0,0,0,0,null,0,0,0,0,0,0,0,0,0,0,0,0,0,0,0,0,0,0]
[1,3,null,null,null,null,null,null,null,null,null,0,0,0,0,0,0,0,0,0,0,0,0,0,0,0,0,0,null,0,0,0,0,0,0,0,0,0,0,0,0,0,0,0,0,0,0]
[1,3,null,null,null,null,null,null,null,null,null,0,0,0,0,0,0,0,0,0,0,0,0,0,0,0,0,0,null,0,0,0,0,0,0,0,0,0,0,0,0,0,0,0,0,0,0]
[1,3,null,null,null,null,null,null,null,null,null,0,0,0,0,0,0,0,0,0,0,0,0,0,0,0,0,0,null,0,0,0,0,0,0,0,0,0,0,0,0,0,0,0,0,0,0]
[1,3,null,null,null,null,null,null,null,null,null,0,0,0,0,0,0,0,0,0,0,0,0,0,0,0,0,0,null,0,0,0,0,0,0,0,0,0,0,0,0,0,0,0,0,0,0]
[1,3,null,null,null,null,null,null,null,null,null,0,0,0,0,0,0,0,0,0,0,0,0,0,0,0,0,0,null,0,0,0,0,0,0,0,0,0,0,0,0,0,0,0,0,0,0]
[1,3,null,null,null,null,null,null,null,null,null,0,0,0,0,0,0,0,0,0,0,0,0,0,0,0,0,0,null,0,0,0,0,0,0,0,0,0,0,0,0,0,0,0,0,0,0]
[1,3,null,null,null,null,null,null,null,null,null,0,0,0,0,0,0,0,0,0,0,0,0,0,0,0,0,0,null,0,0,0,0,0,0,0,0,0,0,0,0,0,0,0,0,0,0]
[1,3,null,null,null,null,null,null,null,null,null,0,0,0,0,0,0,0,0,0,0,0,0,0,0,0,0,0,null,0,0,0,0,0,0,0,0,0,0,0,0,0,0,0,0,0,0]
[1,3,null,null,null,null,null,null,null,null,null,0,0,0,0,0,0,0,0,0,0,0,0,0,0,0,0,0,null,0,0,0,0,0,0,0,0,0,0,0,0,0,0,0,0,0,0]
[1,3,null,null,null,null,null,null,null,null,null,0,0,0,0,0,0,0,0,0,0,0,0,0,0,0,0,0,null,0,0,0,0,0,0,0,0,0,0,0,0,0,0,0,0,0,0]
[1,3,null,null,null,null,null,null,null,null,null,0,0,0,0,0,0,0,0,0,0,0,0,0,0,0,0,0,null,0,0,0,0,0,0,0,0,0,0,0,0,0,0,0,0,0,0]
[1,3,null,null,null,null,null,null,null,null,null,0,0,0,0,0,0,0,0,0,0,0,0,0,0,0,0,0,null,0,0,0,0,0,0,0,0,0,0,0,0,0,0,0,0,0,0]
[1,3,null,null,null,null,null,null,null,null,null,0,0,0,0,0,0,0,0,0,0,0,0,0,0,0,0,0,null,0,0,0,0,0,0,0,0,0,0,0,0,0,0,0,0,0,0]
[1,3,null,null,null,null,null,null,null,null,null,0,0,0,0,0,0,0,0,0,0,0,0,0,0,0,0,0,null,0,0,0,0,0,0,0,0,0,0,0,0,0,0,0,0,0,0]
[1,3,null,null,null,null,null,null,null,null,null,0,0,0,0,0,0,0,0,0,0,0,0,0,0,0,0,0,null,0,0,0,0,0,0,0,0,0,0,0,0,{"$f":"((X251*10)/98)^$K$1","v":0},0,0,0,0,0]
[1,3,null,null,null,null,null,null,null,null,null,0,0,0,0,0,0,0,0,0,0,0,0,0,0,0,0,0,null,0,0,0,0,0,0,0,0,0,{"$f":"((U252*10)/98)^$K$1","v":0},{"$f":"((V252*10)/98)^$K$1","v":0},{"$f":"((W252*10)/98)^$K$1","v":0},0,0,0,0,0,0]
[1,3,null,null,null,null,null,null,null,null,null,0,0,0,0,0,0,0,0,0,0,0,0,0,0,0,0,0,null,0,0,0,0,0,0,0,0,0,0,0,0,0,0,0,0,0,0]
[1,3,null,null,null,null,null,null,null,null,null,0,0,0,0,0,0,0,0,0,0,0,0,0,0,0,0,0,null,0,0,0,0,0,0,0,0,0,0,0,0,0,0,0,0,0,0]
[1,3,null,null,null,null,null,null,null,null,null,0,0,0,0,0,0,0,0,0,0,0,0,0,0,0,0,0,null,0,0,0,0,0,0,0,0,0,0,0,0,0,0,0,0,0,0]
[1,3,null,null,null,null,null,null,null,null,null,0,0,0,0,0,0,0,0,0,0,0,0,0,0,0,0,0,null,0,0,0,0,0,0,0,0,0,0,0,0,0,0,0,0,0,0]
[1,3,null,null,null,null,null,null,null,null,null,0,0,0,0,0,0,0,0,0,0,0,0,0,0,0,0,0,null,0,0,0,0,0,0,0,0,0,0,0,0,0,0,0,0,0,0]
[1,3,null,null,null,null,null,null,null,null,null,0,0,0,0,0,0,0,0,0,0,0,0,0,0,0,0,0,null,0,0,0,0,{"$f":"((P258*10)/135)^$K$1","v":0},{"$f":"((Q258*10)/135)^$K$1","v":0},{"$f":"((R258*10)/135)^$K$1","v":0},{"$f":"((S258*10)/135)^$K$1","v":0},{"$f":"((T258*10)/135)^$K$1","v":0},0,0,0,0,0,0,0,0,0]
[1,3,null,null,null,null,null,null,null,null,null,0,0,0,0,0,0,0,0,0,0,0,0,0,0,0,0,0,null,0,0,0,0,0,0,0,0,0,0,0,0,0,0,0,0,0,0]
[1,3,null,null,null,null,null,null,null,null,null,0,0,0,0,0,0,0,0,0,0,0,0,0,0,0,0,0,null,0,0,0,0,0,0,0,0,0,0,0,0,0,0,0,0,0,0]
[1,3,null,null,null,null,null,null,null,null,null,0,0,0,0,0,0,0,0,0,0,0,0,0,0,0,0,0,null,0,0,0,0,0,0,0,0,0,0,0,0,0,{"$f":"((Y261*10)/182)^$K$1","v":0},{"$f":"((Z261*10)/182)^$K$1","v":0},0,0,0]
[1,3,null,null,null,null,null,null,null,null,null,{"$f":"C262","v":0},{"$f":"IF(B262=4,D262,0)","v":0},{"$f":"IF(OR(B262=2,B262=\"3B\",B262=\"5C\",B262=\"5D\"),D262,0)","v":0},{"$f":"IF(B262=\"3B\",E262,0)","v":0},{"$f":"IF(OR(B262=3,B262=5,B262=\"5B\",B262=6,B262=\"6B\",B262=7,B262=\"7B\",B262=9,B262=\"9B\"),D262+E262,0)","v":0},{"$f":"IF(B262=4,E262+F262,0)","v":0},{"$f":"IF(OR(B262=5,B262=7,B262=9),F262+G262,0)","v":0},{"$f":"IF(OR(B262=7,B262=9),H262+I262,0)","v":0},{"$f":"IF(B262=9,J262+K262,0)","v":0},{"$f":"IF(OR(B262=\"6C\",B262=\"7C\"),D262+E262,0)","v":0},{"$f":"IF(B262=\"4B\",F262+G262,0)","v":0},{"$f":"IF(OR(B262=\"7B\",B262=\"7C\",B262=\"9B\"),H262+I262,0)","v":0},{"$f":"IF(OR(B262=\"9B\"),J262+K262,0)","v":0},{"$f":"IF((B262=\"5C\"),E262+F262+G262,0)","v":0},{"$f":"IF(B262=6,F262+G262+H262,0)","v":0},{"$f":"IF((B262=\"5D\"),E262+F262+G262,0)","v":0},{"$f":"IF(OR(B262=\"6B\",B262=\"6C\"),F262+G262+H262,0)","v":0},null,0,0,0,0,0,0,0,0,0,0,0,0,0,0,0,{"$f":"((AA262*10)/132)^$K$1","v":0},{"$f":"((AB262*10)/132)^$K$1","v":0},{"$f":"SUM(AD262:AT262)","v":0}]
[1,3,null,null,null,null,null,null,null,null,null,0,0,0,0,0,0,0,0,0,0,0,0,0,0,0,0,0,null,0,0,0,0,0,0,0,0,0,0,0,0,0,0,0,0,0,0]
[1,3,null,null,null,null,null,null,null,null,null,0,0,0,0,0,0,0,0,0,0,0,0,0,0,0,0,0,null,0,0,0,0,0,0,0,0,0,0,0,0,0,0,0,0,0,0]
[1,3,null,null,null,null,null,null,null,null,null,0,0,0,0,0,0,0,0,0,0,0,0,0,0,0,0,0,null,0,0,0,0,0,0,0,0,0,0,0,0,0,0,0,0,0,0]
[1,3,null,null,null,null,null,null,null,null,null,0,0,0,0,0,0,0,0,0,0,0,0,0,0,0,0,0,null,0,0,0,0,0,0,0,0,0,0,0,0,0,0,0,0,0,0]
[1,3,null,null,null,null,null,null,null,null,null,0,0,0,0,0,0,0,0,0,0,0,0,0,0,0,0,0,null,0,0,0,0,0,0,0,0,0,0,0,0,0,0,0,0,0,0]
[1,3,null,null,null,null,null,null,null,null,null,0,0,0,0,0,0,0,0,0,0,0,0,0,0,0,0,0,null,0,0,0,0,0,0,0,0,0,0,0,0,0,0,0,0,0,0]
[1,3,null,null,null,null,null,null,null,null,null,0,0,0,0,0,0,0,0,0,0,0,0,0,0,0,0,0,null,0,0,0,0,0,0,0,0,0,0,0,0,0,0,0,0,0,0]
[1,3,null,null,null,null,null,null,null,null,null,0,0,0,0,0,0,0,0,0,0,0,0,0,0,0,0,0,null,0,0,0,0,0,0,0,0,0,0,0,0,0,0,0,0,0,0]
[1,3,null,null,null,null,null,null,null,null,null,0,0,0,0,0,0,0,0,0,0,0,0,0,0,0,0,0,null,0,0,0,0,0,0,0,0,0,0,0,0,0,0,0,0,0,0]
[1,3,null,null,null,null,null,null,null,null,null,0,0,0,0,0,0,0,0,0,0,0,0,0,0,0,0,0,null,0,0,0,0,0,0,0,0,0,0,0,0,0,0,0,0,0,0]
[1,3,null,null,null,null,null,null,null,null,null,0,0,0,0,0,0,0,0,0,0,0,0,0,0,0,0,0,null,0,0,0,0,0,0,0,0,0,0,0,0,0,0,0,0,0,0]
[1,3,null,null,null,null,null,null,null,null,null,0,0,0,0,0,0,0,0,0,0,0,0,0,0,0,0,0,null,0,0,0,0,0,0,0,0,0,0,0,0,0,0,0,0,0,0]
[1,3,null,null,null,null,null,null,null,null,null,0,0,0,0,0,0,0,0,0,0,0,0,0,0,0,0,0,null,0,0,0,0,0,0,0,0,0,0,0,0,0,0,0,0,0,0]
[1,3,null,null,null,null,null,null,null,null,null,0,0,0,0,0,0,0,0,0,0,0,0,0,0,0,0,0,null,0,0,0,0,0,0,0,0,0,0,0,0,0,0,0,0,0,0]
[1,3,null,null,null,null,null,null,null,null,null,0,0,0,0,0,0,0,0,0,0,0,0,0,0,0,0,0,null,0,0,0,0,0,0,0,0,0,0,0,0,0,0,0,0,0,0]
[1,3,null,null,null,null,null,null,null,null,null,0,0,0,0,0,0,0,0,0,0,0,0,0,0,0,0,0,null,0,0,0,0,0,0,0,0,0,0,0,0,0,0,0,0,0,0]
[1,3,null,null,null,null,null,null,null,null,null,0,0,0,0,0,0,0,0,0,0,0,0,0,0,0,0,0,null,0,0,0,0,0,0,0,0,0,0,0,0,0,0,0,0,0,0]
[1,3,null,null,null,null,null,null,null,null,null,0,0,0,0,0,0,0,0,0,0,0,0,0,0,0,0,0,null,0,0,0,0,0,0,0,0,0,0,0,0,0,0,0,0,0,0]
[1,3,null,null,null,null,null,null,null,null,null,0,0,0,0,0,0,0,0,0,0,0,0,0,0,0,0,0,null,0,0,0,0,0,0,0,0,0,0,0,0,0,0,0,0,0,0]
[1,3,null,null,null,null,null,null,null,null,null,0,0,0,0,0,0,0,0,0,0,0,0,0,0,0,0,0,null,0,0,0,0,0,0,0,0,0,0,0,0,0,0,0,0,0,0]
[1,3,null,null,null,null,null,null,null,null,null,0,0,0,0,0,0,0,0,0,0,0,0,0,0,0,0,0,null,0,0,0,0,0,0,0,0,0,0,0,0,{"$f":"((X283*10)/98)^$K$1","v":0},0,0,0,0,0]
[1,3,null,null,null,null,null,null,null,null,null,0,0,0,0,0,0,0,0,0,0,0,0,0,0,0,0,0,null,{"$f":"((L284*10)/58)^$K$1","v":0},{"$f":"((M284*10)/58)^$K$1","v":0},{"$f":"((N284*10)/80)^$K$1","v":0},{"$f":"((O284*10)/80)^$K$1","v":0},0,0,0,0,0,{"$f":"((U284*10)/98)^$K$1","v":0},{"$f":"((V284*10)/98)^$K$1","v":0},{"$f":"((W284*10)/98)^$K$1","v":0},0,0,0,0,0,0]
[1,3,null,null,null,null,null,null,null,null,null,0,0,0,0,0,0,0,0,0,0,0,0,0,0,0,0,0,null,0,0,0,0,0,0,0,0,0,0,0,0,0,0,0,0,0,0]
[1,3,null,null,null,null,null,null,null,null,null,0,0,0,0,0,0,0,0,0,0,0,0,0,0,0,0,0,null,0,0,0,0,0,0,0,0,0,0,0,0,0,0,0,0,0,0]
[1,3,null,null,null,null,null,null,null,null,null,0,0,0,0,0,0,0,0,0,0,0,0,0,0,0,0,0,null,0,0,0,0,0,0,0,0,0,0,0,0,0,0,0,0,0,0]
[1,3,null,null,null,null,null,null,null,null,null,0,0,0,0,0,0,0,0,0,0,0,0,0,0,0,0,0,null,0,0,0,0,0,0,0,0,0,0,0,0,0,0,0,0,0,0]
[1,3,null,null,null,null,null,null,null,null,null,0,0,0,0,0,0,0,0,0,0,0,0,0,0,0,0,0,null,0,0,0,0,0,0,0,0,0,0,0,0,0,0,0,0,0,0]
[1,3,null,null,null,null,null,null,null,null,null,0,0,0,0,0,0,0,0,0,0,0,0,0,0,0,0,0,null,0,0,0,0,0,0,0,0,0,0,0,0,0,0,0,0,0,0]
[1,3,null,null,null,null,null,null,null,null,null,0,0,0,0,0,0,0,0,0,0,0,0,0,0,0,0,0,null,0,0,0,0,0,0,0,0,0,0,0,0,0,0,0,0,0,0]
[1,3,null,null,null,null,null,null,null,null,null,0,0,0,0,0,0,0,0,0,0,0,0,0,0,0,0,0,null,0,0,0,0,0,0,0,0,0,0,0,0,0,0,0,0,0,0]
[1,3,null,null,null,null,null,null,null,null,null,0,0,0,0,0,0,0,0,0,0,0,0,0,0,0,0,0,null,0,0,0,0,0,0,0,0,0,0,0,0,0,0,0,0,0,0]
[1,"3B",null,null,null,null,null,null,null,null,null,0,0,0,0,0,0,0,0,0,0,0,0,0,0,0,0,0,null,0,0,0,0,0,0,0,0,0,0,0,0,0,0,0,0,0,0]
[1,"3C",null,null,null,null,null,null,null,null,null,0,0,0,0,0,0,0,0,0,0,0,0,0,0,0,0,0,null,0,0,0,0,0,0,0,0,0,0,0,0,0,0,0,0,0,0]
[1,4,null,null,null,null,null,null,null,null,null,0,0,0,0,0,0,0,0,0,0,0,0,0,0,0,0,0,null,0,0,0,0,0,0,0,0,0,0,0,0,0,0,0,0,0,0]
[1,"4B",null,null,null,null,null,null,null,null,null,0,0,0,0,0,0,0,0,0,0,0,0,0,0,0,0,0,null,0,0,0,0,0,0,0,0,0,0,0,0,0,0,0,0,0,0]
[1,5,null,null,null,null,null,null,null,null,null,0,0,0,0,0,0,0,0,0,0,0,0,0,0,0,0,0,null,0,0,0,0,0,0,0,0,0,0,0,0,0,0,0,0,0,0]
[1,"5B",null,null,null,null,null,null,null,null,null,0,0,0,0,0,0,0,0,0,0,0,0,0,0,0,0,0,null,0,0,0,0,0,0,0,0,0,0,0,0,0,0,0,0,0,0]
[1,6,null,null,null,null,null,null,null,null,null,0,0,0,0,0,0,0,0,0,0,0,0,0,0,0,0,0,null,0,0,0,0,0,0,0,0,0,0,0,0,0,0,0,0,0,0]
[1,"6B",null,null,null,null,null,null,null,null,null,0,0,0,0,0,0,0,0,0,0,0,0,0,0,0,0,0,null,0,0,0,0,0,0,0,0,0,0,0,0,0,0,0,0,0,0]
[1,7,null,null,null,null,null,null,null,null,null,0,0,0,0,0,0,0,0,0,0,0,0,0,0,0,0,0,null,0,0,0,0,0,0,0,0,0,0,0,0,0,0,0,0,0,0]
[1,"7B",null,null,null,null,null,null,null,null,null,0,0,0,0,0,0,0,0,0,0,0,0,0,0,0,0,0,null,0,0,0,0,0,0,0,0,0,0,0,0,0,0,0,0,0,0]
[1,9,null,null,null,null,null,null,null,null,null,0,0,0,0,0,0,0,0,0,0,0,0,0,0,0,0,0,null,0,0,0,0,0,0,0,0,0,0,0,0,0,0,0,0,0,0]
[1,"9B",null,null,null,null,null,null,null,null,null,0,0,0,0,0,0,0,0,0,0,0,0,0,0,0,0,0,null,0,0,0,0,0,0,0,0,0,0,0,0,0,0,0,0,0,0]
[1,2,4,8,null,null,null,null,null,null,null,4,0,8,0,0,0,0,0,0,0,0,0,0,0,0,0,0,null,0.22621843369184247,0,1,0,0,{"$f":"((Q306*10)/135)^$K$1","v":0},{"$f":"((R306*10)/135)^$K$1","v":0},{"$f":"((S306*10)/135)^$K$1","v":0},{"$f":"((T306*10)/135)^$K$1","v":0},0,{"$f":"((V306*10)/98)^$K$1","v":0},{"$f":"((W306*10)/98)^$K$1","v":0},{"$f":"((X306*10)/98)^$K$1","v":0},0,0,0,0,1.2262184336918425,null,20]
[1,3,null,null,null,null,null,null,null,null,null,0,0,0,0,0,0,0,0,0,0,0,0,0,0,0,0,0,null,0,0,0,0,0,0,0,0,0,0,0,0,0,0,0,0,0,0,null,30]
[1,3,null,null,null,null,null,null,null,null,null,0,0,0,0,0,0,0,0,0,0,0,0,0,0,0,0,0,null,0,0,0,0,0,0,0,0,0,0,0,0,0,0,0,0,0,0,null,40]
[1,3,null,null,null,null,null,null,null,null,null,0,0,0,0,0,0,0,0,0,0,0,0,0,0,0,0,0,null,0,0,0,0,0,0,0,0,0,0,0,0,0,0,0,0,0,0,null,50]
[1,3,null,null,null,null,null,null,null,null,null,0,0,0,0,0,0,0,0,0,0,0,0,0,0,0,0,0,null,0,0,0,0,0,0,0,0,0,0,0,0,0,0,0,0,0,0,null,60]
[1,3,null,null,null,null,null,null,null,null,null,0,0,0,0,0,0,0,0,0,0,0,0,0,0,0,0,0,null,0,0,0,0,0,0,0,0,0,0,0,0,0,0,0,0,0,0,null,70]
[1,"3B",6,10,8,null,null,null,null,null,null,6,0,10,8,0,0,0,0,0,0,0,0,0,0,0,0,0,null,1.1452308205649526,0,2.44140625,1,0,0,0,0,0,0,0,0,0,0,0,0,0,4.5866370705649526,null,80]
[1,3,null,null,null,null,null,null,null,null,null,0,0,0,0,0,0,0,0,0,0,0,0,0,0,0,0,0,null,0,0,0,0,0,0,0,0,0,0,0,0,0,0,0,0,0,0,null,90]
[1,3,null,null,null,null,null,null,null,null,null,0,0,0,0,0,0,0,0,0,0,0,0,0,0,0,0,0,null,0,0,0,0,0,0,0,0,0,0,0,0,0,0,0,0,0,0,null,100]
[1,3,null,null,null,null,null,null,null,null,null,0,0,0,0,0,0,0,0,0,0,0,0,0,0,0,0,0,null,0,0,0,0,0,0,0,0,0,0,0,0,0,0,0,0,0,0,null,110]
[1,3,null,null,null,null,null,null,null,null,null,0,0,0,0,0,0,0,0,0,0,0,0,0,0,0,0,0,null,0,0,0,0,0,0,0,0,0,{"$f":"((U316*10)/98)^$K$1","v":0},0,0,0,0,0,0,0,0,null,120]
[1,3,null,null,null,null,null,null,null,null,null,0,0,0,0,0,0,0,0,0,0,0,0,0,0,0,0,0,null,0,0,0,0,0,0,0,0,0,0,0,0,0,0,0,0,0,0,null,130]
[1,3,null,null,null,null,null,null,null,null,null,0,0,0,0,0,0,0,0,0,0,0,0,0,0,0,0,0,null,0,0,0,0,0,0,0,0,0,0,0,0,0,0,0,0,0,0,null,140]
[1,3,null,null,null,null,null,null,null,null,null,0,0,0,0,0,0,0,0,0,0,0,0,0,0,0,0,0,null,0,0,0,0,0,0,0,0,0,0,0,0,0,0,0,0,0,0,null,150]
[1,3,null,null,null,null,null,null,null,null,null,0,0,0,0,0,0,0,0,0,0,0,0,0,0,0,0,0,null,0,0,0,0,0,0,0,0,0,0,0,0,0,0,0,0,0,0,null,160]
[1,3,null,null,null,null,null,null,null,null,null,0,0,0,0,0,0,0,0,0,0,0,0,0,0,0,0,0,null,0,0,0,0,0,0,0,0,0,0,0,0,0,0,0,0,0,0,null,170]
[1,"3C",6,8,4,null,null,null,null,null,null,6,0,0,0,0,0,0,0,0,0,0,0,0,0,0,0,0,null,1.1452308205649526,0,0,0,{"$f":"((P322*10)/135)^$K$1","v":0},0,0,0,0,0,0,0,0,0,0,0,0,1.1452308205649526,null,180]
[1,3,null,null,null,null,null,null,null,null,null,0,0,0,0,0,0,0,0,0,0,0,0,0,0,0,0,0,null,0,0,0,0,0,0,0,0,0,0,0,0,0,0,0,0,0,0,null,190]
[1,3,null,null,null,null,null,null,null,null,null,0,0,0,0,0,0,0,0,0,0,0,0,0,0,0,0,0,null,0,0,0,0,0,0,0,0,0,0,0,0,0,0,0,0,0,0,null,200]
[1,3,null,null,null,null,null,null,null,null,null,0,0,0,0,0,0,0,0,0,0,0,0,0,0,0,0,0,null,0,0,0,0,0,0,0,0,0,0,0,0,0,{"$f":"((Y325*10)/182)^$K$1","v":0},{"$f":"((Z325*10)/182)^$K$1","v":0},0,0,0,null,210]
[1,3,null,null,null,null,null,null,null,null,null,{"$f":"C326","v":0},{"$f":"IF(B326=4,D326,0)","v":0},{"$f":"IF(OR(B326=2,B326=\"3B\",B326=\"5C\",B326=\"5D\"),D326,0)","v":0},{"$f":"IF(B326=\"3B\",E326,0)","v":0},{"$f":"IF(OR(B326=3,B326=5,B326=\"5B\",B326=6,B326=\"6B\",B326=7,B326=\"7B\",B326=9,B326=\"9B\"),D326+E326,0)","v":0},{"$f":"IF(B326=4,E326+F326,0)","v":0},{"$f":"IF(OR(B326=5,B326=7,B326=9),F326+G326,0)","v":0},{"$f":"IF(OR(B326=7,B326=9),H326+I326,0)","v":0},{"$f":"IF(B326=9,J326+K326,0)","v":0},{"$f":"IF(OR(B326=\"6C\",B326=\"7C\"),D326+E326,0)","v":0},{"$f":"IF(B326=\"4B\",F326+G326,0)","v":0},{"$f":"IF(OR(B326=\"7B\",B326=\"7C\",B326=\"9B\"),H326+I326,0)","v":0},{"$f":"IF(OR(B326=\"9B\"),J326+K326,0)","v":0},{"$f":"IF((B326=\"5C\"),E326+F326+G326,0)","v":0},{"$f":"IF(B326=6,F326+G326+H326,0)","v":0},{"$f":"IF((B326=\"5D\"),E326+F326+G326,0)","v":0},{"$f":"IF(OR(B326=\"6B\",B326=\"6C\"),F326+G326+H326,0)","v":0},null,0,0,0,0,0,0,0,0,0,0,0,0,0,0,0,{"$f":"((AA326*10)/132)^$K$1","v":0},{"$f":"((AB326*10)/132)^$K$1","v":0},{"$f":"SUM(AD326:AT326)","v":0},null,220]
[1,3,null,null,null,null,null,null,null,null,null,0,0,0,0,0,0,0,0,0,0,0,0,0,0,0,0,0,null,0,0,0,0,0,0,0,0,0,0,0,0,0,0,0,0,0,0,null,230]
[1,3,null,null,null,null,null,null,null,null,null,0,0,0,0,0,0,0,0,0,0,0,0,0,0,0,0,0,null,0,0,0,0,0,0,0,0,0,0,0,0,0,0,0,0,0,0,null,240]
[1,3,null,null,null,null,null,null,null,null,null,0,0,0,0,0,0,0,0,0,0,0,0,0,0,0,0,0,null,0,0,0,0,0,0,0,0,0,0,0,0,0,0,0,0,0,0,null,250]
[1,4,6,6,8,9,null,null,null,null,null,6,6,0,0,0,17,0,0,0,0,0,0,0,0,0,0,0,null,1.1452308205649526,1.1452308205649526,0,0,0,2.5145519446185003,0,0,0,0,0,0,0,0,0,0,0,4.8050135857484051,null,260]
[1,3,null,null,null,null,null,null,null,null,null,0,0,0,0,0,0,0,0,0,0,0,0,0,0,0,0,0,null,0,0,0,0,0,0,0,0,0,0,0,0,0,0,0,0,0,0,null,270]
[1,3,null,null,null,null,null,null,null,null,null,0,0,0,0,0,0,0,0,0,0,0,0,0,0,0,0,0,null,0,0,0,0,0,0,0,0,0,0,0,0,0,0,0,0,0,0,null,280]
[1,3,null,null,null,null,null,null,null,null,null,0,0,0,0,0,0,0,0,0,0,0,0,0,0,0,0,0,null,0,0,0,0,0,0,0,0,0,0,0,0,0,0,0,0,0,0,null,290]
[1,3,null,null,null,null,null,null,null,null,null,0,0,0,0,0,0,0,0,0,0,0,0,0,0,0,0,0,null,0,0,0,0,0,0,0,0,0,0,0,0,0,0,0,0,0,0,null,300]
[1,"4B",6,6,10,10,null,null,null,null,null,6,0,0,0,0,0,0,0,0,0,10,0,0,0,0,0,0,null,1.1452308205649526,0,0,0,0,0,0,0,0,0,1.0841657847339399,0,0,0,0,0,0,2.2293966052988923,null,310]
[1,3,null,null,null,null,null,null,null,null,null,0,0,0,0,0,0,0,0,0,0,0,0,0,0,0,0,0,null,0,0,0,0,0,0,0,0,0,0,0,0,0,0,0,0,0,0,null,320]
[1,3,null,null,null,null,null,null,null,null,null,0,0,0,0,0,0,0,0,0,0,0,0,0,0,0,0,0,null,0,0,0,0,0,0,0,0,0,0,0,0,0,0,0,0,0,0,null,330]
[1,3,null,null,null,null,null,null,null,null,null,0,0,0,0,0,0,0,0,0,0,0,0,0,0,0,0,0,null,0,0,0,0,0,{"$f":"((Q338*10)/135)^$K$1","v":0},{"$f":"((R338*10)/135)^$K$1","v":0},{"$f":"((S338*10)/135)^$K$1","v":0},{"$f":"((T338*10)/135)^$K$1","v":0},0,{"$f":"((V338*10)/98)^$K$1","v":0},{"$f":"((W338*10)/98)^$K$1","v":0},{"$f":"((X338*10)/98)^$K$1","v":0},0,0,0,0,0,null,340]
[1,3,null,null,null,null,null,null,null,null,null,0,0,0,0,0,0,0,0,0,0,0,0,0,0,0,0,0,null,0,0,0,0,0,0,0,0,0,0,0,0,0,0,0,0,0,0,null,350]
[1,3,null,null,null,null,null,null,null,null,null,0,0,0,0,0,0,0,0,0,0,0,0,0,0,0,0,0,null,0,0,0,0,0,0,0,0,0,0,0,0,0,0,0,0,0,0,null,"Sum",null,{"$f":"SUM(AY305:AY339)","v":0}]
[1,3,null,null,null,null,null,null,null,null,null,0,0,0,0,0,0,0,0,0,0,0,0,0,0,0,0,0,null,0,0,0,0,0,0,0,0,0,0,0,0,0,0,0,0,0,0]
[1,3,null,null,null,null,null,null,null,null,null,0,0,0,0,0,0,0,0,0,0,0,0,0,0,0,0,0,null,0,0,0,0,0,0,0,0,0,0,0,0,0,0,0,0,0,0]
[1,3,null,null,null,null,null,null,null,null,null,0,0,0,0,0,0,0,0,0,0,0,0,0,0,0,0,0,null,0,0,0,0,0,0,0,0,0,0,0,0,0,0,0,0,0,0]
[1,3,null,null,null,null,null,null,null,null,null,0,0,0,0,0,0,0,0,0,0,0,0,0,0,0,0,0,null,0,0,0,0,0,0,0,0,0,0,0,0,0,0,0,0,0,0]
[1,5,null,null,null,null,null,null,null,null,null,0,0,0,0,0,0,0,0,0,0,0,0,0,0,0,0,0,null,0,0,0,0,0,0,0,0,0,0,0,0,0,0,0,0,0,0]
[1,3,null,null,null,null,null,null,null,null,null,0,0,0,0,0,0,0,0,0,0,0,0,0,0,0,0,0,null,0,0,0,0,0,0,0,0,0,0,0,0,0,0,0,0,0,0]
[1,3,null,null,null,null,null,null,null,null,null,0,0,0,0,0,0,0,0,0,0,0,0,0,0,0,0,0,null,0,0,0,0,0,0,0,0,0,0,0,0,0,0,0,0,0,0]
[1,3,null,null,null,null,null,null,null,null,null,0,0,0,0,0,0,0,0,0,0,0,0,0,0,0,0,0,null,{"$f":"((L348*10)/58)^$K$1","v":0},{"$f":"((M348*10)/58)^$K$1","v":0},{"$f":"((N348*10)/80)^$K$1","v":0},{"$f":"((O348*10)/80)^$K$1","v":0},0,0,0,0,0,{"$f":"((U348*10)/98)^$K$1","v":0},0,0,0,0,0,0,0,0]
[1,3,null,null,null,null,null,null,null,null,null,0,0,0,0,0,0,0,0,0,0,0,0,0,0,0,0,0,null,0,0,0,0,0,0,0,0,0,0,0,0,0,0,0,0,0,0]
[1,3,null,null,null,null,null,null,null,null,null,0,0,0,0,0,0,0,0,0,0,0,0,0,0,0,0,0,null,0,0,0,0,0,0,0,0,0,0,0,0,0,0,0,0,0,0]
[1,"5B",4,6,6,9,9,null,null,null,null,4,0,0,0,12,0,0,0,0,0,0,0,0,0,0,0,0,null,0.22621843369184247,0,0,0,0.62429507696997399,0,0,0,0,0,0,0,0,0,0,0,0,0.85051351066181646]
[1,3,null,null,null,null,null,null,null,null,null,0,0,0,0,0,0,0,0,0,0,0,0,0,0,0,0,0,null,0,0,0,0,0,0,0,0,0,0,0,0,0,0,0,0,0,0]
[1,3,null,null,null,null,null,null,null,null,null,0,0,0,0,0,0,0,0,0,0,0,0,0,0,0,0,0,null,0,0,0,0,0,0,0,0,0,0,0,0,0,0,0,0,0,0]
[1,3,null,null,null,null,null,null,null,null,null,0,0,0,0,0,0,0,0,0,0,0,0,0,0,0,0,0,null,0,0,0,0,0,0,0,0,0,0,0,0,0,0,0,0,0,0]
[1,3,null,null,null,null,null,null,null,null,null,0,0,0,0,0,0,0,0,0,0,0,0,0,0,0,0,0,null,0,0,0,0,0,0,0,0,0,0,0,0,0,0,0,0,0,0]
[1,3,null,null,null,null,null,null,null,null,null,0,0,0,0,0,0,0,0,0,0,0,0,0,0,0,0,0,null,0,0,0,0,0,0,0,0,0,0,0,0,0,0,0,0,0,0]
[1,3,null,null,null,null,null,null,null,null,null,0,0,0,0,0,0,0,0,0,0,0,0,0,0,0,0,0,null,0,0,0,0,0,0,0,0,0,0,0,0,0,0,0,0,0,0]
[1,6,5,6,6,9,9,9,null,null,null,5,0,0,0,12,0,0,0,0,0,0,0,0,0,27,0,0,null,0.55229109788047448,0,0,0,0.62429507696997399,0,0,0,0,0,0,0,0,0,4.8436137645050952,0,0,6.0201999393555434]
[1,3,null,null,null,null,null,null,null,null,null,0,0,0,0,0,0,0,0,0,0,0,0,0,0,0,0,0,null,0,0,0,0,0,0,0,0,0,0,0,0,0,0,0,0,0,0]
[1,3,null,null,null,null,null,null,null,null,null,0,0,0,0,0,0,0,0,0,0,0,0,0,0,0,0,0,null,0,0,0,0,0,0,0,0,0,0,0,0,0,0,0,0,0,0]
[1,3,null,null,null,null,null,null,null,null,null,0,0,0,0,0,0,0,0,0,0,0,0,0,0,0,0,0,null,0,0,0,0,0,0,0,0,0,0,0,0,0,0,0,0,0,0]
[1,3,null,null,null,null,null,null,null,null,null,0,0,0,0,0,0,0,0,0,0,0,0,0,0,0,0,0,null,0,0,0,0,0,0,0,0,0,0,0,0,0,0,0,0,0,0]
[1,"6B",5,7,7,9,9,9,null,null,null,5,0,0,0,14,0,0,0,0,0,0,0,0,0,0,0,27,null,0.55229109788047448,0,0,0,1.1565837035531692,0,0,0,0,0,0,0,0,0,0,0,17.504887815039957,19.213762616473602]
[1,3,null,null,null,null,null,null,null,null,null,0,0,0,0,0,0,0,0,0,0,0,0,0,0,0,0,0,null,0,0,0,0,0,0,0,0,0,0,0,0,0,0,0,0,0,0]
[1,3,null,null,null,null,null,null,null,null,null,0,0,0,0,0,0,0,0,0,0,0,0,0,0,0,0,0,null,0,0,0,0,0,0,0,0,0,0,0,0,0,0,0,0,0,0]
[1,3,null,null,null,null,null,null,null,null,null,0,0,0,0,0,0,0,0,0,0,0,0,0,0,0,0,0,null,0,0,0,0,0,0,0,0,0,0,0,0,0,0,0,0,0,0]
[1,3,null,null,null,null,null,null,null,null,null,0,0,0,0,0,0,0,0,0,0,0,0,0,0,0,0,0,null,0,0,0,0,0,0,0,0,0,0,0,0,0,0,0,0,0,0]
[1,7,4,6,6,10,10,9,9,null,null,4,0,0,0,12,0,20,18,0,0,0,0,0,0,0,0,0,null,0.22621843369184247,0,0,0,0.62429507696997399,0,4.8170916432868358,3.1604938271604937,0,0,0,0,0,0,0,0,0,8.8280989811091466]
[1,3,null,null,null,null,null,null,null,null,null,0,0,0,0,0,0,0,0,0,0,0,0,0,0,0,0,0,null,0,0,0,0,0,0,0,0,0,0,0,0,0,0,0,0,0,0]
[1,3,null,null,null,null,null,null,null,null,null,0,0,0,0,0,0,0,0,0,0,0,0,0,0,0,0,0,null,0,0,0,0,0,{"$f":"((Q370*10)/135)^$K$1","v":0},{"$f":"((R370*10)/135)^$K$1","v":0},{"$f":"((S370*10)/135)^$K$1","v":0},{"$f":"((T370*10)/135)^$K$1","v":0},0,{"$f":"((V370*10)/98)^$K$1","v":0},{"$f":"((W370*10)/98)^$K$1","v":0},{"$f":"((X370*10)/98)^$K$1","v":0},0,0,0,0,0]
[1,"7B",4,6,6,10,10,9,9,null,null,4,0,0,0,12,0,0,0,0,0,0,18,0,0,0,0,0,null,0.22621843369184247,0,0,0,0.62429507696997399,0,0,0,0,{"$f":"((U371*10)/98)^$K$1","v":0},0,11.381138741823007,0,0,0,0,0,12.231652252484823]
[1,3,null,null,null,null,null,null,null,null,null,0,0,0,0,0,0,0,0,0,0,0,0,0,0,0,0,0,null,0,0,0,0,0,0,0,0,0,0,0,0,0,0,0,0,0,0]
[1,3,null,null,null,null,null,null,null,null,null,0,0,0,0,0,0,0,0,0,0,0,0,0,0,0,0,0,null,0,0,0,0,0,0,0,0,0,0,0,0,0,0,0,0,0,0]
[1,3,null,null,null,null,null,null,null,null,null,0,0,0,0,0,0,0,0,0,0,0,0,0,0,0,0,0,null,0,0,0,0,0,0,0,0,0,0,0,0,0,0,0,0,0,0]
[1,3,null,null,null,null,null,null,null,null,null,0,0,0,0,0,0,0,0,0,0,0,0,0,0,0,0,0,null,0,0,0,0,0,0,0,0,0,0,0,0,0,0,0,0,0,0]
[1,3,null,null,null,null,null,null,null,null,null,0,0,0,0,0,0,0,0,0,0,0,0,0,0,0,0,0,null,0,0,0,0,0,0,0,0,0,0,0,0,0,0,0,0,0,0]
[1,9,4,4,6,6,7,7,7,7,8,4,0,0,0,10,0,13,14,15,0,0,0,0,0,0,0,0,null,0.22621843369184247,0,0,0,0.30106822770542724,0,0.85988096514947066,1.1565837035531692,1.5241579027587262,0,0,0,0,0,0,0,0,4.0679092328586357]
[1,3,null,null,null,null,null,null,null,null,null,0,0,0,0,0,0,0,0,0,0,0,0,0,0,0,0,0,null,0,0,0,0,0,0,0,0,0,0,0,0,0,0,0,0,0,0]
[1,3,null,null,null,null,null,null,null,null,null,0,0,0,0,0,0,0,0,0,0,0,0,0,0,0,0,0,null,0,0,0,0,0,0,0,0,0,0,0,0,0,0,0,0,0,0]
[1,3,null,null,null,null,null,null,null,null,null,0,0,0,0,0,0,0,0,0,0,0,0,0,0,0,0,0,null,0,0,0,0,0,0,0,0,0,0,0,0,0,0,0,0,0,0]
[1,3,null,null,null,null,null,null,null,null,null,0,0,0,0,0,0,0,0,0,0,0,0,0,0,0,0,0,null,0,0,0,0,0,0,0,0,0,0,0,0,0,0,0,0,0,0]
[1,3,null,null,null,null,null,null,null,null,null,0,0,0,0,0,0,0,0,0,0,0,0,0,0,0,0,0,null,0,0,0,0,0,0,0,0,0,0,0,0,0,0,0,0,0,0]
[1,"9B",4,4,6,6,7,9,9,7,8,4,0,0,0,10,0,0,0,0,0,0,18,15,0,0,0,0,null,0.22621843369184247,0,0,0,0.30106822770542724,0,0,0,0,0,0,11.381138741823007,5.4885892852155678,0,0,0,0,17.397014688435846]
[1,3,null,null,null,null,null,null,null,null,null,0,0,0,0,0,0,0,0,0,0,0,0,0,0,0,0,0,null,0,0,0,0,0,0,0,0,0,0,0,0,0,0,0,0,0,0]
[1,3,null,null,null,null,null,null,null,null,null,0,0,0,0,0,0,0,0,0,0,0,0,0,0,0,0,0,null,0,0,0,0,0,0,0,0,0,0,0,0,0,0,0,0,0,0]
[1,3,null,null,null,null,null,null,null,null,null,0,0,0,0,0,0,0,0,0,0,0,0,0,0,0,0,0,null,0,0,0,0,{"$f":"((P386*10)/135)^$K$1","v":0},0,0,0,0,0,0,0,0,0,0,0,0,0]
[1,3,null,null,null,null,null,null,null,null,null,0,0,0,0,0,0,0,0,0,0,0,0,0,0,0,0,0,null,0,0,0,0,0,0,0,0,0,0,0,0,0,0,0,0,0,0]
[1,3,null,null,null,null,null,null,null,null,null,0,0,0,0,0,0,0,0,0,0,0,0,0,0,0,0,0,null,0,0,0,0,0,0,0,0,0,0,0,0,0,0,0,0,0,0]
[1,3,null,null,null,null,null,null,null,null,null,0,0,0,0,0,0,0,0,0,0,0,0,0,0,0,0,0,null,0,0,0,0,0,0,0,0,0,0,0,0,0,{"$f":"((Y389*10)/182)^$K$1","v":0},{"$f":"((Z389*10)/182)^$K$1","v":0},0,0,0]
[1,3,null,null,null,null,null,null,null,null,null,{"$f":"C390","v":0},{"$f":"IF(B390=4,D390,0)","v":0},{"$f":"IF(OR(B390=2,B390=\"3B\",B390=\"5C\",B390=\"5D\"),D390,0)","v":0},{"$f":"IF(B390=\"3B\",E390,0)","v":0},{"$f":"IF(OR(B390=3,B390=5,B390=\"5B\",B390=6,B390=\"6B\",B390=7,B390=\"7B\",B390=9,B390=\"9B\"),D390+E390,0)","v":0},{"$f":"IF(B390=4,E390+F390,0)","v":0},{"$f":"IF(OR(B390=5,B390=7,B390=9),F390+G390,0)","v":0},{"$f":"IF(OR(B390=7,B390=9),H390+I390,0)","v":0},{"$f":"IF(B390=9,J390+K390,0)","v":0},{"$f":"IF(OR(B390=\"6C\",B390=\"7C\"),D390+E390,0)","v":0},{"$f":"IF(B390=\"4B\",F390+G390,0)","v":0},{"$f":"IF(OR(B390=\"7B\",B390=\"7C\",B390=\"9B\"),H390+I390,0)","v":0},{"$f":"IF(OR(B390=\"9B\"),J390+K390,0)","v":0},{"$f":"IF((B390=\"5C\"),E390+F390+G390,0)","v":0},{"$f":"IF(B390=6,F390+G390+H390,0)","v":0},{"$f":"IF((B390=\"5D\"),E390+F390+G390,0)","v":0},{"$f":"IF(OR(B390=\"6B\",B390=\"6C\"),F390+G390+H390,0)","v":0},null,0,0,0,0,0,0,0,0,0,0,0,0,0,0,0,{"$f":"((AA390*10)/132)^$K$1","v":0},{"$f":"((AB390*10)/132)^$K$1","v":0},{"$f":"SUM(AD390:AT390)","v":0}]
[1,3,null,null,null,null,null,null,null,null,null,0,0,0,0,0,0,0,0,0,0,0,0,0,0,0,0,0,null,0,0,0,0,0,0,0,0,0,0,0,0,0,0,0,0,0,0]
[1,3,null,null,null,null,null,null,null,null,null,0,0,0,0,0,0,0,0,0,0,0,0,0,0,0,0,0,null,0,0,0,0,0,0,0,0,0,0,0,0,0,0,0,0,0,0]
[1,3,null,null,null,null,null,null,null,null,null,0,0,0,0,0,0,0,0,0,0,0,0,0,0,0,0,0,null,0,0,0,0,0,0,0,0,0,0,0,0,0,0,0,0,0,0]
[1,3,null,null,null,null,null,null,null,null,null,0,0,0,0,0,0,0,0,0,0,0,0,0,0,0,0,0,null,0,0,0,0,0,0,0,0,0,0,0,0,0,0,0,0,0,0]
[1,3,null,null,null,null,null,null,null,null,null,0,0,0,0,0,0,0,0,0,0,0,0,0,0,0,0,0,null,0,0,0,0,0,0,0,0,0,0,0,0,0,0,0,0,0,0]
[1,3,null,null,null,null,null,null,null,null,null,0,0,0,0,0,0,0,0,0,0,0,0,0,0,0,0,0,null,0,0,0,0,0,0,0,0,0,0,0,0,0,0,0,0,0,0]
[1,3,null,null,null,null,null,null,null,null,null,0,0,0,0,0,0,0,0,0,0,0,0,0,0,0,0,0,null,0,0,0,0,0,0,0,0,0,0,0,0,0,0,0,0,0,0]
[1,3,null,null,null,null,null,null,null,null,null,0,0,0,0,0,0,0,0,0,0,0,0,0,0,0,0,0,null,0,0,0,0,0,0,0,0,0,0,0,0,0,0,0,0,0,0]
[1,3,null,null,null,null,null,null,null,null,null,0,0,0,0,0,0,0,0,0,0,0,0,0,0,0,0,0,null,0,0,0,0,0,0,0,0,0,0,0,0,0,0,0,0,0,0]
[1,3,null,null,null,null,null,null,null,null,null,0,0,0,0,0,0,0,0,0,0,0,0,0,0,0,0,0,null,0,0,0,0,0,0,0,0,0,0,0,0,0,0,0,0,0,0]
[1,3,null,null,null,null,null,null,null,null,null,0,0,0,0,0,0,0,0,0,0,0,0,0,0,0,0,0,null,0,0,0,0,0,0,0,0,0,0,0,0,0,0,0,0,0,0]
[1,3,null,null,null,null,null,null,null,null,null,0,0,0,0,0,0,0,0,0,0,0,0,0,0,0,0,0,null,0,0,0,0,0,{"$f":"((Q402*10)/135)^$K$1","v":0},{"$f":"((R402*10)/135)^$K$1","v":0},{"$f":"((S402*10)/135)^$K$1","v":0},{"$f":"((T402*10)/135)^$K$1","v":0},0,{"$f":"((V402*10)/98)^$K$1","v":0},{"$f":"((W402*10)/98)^$K$1","v":0},{"$f":"((X402*10)/98)^$K$1","v":0},0,0,0,0,0]
[1,3,null,null,null,null,null,null,null,null,null,0,0,0,0,0,0,0,0,0,0,0,0,0,0,0,0,0,null,0,0,0,0,0,0,0,0,0,{"$f":"((U403*10)/98)^$K$1","v":0},0,0,0,0,0,0,0,0]
[1,3,null,null,null,null,null,null,null,null,null,0,0,0,0,0,0,0,0,0,0,0,0,0,0,0,0,0,null,0,0,0,0,0,0,0,0,0,0,0,0,0,0,0,0,0,0]
[1,3,null,null,null,null,null,null,null,null,null,0,0,0,0,0,0,0,0,0,0,0,0,0,0,0,0,0,null,0,0,0,0,0,0,0,0,0,0,0,0,0,0,0,0,0,0]
[1,3,null,null,null,null,null,null,null,null,null,0,0,0,0,0,0,0,0,0,0,0,0,0,0,0,0,0,null,0,0,0,0,0,0,0,0,0,0,0,0,0,0,0,0,0,0]
[1,3,null,null,null,null,null,null,null,null,null,0,0,0,0,0,0,0,0,0,0,0,0,0,0,0,0,0,null,0,0,0,0,0,0,0,0,0,0,0,0,0,0,0,0,0,0]
[1,3,null,null,null,null,null,null,null,null,null,0,0,0,0,0,0,0,0,0,0,0,0,0,0,0,0,0,null,0,0,0,0,0,0,0,0,0,0,0,0,0,0,0,0,0,0]
[1,3,null,null,null,null,null,null,null,null,null,0,0,0,0,0,0,0,0,0,0,0,0,0,0,0,0,0,null,0,0,0,0,0,{"$f":"((Q409*10)/135)^$K$1","v":0},{"$f":"((R409*10)/135)^$K$1","v":0},{"$f":"((S409*10)/135)^$K$1","v":0},{"$f":"((T409*10)/135)^$K$1","v":0},0,0,0,0,0,0,0,0,0]
[1,3,null,null,null,null,null,null,null,null,null,0,0,0,0,0,0,0,0,0,0,0,0,0,0,0,0,0,null,0,0,0,0,0,0,0,0,0,0,0,0,0,0,0,0,0,0]
[1,3,null,null,null,null,null,null,null,null,null,0,0,0,0,0,0,0,0,0,0,0,0,0,0,0,0,0,null,0,0,0,0,0,0,0,0,0,0,0,0,0,0,0,0,0,0]
[1,3,null,null,null,null,null,null,null,null,null,0,0,0,0,0,0,0,0,0,0,0,0,0,0,0,0,0,null,{"$f":"((L412*10)/58)^$K$1","v":0},{"$f":"((M412*10)/58)^$K$1","v":0},{"$f":"((N412*10)/80)^$K$1","v":0},{"$f":"((O412*10)/80)^$K$1","v":0},0,0,0,0,0,0,0,0,0,0,0,0,0,0]
[1,3,null,null,null,null,null,null,null,null,null,0,0,0,0,0,0,0,0,0,0,0,0,0,0,0,0,0,null,0,0,0,0,0,0,0,0,0,0,0,0,0,0,0,0,0,0]
[1,3,null,null,null,null,null,null,null,null,null,0,0,0,0,0,0,0,0,0,0,0,0,0,0,0,0,0,null,0,0,0,0,0,0,0,0,0,0,0,0,0,0,0,0,0,0]
[1,3,null,null,null,null,null,null,null,null,null,0,0,0,0,0,0,0,0,0,0,0,0,0,0,0,0,0,null,0,0,0,0,0,0,0,0,0,0,0,0,0,0,0,0,0,0]
[1,3,null,null,null,null,null,null,null,null,null,0,0,0,0,0,0,0,0,0,0,0,0,0,0,0,0,0,null,0,0,0,0,0,0,0,0,0,0,0,0,0,0,0,0,0,0]
[1,3,null,null,null,null,null,null,null,null,null,0,0,0,0,0,0,0,0,0,0,0,0,0,0,0,0,0,null,0,0,0,0,0,0,0,0,0,0,0,0,0,0,0,0,0,0]
[1,3,null,null,null,null,null,null,null,null,null,0,0,0,0,0,0,0,0,0,0,0,0,0,0,0,0,0,null,0,0,0,0,0,0,0,0,0,0,0,0,0,0,0,0,0,0]
[1,3,null,null,null,null,null,null,null,null,null,0,0,0,0,0,0,0,0,0,0,0,0,0,0,0,0,0,null,0,0,0,0,0,0,0,0,0,0,0,0,0,0,0,0,0,0]
[1,3,null,null,null,null,null,null,null,null,null,0,0,0,0,0,0,0,0,0,0,0,0,0,0,0,0,0,null,0,0,0,0,0,0,0,0,0,0,0,0,0,0,0,0,0,0]
[1,3,null,null,null,null,null,null,null,null,null,0,0,0,0,0,0,0,0,0,0,0,0,0,0,0,0,0,null,0,0,0,0,0,0,0,0,0,0,0,0,0,0,0,0,0,0]
[1,3,null,null,null,null,null,null,null,null,null,0,0,0,0,0,0,0,0,0,0,0,0,0,0,0,0,0,null,0,0,0,0,0,0,0,0,0,0,0,0,0,0,0,0,0,0]
[1,3,null,null,null,null,null,null,null,null,null,0,0,0,0,0,0,0,0,0,0,0,0,0,0,0,0,0,null,0,0,0,0,0,0,0,0,0,0,0,0,0,0,0,0,0,0]
[1,3,null,null,null,null,null,null,null,null,null,0,0,0,0,0,0,0,0,0,0,0,0,0,0,0,0,0,null,0,0,0,0,0,0,0,0,0,0,0,0,0,0,0,0,0,0]
[1,3,null,null,null,null,null,null,null,null,null,0,0,0,0,0,0,0,0,0,0,0,0,0,0,0,0,0,null,0,0,0,0,0,0,0,0,0,0,0,0,0,0,0,0,0,0]
[1,3,null,null,null,null,null,null,null,null,null,0,0,0,0,0,0,0,0,0,0,0,0,0,0,0,0,0,null,0,0,0,0,0,0,0,0,0,0,0,0,0,0,0,0,0,0]
[1,3,null,null,null,null,null,null,null,null,null,0,0,0,0,0,0,0,0,0,0,0,0,0,0,0,0,0,null,0,0,0,0,0,0,0,0,0,0,0,0,0,0,0,0,0,0]
[1,3,null,null,null,null,null,null,null,null,null,0,0,0,0,0,0,0,0,0,0,0,0,0,0,0,0,0,null,0,0,0,0,0,0,0,0,0,0,0,0,0,0,0,0,0,0]
[1,3,null,null,null,null,null,null,null,null,null,0,0,0,0,0,0,0,0,0,0,0,0,0,0,0,0,0,null,0,0,0,0,0,0,0,0,0,0,0,0,0,0,0,0,0,0]
[1,3,null,null,null,null,null,null,null,null,null,0,0,0,0,0,0,0,0,0,0,0,0,0,0,0,0,0,null,0,0,0,0,0,0,0,0,0,0,0,0,0,0,0,0,0,0]
[1,3,null,null,null,null,null,null,null,null,null,0,0,0,0,0,0,0,0,0,0,0,0,0,0,0,0,0,null,0,0,0,0,0,0,0,0,0,0,0,0,0,0,0,0,0,0]
[1,3,null,null,null,null,null,null,null,null,null,0,0,0,0,0,0,0,0,0,0,0,0,0,0,0,0,0,null,0,0,0,0,0,0,0,0,0,0,0,0,0,0,0,0,0,0]
[1,3,null,null,null,null,null,null,null,null,null,0,0,0,0,0,0,0,0,0,0,0,0,0,0,0,0,0,null,0,0,0,0,0,0,0,0,0,0,0,0,0,0,0,0,0,0]
[1,3,null,null,null,null,null,null,null,null,null,0,0,0,0,0,0,0,0,0,0,0,0,0,0,0,0,0,null,0,0,0,0,0,0,0,0,0,0,{"$f":"((V434*10)/98)^$K$1","v":0},{"$f":"((W434*10)/98)^$K$1","v":0},{"$f":"((X434*10)/98)^$K$1","v":0},0,0,0,0,0]
[1,3,null,null,null,null,null,null,null,null,null,0,0,0,0,0,0,0,0,0,0,0,0,0,0,0,0,0,null,0,0,0,0,0,0,0,0,0,{"$f":"((U435*10)/98)^$K$1","v":0},0,0,0,0,0,0,0,0]
[1,3,null,null,null,null,null,null,null,null,null,0,0,0,0,0,0,0,0,0,0,0,0,0,0,0,0,0,null,0,0,0,0,0,0,0,0,0,0,0,0,0,0,0,0,0,0]
[1,3,null,null,null,null,null,null,null,null,null,0,0,0,0,0,0,0,0,0,0,0,0,0,0,0,0,0,null,0,0,0,0,0,0,0,0,0,0,0,0,0,0,0,0,0,0]
[1,3,null,null,null,null,null,null,null,null,null,0,0,0,0,0,0,0,0,0,0,0,0,0,0,0,0,0,null,0,0,0,0,0,0,0,0,0,0,0,0,0,0,0,0,0,0]
[1,3,null,null,null,null,null,null,null,null,null,0,0,0,0,0,0,0,0,0,0,0,0,0,0,0,0,0,null,0,0,0,0,0,0,0,0,0,0,0,0,0,0,0,0,0,0]
[1,3,null,null,null,null,null,null,null,null,null,0,0,0,0,0,0,0,0,0,0,0,0,0,0,0,0,0,null,0,0,0,0,0,0,0,0,0,0,0,0,0,0,0,0,0,0]
[1,3,null,null,null,null,null,null,null,null,null,0,0,0,0,0,0,0,0,0,0,0,0,0,0,0,0,0,null,0,0,0,0,0,0,0,0,0,0,0,0,0,0,0,0,0,0]
[1,3,null,null,null,null,null,null,null,null,null,0,0,0,0,0,0,0,0,0,0,0,0,0,0,0,0,0,null,0,0,0,0,0,0,0,0,0,0,0,0,0,0,0,0,0,0]
[1,3,null,null,null,null,null,null,null,null,null,0,0,0,0,0,0,0,0,0,0,0,0,0,0,0,0,0,null,0,0,0,0,0,0,0,0,0,0,0,0,0,0,0,0,0,0]
[1,"3B",null,null,null,null,null,null,null,null,null,0,0,0,0,0,0,0,0,0,0,0,0,0,0,0,0,0,null,0,0,0,0,0,0,0,0,0,0,0,0,0,0,0,0,0,0]
[1,"3C",null,null,null,null,null,null,null,null,null,0,0,0,0,0,0,0,0,0,0,0,0,0,0,0,0,0,null,0,0,0,0,0,0,0,0,0,0,0,0,0,0,0,0,0,0]
[1,4,null,null,null,null,null,null,null,null,null,0,0,0,0,0,0,0,0,0,0,0,0,0,0,0,0,0,null,0,0,0,0,0,0,0,0,0,0,0,0,0,0,0,0,0,0]
[1,"4B",null,null,null,null,null,null,null,null,null,0,0,0,0,0,0,0,0,0,0,0,0,0,0,0,0,0,null,0,0,0,0,0,0,0,0,0,0,0,0,0,0,0,0,0,0]
[1,5,null,null,null,null,null,null,null,null,null,0,0,0,0,0,0,0,0,0,0,0,0,0,0,0,0,0,null,0,0,0,0,0,0,0,0,0,0,0,0,0,0,0,0,0,0]
[1,"5B",null,null,null,null,null,null,null,null,null,0,0,0,0,0,0,0,0,0,0,0,0,0,0,0,0,0,null,0,0,0,0,0,0,0,0,0,0,0,0,0,0,0,0,0,0]
[1,6,null,null,null,null,null,null,null,null,null,0,0,0,0,0,0,0,0,0,0,0,0,0,0,0,0,0,null,0,0,0,0,{"$f":"((P450*10)/135)^$K$1","v":0},0,0,0,0,0,0,0,0,0,0,0,0,0]
[1,"6B",null,null,null,null,null,null,null,null,null,0,0,0,0,0,0,0,0,0,0,0,0,0,0,0,0,0,null,0,0,0,0,0,0,0,0,0,0,0,0,0,0,0,0,0,0]
[1,7,null,null,null,null,null,null,null,null,null,0,0,0,0,0,0,0,0,0,0,0,0,0,0,0,0,0,null,0,0,0,0,0,0,0,0,0,0,0,0,0,0,0,0,0,0]
[1,"7B",null,null,null,null,null,null,null,null,null,0,0,0,0,0,0,0,0,0,0,0,0,0,0,0,0,0,null,0,0,0,0,0,0,0,0,0,0,0,0,0,{"$f":"((Y453*10)/182)^$K$1","v":0},{"$f":"((Z453*10)/182)^$K$1","v":0},0,0,0]
[1,9,null,null,null,null,null,null,null,null,null,{"$f":"C454","v":0},{"$f":"IF(B454=4,D454,0)","v":0},{"$f":"IF(OR(B454=2,B454=\"3B\",B454=\"5C\",B454=\"5D\"),D454,0)","v":0},{"$f":"IF(B454=\"3B\",E454,0)","v":0},{"$f":"IF(OR(B454=3,B454=5,B454=\"5B\",B454=6,B454=\"6B\",B454=7,B454=\"7B\",B454=9,B454=\"9B\"),D454+E454,0)","v":0},{"$f":"IF(B454=4,E454+F454,0)","v":0},{"$f":"IF(OR(B454=5,B454=7,B454=9),F454+G454,0)","v":0},{"$f":"IF(OR(B454=7,B454=9),H454+I454,0)","v":0},{"$f":"IF(B454=9,J454+K454,0)","v":0},{"$f":"IF(OR(B454=\"6C\",B454=\"7C\"),D454+E454,0)","v":0},{"$f":"IF(B454=\"4B\",F454+G454,0)","v":0},{"$f":"IF(OR(B454=\"7B\",B454=\"7C\",B454=\"9B\"),H454+I454,0)","v":0},{"$f":"IF(OR(B454=\"9B\"),J454+K454,0)","v":0},{"$f":"IF((B454=\"5C\"),E454+F454+G454,0)","v":0},{"$f":"IF(B454=6,F454+G454+H454,0)","v":0},{"$f":"IF((B454=\"5D\"),E454+F454+G454,0)","v":0},{"$f":"IF(OR(B454=\"6B\",B454=\"6C\"),F454+G454+H454,0)","v":0},null,0,0,0,0,0,0,0,0,0,0,0,0,0,0,0,{"$f":"((AA454*10)/132)^$K$1","v":0},{"$f":"((AB454*10)/132)^$K$1","v":0},{"$f":"SUM(AD454:AT454)","v":0}]
[1,"9B",null,null,null,null,null,null,null,null,null,0,0,0,0,0,0,0,0,0,0,0,0,0,0,0,0,0,null,0,0,0,0,0,0,0,0,0,0,0,0,0,0,0,0,0,0]
[1,2,4,8,null,null,null,null,null,null,null,4,0,8,0,0,0,0,0,0,0,0,0,0,0,0,0,0,null,0.22621843369184247,0,1,0,0,{"$f":"((Q456*10)/135)^$K$1","v":0},{"$f":"((R456*10)/135)^$K$1","v":0},{"$f":"((S456*10)/135)^$K$1","v":0},{"$f":"((T456*10)/135)^$K$1","v":0},0,{"$f":"((V456*10)/98)^$K$1","v":0},{"$f":"((W456*10)/98)^$K$1","v":0},{"$f":"((X456*10)/98)^$K$1","v":0},0,0,0,0,1.2262184336918425,null,20]
[1,3,null,null,null,null,null,null,null,null,null,0,0,0,0,0,0,0,0,0,0,0,0,0,0,0,0,0,null,0,0,0,0,0,0,0,0,0,0,0,0,0,0,0,0,0,0,null,30]
[1,3,null,null,null,null,null,null,null,null,null,0,0,0,0,0,0,0,0,0,0,0,0,0,0,0,0,0,null,0,0,0,0,0,0,0,0,0,0,0,0,0,0,0,0,0,0,null,40]
[1,3,null,null,null,null,null,null,null,null,null,0,0,0,0,0,0,0,0,0,0,0,0,0,0,0,0,0,null,0,0,0,0,0,0,0,0,0,0,0,0,0,0,0,0,0,0,null,50]
[1,3,null,null,null,null,null,null,null,null,null,0,0,0,0,0,0,0,0,0,0,0,0,0,0,0,0,0,null,0,0,0,0,0,0,0,0,0,0,0,0,0,0,0,0,0,0,null,60]
[1,3,null,null,null,null,null,null,null,null,null,0,0,0,0,0,0,0,0,0,0,0,0,0,0,0,0,0,null,0,0,0,0,0,0,0,0,0,0,0,0,0,0,0,0,0,0,null,70]
[1,"3B",6,10,8,null,null,null,null,null,null,6,0,10,8,0,0,0,0,0,0,0,0,0,0,0,0,0,null,1.1452308205649526,0,2.44140625,1,0,0,0,0,0,0,0,0,0,0,0,0,0,4.5866370705649526,null,80]
[1,3,null,null,null,null,null,null,null,null,null,0,0,0,0,0,0,0,0,0,0,0,0,0,0,0,0,0,null,0,0,0,0,0,0,0,0,0,0,0,0,0,0,0,0,0,0,null,90]
[1,3,null,null,null,null,null,null,null,null,null,0,0,0,0,0,0,0,0,0,0,0,0,0,0,0,0,0,null,0,0,0,0,0,0,0,0,0,0,0,0,0,0,0,0,0,0,null,100]
[1,3,null,null,null,null,null,null,null,null,null,0,0,0,0,0,0,0,0,0,0,0,0,0,0,0,0,0,null,0,0,0,0,0,0,0,0,0,0,0,0,0,0,0,0,0,0,null,110]
[1,3,null,null,null,null,null,null,null,null,null,0,0,0,0,0,0,0,0,0,0,0,0,0,0,0,0,0,null,0,0,0,0,0,0,0,0,0,0,0,0,0,0,0,0,0,0,null,120]
[1,3,null,null,null,null,null,null,null,null,null,0,0,0,0,0,0,0,0,0,0,0,0,0,0,0,0,0,null,0,0,0,0,0,0,0,0,0,{"$f":"((U467*10)/98)^$K$1","v":0},0,0,0,0,0,0,0,0,null,130]
[1,3,null,null,null,null,null,null,null,null,null,0,0,0,0,0,0,0,0,0,0,0,0,0,0,0,0,0,null,0,0,0,0,0,0,0,0,0,0,0,0,0,0,0,0,0,0,null,140]
[1,3,null,null,null,null,null,null,null,null,null,0,0,0,0,0,0,0,0,0,0,0,0,0,0,0,0,0,null,0,0,0,0,0,0,0,0,0,0,0,0,0,0,0,0,0,0,null,150]
[1,3,null,null,null,null,null,null,null,null,null,0,0,0,0,0,0,0,0,0,0,0,0,0,0,0,0,0,null,0,0,0,0,0,0,0,0,0,0,0,0,0,0,0,0,0,0,null,160]
[1,3,null,null,null,null,null,null,null,null,null,0,0,0,0,0,0,0,0,0,0,0,0,0,0,0,0,0,null,0,0,0,0,0,0,0,0,0,0,0,0,0,0,0,0,0,0,null,170]
[1,"3C",6,8,4,null,null,null,null,null,null,6,0,0,0,0,0,0,0,0,0,0,0,0,0,0,0,0,null,1.1452308205649526,0,0,0,0,0,0,0,0,0,0,0,0,0,0,0,0,1.1452308205649526,null,180]
[1,3,null,null,null,null,null,null,null,null,null,0,0,0,0,0,0,0,0,0,0,0,0,0,0,0,0,0,null,0,0,0,0,0,0,0,0,0,0,0,0,0,0,0,0,0,0,null,190]
[1,3,null,null,null,null,null,null,null,null,null,0,0,0,0,0,0,0,0,0,0,0,0,0,0,0,0,0,null,0,0,0,0,0,0,0,0,0,0,0,0,0,0,0,0,0,0,null,200]
[1,3,null,null,null,null,null,null,null,null,null,0,0,0,0,0,0,0,0,0,0,0,0,0,0,0,0,0,null,0,0,0,0,0,0,0,0,0,0,0,0,0,0,0,0,0,0,null,210]
[1,3,null,null,null,null,null,null,null,null,null,0,0,0,0,0,0,0,0,0,0,0,0,0,0,0,0,0,null,{"$f":"((L476*10)/58)^$K$1","v":0},{"$f":"((M476*10)/58)^$K$1","v":0},{"$f":"((N476*10)/80)^$K$1","v":0},{"$f":"((O476*10)/80)^$K$1","v":0},0,0,0,0,0,0,0,0,0,0,0,0,0,0,null,220]
[1,3,null,null,null,null,null,null,null,null,null,0,0,0,0,0,0,0,0,0,0,0,0,0,0,0,0,0,null,0,0,0,0,0,0,0,0,0,0,0,0,0,0,0,0,0,0,null,230]
[1,3,null,null,null,null,null,null,null,null,null,0,0,0,0,0,0,0,0,0,0,0,0,0,0,0,0,0,null,0,0,0,0,0,0,0,0,0,0,0,0,0,0,0,0,0,0,null,240]
[1,3,null,null,null,null,null,null,null,null,null,0,0,0,0,0,0,0,0,0,0,0,0,0,0,0,0,0,null,0,0,0,0,0,0,0,0,0,0,0,0,0,0,0,0,0,0,null,250]
[1,4,6,6,8,9,null,null,null,null,null,6,6,0,0,0,17,0,0,0,0,0,0,0,0,0,0,0,null,1.1452308205649526,1.1452308205649526,0,0,0,2.5145519446185003,0,0,0,0,0,0,0,0,0,0,0,4.8050135857484051,null,260]
[1,3,null,null,null,null,null,null,null,null,null,0,0,0,0,0,0,0,0,0,0,0,0,0,0,0,0,0,null,0,0,0,0,0,0,0,0,0,0,0,0,0,0,0,0,0,0,null,270]
[1,3,null,null,null,null,null,null,null,null,null,0,0,0,0,0,0,0,0,0,0,0,0,0,0,0,0,0,null,0,0,0,0,0,0,0,0,0,0,0,0,0,0,0,0,0,0,null,280]
[1,3,null,null,null,null,null,null,null,null,null,0,0,0,0,0,0,0,0,0,0,0,0,0,0,0,0,0,null,0,0,0,0,0,0,0,0,0,0,0,0,0,0,0,0,0,0,null,290]
[1,3,null,null,null,null,null,null,null,null,null,0,0,0,0,0,0,0,0,0,0,0,0,0,0,0,0,0,null,0,0,0,0,0,0,0,0,0,0,0,0,0,0,0,0,0,0,null,300]
[1,"4B",6,6,10,10,null,null,null,null,null,6,0,0,0,0,0,0,0,0,0,10,0,0,0,0,0,0,null,1.1452308205649526,0,0,0,0,0,0,0,0,0,1.0841657847339399,0,0,0,0,0,0,2.2293966052988923,null,310]
[1,3,null,null,null,null,null,null,null,null,null,0,0,0,0,0,0,0,0,0,0,0,0,0,0,0,0,0,null,0,0,0,0,0,0,0,0,0,0,0,0,0,0,0,0,0,0,null,320]
[1,3,null,null,null,null,null,null,null,null,null,0,0,0,0,0,0,0,0,0,0,0,0,0,0,0,0,0,null,0,0,0,0,0,0,0,0,0,0,0,0,0,0,0,0,0,0,null,330]
[1,3,null,null,null,null,null,null,null,null,null,0,0,0,0,0,0,0,0,0,0,0,0,0,0,0,0,0,null,0,0,0,0,0,{"$f":"((Q488*10)/135)^$K$1","v":0},{"$f":"((R488*10)/135)^$K$1","v":0},{"$f":"((S488*10)/135)^$K$1","v":0},{"$f":"((T488*10)/135)^$K$1","v":0},0,{"$f":"((V488*10)/98)^$K$1","v":0},{"$f":"((W488*10)/98)^$K$1","v":0},{"$f":"((X488*10)/98)^$K$1","v":0},0,0,0,0,0,null,340]
[1,3,null,null,null,null,null,null,null,null,null,0,0,0,0,0,0,0,0,0,0,0,0,0,0,0,0,0,null,0,0,0,0,0,0,0,0,0,0,0,0,0,0,0,0,0,0,null,350]
[1,3,null,null,null,null,null,null,null,null,null,0,0,0,0,0,0,0,0,0,0,0,0,0,0,0,0,0,null,0,0,0,0,0,0,0,0,0,0,0,0,0,0,0,0,0,0,null,"Sum",null,{"$f":"SUM(AY455:AY489)","v":0}]
[1,3,null,null,null,null,null,null,null,null,null,0,0,0,0,0,0,0,0,0,0,0,0,0,0,0,0,0,null,0,0,0,0,0,0,0,0,0,0,0,0,0,0,0,0,0,0]
[1,3,null,null,null,null,null,null,null,null,null,0,0,0,0,0,0,0,0,0,0,0,0,0,0,0,0,0,null,0,0,0,0,0,0,0,0,0,0,0,0,0,0,0,0,0,0]
[1,3,null,null,null,null,null,null,null,null,null,0,0,0,0,0,0,0,0,0,0,0,0,0,0,0,0,0,null,0,0,0,0,0,0,0,0,0,0,0,0,0,0,0,0,0,0]
[1,3,null,null,null,null,null,null,null,null,null,0,0,0,0,0,0,0,0,0,0,0,0,0,0,0,0,0,null,0,0,0,0,0,0,0,0,0,0,0,0,0,0,0,0,0,0]
[1,5,null,null,null,null,null,null,null,null,null,0,0,0,0,0,0,0,0,0,0,0,0,0,0,0,0,0,null,0,0,0,0,0,0,0,0,0,0,0,0,0,0,0,0,0,0]
[1,3,null,null,null,null,null,null,null,null,null,0,0,0,0,0,0,0,0,0,0,0,0,0,0,0,0,0,null,0,0,0,0,0,0,0,0,0,0,0,0,0,0,0,0,0,0]
[1,3,null,null,null,null,null,null,null,null,null,0,0,0,0,0,0,0,0,0,0,0,0,0,0,0,0,0,null,0,0,0,0,0,0,0,0,0,0,0,0,0,0,0,0,0,0]
[1,3,null,null,null,null,null,null,null,null,null,0,0,0,0,0,0,0,0,0,0,0,0,0,0,0,0,0,null,0,0,0,0,0,0,0,0,0,0,0,0,0,0,0,0,0,0]
[1,3,null,null,null,null,null,null,null,null,null,0,0,0,0,0,0,0,0,0,0,0,0,0,0,0,0,0,null,0,0,0,0,0,0,0,0,0,{"$f":"((U499*10)/98)^$K$1","v":0},0,0,0,0,0,0,0,0]
[1,3,null,null,null,null,null,null,null,null,null,0,0,0,0,0,0,0,0,0,0,0,0,0,0,0,0,0,null,0,0,0,0,0,0,0,0,0,0,0,0,0,0,0,0,0,0]
[1,"5B",4,6,6,9,9,null,null,null,null,4,0,0,0,12,0,0,0,0,0,0,0,0,0,0,0,0,null,0.22621843369184247,0,0,0,0.62429507696997399,0,0,0,0,0,0,0,0,0,0,0,0,0.85051351066181646]
[1,3,null,null,null,null,null,null,null,null,null,0,0,0,0,0,0,0,0,0,0,0,0,0,0,0,0,0,null,0,0,0,0,0,0,0,0,0,0,0,0,0,0,0,0,0,0]
[1,3,null,null,null,null,null,null,null,null,null,0,0,0,0,0,0,0,0,0,0,0,0,0,0,0,0,0,null,0,0,0,0,0,0,0,0,0,0,0,0,0,0,0,0,0,0]
[1,3,null,null,null,null,null,null,null,null,null,0,0,0,0,0,0,0,0,0,0,0,0,0,0,0,0,0,null,0,0,0,0,0,0,0,0,0,0,0,0,0,0,0,0,0,0]
[1,3,null,null,null,null,null,null,null,null,null,0,0,0,0,0,0,0,0,0,0,0,0,0,0,0,0,0,null,0,0,0,0,0,0,0,0,0,0,0,0,0,0,0,0,0,0]
[1,3,null,null,null,null,null,null,null,null,null,0,0,0,0,0,0,0,0,0,0,0,0,0,0,0,0,0,null,0,0,0,0,0,0,0,0,0,0,0,0,0,0,0,0,0,0]
[1,3,null,null,null,null,null,null,null,null,null,0,0,0,0,0,0,0,0,0,0,0,0,0,0,0,0,0,null,0,0,0,0,0,0,0,0,0,0,0,0,0,0,0,0,0,0]
[1,6,5,6,6,9,9,9,null,null,null,5,0,0,0,12,0,0,0,0,0,0,0,0,0,27,0,0,null,0.55229109788047448,0,0,0,0.62429507696997399,0,0,0,0,0,0,0,0,0,4.8436137645050952,0,0,6.0201999393555434]
[1,3,null,null,null,null,null,null,null,null,null,0,0,0,0,0,0,0,0,0,0,0,0,0,0,0,0,0,null,0,0,0,0,0,0,0,0,0,0,0,0,0,0,0,0,0,0]
[1,3,null,null,null,null,null,null,null,null,null,0,0,0,0,0,0,0,0,0,0,0,0,0,0,0,0,0,null,0,0,0,0,0,0,0,0,0,0,0,0,0,0,0,0,0,0]
[1,3,null,null,null,null,null,null,null,null,null,0,0,0,0,0,0,0,0,0,0,0,0,0,0,0,0,0,null,0,0,0,0,0,0,0,0,0,0,0,0,0,0,0,0,0,0]
[1,3,null,null,null,null,null,null,null,null,null,0,0,0,0,0,0,0,0,0,0,0,0,0,0,0,0,0,null,0,0,0,0,0,0,0,0,0,0,0,0,0,0,0,0,0,0]
[1,"6B",5,7,7,9,9,9,null,null,null,5,0,0,0,14,0,0,0,0,0,0,0,0,0,0,0,27,null,0.55229109788047448,0,0,0,1.1565837035531692,0,0,0,0,0,0,0,0,0,0,0,17.504887815039957,19.213762616473602]
[1,3,null,null,null,null,null,null,null,null,null,0,0,0,0,0,0,0,0,0,0,0,0,0,0,0,0,0,null,0,0,0,0,{"$f":"((P514*10)/135)^$K$1","v":0},0,0,0,0,0,0,0,0,0,0,0,0,0]
[1,3,null,null,null,null,null,null,null,null,null,0,0,0,0,0,0,0,0,0,0,0,0,0,0,0,0,0,null,0,0,0,0,0,0,0,0,0,0,0,0,0,0,0,0,0,0]
[1,3,null,null,null,null,null,null,null,null,null,0,0,0,0,0,0,0,0,0,0,0,0,0,0,0,0,0,null,0,0,0,0,0,0,0,0,0,0,0,0,0,0,0,0,0,0]
[1,3,null,null,null,null,null,null,null,null,null,0,0,0,0,0,0,0,0,0,0,0,0,0,0,0,0,0,null,0,0,0,0,0,0,0,0,0,0,0,0,0,{"$f":"((Y517*10)/182)^$K$1","v":0},{"$f":"((Z517*10)/182)^$K$1","v":0},0,0,0]
[1,7,4,6,6,10,10,9,9,null,null,{"$f":"C518","v":4},{"$f":"IF(B518=4,D518,0)","v":0},{"$f":"IF(OR(B518=2,B518=\"3B\",B518=\"5C\",B518=\"5D\"),D518,0)","v":0},{"$f":"IF(B518=\"3B\",E518,0)","v":0},{"$f":"IF(OR(B518=3,B518=5,B518=\"5B\",B518=6,B518=\"6B\",B518=7,B518=\"7B\",B518=9,B518=\"9B\"),D518+E518,0)","v":12},{"$f":"IF(B518=4,E518+F518,0)","v":0},{"$f":"IF(OR(B518=5,B518=7,B518=9),F518+G518,0)","v":20},{"$f":"IF(OR(B518=7,B518=9),H518+I518,0)","v":18},{"$f":"IF(B518=9,J518+K518,0)","v":0},{"$f":"IF(OR(B518=\"6C\",B518=\"7C\"),D518+E518,0)","v":0},{"$f":"IF(B518=\"4B\",F518+G518,0)","v":0},{"$f":"IF(OR(B518=\"7B\",B518=\"7C\",B518=\"9B\"),H518+I518,0)","v":0},{"$f":"IF(OR(B518=\"9B\"),J518+K518,0)","v":0},{"$f":"IF((B518=\"5C\"),E518+F518+G518,0)","v":0},{"$f":"IF(B518=6,F518+G518+H518,0)","v":0},{"$f":"IF((B518=\"5D\"),E518+F518+G518,0)","v":0},{"$f":"IF(OR(B518=\"6B\",B518=\"6C\"),F518+G518+H518,0)","v":0},null,0.22621843369184247,0,0,0,0.62429507696997399,0,4.8170916432868358,3.1604938271604937,0,0,0,0,0,0,0,{"$f":"((AA518*10)/132)^$K$1","v":0},{"$f":"((AB518*10)/132)^$K$1","v":0},{"$f":"SUM(AD518:AT518)","v":8.8280989811091466}]
[1,3,null,null,null,null,null,null,null,null,null,0,0,0,0,0,0,0,0,0,0,0,0,0,0,0,0,0,null,0,0,0,0,0,0,0,0,0,0,0,0,0,0,0,0,0,0]
[1,3,null,null,null,null,null,null,null,null,null,0,0,0,0,0,0,0,0,0,0,0,0,0,0,0,0,0,null,0,0,0,0,0,{"$f":"((Q520*10)/135)^$K$1","v":0},{"$f":"((R520*10)/135)^$K$1","v":0},{"$f":"((S520*10)/135)^$K$1","v":0},{"$f":"((T520*10)/135)^$K$1","v":0},0,{"$f":"((V520*10)/98)^$K$1","v":0},{"$f":"((W520*10)/98)^$K$1","v":0},{"$f":"((X520*10)/98)^$K$1","v":0},0,0,0,0,0]
[1,"7B",4,6,6,10,10,9,9,null,null,4,0,0,0,12,0,0,0,0,0,0,18,0,0,0,0,0,null,0.22621843369184247,0,0,0,0.62429507696997399,0,0,0,0,{"$f":"((U521*10)/98)^$K$1","v":0},0,11.381138741823007,0,0,0,0,0,12.231652252484823]
[1,3,null,null,null,null,null,null,null,null,null,0,0,0,0,0,0,0,0,0,0,0,0,0,0,0,0,0,null,0,0,0,0,0,0,0,0,0,0,0,0,0,0,0,0,0,0]
[1,3,null,null,null,null,null,null,null,null,null,0,0,0,0,0,0,0,0,0,0,0,0,0,0,0,0,0,null,0,0,0,0,0,0,0,0,0,0,0,0,0,0,0,0,0,0]
[1,3,null,null,null,null,null,null,null,null,null,0,0,0,0,0,0,0,0,0,0,0,0,0,0,0,0,0,null,0,0,0,0,0,0,0,0,0,0,0,0,0,0,0,0,0,0]
[1,3,null,null,null,null,null,null,null,null,null,0,0,0,0,0,0,0,0,0,0,0,0,0,0,0,0,0,null,0,0,0,0,0,0,0,0,0,0,0,0,0,0,0,0,0,0]
[1,3,null,null,null,null,null,null,null,null,null,0,0,0,0,0,0,0,0,0,0,0,0,0,0,0,0,0,null,0,0,0,0,0,0,0,0,0,0,0,0,0,0,0,0,0,0]
[1,9,4,4,6,6,7,7,7,7,8,4,0,0,0,10,0,13,14,15,0,0,0,0,0,0,0,0,null,0.22621843369184247,0,0,0,0.30106822770542724,0,0.85988096514947066,1.1565837035531692,1.5241579027587262,0,0,0,0,0,0,0,0,4.0679092328586357]
[1,3,null,null,null,null,null,null,null,null,null,0,0,0,0,0,0,0,0,0,0,0,0,0,0,0,0,0,null,0,0,0,0,0,0,0,0,0,0,0,0,0,0,0,0,0,0]
[1,3,null,null,null,null,null,null,null,null,null,0,0,0,0,0,0,0,0,0,0,0,0,0,0,0,0,0,null,0,0,0,0,0,0,0,0,0,0,0,0,0,0,0,0,0,0]
[1,3,null,null,null,null,null,null,null,null,null,0,0,0,0,0,0,0,0,0,0,0,0,0,0,0,0,0,null,0,0,0,0,0,0,0,0,0,0,0,0,0,0,0,0,0,0]
[1,3,null,null,null,null,null,null,null,null,null,0,0,0,0,0,0,0,0,0,0,0,0,0,0,0,0,0,null,0,0,0,0,0,0,0,0,0,0,0,0,0,0,0,0,0,0]
[1,3,null,null,null,null,null,null,null,null,null,0,0,0,0,0,0,0,0,0,0,0,0,0,0,0,0,0,null,0,0,0,0,0,0,0,0,0,0,0,0,0,0,0,0,0,0]
[1,"9B",4,4,6,6,7,9,9,7,8,4,0,0,0,10,0,0,0,0,0,0,18,15,0,0,0,0,null,0.22621843369184247,0,0,0,0.30106822770542724,0,0,0,0,0,0,11.381138741823007,5.4885892852155678,0,0,0,0,17.397014688435846]
[1,3,null,null,null,null,null,null,null,null,null,0,0,0,0,0,0,0,0,0,0,0,0,0,0,0,0,0,null,0,0,0,0,0,0,0,0,0,0,0,0,0,0,0,0,0,0]
[1,3,null,null,null,null,null,null,null,null,null,0,0,0,0,0,0,0,0,0,0,0,0,0,0,0,0,0,null,0,0,0,0,0,0,0,0,0,0,0,0,0,0,0,0,0,0]
[1,3,null,null,null,null,null,null,null,null,null,0,0,0,0,0,0,0,0,0,0,0,0,0,0,0,0,0,null,0,0,0,0,0,0,0,0,0,0,0,0,0,0,0,0,0,0]
[1,3,null,null,null,null,null,null,null,null,null,0,0,0,0,0,0,0,0,0,0,0,0,0,0,0,0,0,null,0,0,0,0,0,0,0,0,0,0,0,0,0,0,0,0,0,0]
[1,3,null,null,null,null,null,null,null,null,null,0,0,0,0,0,0,0,0,0,0,0,0,0,0,0,0,0,null,0,0,0,0,0,0,0,0,0,0,0,0,0,0,0,0,0,0]
[1,3,null,null,null,null,null,null,null,null,null,0,0,0,0,0,0,0,0,0,0,0,0,0,0,0,0,0,null,0,0,0,0,0,0,0,0,0,0,0,0,0,0,0,0,0,0]
[1,3,null,null,null,null,null,null,null,null,null,0,0,0,0,0,0,0,0,0,0,0,0,0,0,0,0,0,null,{"$f":"((L540*10)/58)^$K$1","v":0},{"$f":"((M540*10)/58)^$K$1","v":0},{"$f":"((N540*10)/80)^$K$1","v":0},{"$f":"((O540*10)/80)^$K$1","v":0},0,0,0,0,0,0,0,0,0,0,0,0,0,0]
[1,3,null,null,null,null,null,null,null,null,null,0,0,0,0,0,0,0,0,0,0,0,0,0,0,0,0,0,null,0,0,0,0,0,0,0,0,0,0,0,0,0,0,0,0,0,0]
[1,3,null,null,null,null,null,null,null,null,null,0,0,0,0,0,0,0,0,0,0,0,0,0,0,0,0,0,null,0,0,0,0,0,0,0,0,0,0,0,0,0,0,0,0,0,0]
[1,3,null,null,null,null,null,null,null,null,null,0,0,0,0,0,0,0,0,0,0,0,0,0,0,0,0,0,null,0,0,0,0,0,0,0,0,0,0,0,0,0,0,0,0,0,0]
[1,3,null,null,null,null,null,null,null,null,null,0,0,0,0,0,0,0,0,0,0,0,0,0,0,0,0,0,null,0,0,0,0,0,0,0,0,0,0,0,0,0,0,0,0,0,0]
[1,3,null,null,null,null,null,null,null,null,null,0,0,0,0,0,0,0,0,0,0,0,0,0,0,0,0,0,null,0,0,0,0,0,0,0,0,0,0,0,0,0,0,0,0,0,0]
[1,3,null,null,null,null,null,null,null,null,null,0,0,0,0,0,0,0,0,0,0,0,0,0,0,0,0,0,null,0,0,0,0,0,0,0,0,0,0,0,0,0,0,0,0,0,0]
[1,3,null,null,null,null,null,null,null,null,null,0,0,0,0,0,0,0,0,0,0,0,0,0,0,0,0,0,null,0,0,0,0,0,0,0,0,0,0,0,0,0,0,0,0,0,0]
[1,3,null,null,null,null,null,null,null,null,null,0,0,0,0,0,0,0,0,0,0,0,0,0,0,0,0,0,null,0,0,0,0,0,0,0,0,0,0,0,0,0,0,0,0,0,0]
[1,3,null,null,null,null,null,null,null,null,null,0,0,0,0,0,0,0,0,0,0,0,0,0,0,0,0,0,null,0,0,0,0,0,0,0,0,0,0,0,0,0,0,0,0,0,0]
[1,3,null,null,null,null,null,null,null,null,null,0,0,0,0,0,0,0,0,0,0,0,0,0,0,0,0,0,null,0,0,0,0,0,0,0,0,0,0,0,0,0,0,0,0,0,0]
[1,3,null,null,null,null,null,null,null,null,null,0,0,0,0,0,0,0,0,0,0,0,0,0,0,0,0,0,null,0,0,0,0,0,0,0,0,0,0,0,0,0,0,0,0,0,0]
[1,3,null,null,null,null,null,null,null,null,null,0,0,0,0,0,0,0,0,0,0,0,0,0,0,0,0,0,null,0,0,0,0,0,{"$f":"((Q552*10)/135)^$K$1","v":0},{"$f":"((R552*10)/135)^$K$1","v":0},{"$f":"((S552*10)/135)^$K$1","v":0},{"$f":"((T552*10)/135)^$K$1","v":0},0,{"$f":"((V552*10)/98)^$K$1","v":0},{"$f":"((W552*10)/98)^$K$1","v":0},{"$f":"((X552*10)/98)^$K$1","v":0},0,0,0,0,0]
[1,3,null,null,null,null,null,null,null,null,null,0,0,0,0,0,0,0,0,0,0,0,0,0,0,0,0,0,null,0,0,0,0,0,0,0,0,0,{"$f":"((U553*10)/98)^$K$1","v":0},0,0,0,0,0,0,0,0]
[1,3,null,null,null,null,null,null,null,null,null,0,0,0,0,0,0,0,0,0,0,0,0,0,0,0,0,0,null,0,0,0,0,0,0,0,0,0,0,0,0,0,0,0,0,0,0]
[1,3,null,null,null,null,null,null,null,null,null,0,0,0,0,0,0,0,0,0,0,0,0,0,0,0,0,0,null,0,0,0,0,0,0,0,0,0,0,0,0,0,0,0,0,0,0]
[1,3,null,null,null,null,null,null,null,null,null,0,0,0,0,0,0,0,0,0,0,0,0,0,0,0,0,0,null,0,0,0,0,0,0,0,0,0,0,0,0,0,0,0,0,0,0]
[1,3,null,null,null,null,null,null,null,null,null,0,0,0,0,0,0,0,0,0,0,0,0,0,0,0,0,0,null,0,0,0,0,0,0,0,0,0,0,0,0,0,0,0,0,0,0]
[1,3,null,null,null,null,null,null,null,null,null,0,0,0,0,0,0,0,0,0,0,0,0,0,0,0,0,0,null,0,0,0,0,0,0,0,0,0,0,0,0,0,0,0,0,0,0]
[1,3,null,null,null,null,null,null,null,null,null,0,0,0,0,0,0,0,0,0,0,0,0,0,0,0,0,0,null,0,0,0,0,0,{"$f":"((Q559*10)/135)^$K$1","v":0},{"$f":"((R559*10)/135)^$K$1","v":0},{"$f":"((S559*10)/135)^$K$1","v":0},{"$f":"((T559*10)/135)^$K$1","v":0},0,0,0,0,0,0,0,0,0]
[1,3,null,null,null,null,null,null,null,null,null,0,0,0,0,0,0,0,0,0,0,0,0,0,0,0,0,0,null,0,0,0,0,0,0,0,0,0,0,0,0,0,0,0,0,0,0]
[1,3,null,null,null,null,null,null,null,null,null,0,0,0,0,0,0,0,0,0,0,0,0,0,0,0,0,0,null,0,0,0,0,0,0,0,0,0,0,0,0,0,0,0,0,0,0]
[1,3,null,null,null,null,null,null,null,null,null,0,0,0,0,0,0,0,0,0,0,0,0,0,0,0,0,0,null,0,0,0,0,0,0,0,0,0,0,0,0,0,0,0,0,0,0]
[1,3,null,null,null,null,null,null,null,null,null,0,0,0,0,0,0,0,0,0,0,0,0,0,0,0,0,0,null,0,0,0,0,0,0,0,0,0,0,0,0,0,0,0,0,0,0]
[1,3,null,null,null,null,null,null,null,null,null,0,0,0,0,0,0,0,0,0,0,0,0,0,0,0,0,0,null,0,0,0,0,0,0,0,0,0,0,0,0,0,0,0,0,0,0]
[1,3,null,null,null,null,null,null,null,null,null,0,0,0,0,0,0,0,0,0,0,0,0,0,0,0,0,0,null,0,0,0,0,0,0,0,0,0,0,0,0,0,0,0,0,0,0]
[1,3,null,null,null,null,null,null,null,null,null,0,0,0,0,0,0,0,0,0,0,0,0,0,0,0,0,0,null,0,0,0,0,0,0,0,0,0,0,0,0,0,0,0,0,0,0]
[1,3,null,null,null,null,null,null,null,null,null,0,0,0,0,0,0,0,0,0,0,0,0,0,0,0,0,0,null,0,0,0,0,0,0,0,0,0,0,0,0,0,0,0,0,0,0]
[1,3,null,null,null,null,null,null,null,null,null,0,0,0,0,0,0,0,0,0,0,0,0,0,0,0,0,0,null,0,0,0,0,0,0,0,0,0,0,0,0,0,0,0,0,0,0]
[1,3,null,null,null,null,null,null,null,null,null,0,0,0,0,0,0,0,0,0,0,0,0,0,0,0,0,0,null,0,0,0,0,0,0,0,0,0,0,0,0,0,0,0,0,0,0]
[1,3,null,null,null,null,null,null,null,null,null,0,0,0,0,0,0,0,0,0,0,0,0,0,0,0,0,0,null,0,0,0,0,0,0,0,0,0,0,0,0,0,0,0,0,0,0]
[1,3,null,null,null,null,null,null,null,null,null,0,0,0,0,0,0,0,0,0,0,0,0,0,0,0,0,0,null,0,0,0,0,0,0,0,0,0,0,0,0,0,0,0,0,0,0]
[1,3,null,null,null,null,null,null,null,null,null,0,0,0,0,0,0,0,0,0,0,0,0,0,0,0,0,0,null,0,0,0,0,0,0,0,0,0,0,0,0,0,0,0,0,0,0]
[1,3,null,null,null,null,null,null,null,null,null,0,0,0,0,0,0,0,0,0,0,0,0,0,0,0,0,0,null,0,0,0,0,0,0,0,0,0,0,0,0,0,0,0,0,0,0]
[1,3,null,null,null,null,null,null,null,null,null,0,0,0,0,0,0,0,0,0,0,0,0,0,0,0,0,0,null,0,0,0,0,0,0,0,0,0,0,0,0,0,0,0,0,0,0]
[1,3,null,null,null,null,null,null,null,null,null,0,0,0,0,0,0,0,0,0,0,0,0,0,0,0,0,0,null,0,0,0,0,0,0,0,0,0,0,0,0,0,0,0,0,0,0]
[1,3,null,null,null,null,null,null,null,null,null,0,0,0,0,0,0,0,0,0,0,0,0,0,0,0,0,0,null,0,0,0,0,0,0,0,0,0,0,0,0,0,0,0,0,0,0]
[1,3,null,null,null,null,null,null,null,null,null,0,0,0,0,0,0,0,0,0,0,0,0,0,0,0,0,0,null,0,0,0,0,0,0,0,0,0,0,0,0,0,0,0,0,0,0]
[1,3,null,null,null,null,null,null,null,null,null,0,0,0,0,0,0,0,0,0,0,0,0,0,0,0,0,0,null,0,0,0,0,{"$f":"((P578*10)/135)^$K$1","v":0},0,0,0,0,0,0,0,0,0,0,0,0,0]
[1,3,null,null,null,null,null,null,null,null,null,0,0,0,0,0,0,0,0,0,0,0,0,0,0,0,0,0,null,0,0,0,0,0,0,0,0,0,0,0,0,0,0,0,0,0,0]
[1,3,null,null,null,null,null,null,null,null,null,0,0,0,0,0,0,0,0,0,0,0,0,0,0,0,0,0,null,0,0,0,0,0,0,0,0,0,0,0,0,0,0,0,0,0,0]
[1,3,null,null,null,null,null,null,null,null,null,0,0,0,0,0,0,0,0,0,0,0,0,0,0,0,0,0,null,0,0,0,0,0,0,0,0,0,0,0,0,0,{"$f":"((Y581*10)/182)^$K$1","v":0},{"$f":"((Z581*10)/182)^$K$1","v":0},0,0,0]
[1,3,null,null,null,null,null,null,null,null,null,{"$f":"C582","v":0},{"$f":"IF(B582=4,D582,0)","v":0},{"$f":"IF(OR(B582=2,B582=\"3B\",B582=\"5C\",B582=\"5D\"),D582,0)","v":0},{"$f":"IF(B582=\"3B\",E582,0)","v":0},{"$f":"IF(OR(B582=3,B582=5,B582=\"5B\",B582=6,B582=\"6B\",B582=7,B582=\"7B\",B582=9,B582=\"9B\"),D582+E582,0)","v":0},{"$f":"IF(B582=4,E582+F582,0)","v":0},{"$f":"IF(OR(B582=5,B582=7,B582=9),F582+G582,0)","v":0},{"$f":"IF(OR(B582=7,B582=9),H582+I582,0)","v":0},{"$f":"IF(B582=9,J582+K582,0)","v":0},{"$f":"IF(OR(B582=\"6C\",B582=\"7C\"),D582+E582,0)","v":0},{"$f":"IF(B582=\"4B\",F582+G582,0)","v":0},{"$f":"IF(OR(B582=\"7B\",B582=\"7C\",B582=\"9B\"),H582+I582,0)","v":0},{"$f":"IF(OR(B582=\"9B\"),J582+K582,0)","v":0},{"$f":"IF((B582=\"5C\"),E582+F582+G582,0)","v":0},{"$f":"IF(B582=6,F582+G582+H582,0)","v":0},{"$f":"IF((B582=\"5D\"),E582+F582+G582,0)","v":0},{"$f":"IF(OR(B582=\"6B\",B582=\"6C\"),F582+G582+H582,0)","v":0},null,0,0,0,0,0,0,0,0,0,0,0,0,0,0,0,{"$f":"((AA582*10)/132)^$K$1","v":0},{"$f":"((AB582*10)/132)^$K$1","v":0},{"$f":"SUM(AD582:AT582)","v":0}]
[1,3,null,null,null,null,null,null,null,null,null,0,0,0,0,0,0,0,0,0,0,0,0,0,0,0,0,0,null,0,0,0,0,0,0,0,0,0,0,0,0,0,0,0,0,0,0]
[1,3,null,null,null,null,null,null,null,null,null,0,0,0,0,0,0,0,0,0,0,0,0,0,0,0,0,0,null,0,0,0,0,0,0,0,0,0,0,{"$f":"((V584*10)/98)^$K$1","v":0},{"$f":"((W584*10)/98)^$K$1","v":0},{"$f":"((X584*10)/98)^$K$1","v":0},0,0,0,0,0]
[1,3,null,null,null,null,null,null,null,null,null,0,0,0,0,0,0,0,0,0,0,0,0,0,0,0,0,0,null,0,0,0,0,0,0,0,0,0,{"$f":"((U585*10)/98)^$K$1","v":0},0,0,0,0,0,0,0,0]
[1,3,null,null,null,null,null,null,null,null,null,0,0,0,0,0,0,0,0,0,0,0,0,0,0,0,0,0,null,0,0,0,0,0,0,0,0,0,0,0,0,0,0,0,0,0,0]
[1,3,null,null,null,null,null,null,null,null,null,0,0,0,0,0,0,0,0,0,0,0,0,0,0,0,0,0,null,0,0,0,0,0,0,0,0,0,0,0,0,0,0,0,0,0,0]
[1,3,null,null,null,null,null,null,null,null,null,0,0,0,0,0,0,0,0,0,0,0,0,0,0,0,0,0,null,0,0,0,0,0,0,0,0,0,0,0,0,0,0,0,0,0,0]
[1,3,null,null,null,null,null,null,null,null,null,0,0,0,0,0,0,0,0,0,0,0,0,0,0,0,0,0,null,0,0,0,0,0,0,0,0,0,0,0,0,0,0,0,0,0,0]
[1,3,null,null,null,null,null,null,null,null,null,0,0,0,0,0,0,0,0,0,0,0,0,0,0,0,0,0,null,0,0,0,0,0,0,0,0,0,0,0,0,0,0,0,0,0,0]
[1,3,null,null,null,null,null,null,null,null,null,0,0,0,0,0,0,0,0,0,0,0,0,0,0,0,0,0,null,0,0,0,0,0,0,0,0,0,0,0,0,0,0,0,0,0,0]
[1,3,null,null,null,null,null,null,null,null,null,0,0,0,0,0,0,0,0,0,0,0,0,0,0,0,0,0,null,0,0,0,0,0,0,0,0,0,0,0,0,0,0,0,0,0,0]
[1,3,null,null,null,null,null,null,null,null,null,0,0,0,0,0,0,0,0,0,0,0,0,0,0,0,0,0,null,0,0,0,0,0,0,0,0,0,0,0,0,0,0,0,0,0,0]
[1,"3B",null,null,null,null,null,null,null,null,null,0,0,0,0,0,0,0,0,0,0,0,0,0,0,0,0,0,null,0,0,0,0,0,0,0,0,0,0,0,0,0,0,0,0,0,0]
[1,"3C",null,null,null,null,null,null,null,null,null,0,0,0,0,0,0,0,0,0,0,0,0,0,0,0,0,0,null,0,0,0,0,0,0,0,0,0,0,0,0,0,0,0,0,0,0]
[1,4,null,null,null,null,null,null,null,null,null,0,0,0,0,0,0,0,0,0,0,0,0,0,0,0,0,0,null,0,0,0,0,0,0,0,0,0,0,0,0,0,0,0,0,0,0]
[1,"4B",null,null,null,null,null,null,null,null,null,0,0,0,0,0,0,0,0,0,0,0,0,0,0,0,0,0,null,0,0,0,0,0,0,0,0,0,0,0,0,0,0,0,0,0,0]
[1,5,null,null,null,null,null,null,null,null,null,0,0,0,0,0,0,0,0,0,0,0,0,0,0,0,0,0,null,0,0,0,0,0,0,0,0,0,0,0,0,0,0,0,0,0,0]
[1,"5B",null,null,null,null,null,null,null,null,null,0,0,0,0,0,0,0,0,0,0,0,0,0,0,0,0,0,null,0,0,0,0,0,0,0,0,0,0,0,0,0,0,0,0,0,0]
[1,6,null,null,null,null,null,null,null,null,null,0,0,0,0,0,0,0,0,0,0,0,0,0,0,0,0,0,null,0,0,0,0,0,0,0,0,0,0,0,0,0,0,0,0,0,0]
[1,"6B",null,null,null,null,null,null,null,null,null,0,0,0,0,0,0,0,0,0,0,0,0,0,0,0,0,0,null,0,0,0,0,0,0,0,0,0,0,0,0,0,0,0,0,0,0]
[1,7,null,null,null,null,null,null,null,null,null,0,0,0,0,0,0,0,0,0,0,0,0,0,0,0,0,0,null,0,0,0,0,0,0,0,0,0,0,0,0,0,0,0,0,0,0]
[1,"7B",null,null,null,null,null,null,null,null,null,0,0,0,0,0,0,0,0,0,0,0,0,0,0,0,0,0,null,0,0,0,0,0,0,0,0,0,0,0,0,0,0,0,0,0,0]
[1,9,null,null,null,null,null,null,null,null,null,0,0,0,0,0,0,0,0,0,0,0,0,0,0,0,0,0,null,{"$f":"((L604*10)/58)^$K$1","v":0},{"$f":"((M604*10)/58)^$K$1","v":0},{"$f":"((N604*10)/80)^$K$1","v":0},{"$f":"((O604*10)/80)^$K$1","v":0},0,0,0,0,0,0,0,0,0,0,0,0,0,0]
[1,"9B",null,null,null,null,null,null,null,null,null,0,0,0,0,0,0,0,0,0,0,0,0,0,0,0,0,0,null,0,0,0,0,0,0,0,0,0,0,0,0,0,0,0,0,0,0]
[1,2,4,8,null,null,null,null,null,null,null,4,0,8,0,0,0,0,0,0,0,0,0,0,0,0,0,0,null,0.22621843369184247,0,1,0,0,{"$f":"((Q606*10)/135)^$K$1","v":0},{"$f":"((R606*10)/135)^$K$1","v":0},{"$f":"((S606*10)/135)^$K$1","v":0},{"$f":"((T606*10)/135)^$K$1","v":0},0,{"$f":"((V606*10)/98)^$K$1","v":0},{"$f":"((W606*10)/98)^$K$1","v":0},{"$f":"((X606*10)/98)^$K$1","v":0},0,0,0,0,1.2262184336918425,null,20]
[1,3,null,null,null,null,null,null,null,null,null,0,0,0,0,0,0,0,0,0,0,0,0,0,0,0,0,0,null,0,0,0,0,0,0,0,0,0,0,0,0,0,0,0,0,0,0,null,30]
[1,3,null,null,null,null,null,null,null,null,null,0,0,0,0,0,0,0,0,0,0,0,0,0,0,0,0,0,null,0,0,0,0,0,0,0,0,0,0,0,0,0,0,0,0,0,0,null,40]
[1,3,null,null,null,null,null,null,null,null,null,0,0,0,0,0,0,0,0,0,0,0,0,0,0,0,0,0,null,0,0,0,0,0,0,0,0,0,0,0,0,0,0,0,0,0,0,null,50]
[1,3,null,null,null,null,null,null,null,null,null,0,0,0,0,0,0,0,0,0,0,0,0,0,0,0,0,0,null,0,0,0,0,0,0,0,0,0,0,0,0,0,0,0,0,0,0,null,60]
[1,3,null,null,null,null,null,null,null,null,null,0,0,0,0,0,0,0,0,0,0,0,0,0,0,0,0,0,null,0,0,0,0,0,0,0,0,0,0,0,0,0,0,0,0,0,0,null,70]
[1,"3B",6,10,8,null,null,null,null,null,null,6,0,10,8,0,0,0,0,0,0,0,0,0,0,0,0,0,null,1.1452308205649526,0,2.44140625,1,0,0,0,0,0,0,0,0,0,0,0,0,0,4.5866370705649526,null,80]
[1,3,null,null,null,null,null,null,null,null,null,0,0,0,0,0,0,0,0,0,0,0,0,0,0,0,0,0,null,0,0,0,0,0,0,0,0,0,0,0,0,0,0,0,0,0,0,null,90]
[1,3,null,null,null,null,null,null,null,null,null,0,0,0,0,0,0,0,0,0,0,0,0,0,0,0,0,0,null,0,0,0,0,0,0,0,0,0,0,0,0,0,0,0,0,0,0,null,100]
[1,3,null,null,null,null,null,null,null,null,null,0,0,0,0,0,0,0,0,0,0,0,0,0,0,0,0,0,null,0,0,0,0,0,0,0,0,0,0,0,0,0,0,0,0,0,0,null,110]
[1,3,null,null,null,null,null,null,null,null,null,0,0,0,0,0,0,0,0,0,0,0,0,0,0,0,0,0,null,0,0,0,0,0,0,0,0,0,0,0,0,0,0,0,0,0,0,null,120]
[1,3,null,null,null,null,null,null,null,null,null,0,0,0,0,0,0,0,0,0,0,0,0,0,0,0,0,0,null,0,0,0,0,0,0,0,0,0,{"$f":"((U617*10)/98)^$K$1","v":0},0,0,0,0,0,0,0,0,null,130]
[1,3,null,null,null,null,null,null,null,null,null,0,0,0,0,0,0,0,0,0,0,0,0,0,0,0,0,0,null,0,0,0,0,0,0,0,0,0,0,0,0,0,0,0,0,0,0,null,140]
[1,3,null,null,null,null,null,null,null,null,null,0,0,0,0,0,0,0,0,0,0,0,0,0,0,0,0,0,null,0,0,0,0,0,0,0,0,0,0,0,0,0,0,0,0,0,0,null,150]
[1,3,null,null,null,null,null,null,null,null,null,0,0,0,0,0,0,0,0,0,0,0,0,0,0,0,0,0,null,0,0,0,0,0,0,0,0,0,0,0,0,0,0,0,0,0,0,null,160]
[1,3,null,null,null,null,null,null,null,null,null,0,0,0,0,0,0,0,0,0,0,0,0,0,0,0,0,0,null,0,0,0,0,0,0,0,0,0,0,0,0,0,0,0,0,0,0,null,170]
[1,"3C",6,8,4,null,null,null,null,null,null,6,0,0,0,0,0,0,0,0,0,0,0,0,0,0,0,0,null,1.1452308205649526,0,0,0,0,0,0,0,0,0,0,0,0,0,0,0,0,1.1452308205649526,null,180]
[1,3,null,null,null,null,null,null,null,null,null,0,0,0,0,0,0,0,0,0,0,0,0,0,0,0,0,0,null,0,0,0,0,0,0,0,0,0,0,0,0,0,0,0,0,0,0,null,190]
[1,3,null,null,null,null,null,null,null,null,null,0,0,0,0,0,0,0,0,0,0,0,0,0,0,0,0,0,null,0,0,0,0,0,0,0,0,0,0,0,0,0,0,0,0,0,0,null,200]
[1,3,null,null,null,null,null,null,null,null,null,0,0,0,0,0,0,0,0,0,0,0,0,0,0,0,0,0,null,0,0,0,0,0,0,0,0,0,0,0,0,0,0,0,0,0,0,null,210]
[1,3,null,null,null,null,null,null,null,null,null,0,0,0,0,0,0,0,0,0,0,0,0,0,0,0,0,0,null,0,0,0,0,0,0,0,0,0,0,0,0,0,0,0,0,0,0,null,220]
[1,3,null,null,null,null,null,null,null,null,null,0,0,0,0,0,0,0,0,0,0,0,0,0,0,0,0,0,null,0,0,0,0,0,0,0,0,0,0,0,0,0,0,0,0,0,0,null,230]
[1,3,null,null,null,null,null,null,null,null,null,0,0,0,0,0,0,0,0,0,0,0,0,0,0,0,0,0,null,0,0,0,0,0,0,0,0,0,0,0,0,0,0,0,0,0,0,null,240]
[1,3,null,null,null,null,null,null,null,null,null,0,0,0,0,0,0,0,0,0,0,0,0,0,0,0,0,0,null,0,0,0,0,0,0,0,0,0,0,0,0,0,0,0,0,0,0,null,250]
[1,4,6,6,8,9,null,null,null,null,null,6,6,0,0,0,17,0,0,0,0,0,0,0,0,0,0,0,null,1.1452308205649526,1.1452308205649526,0,0,0,2.5145519446185003,0,0,0,0,0,0,0,0,0,0,0,4.8050135857484051,null,260]
[1,3,null,null,null,null,null,null,null,null,null,0,0,0,0,0,0,0,0,0,0,0,0,0,0,0,0,0,null,0,0,0,0,0,0,0,0,0,0,0,0,0,0,0,0,0,0,null,270]
[1,3,null,null,null,null,null,null,null,null,null,0,0,0,0,0,0,0,0,0,0,0,0,0,0,0,0,0,null,0,0,0,0,0,0,0,0,0,0,0,0,0,0,0,0,0,0,null,280]
[1,3,null,null,null,null,null,null,null,null,null,0,0,0,0,0,0,0,0,0,0,0,0,0,0,0,0,0,null,0,0,0,0,0,0,0,0,0,0,0,0,0,0,0,0,0,0,null,290]
[1,3,null,null,null,null,null,null,null,null,null,0,0,0,0,0,0,0,0,0,0,0,0,0,0,0,0,0,null,0,0,0,0,0,0,0,0,0,0,0,0,0,0,0,0,0,0,null,300]
[1,"4B",6,6,10,10,null,null,null,null,null,6,0,0,0,0,0,0,0,0,0,10,0,0,0,0,0,0,null,1.1452308205649526,0,0,0,0,0,0,0,0,0,1.0841657847339399,0,0,0,0,0,0,2.2293966052988923,null,310]
[1,3,null,null,null,null,null,null,null,null,null,0,0,0,0,0,0,0,0,0,0,0,0,0,0,0,0,0,null,0,0,0,0,0,0,0,0,0,0,0,0,0,0,0,0,0,0,null,320]
[1,3,null,null,null,null,null,null,null,null,null,0,0,0,0,0,0,0,0,0,0,0,0,0,0,0,0,0,null,0,0,0,0,0,0,0,0,0,0,0,0,0,0,0,0,0,0,null,330]
[1,3,null,null,null,null,null,null,null,null,null,0,0,0,0,0,0,0,0,0,0,0,0,0,0,0,0,0,null,0,0,0,0,0,{"$f":"((Q638*10)/135)^$K$1","v":0},{"$f":"((R638*10)/135)^$K$1","v":0},{"$f":"((S638*10)/135)^$K$1","v":0},{"$f":"((T638*10)/135)^$K$1","v":0},0,{"$f":"((V638*10)/98)^$K$1","v":0},{"$f":"((W638*10)/98)^$K$1","v":0},{"$f":"((X638*10)/98)^$K$1","v":0},0,0,0,0,0,null,340]
[1,3,null,null,null,null,null,null,null,null,null,0,0,0,0,0,0,0,0,0,0,0,0,0,0,0,0,0,null,0,0,0,0,0,0,0,0,0,0,0,0,0,0,0,0,0,0,null,350]
[1,3,null,null,null,null,null,null,null,null,null,0,0,0,0,0,0,0,0,0,0,0,0,0,0,0,0,0,null,0,0,0,0,0,0,0,0,0,0,0,0,0,0,0,0,0,0,null,"Sum",null,{"$f":"SUM(AY605:AY639)","v":0}]
[1,3,null,null,null,null,null,null,null,null,null,0,0,0,0,0,0,0,0,0,0,0,0,0,0,0,0,0,null,0,0,0,0,0,0,0,0,0,0,0,0,0,0,0,0,0,0]
[1,3,null,null,null,null,null,null,null,null,null,0,0,0,0,0,0,0,0,0,0,0,0,0,0,0,0,0,null,0,0,0,0,{"$f":"((P642*10)/135)^$K$1","v":0},0,0,0,0,0,0,0,0,0,0,0,0,0]
[1,3,null,null,null,null,null,null,null,null,null,0,0,0,0,0,0,0,0,0,0,0,0,0,0,0,0,0,null,0,0,0,0,0,0,0,0,0,0,0,0,0,0,0,0,0,0]
[1,3,null,null,null,null,null,null,null,null,null,0,0,0,0,0,0,0,0,0,0,0,0,0,0,0,0,0,null,0,0,0,0,0,0,0,0,0,0,0,0,0,0,0,0,0,0]
[1,5,null,null,null,null,null,null,null,null,null,0,0,0,0,0,0,0,0,0,0,0,0,0,0,0,0,0,null,0,0,0,0,0,0,0,0,0,0,0,0,0,{"$f":"((Y645*10)/182)^$K$1","v":0},{"$f":"((Z645*10)/182)^$K$1","v":0},0,0,0]
[1,3,null,null,null,null,null,null,null,null,null,{"$f":"C646","v":0},{"$f":"IF(B646=4,D646,0)","v":0},{"$f":"IF(OR(B646=2,B646=\"3B\",B646=\"5C\",B646=\"5D\"),D646,0)","v":0},{"$f":"IF(B646=\"3B\",E646,0)","v":0},{"$f":"IF(OR(B646=3,B646=5,B646=\"5B\",B646=6,B646=\"6B\",B646=7,B646=\"7B\",B646=9,B646=\"9B\"),D646+E646,0)","v":0},{"$f":"IF(B646=4,E646+F646,0)","v":0},{"$f":"IF(OR(B646=5,B646=7,B646=9),F646+G646,0)","v":0},{"$f":"IF(OR(B646=7,B646=9),H646+I646,0)","v":0},{"$f":"IF(B646=9,J646+K646,0)","v":0},{"$f":"IF(OR(B646=\"6C\",B646=\"7C\"),D646+E646,0)","v":0},{"$f":"IF(B646=\"4B\",F646+G646,0)","v":0},{"$f":"IF(OR(B646=\"7B\",B646=\"7C\",B646=\"9B\"),H646+I646,0)","v":0},{"$f":"IF(OR(B646=\"9B\"),J646+K646,0)","v":0},{"$f":"IF((B646=\"5C\"),E646+F646+G646,0)","v":0},{"$f":"IF(B646=6,F646+G646+H646,0)","v":0},{"$f":"IF((B646=\"5D\"),E646+F646+G646,0)","v":0},{"$f":"IF(OR(B646=\"6B\",B646=\"6C\"),F646+G646+H646,0)","v":0},null,0,0,0,0,0,0,0,0,0,0,0,0,0,0,0,{"$f":"((AA646*10)/132)^$K$1","v":0},{"$f":"((AB646*10)/132)^$K$1","v":0},{"$f":"SUM(AD646:AT646)","v":0}]
[1,3,null,null,null,null,null,null,null,null,null,0,0,0,0,0,0,0,0,0,0,0,0,0,0,0,0,0,null,0,0,0,0,0,0,0,0,0,0,0,0,0,0,0,0,0,0]
[1,3,null,null,null,null,null,null,null,null,null,0,0,0,0,0,0,0,0,0,0,0,0,0,0,0,0,0,null,0,0,0,0,0,0,0,0,0,0,0,0,0,0,0,0,0,0]
[1,3,null,null,null,null,null,null,null,null,null,0,0,0,0,0,0,0,0,0,0,0,0,0,0,0,0,0,null,0,0,0,0,0,0,0,0,0,{"$f":"((U649*10)/98)^$K$1","v":0},0,0,0,0,0,0,0,0]
[1,3,null,null,null,null,null,null,null,null,null,0,0,0,0,0,0,0,0,0,0,0,0,0,0,0,0,0,null,0,0,0,0,0,0,0,0,0,0,0,0,0,0,0,0,0,0]
[1,"5B",4,6,6,9,9,null,null,null,null,4,0,0,0,12,0,0,0,0,0,0,0,0,0,0,0,0,null,0.22621843369184247,0,0,0,0.62429507696997399,0,0,0,0,0,0,0,0,0,0,0,0,0.85051351066181646]
[1,3,null,null,null,null,null,null,null,null,null,0,0,0,0,0,0,0,0,0,0,0,0,0,0,0,0,0,null,0,0,0,0,0,0,0,0,0,0,0,0,0,0,0,0,0,0]
[1,3,null,null,null,null,null,null,null,null,null,0,0,0,0,0,0,0,0,0,0,0,0,0,0,0,0,0,null,0,0,0,0,0,0,0,0,0,0,0,0,0,0,0,0,0,0]
[1,3,null,null,null,null,null,null,null,null,null,0,0,0,0,0,0,0,0,0,0,0,0,0,0,0,0,0,null,0,0,0,0,0,0,0,0,0,0,0,0,0,0,0,0,0,0]
[1,3,null,null,null,null,null,null,null,null,null,0,0,0,0,0,0,0,0,0,0,0,0,0,0,0,0,0,null,0,0,0,0,0,0,0,0,0,0,0,0,0,0,0,0,0,0]
[1,3,null,null,null,null,null,null,null,null,null,0,0,0,0,0,0,0,0,0,0,0,0,0,0,0,0,0,null,0,0,0,0,0,0,0,0,0,0,0,0,0,0,0,0,0,0]
[1,3,null,null,null,null,null,null,null,null,null,0,0,0,0,0,0,0,0,0,0,0,0,0,0,0,0,0,null,0,0,0,0,0,0,0,0,0,0,0,0,0,0,0,0,0,0]
[1,6,5,6,6,9,9,9,null,null,null,5,0,0,0,12,0,0,0,0,0,0,0,0,0,27,0,0,null,0.55229109788047448,0,0,0,0.62429507696997399,0,0,0,0,0,0,0,0,0,4.8436137645050952,0,0,6.0201999393555434]
[1,3,null,null,null,null,null,null,null,null,null,0,0,0,0,0,0,0,0,0,0,0,0,0,0,0,0,0,null,0,0,0,0,0,0,0,0,0,0,0,0,0,0,0,0,0,0]
[1,3,null,null,null,null,null,null,null,null,null,0,0,0,0,0,0,0,0,0,0,0,0,0,0,0,0,0,null,0,0,0,0,0,0,0,0,0,0,0,0,0,0,0,0,0,0]
[1,3,null,null,null,null,null,null,null,null,null,0,0,0,0,0,0,0,0,0,0,0,0,0,0,0,0,0,null,0,0,0,0,0,0,0,0,0,0,0,0,0,0,0,0,0,0]
[1,3,null,null,null,null,null,null,null,null,null,0,0,0,0,0,0,0,0,0,0,0,0,0,0,0,0,0,null,0,0,0,0,0,0,0,0,0,0,0,0,0,0,0,0,0,0]
[1,"6B",5,7,7,9,9,9,null,null,null,5,0,0,0,14,0,0,0,0,0,0,0,0,0,0,0,27,null,0.55229109788047448,0,0,0,1.1565837035531692,0,0,0,0,0,0,0,0,0,0,0,17.504887815039957,19.213762616473602]
[1,3,null,null,null,null,null,null,null,null,null,0,0,0,0,0,0,0,0,0,0,0,0,0,0,0,0,0,null,0,0,0,0,0,0,0,0,0,0,0,0,0,0,0,0,0,0]
[1,3,null,null,null,null,null,null,null,null,null,0,0,0,0,0,0,0,0,0,0,0,0,0,0,0,0,0,null,0,0,0,0,0,0,0,0,0,0,0,0,0,0,0,0,0,0]
[1,3,null,null,null,null,null,null,null,null,null,0,0,0,0,0,0,0,0,0,0,0,0,0,0,0,0,0,null,0,0,0,0,0,0,0,0,0,0,0,0,0,0,0,0,0,0]
[1,3,null,null,null,null,null,null,null,null,null,0,0,0,0,0,0,0,0,0,0,0,0,0,0,0,0,0,null,0,0,0,0,0,0,0,0,0,0,0,0,0,0,0,0,0,0]
[1,7,4,6,6,10,10,9,9,null,null,4,0,0,0,12,0,20,18,0,0,0,0,0,0,0,0,0,null,{"$f":"((L668*10)/58)^$K$1","v":0.22621843369184247},{"$f":"((M668*10)/58)^$K$1","v":0},{"$f":"((N668*10)/80)^$K$1","v":0},{"$f":"((O668*10)/80)^$K$1","v":0},0.62429507696997399,0,4.8170916432868358,3.1604938271604937,0,0,0,0,0,0,0,0,0,8.8280989811091466]
[1,3,null,null,null,null,null,null,null,null,null,0,0,0,0,0,0,0,0,0,0,0,0,0,0,0,0,0,null,0,0,0,0,0,0,0,0,0,0,0,0,0,0,0,0,0,0]
[1,3,null,null,null,null,null,null,null,null,null,0,0,0,0,0,0,0,0,0,0,0,0,0,0,0,0,0,null,0,0,0,0,0,{"$f":"((Q670*10)/135)^$K$1","v":0},{"$f":"((R670*10)/135)^$K$1","v":0},{"$f":"((S670*10)/135)^$K$1","v":0},{"$f":"((T670*10)/135)^$K$1","v":0},0,{"$f":"((V670*10)/98)^$K$1","v":0},{"$f":"((W670*10)/98)^$K$1","v":0},{"$f":"((X670*10)/98)^$K$1","v":0},0,0,0,0,0]
[1,"7B",4,6,6,10,10,9,9,null,null,4,0,0,0,12,0,0,0,0,0,0,18,0,0,0,0,0,null,0.22621843369184247,0,0,0,0.62429507696997399,0,0,0,0,{"$f":"((U671*10)/98)^$K$1","v":0},0,11.381138741823007,0,0,0,0,0,12.231652252484823]
[1,3,null,null,null,null,null,null,null,null,null,0,0,0,0,0,0,0,0,0,0,0,0,0,0,0,0,0,null,0,0,0,0,0,0,0,0,0,0,0,0,0,0,0,0,0,0]
[1,3,null,null,null,null,null,null,null,null,null,0,0,0,0,0,0,0,0,0,0,0,0,0,0,0,0,0,null,0,0,0,0,0,0,0,0,0,0,0,0,0,0,0,0,0,0]
[1,3,null,null,null,null,null,null,null,null,null,0,0,0,0,0,0,0,0,0,0,0,0,0,0,0,0,0,null,0,0,0,0,0,0,0,0,0,0,0,0,0,0,0,0,0,0]
[1,3,null,null,null,null,null,null,null,null,null,0,0,0,0,0,0,0,0,0,0,0,0,0,0,0,0,0,null,0,0,0,0,0,0,0,0,0,0,0,0,0,0,0,0,0,0]
[1,3,null,null,null,null,null,null,null,null,null,0,0,0,0,0,0,0,0,0,0,0,0,0,0,0,0,0,null,0,0,0,0,0,0,0,0,0,0,0,0,0,0,0,0,0,0]
[1,9,4,4,6,6,7,7,7,7,8,4,0,0,0,10,0,13,14,15,0,0,0,0,0,0,0,0,null,0.22621843369184247,0,0,0,0.30106822770542724,0,0.85988096514947066,1.1565837035531692,1.5241579027587262,0,0,0,0,0,0,0,0,4.0679092328586357]
[1,3,null,null,null,null,null,null,null,null,null,0,0,0,0,0,0,0,0,0,0,0,0,0,0,0,0,0,null,0,0,0,0,0,0,0,0,0,0,0,0,0,0,0,0,0,0]
[1,3,null,null,null,null,null,null,null,null,null,0,0,0,0,0,0,0,0,0,0,0,0,0,0,0,0,0,null,0,0,0,0,0,0,0,0,0,0,0,0,0,0,0,0,0,0]
[1,3,null,null,null,null,null,null,null,null,null,0,0,0,0,0,0,0,0,0,0,0,0,0,0,0,0,0,null,0,0,0,0,0,0,0,0,0,0,0,0,0,0,0,0,0,0]
[1,3,null,null,null,null,null,null,null,null,null,0,0,0,0,0,0,0,0,0,0,0,0,0,0,0,0,0,null,0,0,0,0,0,0,0,0,0,0,0,0,0,0,0,0,0,0]
[1,3,null,null,null,null,null,null,null,null,null,0,0,0,0,0,0,0,0,0,0,0,0,0,0,0,0,0,null,0,0,0,0,0,0,0,0,0,0,0,0,0,0,0,0,0,0]
[1,"9B",4,4,6,6,7,9,9,7,8,4,0,0,0,10,0,0,0,0,0,0,18,15,0,0,0,0,null,0.22621843369184247,0,0,0,0.30106822770542724,0,0,0,0,0,0,11.381138741823007,5.4885892852155678,0,0,0,0,17.397014688435846]
[1,3,null,null,null,null,null,null,null,null,null,0,0,0,0,0,0,0,0,0,0,0,0,0,0,0,0,0,null,0,0,0,0,0,0,0,0,0,0,0,0,0,0,0,0,0,0]
[1,3,null,null,null,null,null,null,null,null,null,0,0,0,0,0,0,0,0,0,0,0,0,0,0,0,0,0,null,0,0,0,0,0,0,0,0,0,0,0,0,0,0,0,0,0,0]
[1,3,null,null,null,null,null,null,null,null,null,0,0,0,0,0,0,0,0,0,0,0,0,0,0,0,0,0,null,0,0,0,0,0,0,0,0,0,0,0,0,0,0,0,0,0,0]
[1,3,null,null,null,null,null,null,null,null,null,0,0,0,0,0,0,0,0,0,0,0,0,0,0,0,0,0,null,0,0,0,0,0,0,0,0,0,0,0,0,0,0,0,0,0,0]
[1,3,null,null,null,null,null,null,null,null,null,0,0,0,0,0,0,0,0,0,0,0,0,0,0,0,0,0,null,0,0,0,0,0,0,0,0,0,0,0,0,0,0,0,0,0,0]
[1,3,null,null,null,null,null,null,null,null,null,0,0,0,0,0,0,0,0,0,0,0,0,0,0,0,0,0,null,0,0,0,0,0,0,0,0,0,0,0,0,0,0,0,0,0,0]
[1,3,null,null,null,null,null,null,null,null,null,0,0,0,0,0,0,0,0,0,0,0,0,0,0,0,0,0,null,0,0,0,0,0,0,0,0,0,0,0,0,0,0,0,0,0,0]
[1,3,null,null,null,null,null,null,null,null,null,0,0,0,0,0,0,0,0,0,0,0,0,0,0,0,0,0,null,0,0,0,0,0,0,0,0,0,0,0,0,0,0,0,0,0,0]
[1,3,null,null,null,null,null,null,null,null,null,0,0,0,0,0,0,0,0,0,0,0,0,0,0,0,0,0,null,0,0,0,0,0,0,0,0,0,0,0,0,0,0,0,0,0,0]
[1,3,null,null,null,null,null,null,null,null,null,0,0,0,0,0,0,0,0,0,0,0,0,0,0,0,0,0,null,0,0,0,0,0,0,0,0,0,0,0,0,0,0,0,0,0,0]
[1,3,null,null,null,null,null,null,null,null,null,0,0,0,0,0,0,0,0,0,0,0,0,0,0,0,0,0,null,0,0,0,0,0,0,0,0,0,0,0,0,0,0,0,0,0,0]
[1,3,null,null,null,null,null,null,null,null,null,0,0,0,0,0,0,0,0,0,0,0,0,0,0,0,0,0,null,0,0,0,0,0,0,0,0,0,0,0,0,0,0,0,0,0,0]
[1,3,null,null,null,null,null,null,null,null,null,0,0,0,0,0,0,0,0,0,0,0,0,0,0,0,0,0,null,0,0,0,0,0,0,0,0,0,0,0,0,0,0,0,0,0,0]
[1,3,null,null,null,null,null,null,null,null,null,0,0,0,0,0,0,0,0,0,0,0,0,0,0,0,0,0,null,0,0,0,0,0,0,0,0,0,0,0,0,0,0,0,0,0,0]
[1,3,null,null,null,null,null,null,null,null,null,0,0,0,0,0,0,0,0,0,0,0,0,0,0,0,0,0,null,0,0,0,0,0,0,0,0,0,0,0,0,0,0,0,0,0,0]
[1,3,null,null,null,null,null,null,null,null,null,0,0,0,0,0,0,0,0,0,0,0,0,0,0,0,0,0,null,0,0,0,0,0,0,0,0,0,0,0,0,0,0,0,0,0,0]
[1,3,null,null,null,null,null,null,null,null,null,0,0,0,0,0,0,0,0,0,0,0,0,0,0,0,0,0,null,0,0,0,0,0,0,0,0,0,0,0,0,0,0,0,0,0,0]
[1,3,null,null,null,null,null,null,null,null,null,0,0,0,0,0,0,0,0,0,0,0,0,0,0,0,0,0,null,0,0,0,0,0,0,0,0,0,0,0,0,0,0,0,0,0,0]
[1,3,null,null,null,null,null,null,null,null,null,0,0,0,0,0,0,0,0,0,0,0,0,0,0,0,0,0,null,0,0,0,0,0,{"$f":"((Q702*10)/135)^$K$1","v":0},{"$f":"((R702*10)/135)^$K$1","v":0},{"$f":"((S702*10)/135)^$K$1","v":0},{"$f":"((T702*10)/135)^$K$1","v":0},0,{"$f":"((V702*10)/98)^$K$1","v":0},{"$f":"((W702*10)/98)^$K$1","v":0},{"$f":"((X702*10)/98)^$K$1","v":0},0,0,0,0,0]
[1,3,null,null,null,null,null,null,null,null,null,0,0,0,0,0,0,0,0,0,0,0,0,0,0,0,0,0,null,0,0,0,0,0,0,0,0,0,{"$f":"((U703*10)/98)^$K$1","v":0},0,0,0,0,0,0,0,0]
[1,3,null,null,null,null,null,null,null,null,null,0,0,0,0,0,0,0,0,0,0,0,0,0,0,0,0,0,null,0,0,0,0,0,0,0,0,0,0,0,0,0,0,0,0,0,0]
[1,3,null,null,null,null,null,null,null,null,null,0,0,0,0,0,0,0,0,0,0,0,0,0,0,0,0,0,null,0,0,0,0,0,0,0,0,0,0,0,0,0,0,0,0,0,0]
[1,3,null,null,null,null,null,null,null,null,null,0,0,0,0,0,0,0,0,0,0,0,0,0,0,0,0,0,null,0,0,0,0,{"$f":"((P706*10)/135)^$K$1","v":0},0,0,0,0,0,0,0,0,0,0,0,0,0]
[1,3,null,null,null,null,null,null,null,null,null,0,0,0,0,0,0,0,0,0,0,0,0,0,0,0,0,0,null,0,0,0,0,0,0,0,0,0,0,0,0,0,0,0,0,0,0]
[1,3,null,null,null,null,null,null,null,null,null,0,0,0,0,0,0,0,0,0,0,0,0,0,0,0,0,0,null,0,0,0,0,0,0,0,0,0,0,0,0,0,0,0,0,0,0]
[1,3,null,null,null,null,null,null,null,null,null,0,0,0,0,0,0,0,0,0,0,0,0,0,0,0,0,0,null,0,0,0,0,0,{"$f":"((Q709*10)/135)^$K$1","v":0},{"$f":"((R709*10)/135)^$K$1","v":0},{"$f":"((S709*10)/135)^$K$1","v":0},{"$f":"((T709*10)/135)^$K$1","v":0},0,0,0,0,{"$f":"((Y709*10)/182)^$K$1","v":0},{"$f":"((Z709*10)/182)^$K$1","v":0},0,0,0]
[1,3,null,null,null,null,null,null,null,null,null,{"$f":"C710","v":0},{"$f":"IF(B710=4,D710,0)","v":0},{"$f":"IF(OR(B710=2,B710=\"3B\",B710=\"5C\",B710=\"5D\"),D710,0)","v":0},{"$f":"IF(B710=\"3B\",E710,0)","v":0},{"$f":"IF(OR(B710=3,B710=5,B710=\"5B\",B710=6,B710=\"6B\",B710=7,B710=\"7B\",B710=9,B710=\"9B\"),D710+E710,0)","v":0},{"$f":"IF(B710=4,E710+F710,0)","v":0},{"$f":"IF(OR(B710=5,B710=7,B710=9),F710+G710,0)","v":0},{"$f":"IF(OR(B710=7,B710=9),H710+I710,0)","v":0},{"$f":"IF(B710=9,J710+K710,0)","v":0},{"$f":"IF(OR(B710=\"6C\",B710=\"7C\"),D710+E710,0)","v":0},{"$f":"IF(B710=\"4B\",F710+G710,0)","v":0},{"$f":"IF(OR(B710=\"7B\",B710=\"7C\",B710=\"9B\"),H710+I710,0)","v":0},{"$f":"IF(OR(B710=\"9B\"),J710+K710,0)","v":0},{"$f":"IF((B710=\"5C\"),E710+F710+G710,0)","v":0},{"$f":"IF(B710=6,F710+G710+H710,0)","v":0},{"$f":"IF((B710=\"5D\"),E710+F710+G710,0)","v":0},{"$f":"IF(OR(B710=\"6B\",B710=\"6C\"),F710+G710+H710,0)","v":0},null,0,0,0,0,0,0,0,0,0,0,0,0,0,0,0,{"$f":"((AA710*10)/132)^$K$1","v":0},{"$f":"((AB710*10)/132)^$K$1","v":0},{"$f":"SUM(AD710:AT710)","v":0}]
[1,3,null,null,null,null,null,null,null,null,null,0,0,0,0,0,0,0,0,0,0,0,0,0,0,0,0,0,null,0,0,0,0,0,0,0,0,0,0,0,0,0,0,0,0,0,0]
[1,3,null,null,null,null,null,null,null,null,null,0,0,0,0,0,0,0,0,0,0,0,0,0,0,0,0,0,null,0,0,0,0,0,0,0,0,0,0,0,0,0,0,0,0,0,0]
[1,3,null,null,null,null,null,null,null,null,null,0,0,0,0,0,0,0,0,0,0,0,0,0,0,0,0,0,null,0,0,0,0,0,0,0,0,0,0,0,0,0,0,0,0,0,0]
[1,3,null,null,null,null,null,null,null,null,null,0,0,0,0,0,0,0,0,0,0,0,0,0,0,0,0,0,null,0,0,0,0,0,0,0,0,0,0,0,0,0,0,0,0,0,0]
[1,3,null,null,null,null,null,null,null,null,null,0,0,0,0,0,0,0,0,0,0,0,0,0,0,0,0,0,null,0,0,0,0,0,0,0,0,0,0,0,0,0,0,0,0,0,0]
[1,3,null,null,null,null,null,null,null,null,null,0,0,0,0,0,0,0,0,0,0,0,0,0,0,0,0,0,null,0,0,0,0,0,0,0,0,0,0,0,0,0,0,0,0,0,0]
[1,3,null,null,null,null,null,null,null,null,null,0,0,0,0,0,0,0,0,0,0,0,0,0,0,0,0,0,null,0,0,0,0,0,0,0,0,0,0,0,0,0,0,0,0,0,0]
[1,3,null,null,null,null,null,null,null,null,null,0,0,0,0,0,0,0,0,0,0,0,0,0,0,0,0,0,null,0,0,0,0,0,0,0,0,0,0,0,0,0,0,0,0,0,0]
[1,3,null,null,null,null,null,null,null,null,null,0,0,0,0,0,0,0,0,0,0,0,0,0,0,0,0,0,null,0,0,0,0,0,0,0,0,0,0,0,0,0,0,0,0,0,0]
[1,3,null,null,null,null,null,null,null,null,null,0,0,0,0,0,0,0,0,0,0,0,0,0,0,0,0,0,null,0,0,0,0,0,0,0,0,0,0,0,0,0,0,0,0,0,0]
[1,3,null,null,null,null,null,null,null,null,null,0,0,0,0,0,0,0,0,0,0,0,0,0,0,0,0,0,null,0,0,0,0,0,0,0,0,0,0,0,0,0,0,0,0,0,0]
[1,3,null,null,null,null,null,null,null,null,null,0,0,0,0,0,0,0,0,0,0,0,0,0,0,0,0,0,null,0,0,0,0,0,0,0,0,0,0,0,0,0,0,0,0,0,0]
[1,3,null,null,null,null,null,null,null,null,null,0,0,0,0,0,0,0,0,0,0,0,0,0,0,0,0,0,null,0,0,0,0,0,0,0,0,0,0,0,0,0,0,0,0,0,0]
[1,3,null,null,null,null,null,null,null,null,null,0,0,0,0,0,0,0,0,0,0,0,0,0,0,0,0,0,null,0,0,0,0,0,0,0,0,0,0,0,0,0,0,0,0,0,0]
[1,3,null,null,null,null,null,null,null,null,null,0,0,0,0,0,0,0,0,0,0,0,0,0,0,0,0,0,null,0,0,0,0,0,0,0,0,0,0,0,0,0,0,0,0,0,0]
[1,3,null,null,null,null,null,null,null,null,null,0,0,0,0,0,0,0,0,0,0,0,0,0,0,0,0,0,null,0,0,0,0,0,0,0,0,0,0,0,0,0,0,0,0,0,0]
[1,3,null,null,null,null,null,null,null,null,null,0,0,0,0,0,0,0,0,0,0,0,0,0,0,0,0,0,null,0,0,0,0,0,0,0,0,0,0,0,0,0,0,0,0,0,0]
[1,3,null,null,null,null,null,null,null,null,null,0,0,0,0,0,0,0,0,0,0,0,0,0,0,0,0,0,null,0,0,0,0,0,0,0,0,0,0,0,0,0,0,0,0,0,0]
[1,3,null,null,null,null,null,null,null,null,null,0,0,0,0,0,0,0,0,0,0,0,0,0,0,0,0,0,null,0,0,0,0,0,0,0,0,0,0,0,0,0,0,0,0,0,0]
[1,3,null,null,null,null,null,null,null,null,null,0,0,0,0,0,0,0,0,0,0,0,0,0,0,0,0,0,null,0,0,0,0,0,0,0,0,0,0,0,0,0,0,0,0,0,0]
[1,3,null,null,null,null,null,null,null,null,null,0,0,0,0,0,0,0,0,0,0,0,0,0,0,0,0,0,null,0,0,0,0,0,0,0,0,0,0,0,0,0,0,0,0,0,0]
[1,3,null,null,null,null,null,null,null,null,null,0,0,0,0,0,0,0,0,0,0,0,0,0,0,0,0,0,null,{"$f":"((L732*10)/58)^$K$1","v":0},{"$f":"((M732*10)/58)^$K$1","v":0},{"$f":"((N732*10)/80)^$K$1","v":0},{"$f":"((O732*10)/80)^$K$1","v":0},0,0,0,0,0,0,0,0,0,0,0,0,0,0]
[1,3,null,null,null,null,null,null,null,null,null,0,0,0,0,0,0,0,0,0,0,0,0,0,0,0,0,0,null,0,0,0,0,0,0,0,0,0,0,0,0,0,0,0,0,0,0]
[1,3,null,null,null,null,null,null,null,null,null,0,0,0,0,0,0,0,0,0,0,0,0,0,0,0,0,0,null,0,0,0,0,0,0,0,0,0,0,{"$f":"((V734*10)/98)^$K$1","v":0},{"$f":"((W734*10)/98)^$K$1","v":0},{"$f":"((X734*10)/98)^$K$1","v":0},0,0,0,0,0]
[1,3,null,null,null,null,null,null,null,null,null,0,0,0,0,0,0,0,0,0,0,0,0,0,0,0,0,0,null,0,0,0,0,0,0,0,0,0,{"$f":"((U735*10)/98)^$K$1","v":0},0,0,0,0,0,0,0,0]
[1,3,null,null,null,null,null,null,null,null,null,0,0,0,0,0,0,0,0,0,0,0,0,0,0,0,0,0,null,0,0,0,0,0,0,0,0,0,0,0,0,0,0,0,0,0,0]
[1,3,null,null,null,null,null,null,null,null,null,0,0,0,0,0,0,0,0,0,0,0,0,0,0,0,0,0,null,0,0,0,0,0,0,0,0,0,0,0,0,0,0,0,0,0,0]
[1,3,null,null,null,null,null,null,null,null,null,0,0,0,0,0,0,0,0,0,0,0,0,0,0,0,0,0,null,0,0,0,0,0,0,0,0,0,0,0,0,0,0,0,0,0,0]
[1,3,null,null,null,null,null,null,null,null,null,0,0,0,0,0,0,0,0,0,0,0,0,0,0,0,0,0,null,0,0,0,0,0,0,0,0,0,0,0,0,0,0,0,0,0,0]
[1,3,null,null,null,null,null,null,null,null,null,0,0,0,0,0,0,0,0,0,0,0,0,0,0,0,0,0,null,0,0,0,0,0,0,0,0,0,0,0,0,0,0,0,0,0,0]
[1,3,null,null,null,null,null,null,null,null,null,0,0,0,0,0,0,0,0,0,0,0,0,0,0,0,0,0,null,0,0,0,0,0,0,0,0,0,0,0,0,0,0,0,0,0,0]
[1,3,null,null,null,null,null,null,null,null,null,0,0,0,0,0,0,0,0,0,0,0,0,0,0,0,0,0,null,0,0,0,0,0,0,0,0,0,0,0,0,0,0,0,0,0,0]
[1,3,null,null,null,null,null,null,null,null,null,0,0,0,0,0,0,0,0,0,0,0,0,0,0,0,0,0,null,0,0,0,0,0,0,0,0,0,0,0,0,0,0,0,0,0,0]
[1,"3B",null,null,null,null,null,null,null,null,null,0,0,0,0,0,0,0,0,0,0,0,0,0,0,0,0,0,null,0,0,0,0,0,0,0,0,0,0,0,0,0,0,0,0,0,0]
[1,"3C",null,null,null,null,null,null,null,null,null,0,0,0,0,0,0,0,0,0,0,0,0,0,0,0,0,0,null,0,0,0,0,0,0,0,0,0,0,0,0,0,0,0,0,0,0]
[1,4,null,null,null,null,null,null,null,null,null,0,0,0,0,0,0,0,0,0,0,0,0,0,0,0,0,0,null,0,0,0,0,0,0,0,0,0,0,0,0,0,0,0,0,0,0]
[1,"4B",null,null,null,null,null,null,null,null,null,0,0,0,0,0,0,0,0,0,0,0,0,0,0,0,0,0,null,0,0,0,0,0,0,0,0,0,0,0,0,0,0,0,0,0,0]
[1,5,null,null,null,null,null,null,null,null,null,0,0,0,0,0,0,0,0,0,0,0,0,0,0,0,0,0,null,0,0,0,0,0,0,0,0,0,0,0,0,0,0,0,0,0,0]
[1,"5B",null,null,null,null,null,null,null,null,null,0,0,0,0,0,0,0,0,0,0,0,0,0,0,0,0,0,null,0,0,0,0,0,0,0,0,0,0,0,0,0,0,0,0,0,0]
[1,6,null,null,null,null,null,null,null,null,null,0,0,0,0,0,0,0,0,0,0,0,0,0,0,0,0,0,null,0,0,0,0,0,0,0,0,0,0,0,0,0,0,0,0,0,0]
[1,"6B",null,null,null,null,null,null,null,null,null,0,0,0,0,0,0,0,0,0,0,0,0,0,0,0,0,0,null,0,0,0,0,0,0,0,0,0,0,0,0,0,0,0,0,0,0]
[1,7,null,null,null,null,null,null,null,null,null,0,0,0,0,0,0,0,0,0,0,0,0,0,0,0,0,0,null,0,0,0,0,0,0,0,0,0,0,0,0,0,0,0,0,0,0]
[1,"7B",null,null,null,null,null,null,null,null,null,0,0,0,0,0,0,0,0,0,0,0,0,0,0,0,0,0,null,0,0,0,0,0,0,0,0,0,0,0,0,0,0,0,0,0,0]
[1,9,null,null,null,null,null,null,null,null,null,0,0,0,0,0,0,0,0,0,0,0,0,0,0,0,0,0,null,0,0,0,0,0,0,0,0,0,0,0,0,0,0,0,0,0,0]
[1,"9B",null,null,null,null,null,null,null,null,null,0,0,0,0,0,0,0,0,0,0,0,0,0,0,0,0,0,null,0,0,0,0,0,0,0,0,0,0,0,0,0,0,0,0,0,0]
[1,2,4,8,null,null,null,null,null,null,null,4,0,8,0,0,0,0,0,0,0,0,0,0,0,0,0,0,null,0.22621843369184247,0,1,0,0,0,0,0,0,0,0,0,0,0,0,0,0,1.2262184336918425,null,20]
[1,3,null,null,null,null,null,null,null,null,null,0,0,0,0,0,0,0,0,0,0,0,0,0,0,0,0,0,null,0,0,0,0,0,{"$f":"((Q757*10)/135)^$K$1","v":0},{"$f":"((R757*10)/135)^$K$1","v":0},{"$f":"((S757*10)/135)^$K$1","v":0},{"$f":"((T757*10)/135)^$K$1","v":0},0,{"$f":"((V757*10)/98)^$K$1","v":0},{"$f":"((W757*10)/98)^$K$1","v":0},{"$f":"((X757*10)/98)^$K$1","v":0},0,0,0,0,0,null,30]
[1,3,null,null,null,null,null,null,null,null,null,0,0,0,0,0,0,0,0,0,0,0,0,0,0,0,0,0,null,0,0,0,0,0,0,0,0,0,0,0,0,0,0,0,0,0,0,null,40]
[1,3,null,null,null,null,null,null,null,null,null,0,0,0,0,0,0,0,0,0,0,0,0,0,0,0,0,0,null,0,0,0,0,0,0,0,0,0,0,0,0,0,0,0,0,0,0,null,50]
[1,3,null,null,null,null,null,null,null,null,null,0,0,0,0,0,0,0,0,0,0,0,0,0,0,0,0,0,null,0,0,0,0,0,0,0,0,0,0,0,0,0,0,0,0,0,0,null,60]
[1,3,null,null,null,null,null,null,null,null,null,0,0,0,0,0,0,0,0,0,0,0,0,0,0,0,0,0,null,0,0,0,0,0,0,0,0,0,0,0,0,0,0,0,0,0,0,null,70]
[1,"3B",6,10,8,null,null,null,null,null,null,6,0,10,8,0,0,0,0,0,0,0,0,0,0,0,0,0,null,1.1452308205649526,0,2.44140625,1,0,0,0,0,0,0,0,0,0,0,0,0,0,4.5866370705649526,null,80]
[1,3,null,null,null,null,null,null,null,null,null,0,0,0,0,0,0,0,0,0,0,0,0,0,0,0,0,0,null,0,0,0,0,0,0,0,0,0,0,0,0,0,0,0,0,0,0,null,90]
[1,3,null,null,null,null,null,null,null,null,null,0,0,0,0,0,0,0,0,0,0,0,0,0,0,0,0,0,null,0,0,0,0,0,0,0,0,0,0,0,0,0,0,0,0,0,0,null,100]
[1,3,null,null,null,null,null,null,null,null,null,0,0,0,0,0,0,0,0,0,0,0,0,0,0,0,0,0,null,0,0,0,0,0,0,0,0,0,0,0,0,0,0,0,0,0,0,null,110]
[1,3,null,null,null,null,null,null,null,null,null,0,0,0,0,0,0,0,0,0,0,0,0,0,0,0,0,0,null,0,0,0,0,0,0,0,0,0,0,0,0,0,0,0,0,0,0,null,120]
[1,3,null,null,null,null,null,null,null,null,null,0,0,0,0,0,0,0,0,0,0,0,0,0,0,0,0,0,null,0,0,0,0,0,0,0,0,0,{"$f":"((U767*10)/98)^$K$1","v":0},0,0,0,0,0,0,0,0,null,130]
[1,3,null,null,null,null,null,null,null,null,null,0,0,0,0,0,0,0,0,0,0,0,0,0,0,0,0,0,null,0,0,0,0,0,0,0,0,0,0,0,0,0,0,0,0,0,0,null,140]
[1,3,null,null,null,null,null,null,null,null,null,0,0,0,0,0,0,0,0,0,0,0,0,0,0,0,0,0,null,0,0,0,0,0,0,0,0,0,0,0,0,0,0,0,0,0,0,null,150]
[1,3,null,null,null,null,null,null,null,null,null,0,0,0,0,0,0,0,0,0,0,0,0,0,0,0,0,0,null,0,0,0,0,{"$f":"((P770*10)/135)^$K$1","v":0},0,0,0,0,0,0,0,0,0,0,0,0,0,null,160]
[1,3,null,null,null,null,null,null,null,null,null,0,0,0,0,0,0,0,0,0,0,0,0,0,0,0,0,0,null,0,0,0,0,0,0,0,0,0,0,0,0,0,0,0,0,0,0,null,170]
[1,"3C",6,8,4,null,null,null,null,null,null,6,0,0,0,0,0,0,0,0,0,0,0,0,0,0,0,0,null,1.1452308205649526,0,0,0,0,0,0,0,0,0,0,0,0,0,0,0,0,1.1452308205649526,null,180]
[1,3,null,null,null,null,null,null,null,null,null,0,0,0,0,0,0,0,0,0,0,0,0,0,0,0,0,0,null,0,0,0,0,0,0,0,0,0,0,0,0,0,{"$f":"((Y773*10)/182)^$K$1","v":0},{"$f":"((Z773*10)/182)^$K$1","v":0},0,0,0,null,190]
[1,3,null,null,null,null,null,null,null,null,null,{"$f":"C774","v":0},{"$f":"IF(B774=4,D774,0)","v":0},{"$f":"IF(OR(B774=2,B774=\"3B\",B774=\"5C\",B774=\"5D\"),D774,0)","v":0},{"$f":"IF(B774=\"3B\",E774,0)","v":0},{"$f":"IF(OR(B774=3,B774=5,B774=\"5B\",B774=6,B774=\"6B\",B774=7,B774=\"7B\",B774=9,B774=\"9B\"),D774+E774,0)","v":0},{"$f":"IF(B774=4,E774+F774,0)","v":0},{"$f":"IF(OR(B774=5,B774=7,B774=9),F774+G774,0)","v":0},{"$f":"IF(OR(B774=7,B774=9),H774+I774,0)","v":0},{"$f":"IF(B774=9,J774+K774,0)","v":0},{"$f":"IF(OR(B774=\"6C\",B774=\"7C\"),D774+E774,0)","v":0},{"$f":"IF(B774=\"4B\",F774+G774,0)","v":0},{"$f":"IF(OR(B774=\"7B\",B774=\"7C\",B774=\"9B\"),H774+I774,0)","v":0},{"$f":"IF(OR(B774=\"9B\"),J774+K774,0)","v":0},{"$f":"IF((B774=\"5C\"),E774+F774+G774,0)","v":0},{"$f":"IF(B774=6,F774+G774+H774,0)","v":0},{"$f":"IF((B774=\"5D\"),E774+F774+G774,0)","v":0},{"$f":"IF(OR(B774=\"6B\",B774=\"6C\"),F774+G774+H774,0)","v":0},null,0,0,0,0,0,0,0,0,0,0,0,0,0,0,0,{"$f":"((AA774*10)/132)^$K$1","v":0},{"$f":"((AB774*10)/132)^$K$1","v":0},{"$f":"SUM(AD774:AT774)","v":0},null,200]
[1,3,null,null,null,null,null,null,null,null,null,0,0,0,0,0,0,0,0,0,0,0,0,0,0,0,0,0,null,0,0,0,0,0,0,0,0,0,0,0,0,0,0,0,0,0,0,null,210]
[1,3,null,null,null,null,null,null,null,null,null,0,0,0,0,0,0,0,0,0,0,0,0,0,0,0,0,0,null,0,0,0,0,0,0,0,0,0,0,0,0,0,0,0,0,0,0,null,220]
[1,3,null,null,null,null,null,null,null,null,null,0,0,0,0,0,0,0,0,0,0,0,0,0,0,0,0,0,null,0,0,0,0,0,0,0,0,0,0,0,0,0,0,0,0,0,0,null,230]
[1,3,null,null,null,null,null,null,null,null,null,0,0,0,0,0,0,0,0,0,0,0,0,0,0,0,0,0,null,0,0,0,0,0,0,0,0,0,0,0,0,0,0,0,0,0,0,null,240]
[1,3,null,null,null,null,null,null,null,null,null,0,0,0,0,0,0,0,0,0,0,0,0,0,0,0,0,0,null,0,0,0,0,0,0,0,0,0,0,0,0,0,0,0,0,0,0,null,250]
[1,4,6,6,8,9,null,null,null,null,null,6,6,0,0,0,17,0,0,0,0,0,0,0,0,0,0,0,null,1.1452308205649526,1.1452308205649526,0,0,0,2.5145519446185003,0,0,0,0,0,0,0,0,0,0,0,4.8050135857484051,null,260]
[1,3,null,null,null,null,null,null,null,null,null,0,0,0,0,0,0,0,0,0,0,0,0,0,0,0,0,0,null,0,0,0,0,0,0,0,0,0,0,0,0,0,0,0,0,0,0,null,270]
[1,3,null,null,null,null,null,null,null,null,null,0,0,0,0,0,0,0,0,0,0,0,0,0,0,0,0,0,null,0,0,0,0,0,0,0,0,0,0,0,0,0,0,0,0,0,0,null,280]
[1,3,null,null,null,null,null,null,null,null,null,0,0,0,0,0,0,0,0,0,0,0,0,0,0,0,0,0,null,0,0,0,0,0,0,0,0,0,0,0,0,0,0,0,0,0,0,null,290]
[1,3,null,null,null,null,null,null,null,null,null,0,0,0,0,0,0,0,0,0,0,0,0,0,0,0,0,0,null,0,0,0,0,0,0,0,0,0,0,0,0,0,0,0,0,0,0,null,300]
[1,"4B",6,6,10,10,null,null,null,null,null,6,0,0,0,0,0,0,0,0,0,10,0,0,0,0,0,0,null,1.1452308205649526,0,0,0,0,0,0,0,0,0,1.0841657847339399,0,0,0,0,0,0,2.2293966052988923,null,310]
[1,3,null,null,null,null,null,null,null,null,null,0,0,0,0,0,0,0,0,0,0,0,0,0,0,0,0,0,null,0,0,0,0,0,0,0,0,0,0,0,0,0,0,0,0,0,0,null,320]
[1,3,null,null,null,null,null,null,null,null,null,0,0,0,0,0,0,0,0,0,0,0,0,0,0,0,0,0,null,0,0,0,0,0,0,0,0,0,0,0,0,0,0,0,0,0,0,null,330]
[1,3,null,null,null,null,null,null,null,null,null,0,0,0,0,0,0,0,0,0,0,0,0,0,0,0,0,0,null,0,0,0,0,0,0,0,0,0,0,0,0,0,0,0,0,0,0,null,340]
[1,3,null,null,null,null,null,null,null,null,null,0,0,0,0,0,0,0,0,0,0,0,0,0,0,0,0,0,null,0,0,0,0,0,{"$f":"((Q789*10)/135)^$K$1","v":0},{"$f":"((R789*10)/135)^$K$1","v":0},{"$f":"((S789*10)/135)^$K$1","v":0},{"$f":"((T789*10)/135)^$K$1","v":0},0,{"$f":"((V789*10)/98)^$K$1","v":0},{"$f":"((W789*10)/98)^$K$1","v":0},{"$f":"((X789*10)/98)^$K$1","v":0},0,0,0,0,0,null,350]
[1,3,null,null,null,null,null,null,null,null,null,0,0,0,0,0,0,0,0,0,0,0,0,0,0,0,0,0,null,0,0,0,0,0,0,0,0,0,0,0,0,0,0,0,0,0,0,null,"Sum",null,{"$f":"SUM(AY755:AY789)","v":0}]
[1,3,null,null,null,null,null,null,null,null,null,0,0,0,0,0,0,0,0,0,0,0,0,0,0,0,0,0,null,0,0,0,0,0,0,0,0,0,0,0,0,0,0,0,0,0,0]
[1,3,null,null,null,null,null,null,null,null,null,0,0,0,0,0,0,0,0,0,0,0,0,0,0,0,0,0,null,0,0,0,0,0,0,0,0,0,0,0,0,0,0,0,0,0,0]
[1,3,null,null,null,null,null,null,null,null,null,0,0,0,0,0,0,0,0,0,0,0,0,0,0,0,0,0,null,0,0,0,0,0,0,0,0,0,0,0,0,0,0,0,0,0,0]
[1,3,null,null,null,null,null,null,null,null,null,0,0,0,0,0,0,0,0,0,0,0,0,0,0,0,0,0,null,0,0,0,0,0,0,0,0,0,0,0,0,0,0,0,0,0,0]
[1,5,null,null,null,null,null,null,null,null,null,0,0,0,0,0,0,0,0,0,0,0,0,0,0,0,0,0,null,0,0,0,0,0,0,0,0,0,0,0,0,0,0,0,0,0,0]
[1,3,null,null,null,null,null,null,null,null,null,0,0,0,0,0,0,0,0,0,0,0,0,0,0,0,0,0,null,{"$f":"((L796*10)/58)^$K$1","v":0},{"$f":"((M796*10)/58)^$K$1","v":0},{"$f":"((N796*10)/80)^$K$1","v":0},{"$f":"((O796*10)/80)^$K$1","v":0},0,0,0,0,0,0,0,0,0,0,0,0,0,0]
[1,3,null,null,null,null,null,null,null,null,null,0,0,0,0,0,0,0,0,0,0,0,0,0,0,0,0,0,null,0,0,0,0,0,0,0,0,0,0,0,0,0,0,0,0,0,0]
[1,3,null,null,null,null,null,null,null,null,null,0,0,0,0,0,0,0,0,0,0,0,0,0,0,0,0,0,null,0,0,0,0,0,0,0,0,0,0,0,0,0,0,0,0,0,0]
[1,3,null,null,null,null,null,null,null,null,null,0,0,0,0,0,0,0,0,0,0,0,0,0,0,0,0,0,null,0,0,0,0,0,0,0,0,0,{"$f":"((U799*10)/98)^$K$1","v":0},0,0,0,0,0,0,0,0]
[1,3,null,null,null,null,null,null,null,null,null,0,0,0,0,0,0,0,0,0,0,0,0,0,0,0,0,0,null,0,0,0,0,0,0,0,0,0,0,0,0,0,0,0,0,0,0]
[1,"5B",4,6,6,9,9,null,null,null,null,4,0,0,0,12,0,0,0,0,0,0,0,0,0,0,0,0,null,0.22621843369184247,0,0,0,0.62429507696997399,0,0,0,0,0,0,0,0,0,0,0,0,0.85051351066181646]
[1,3,null,null,null,null,null,null,null,null,null,0,0,0,0,0,0,0,0,0,0,0,0,0,0,0,0,0,null,0,0,0,0,0,0,0,0,0,0,0,0,0,0,0,0,0,0]
[1,3,null,null,null,null,null,null,null,null,null,0,0,0,0,0,0,0,0,0,0,0,0,0,0,0,0,0,null,0,0,0,0,0,0,0,0,0,0,0,0,0,0,0,0,0,0]
[1,3,null,null,null,null,null,null,null,null,null,0,0,0,0,0,0,0,0,0,0,0,0,0,0,0,0,0,null,0,0,0,0,0,0,0,0,0,0,0,0,0,0,0,0,0,0]
[1,3,null,null,null,null,null,null,null,null,null,0,0,0,0,0,0,0,0,0,0,0,0,0,0,0,0,0,null,0,0,0,0,0,0,0,0,0,0,0,0,0,0,0,0,0,0]
[1,3,null,null,null,null,null,null,null,null,null,0,0,0,0,0,0,0,0,0,0,0,0,0,0,0,0,0,null,0,0,0,0,0,0,0,0,0,0,0,0,0,0,0,0,0,0]
[1,3,null,null,null,null,null,null,null,null,null,0,0,0,0,0,0,0,0,0,0,0,0,0,0,0,0,0,null,0,0,0,0,0,0,0,0,0,0,0,0,0,0,0,0,0,0]
[1,6,5,6,6,9,9,9,null,null,null,5,0,0,0,12,0,0,0,0,0,0,0,0,0,27,0,0,null,0.55229109788047448,0,0,0,0.62429507696997399,0,0,0,0,0,0,0,0,0,4.8436137645050952,0,0,6.0201999393555434]
[1,3,null,null,null,null,null,null,null,null,null,0,0,0,0,0,0,0,0,0,0,0,0,0,0,0,0,0,null,0,0,0,0,0,0,0,0,0,0,0,0,0,0,0,0,0,0]
[1,3,null,null,null,null,null,null,null,null,null,0,0,0,0,0,0,0,0,0,0,0,0,0,0,0,0,0,null,0,0,0,0,0,0,0,0,0,0,0,0,0,0,0,0,0,0]
[1,3,null,null,null,null,null,null,null,null,null,0,0,0,0,0,0,0,0,0,0,0,0,0,0,0,0,0,null,0,0,0,0,0,0,0,0,0,0,0,0,0,0,0,0,0,0]
[1,3,null,null,null,null,null,null,null,null,null,0,0,0,0,0,0,0,0,0,0,0,0,0,0,0,0,0,null,0,0,0,0,0,0,0,0,0,0,0,0,0,0,0,0,0,0]
[1,"6B",5,7,7,9,9,9,null,null,null,5,0,0,0,14,0,0,0,0,0,0,0,0,0,0,0,27,null,0.55229109788047448,0,0,0,1.1565837035531692,0,0,0,0,0,0,0,0,0,0,0,17.504887815039957,19.213762616473602]
[1,3,null,null,null,null,null,null,null,null,null,0,0,0,0,0,0,0,0,0,0,0,0,0,0,0,0,0,null,0,0,0,0,0,0,0,0,0,0,0,0,0,0,0,0,0,0]
[1,3,null,null,null,null,null,null,null,null,null,0,0,0,0,0,0,0,0,0,0,0,0,0,0,0,0,0,null,0,0,0,0,0,0,0,0,0,0,0,0,0,0,0,0,0,0]
[1,3,null,null,null,null,null,null,null,null,null,0,0,0,0,0,0,0,0,0,0,0,0,0,0,0,0,0,null,0,0,0,0,0,0,0,0,0,0,0,0,0,0,0,0,0,0]
[1,3,null,null,null,null,null,null,null,null,null,0,0,0,0,0,0,0,0,0,0,0,0,0,0,0,0,0,null,0,0,0,0,0,0,0,0,0,0,0,0,0,0,0,0,0,0]
[1,7,4,6,6,10,10,9,9,null,null,4,0,0,0,12,0,20,18,0,0,0,0,0,0,0,0,0,null,0.22621843369184247,0,0,0,0.62429507696997399,0,4.8170916432868358,3.1604938271604937,0,0,0,0,0,0,0,0,0,8.8280989811091466]
[1,3,null,null,null,null,null,null,null,null,null,0,0,0,0,0,0,0,0,0,0,0,0,0,0,0,0,0,null,0,0,0,0,0,0,0,0,0,0,0,0,0,0,0,0,0,0]
[1,3,null,null,null,null,null,null,null,null,null,0,0,0,0,0,0,0,0,0,0,0,0,0,0,0,0,0,null,0,0,0,0,0,0,0,0,0,0,0,0,0,0,0,0,0,0]
[1,"7B",4,6,6,10,10,9,9,null,null,4,0,0,0,12,0,0,0,0,0,0,18,0,0,0,0,0,null,0.22621843369184247,0,0,0,0.62429507696997399,{"$f":"((Q821*10)/135)^$K$1","v":0},{"$f":"((R821*10)/135)^$K$1","v":0},{"$f":"((S821*10)/135)^$K$1","v":0},{"$f":"((T821*10)/135)^$K$1","v":0},0,{"$f":"((V821*10)/98)^$K$1","v":0},{"$f":"((W821*10)/98)^$K$1","v":11.381138741823007},{"$f":"((X821*10)/98)^$K$1","v":0},0,0,0,0,12.231652252484823]
[1,3,null,null,null,null,null,null,null,null,null,0,0,0,0,0,0,0,0,0,0,0,0,0,0,0,0,0,null,0,0,0,0,0,0,0,0,0,{"$f":"((U822*10)/98)^$K$1","v":0},0,0,0,0,0,0,0,0]
[1,3,null,null,null,null,null,null,null,null,null,0,0,0,0,0,0,0,0,0,0,0,0,0,0,0,0,0,null,0,0,0,0,0,0,0,0,0,0,0,0,0,0,0,0,0,0]
[1,3,null,null,null,null,null,null,null,null,null,0,0,0,0,0,0,0,0,0,0,0,0,0,0,0,0,0,null,0,0,0,0,0,0,0,0,0,0,0,0,0,0,0,0,0,0]
[1,3,null,null,null,null,null,null,null,null,null,0,0,0,0,0,0,0,0,0,0,0,0,0,0,0,0,0,null,0,0,0,0,0,0,0,0,0,0,0,0,0,0,0,0,0,0]
[1,3,null,null,null,null,null,null,null,null,null,0,0,0,0,0,0,0,0,0,0,0,0,0,0,0,0,0,null,0,0,0,0,0,0,0,0,0,0,0,0,0,0,0,0,0,0]
[1,9,4,4,6,6,7,7,7,7,8,4,0,0,0,10,0,13,14,15,0,0,0,0,0,0,0,0,null,0.22621843369184247,0,0,0,0.30106822770542724,0,0.85988096514947066,1.1565837035531692,1.5241579027587262,0,0,0,0,0,0,0,0,4.0679092328586357]
[1,3,null,null,null,null,null,null,null,null,null,0,0,0,0,0,0,0,0,0,0,0,0,0,0,0,0,0,null,0,0,0,0,0,0,0,0,0,0,0,0,0,0,0,0,0,0]
[1,3,null,null,null,null,null,null,null,null,null,0,0,0,0,0,0,0,0,0,0,0,0,0,0,0,0,0,null,0,0,0,0,0,0,0,0,0,0,0,0,0,0,0,0,0,0]
[1,3,null,null,null,null,null,null,null,null,null,0,0,0,0,0,0,0,0,0,0,0,0,0,0,0,0,0,null,0,0,0,0,0,0,0,0,0,0,0,0,0,0,0,0,0,0]
[1,3,null,null,null,null,null,null,null,null,null,0,0,0,0,0,0,0,0,0,0,0,0,0,0,0,0,0,null,0,0,0,0,0,0,0,0,0,0,0,0,0,0,0,0,0,0]
[1,3,null,null,null,null,null,null,null,null,null,0,0,0,0,0,0,0,0,0,0,0,0,0,0,0,0,0,null,0,0,0,0,0,0,0,0,0,0,0,0,0,0,0,0,0,0]
[1,"9B",4,4,6,6,7,9,9,7,8,4,0,0,0,10,0,0,0,0,0,0,18,15,0,0,0,0,null,0.22621843369184247,0,0,0,0.30106822770542724,0,0,0,0,0,0,11.381138741823007,5.4885892852155678,0,0,0,0,17.397014688435846]
[1,3,null,null,null,null,null,null,null,null,null,0,0,0,0,0,0,0,0,0,0,0,0,0,0,0,0,0,null,0,0,0,0,{"$f":"((P834*10)/135)^$K$1","v":0},0,0,0,0,0,0,0,0,0,0,0,0,0]
[1,3,null,null,null,null,null,null,null,null,null,0,0,0,0,0,0,0,0,0,0,0,0,0,0,0,0,0,null,0,0,0,0,0,0,0,0,0,0,0,0,0,0,0,0,0,0]
[1,3,null,null,null,null,null,null,null,null,null,0,0,0,0,0,0,0,0,0,0,0,0,0,0,0,0,0,null,0,0,0,0,0,0,0,0,0,0,0,0,0,0,0,0,0,0]
[1,3,null,null,null,null,null,null,null,null,null,0,0,0,0,0,0,0,0,0,0,0,0,0,0,0,0,0,null,0,0,0,0,0,0,0,0,0,0,0,0,0,{"$f":"((Y837*10)/182)^$K$1","v":0},{"$f":"((Z837*10)/182)^$K$1","v":0},0,0,0]
[1,3,null,null,null,null,null,null,null,null,null,{"$f":"C838","v":0},{"$f":"IF(B838=4,D838,0)","v":0},{"$f":"IF(OR(B838=2,B838=\"3B\",B838=\"5C\",B838=\"5D\"),D838,0)","v":0},{"$f":"IF(B838=\"3B\",E838,0)","v":0},{"$f":"IF(OR(B838=3,B838=5,B838=\"5B\",B838=6,B838=\"6B\",B838=7,B838=\"7B\",B838=9,B838=\"9B\"),D838+E838,0)","v":0},{"$f":"IF(B838=4,E838+F838,0)","v":0},{"$f":"IF(OR(B838=5,B838=7,B838=9),F838+G838,0)","v":0},{"$f":"IF(OR(B838=7,B838=9),H838+I838,0)","v":0},{"$f":"IF(B838=9,J838+K838,0)","v":0},{"$f":"IF(OR(B838=\"6C\",B838=\"7C\"),D838+E838,0)","v":0},{"$f":"IF(B838=\"4B\",F838+G838,0)","v":0},{"$f":"IF(OR(B838=\"7B\",B838=\"7C\",B838=\"9B\"),H838+I838,0)","v":0},{"$f":"IF(OR(B838=\"9B\"),J838+K838,0)","v":0},{"$f":"IF((B838=\"5C\"),E838+F838+G838,0)","v":0},{"$f":"IF(B838=6,F838+G838+H838,0)","v":0},{"$f":"IF((B838=\"5D\"),E838+F838+G838,0)","v":0},{"$f":"IF(OR(B838=\"6B\",B838=\"6C\"),F838+G838+H838,0)","v":0},null,0,0,0,0,0,0,0,0,0,0,0,0,0,0,0,{"$f":"((AA838*10)/132)^$K$1","v":0},{"$f":"((AB838*10)/132)^$K$1","v":0},{"$f":"SUM(AD838:AT838)","v":0}]
[1,3,null,null,null,null,null,null,null,null,null,0,0,0,0,0,0,0,0,0,0,0,0,0,0,0,0,0,null,0,0,0,0,0,0,0,0,0,0,0,0,0,0,0,0,0,0]
[1,3,null,null,null,null,null,null,null,null,null,0,0,0,0,0,0,0,0,0,0,0,0,0,0,0,0,0,null,0,0,0,0,0,0,0,0,0,0,0,0,0,0,0,0,0,0]
[1,3,null,null,null,null,null,null,null,null,null,0,0,0,0,0,0,0,0,0,0,0,0,0,0,0,0,0,null,0,0,0,0,0,0,0,0,0,0,0,0,0,0,0,0,0,0]
[1,3,null,null,null,null,null,null,null,null,null,0,0,0,0,0,0,0,0,0,0,0,0,0,0,0,0,0,null,0,0,0,0,0,0,0,0,0,0,0,0,0,0,0,0,0,0]
[1,3,null,null,null,null,null,null,null,null,null,0,0,0,0,0,0,0,0,0,0,0,0,0,0,0,0,0,null,0,0,0,0,0,0,0,0,0,0,0,0,0,0,0,0,0,0]
[1,3,null,null,null,null,null,null,null,null,null,0,0,0,0,0,0,0,0,0,0,0,0,0,0,0,0,0,null,0,0,0,0,0,0,0,0,0,0,0,0,0,0,0,0,0,0]
[1,3,null,null,null,null,null,null,null,null,null,0,0,0,0,0,0,0,0,0,0,0,0,0,0,0,0,0,null,0,0,0,0,0,0,0,0,0,0,0,0,0,0,0,0,0,0]
[1,3,null,null,null,null,null,null,null,null,null,0,0,0,0,0,0,0,0,0,0,0,0,0,0,0,0,0,null,0,0,0,0,0,0,0,0,0,0,0,0,0,0,0,0,0,0]
[1,3,null,null,null,null,null,null,null,null,null,0,0,0,0,0,0,0,0,0,0,0,0,0,0,0,0,0,null,0,0,0,0,0,0,0,0,0,0,0,0,0,0,0,0,0,0]
[1,3,null,null,null,null,null,null,null,null,null,0,0,0,0,0,0,0,0,0,0,0,0,0,0,0,0,0,null,0,0,0,0,0,0,0,0,0,0,0,0,0,0,0,0,0,0]
[1,3,null,null,null,null,null,null,null,null,null,0,0,0,0,0,0,0,0,0,0,0,0,0,0,0,0,0,null,0,0,0,0,0,0,0,0,0,0,0,0,0,0,0,0,0,0]
[1,3,null,null,null,null,null,null,null,null,null,0,0,0,0,0,0,0,0,0,0,0,0,0,0,0,0,0,null,0,0,0,0,0,0,0,0,0,0,0,0,0,0,0,0,0,0]
[1,3,null,null,null,null,null,null,null,null,null,0,0,0,0,0,0,0,0,0,0,0,0,0,0,0,0,0,null,0,0,0,0,0,0,0,0,0,0,0,0,0,0,0,0,0,0]
[1,3,null,null,null,null,null,null,null,null,null,0,0,0,0,0,0,0,0,0,0,0,0,0,0,0,0,0,null,0,0,0,0,0,0,0,0,0,0,0,0,0,0,0,0,0,0]
[1,3,null,null,null,null,null,null,null,null,null,0,0,0,0,0,0,0,0,0,0,0,0,0,0,0,0,0,null,0,0,0,0,0,{"$f":"((Q853*10)/135)^$K$1","v":0},{"$f":"((R853*10)/135)^$K$1","v":0},{"$f":"((S853*10)/135)^$K$1","v":0},{"$f":"((T853*10)/135)^$K$1","v":0},0,{"$f":"((V853*10)/98)^$K$1","v":0},{"$f":"((W853*10)/98)^$K$1","v":0},{"$f":"((X853*10)/98)^$K$1","v":0},0,0,0,0,0]
[1,3,null,null,null,null,null,null,null,null,null,0,0,0,0,0,0,0,0,0,0,0,0,0,0,0,0,0,null,0,0,0,0,0,0,0,0,0,{"$f":"((U854*10)/98)^$K$1","v":0},0,0,0,0,0,0,0,0]
[1,3,null,null,null,null,null,null,null,null,null,0,0,0,0,0,0,0,0,0,0,0,0,0,0,0,0,0,null,0,0,0,0,0,0,0,0,0,0,0,0,0,0,0,0,0,0]
[1,3,null,null,null,null,null,null,null,null,null,0,0,0,0,0,0,0,0,0,0,0,0,0,0,0,0,0,null,0,0,0,0,0,0,0,0,0,0,0,0,0,0,0,0,0,0]
[1,3,null,null,null,null,null,null,null,null,null,0,0,0,0,0,0,0,0,0,0,0,0,0,0,0,0,0,null,0,0,0,0,0,0,0,0,0,0,0,0,0,0,0,0,0,0]
[1,3,null,null,null,null,null,null,null,null,null,0,0,0,0,0,0,0,0,0,0,0,0,0,0,0,0,0,null,0,0,0,0,0,0,0,0,0,0,0,0,0,0,0,0,0,0]
[1,3,null,null,null,null,null,null,null,null,null,0,0,0,0,0,0,0,0,0,0,0,0,0,0,0,0,0,null,0,0,0,0,0,0,0,0,0,0,0,0,0,0,0,0,0,0]
[1,3,null,null,null,null,null,null,null,null,null,0,0,0,0,0,0,0,0,0,0,0,0,0,0,0,0,0,null,{"$f":"((L860*10)/58)^$K$1","v":0},{"$f":"((M860*10)/58)^$K$1","v":0},{"$f":"((N860*10)/80)^$K$1","v":0},{"$f":"((O860*10)/80)^$K$1","v":0},0,{"$f":"((Q860*10)/135)^$K$1","v":0},{"$f":"((R860*10)/135)^$K$1","v":0},{"$f":"((S860*10)/135)^$K$1","v":0},{"$f":"((T860*10)/135)^$K$1","v":0},0,0,0,0,0,0,0,0,0]
[1,3,null,null,null,null,null,null,null,null,null,0,0,0,0,0,0,0,0,0,0,0,0,0,0,0,0,0,null,0,0,0,0,0,0,0,0,0,0,0,0,0,0,0,0,0,0]
[1,3,null,null,null,null,null,null,null,null,null,0,0,0,0,0,0,0,0,0,0,0,0,0,0,0,0,0,null,0,0,0,0,0,0,0,0,0,0,0,0,0,0,0,0,0,0]
[1,3,null,null,null,null,null,null,null,null,null,0,0,0,0,0,0,0,0,0,0,0,0,0,0,0,0,0,null,0,0,0,0,0,0,0,0,0,0,0,0,0,0,0,0,0,0]
[1,3,null,null,null,null,null,null,null,null,null,0,0,0,0,0,0,0,0,0,0,0,0,0,0,0,0,0,null,0,0,0,0,0,0,0,0,0,0,0,0,0,0,0,0,0,0]
[1,3,null,null,null,null,null,null,null,null,null,0,0,0,0,0,0,0,0,0,0,0,0,0,0,0,0,0,null,0,0,0,0,0,0,0,0,0,0,0,0,0,0,0,0,0,0]
[1,3,null,null,null,null,null,null,null,null,null,0,0,0,0,0,0,0,0,0,0,0,0,0,0,0,0,0,null,0,0,0,0,0,0,0,0,0,0,0,0,0,0,0,0,0,0]
[1,3,null,null,null,null,null,null,null,null,null,0,0,0,0,0,0,0,0,0,0,0,0,0,0,0,0,0,null,0,0,0,0,0,0,0,0,0,0,0,0,0,0,0,0,0,0]
[1,3,null,null,null,null,null,null,null,null,null,0,0,0,0,0,0,0,0,0,0,0,0,0,0,0,0,0,null,0,0,0,0,0,0,0,0,0,0,0,0,0,0,0,0,0,0]
[1,3,null,null,null,null,null,null,null,null,null,0,0,0,0,0,0,0,0,0,0,0,0,0,0,0,0,0,null,0,0,0,0,0,0,0,0,0,0,0,0,0,0,0,0,0,0]
[1,3,null,null,null,null,null,null,null,null,null,0,0,0,0,0,0,0,0,0,0,0,0,0,0,0,0,0,null,0,0,0,0,0,0,0,0,0,0,0,0,0,0,0,0,0,0]
[1,3,null,null,null,null,null,null,null,null,null,0,0,0,0,0,0,0,0,0,0,0,0,0,0,0,0,0,null,0,0,0,0,0,0,0,0,0,0,0,0,0,0,0,0,0,0]
[1,3,null,null,null,null,null,null,null,null,null,0,0,0,0,0,0,0,0,0,0,0,0,0,0,0,0,0,null,0,0,0,0,0,0,0,0,0,0,0,0,0,0,0,0,0,0]
[1,3,null,null,null,null,null,null,null,null,null,0,0,0,0,0,0,0,0,0,0,0,0,0,0,0,0,0,null,0,0,0,0,0,0,0,0,0,0,0,0,0,0,0,0,0,0]
[1,3,null,null,null,null,null,null,null,null,null,0,0,0,0,0,0,0,0,0,0,0,0,0,0,0,0,0,null,0,0,0,0,0,0,0,0,0,0,0,0,0,0,0,0,0,0]
[1,3,null,null,null,null,null,null,null,null,null,0,0,0,0,0,0,0,0,0,0,0,0,0,0,0,0,0,null,0,0,0,0,0,0,0,0,0,0,0,0,0,0,0,0,0,0]
[1,3,null,null,null,null,null,null,null,null,null,0,0,0,0,0,0,0,0,0,0,0,0,0,0,0,0,0,null,0,0,0,0,0,0,0,0,0,0,0,0,0,0,0,0,0,0]
[1,3,null,null,null,null,null,null,null,null,null,0,0,0,0,0,0,0,0,0,0,0,0,0,0,0,0,0,null,0,0,0,0,0,0,0,0,0,0,0,0,0,0,0,0,0,0]
[1,3,null,null,null,null,null,null,null,null,null,0,0,0,0,0,0,0,0,0,0,0,0,0,0,0,0,0,null,0,0,0,0,0,0,0,0,0,0,0,0,0,0,0,0,0,0]
[1,3,null,null,null,null,null,null,null,null,null,0,0,0,0,0,0,0,0,0,0,0,0,0,0,0,0,0,null,0,0,0,0,0,0,0,0,0,0,0,0,0,0,0,0,0,0]
[1,3,null,null,null,null,null,null,null,null,null,0,0,0,0,0,0,0,0,0,0,0,0,0,0,0,0,0,null,0,0,0,0,0,0,0,0,0,0,0,0,0,0,0,0,0,0]
[1,3,null,null,null,null,null,null,null,null,null,0,0,0,0,0,0,0,0,0,0,0,0,0,0,0,0,0,null,0,0,0,0,0,0,0,0,0,0,0,0,0,0,0,0,0,0]
[1,3,null,null,null,null,null,null,null,null,null,0,0,0,0,0,0,0,0,0,0,0,0,0,0,0,0,0,null,0,0,0,0,0,0,0,0,0,0,0,0,0,0,0,0,0,0]
[1,3,null,null,null,null,null,null,null,null,null,0,0,0,0,0,0,0,0,0,0,0,0,0,0,0,0,0,null,0,0,0,0,0,0,0,0,0,0,0,0,0,0,0,0,0,0]
[1,3,null,null,null,null,null,null,null,null,null,0,0,0,0,0,0,0,0,0,0,0,0,0,0,0,0,0,null,0,0,0,0,0,0,0,0,0,0,0,0,0,0,0,0,0,0]
[1,3,null,null,null,null,null,null,null,null,null,0,0,0,0,0,0,0,0,0,0,0,0,0,0,0,0,0,null,0,0,0,0,0,0,0,0,0,0,{"$f":"((V885*10)/98)^$K$1","v":0},{"$f":"((W885*10)/98)^$K$1","v":0},{"$f":"((X885*10)/98)^$K$1","v":0},0,0,0,0,0]
[1,3,null,null,null,null,null,null,null,null,null,0,0,0,0,0,0,0,0,0,0,0,0,0,0,0,0,0,null,0,0,0,0,0,0,0,0,0,{"$f":"((U886*10)/98)^$K$1","v":0},0,0,0,0,0,0,0,0]
[1,3,null,null,null,null,null,null,null,null,null,0,0,0,0,0,0,0,0,0,0,0,0,0,0,0,0,0,null,0,0,0,0,0,0,0,0,0,0,0,0,0,0,0,0,0,0]
[1,3,null,null,null,null,null,null,null,null,null,0,0,0,0,0,0,0,0,0,0,0,0,0,0,0,0,0,null,0,0,0,0,0,0,0,0,0,0,0,0,0,0,0,0,0,0]
[1,3,null,null,null,null,null,null,null,null,null,0,0,0,0,0,0,0,0,0,0,0,0,0,0,0,0,0,null,0,0,0,0,0,0,0,0,0,0,0,0,0,0,0,0,0,0]
[1,3,null,null,null,null,null,null,null,null,null,0,0,0,0,0,0,0,0,0,0,0,0,0,0,0,0,0,null,0,0,0,0,0,0,0,0,0,0,0,0,0,0,0,0,0,0]
[1,3,null,null,null,null,null,null,null,null,null,0,0,0,0,0,0,0,0,0,0,0,0,0,0,0,0,0,null,0,0,0,0,0,0,0,0,0,0,0,0,0,0,0,0,0,0]
[1,3,null,null,null,null,null,null,null,null,null,0,0,0,0,0,0,0,0,0,0,0,0,0,0,0,0,0,null,0,0,0,0,0,0,0,0,0,0,0,0,0,0,0,0,0,0]
[1,3,null,null,null,null,null,null,null,null,null,0,0,0,0,0,0,0,0,0,0,0,0,0,0,0,0,0,null,0,0,0,0,0,0,0,0,0,0,0,0,0,0,0,0,0,0]
[1,"3B",null,null,null,null,null,null,null,null,null,0,0,0,0,0,0,0,0,0,0,0,0,0,0,0,0,0,null,0,0,0,0,0,0,0,0,0,0,0,0,0,0,0,0,0,0]
[1,"3C",null,null,null,null,null,null,null,null,null,0,0,0,0,0,0,0,0,0,0,0,0,0,0,0,0,0,null,0,0,0,0,0,0,0,0,0,0,0,0,0,0,0,0,0,0]
[1,4,null,null,null,null,null,null,null,null,null,0,0,0,0,0,0,0,0,0,0,0,0,0,0,0,0,0,null,0,0,0,0,0,0,0,0,0,0,0,0,0,0,0,0,0,0]
[1,"4B",null,null,null,null,null,null,null,null,null,0,0,0,0,0,0,0,0,0,0,0,0,0,0,0,0,0,null,0,0,0,0,0,0,0,0,0,0,0,0,0,0,0,0,0,0]
[1,5,null,null,null,null,null,null,null,null,null,0,0,0,0,0,0,0,0,0,0,0,0,0,0,0,0,0,null,0,0,0,0,{"$f":"((P898*10)/135)^$K$1","v":0},0,0,0,0,0,0,0,0,0,0,0,0,0]
[1,"5B",null,null,null,null,null,null,null,null,null,0,0,0,0,0,0,0,0,0,0,0,0,0,0,0,0,0,null,0,0,0,0,0,0,0,0,0,0,0,0,0,0,0,0,0,0]
[1,6,null,null,null,null,null,null,null,null,null,0,0,0,0,0,0,0,0,0,0,0,0,0,0,0,0,0,null,0,0,0,0,0,0,0,0,0,0,0,0,0,0,0,0,0,0]
[1,"6B",null,null,null,null,null,null,null,null,null,0,0,0,0,0,0,0,0,0,0,0,0,0,0,0,0,0,null,0,0,0,0,0,0,0,0,0,0,0,0,0,{"$f":"((Y901*10)/182)^$K$1","v":0},{"$f":"((Z901*10)/182)^$K$1","v":0},0,0,0]
[1,7,null,null,null,null,null,null,null,null,null,{"$f":"C902","v":0},{"$f":"IF(B902=4,D902,0)","v":0},{"$f":"IF(OR(B902=2,B902=\"3B\",B902=\"5C\",B902=\"5D\"),D902,0)","v":0},{"$f":"IF(B902=\"3B\",E902,0)","v":0},{"$f":"IF(OR(B902=3,B902=5,B902=\"5B\",B902=6,B902=\"6B\",B902=7,B902=\"7B\",B902=9,B902=\"9B\"),D902+E902,0)","v":0},{"$f":"IF(B902=4,E902+F902,0)","v":0},{"$f":"IF(OR(B902=5,B902=7,B902=9),F902+G902,0)","v":0},{"$f":"IF(OR(B902=7,B902=9),H902+I902,0)","v":0},{"$f":"IF(B902=9,J902+K902,0)","v":0},{"$f":"IF(OR(B902=\"6C\",B902=\"7C\"),D902+E902,0)","v":0},{"$f":"IF(B902=\"4B\",F902+G902,0)","v":0},{"$f":"IF(OR(B902=\"7B\",B902=\"7C\",B902=\"9B\"),H902+I902,0)","v":0},{"$f":"IF(OR(B902=\"9B\"),J902+K902,0)","v":0},{"$f":"IF((B902=\"5C\"),E902+F902+G902,0)","v":0},{"$f":"IF(B902=6,F902+G902+H902,0)","v":0},{"$f":"IF((B902=\"5D\"),E902+F902+G902,0)","v":0},{"$f":"IF(OR(B902=\"6B\",B902=\"6C\"),F902+G902+H902,0)","v":0},null,0,0,0,0,0,0,0,0,0,0,0,0,0,0,0,{"$f":"((AA902*10)/132)^$K$1","v":0},{"$f":"((AB902*10)/132)^$K$1","v":0},{"$f":"SUM(AD902:AT902)","v":0}]
[1,"7B",null,null,null,null,null,null,null,null,null,0,0,0,0,0,0,0,0,0,0,0,0,0,0,0,0,0,null,0,0,0,0,0,0,0,0,0,0,0,0,0,0,0,0,0,0]
[1,9,null,null,null,null,null,null,null,null,null,0,0,0,0,0,0,0,0,0,0,0,0,0,0,0,0,0,null,0,0,0,0,0,0,0,0,0,0,0,0,0,0,0,0,0,0]
[1,"9B",null,null,null,null,null,null,null,null,null,0,0,0,0,0,0,0,0,0,0,0,0,0,0,0,0,0,null,0,0,0,0,0,0,0,0,0,0,0,0,0,0,0,0,0,0]
[1,3,null,null,null,null,null,null,null,null,null,0,0,0,0,0,0,0,0,0,0,0,0,0,0,0,0,0,null,0,0,0,0,0,{"$f":"((Q906*10)/135)^$K$1","v":0},{"$f":"((R906*10)/135)^$K$1","v":0},{"$f":"((S906*10)/135)^$K$1","v":0},{"$f":"((T906*10)/135)^$K$1","v":0},0,{"$f":"((V906*10)/98)^$K$1","v":0},{"$f":"((W906*10)/98)^$K$1","v":0},{"$f":"((X906*10)/98)^$K$1","v":0},0,0,0,0,0]
[1,3,null,null,null,null,null,null,null,null,null,0,0,0,0,0,0,0,0,0,0,0,0,0,0,0,0,0,null,0,0,0,0,0,0,0,0,0,0,0,0,0,0,0,0,0,0]
[1,6,5,6,6,9,9,9,null,null,null,5,0,0,0,12,0,0,0,0,0,0,0,0,0,27,0,0,null,0.55229109788047448,0,0,0,0.62429507696997399,0,0,0,0,0,0,0,0,0,4.8436137645050952,0,0,6.0201999393555434]
[1,3,null,null,null,null,null,null,null,null,null,0,0,0,0,0,0,0,0,0,0,0,0,0,0,0,0,0,null,0,0,0,0,0,0,0,0,0,0,0,0,0,0,0,0,0,0]
[1,3,null,null,null,null,null,null,null,null,null,0,0,0,0,0,0,0,0,0,0,0,0,0,0,0,0,0,null,0,0,0,0,0,0,0,0,0,0,0,0,0,0,0,0,0,0]
[1,3,null,null,null,null,null,null,null,null,null,0,0,0,0,0,0,0,0,0,0,0,0,0,0,0,0,0,null,0,0,0,0,0,0,0,0,0,0,0,0,0,0,0,0,0,0]
[1,3,null,null,null,null,null,null,null,null,null,0,0,0,0,0,0,0,0,0,0,0,0,0,0,0,0,0,null,0,0,0,0,0,0,0,0,0,0,0,0,0,0,0,0,0,0]
[1,"6B",5,7,7,9,9,9,null,null,null,5,0,0,0,14,0,0,0,0,0,0,0,0,0,0,0,27,null,0.55229109788047448,0,0,0,1.1565837035531692,0,0,0,0,0,0,0,0,0,0,0,17.504887815039957,19.213762616473602]
[1,3,null,null,null,null,null,null,null,null,null,0,0,0,0,0,0,0,0,0,0,0,0,0,0,0,0,0,null,0,0,0,0,0,0,0,0,0,0,0,0,0,0,0,0,0,0]
[1,3,null,null,null,null,null,null,null,null,null,0,0,0,0,0,0,0,0,0,0,0,0,0,0,0,0,0,null,0,0,0,0,0,0,0,0,0,0,0,0,0,0,0,0,0,0]
[1,3,null,null,null,null,null,null,null,null,null,0,0,0,0,0,0,0,0,0,0,0,0,0,0,0,0,0,null,0,0,0,0,0,0,0,0,0,0,0,0,0,0,0,0,0,0]
[1,3,null,null,null,null,null,null,null,null,null,0,0,0,0,0,0,0,0,0,0,0,0,0,0,0,0,0,null,0,0,0,0,0,0,0,0,0,0,0,0,0,0,0,0,0,0]
[1,7,4,6,6,10,10,9,9,null,null,4,0,0,0,12,0,20,18,0,0,0,0,0,0,0,0,0,null,0.22621843369184247,0,0,0,0.62429507696997399,0,4.8170916432868358,3.1604938271604937,0,{"$f":"((U918*10)/98)^$K$1","v":0},0,0,0,0,0,0,0,8.8280989811091466]
[1,3,null,null,null,null,null,null,null,null,null,0,0,0,0,0,0,0,0,0,0,0,0,0,0,0,0,0,null,0,0,0,0,0,0,0,0,0,0,0,0,0,0,0,0,0,0]
[1,3,null,null,null,null,null,null,null,null,null,0,0,0,0,0,0,0,0,0,0,0,0,0,0,0,0,0,null,0,0,0,0,0,0,0,0,0,0,0,0,0,0,0,0,0,0]
[1,"7B",4,6,6,10,10,9,9,null,null,4,0,0,0,12,0,0,0,0,0,0,18,0,0,0,0,0,null,0.22621843369184247,0,0,0,0.62429507696997399,0,0,0,0,0,0,11.381138741823007,0,0,0,0,0,12.231652252484823]
[1,3,null,null,null,null,null,null,null,null,null,0,0,0,0,0,0,0,0,0,0,0,0,0,0,0,0,0,null,0,0,0,0,0,0,0,0,0,0,0,0,0,0,0,0,0,0]
[1,3,null,null,null,null,null,null,null,null,null,0,0,0,0,0,0,0,0,0,0,0,0,0,0,0,0,0,null,0,0,0,0,0,0,0,0,0,0,0,0,0,0,0,0,0,0]
[1,3,null,null,null,null,null,null,null,null,null,0,0,0,0,0,0,0,0,0,0,0,0,0,0,0,0,0,null,{"$f":"((L924*10)/58)^$K$1","v":0},{"$f":"((M924*10)/58)^$K$1","v":0},{"$f":"((N924*10)/80)^$K$1","v":0},{"$f":"((O924*10)/80)^$K$1","v":0},0,0,0,0,0,0,0,0,0,0,0,0,0,0]
[1,3,null,null,null,null,null,null,null,null,null,0,0,0,0,0,0,0,0,0,0,0,0,0,0,0,0,0,null,0,0,0,0,0,0,0,0,0,0,0,0,0,0,0,0,0,0]
[1,3,null,null,null,null,null,null,null,null,null,0,0,0,0,0,0,0,0,0,0,0,0,0,0,0,0,0,null,0,0,0,0,0,0,0,0,0,0,0,0,0,0,0,0,0,0]
[1,9,4,4,6,6,7,7,7,7,8,4,0,0,0,10,0,13,14,15,0,0,0,0,0,0,0,0,null,0.22621843369184247,0,0,0,0.30106822770542724,0,0.85988096514947066,1.1565837035531692,1.5241579027587262,0,0,0,0,0,0,0,0,4.0679092328586357]
[1,3,null,null,null,null,null,null,null,null,null,0,0,0,0,0,0,0,0,0,0,0,0,0,0,0,0,0,null,0,0,0,0,0,0,0,0,0,0,0,0,0,0,0,0,0,0]
[1,3,null,null,null,null,null,null,null,null,null,0,0,0,0,0,0,0,0,0,0,0,0,0,0,0,0,0,null,0,0,0,0,0,0,0,0,0,0,0,0,0,0,0,0,0,0]
[1,3,null,null,null,null,null,null,null,null,null,0,0,0,0,0,0,0,0,0,0,0,0,0,0,0,0,0,null,0,0,0,0,0,0,0,0,0,0,0,0,0,0,0,0,0,0]
[1,3,null,null,null,null,null,null,null,null,null,0,0,0,0,0,0,0,0,0,0,0,0,0,0,0,0,0,null,0,0,0,0,0,0,0,0,0,0,0,0,0,0,0,0,0,0]
[1,3,null,null,null,null,null,null,null,null,null,0,0,0,0,0,0,0,0,0,0,0,0,0,0,0,0,0,null,0,0,0,0,0,0,0,0,0,0,0,0,0,0,0,0,0,0]
[1,"9B",4,4,6,6,7,9,9,7,8,4,0,0,0,10,0,0,0,0,0,0,18,15,0,0,0,0,null,0.22621843369184247,0,0,0,0.30106822770542724,0,0,0,0,0,0,11.381138741823007,5.4885892852155678,0,0,0,0,17.397014688435846]
[1,3,null,null,null,null,null,null,null,null,null,0,0,0,0,0,0,0,0,0,0,0,0,0,0,0,0,0,null,0,0,0,0,0,0,0,0,0,0,0,0,0,0,0,0,0,0]
[1,3,null,null,null,null,null,null,null,null,null,0,0,0,0,0,0,0,0,0,0,0,0,0,0,0,0,0,null,0,0,0,0,0,0,0,0,0,0,0,0,0,0,0,0,0,0]
[1,3,null,null,null,null,null,null,null,null,null,0,0,0,0,0,0,0,0,0,0,0,0,0,0,0,0,0,null,0,0,0,0,0,0,0,0,0,0,0,0,0,0,0,0,0,0]
[1,3,null,null,null,null,null,null,null,null,null,0,0,0,0,0,0,0,0,0,0,0,0,0,0,0,0,0,null,0,0,0,0,0,0,0,0,0,0,0,0,0,0,0,0,0,0]
[1,3,null,null,null,null,null,null,null,null,null,0,0,0,0,0,0,0,0,0,0,0,0,0,0,0,0,0,null,0,0,0,0,0,{"$f":"((Q938*10)/135)^$K$1","v":0},{"$f":"((R938*10)/135)^$K$1","v":0},{"$f":"((S938*10)/135)^$K$1","v":0},{"$f":"((T938*10)/135)^$K$1","v":0},0,{"$f":"((V938*10)/98)^$K$1","v":0},{"$f":"((W938*10)/98)^$K$1","v":0},{"$f":"((X938*10)/98)^$K$1","v":0},0,0,0,0,0]
[1,3,null,null,null,null,null,null,null,null,null,0,0,0,0,0,0,0,0,0,0,0,0,0,0,0,0,0,null,0,0,0,0,0,0,0,0,0,0,0,0,0,0,0,0,0,0]
[1,3,null,null,null,null,null,null,null,null,null,0,0,0,0,0,0,0,0,0,0,0,0,0,0,0,0,0,null,0,0,0,0,0,0,0,0,0,0,0,0,0,0,0,0,0,0]
[1,3,null,null,null,null,null,null,null,null,null,0,0,0,0,0,0,0,0,0,0,0,0,0,0,0,0,0,null,0,0,0,0,0,0,0,0,0,0,0,0,0,0,0,0,0,0]
[1,3,null,null,null,null,null,null,null,null,null,0,0,0,0,0,0,0,0,0,0,0,0,0,0,0,0,0,null,0,0,0,0,0,0,0,0,0,0,0,0,0,0,0,0,0,0]
[1,3,null,null,null,null,null,null,null,null,null,0,0,0,0,0,0,0,0,0,0,0,0,0,0,0,0,0,null,0,0,0,0,0,0,0,0,0,0,0,0,0,0,0,0,0,0]
[1,3,null,null,null,null,null,null,null,null,null,0,0,0,0,0,0,0,0,0,0,0,0,0,0,0,0,0,null,0,0,0,0,0,0,0,0,0,0,0,0,0,0,0,0,0,0]
[1,3,null,null,null,null,null,null,null,null,null,0,0,0,0,0,0,0,0,0,0,0,0,0,0,0,0,0,null,0,0,0,0,0,0,0,0,0,0,0,0,0,0,0,0,0,0]
[1,3,null,null,null,null,null,null,null,null,null,0,0,0,0,0,0,0,0,0,0,0,0,0,0,0,0,0,null,0,0,0,0,0,0,0,0,0,0,0,0,0,0,0,0,0,0]
[1,3,null,null,null,null,null,null,null,null,null,0,0,0,0,0,0,0,0,0,0,0,0,0,0,0,0,0,null,0,0,0,0,0,0,0,0,0,0,0,0,0,0,0,0,0,0]
[1,3,null,null,null,null,null,null,null,null,null,0,0,0,0,0,0,0,0,0,0,0,0,0,0,0,0,0,null,0,0,0,0,0,0,0,0,0,0,0,0,0,0,0,0,0,0]
[1,3,null,null,null,null,null,null,null,null,null,0,0,0,0,0,0,0,0,0,0,0,0,0,0,0,0,0,null,0,0,0,0,0,0,0,0,0,0,0,0,0,0,0,0,0,0]
[1,3,null,null,null,null,null,null,null,null,null,0,0,0,0,0,0,0,0,0,0,0,0,0,0,0,0,0,null,0,0,0,0,0,0,0,0,0,{"$f":"((U950*10)/98)^$K$1","v":0},0,0,0,0,0,0,0,0]
[1,3,null,null,null,null,null,null,null,null,null,0,0,0,0,0,0,0,0,0,0,0,0,0,0,0,0,0,null,0,0,0,0,0,0,0,0,0,0,0,0,0,0,0,0,0,0]
[1,3,null,null,null,null,null,null,null,null,null,0,0,0,0,0,0,0,0,0,0,0,0,0,0,0,0,0,null,0,0,0,0,0,0,0,0,0,0,0,0,0,0,0,0,0,0]
[1,3,null,null,null,null,null,null,null,null,null,0,0,0,0,0,0,0,0,0,0,0,0,0,0,0,0,0,null,0,0,0,0,0,0,0,0,0,0,0,0,0,0,0,0,0,0]
[1,3,null,null,null,null,null,null,null,null,null,0,0,0,0,0,0,0,0,0,0,0,0,0,0,0,0,0,null,0,0,0,0,0,0,0,0,0,0,0,0,0,0,0,0,0,0]
[1,3,null,null,null,null,null,null,null,null,null,0,0,0,0,0,0,0,0,0,0,0,0,0,0,0,0,0,null,0,0,0,0,0,0,0,0,0,0,0,0,0,0,0,0,0,0]
[1,3,null,null,null,null,null,null,null,null,null,0,0,0,0,0,0,0,0,0,0,0,0,0,0,0,0,0,null,0,0,0,0,0,0,0,0,0,0,0,0,0,0,0,0,0,0]
[1,3,null,null,null,null,null,null,null,null,null,0,0,0,0,0,0,0,0,0,0,0,0,0,0,0,0,0,null,0,0,0,0,0,0,0,0,0,0,0,0,0,0,0,0,0,0]
[1,3,null,null,null,null,null,null,null,null,null,0,0,0,0,0,0,0,0,0,0,0,0,0,0,0,0,0,null,0,0,0,0,0,0,0,0,0,0,0,0,0,0,0,0,0,0]
[1,3,null,null,null,null,null,null,null,null,null,0,0,0,0,0,0,0,0,0,0,0,0,0,0,0,0,0,null,0,0,0,0,0,0,0,0,0,0,0,0,0,0,0,0,0,0]
[1,3,null,null,null,null,null,null,null,null,null,0,0,0,0,0,0,0,0,0,0,0,0,0,0,0,0,0,null,0,0,0,0,0,0,0,0,0,0,0,0,0,0,0,0,0,0]
[1,3,null,null,null,null,null,null,null,null,null,0,0,0,0,0,0,0,0,0,0,0,0,0,0,0,0,0,null,0,0,0,0,0,0,0,0,0,0,0,0,0,0,0,0,0,0]
[1,3,null,null,null,null,null,null,null,null,null,0,0,0,0,0,0,0,0,0,0,0,0,0,0,0,0,0,null,0,0,0,0,{"$f":"((P962*10)/135)^$K$1","v":0},0,0,0,0,0,0,0,0,0,0,0,0,0]
[1,3,null,null,null,null,null,null,null,null,null,0,0,0,0,0,0,0,0,0,0,0,0,0,0,0,0,0,null,0,0,0,0,0,0,0,0,0,0,0,0,0,0,0,0,0,0]
[1,3,null,null,null,null,null,null,null,null,null,0,0,0,0,0,0,0,0,0,0,0,0,0,0,0,0,0,null,0,0,0,0,0,0,0,0,0,0,0,0,0,0,0,0,0,0]
[1,3,null,null,null,null,null,null,null,null,null,0,0,0,0,0,0,0,0,0,0,0,0,0,0,0,0,0,null,0,0,0,0,0,0,0,0,0,0,0,0,0,{"$f":"((Y965*10)/182)^$K$1","v":0},{"$f":"((Z965*10)/182)^$K$1","v":0},0,0,0]
[1,3,null,null,null,null,null,null,null,null,null,{"$f":"C966","v":0},{"$f":"IF(B966=4,D966,0)","v":0},{"$f":"IF(OR(B966=2,B966=\"3B\",B966=\"5C\",B966=\"5D\"),D966,0)","v":0},{"$f":"IF(B966=\"3B\",E966,0)","v":0},{"$f":"IF(OR(B966=3,B966=5,B966=\"5B\",B966=6,B966=\"6B\",B966=7,B966=\"7B\",B966=9,B966=\"9B\"),D966+E966,0)","v":0},{"$f":"IF(B966=4,E966+F966,0)","v":0},{"$f":"IF(OR(B966=5,B966=7,B966=9),F966+G966,0)","v":0},{"$f":"IF(OR(B966=7,B966=9),H966+I966,0)","v":0},{"$f":"IF(B966=9,J966+K966,0)","v":0},{"$f":"IF(OR(B966=\"6C\",B966=\"7C\"),D966+E966,0)","v":0},{"$f":"IF(B966=\"4B\",F966+G966,0)","v":0},{"$f":"IF(OR(B966=\"7B\",B966=\"7C\",B966=\"9B\"),H966+I966,0)","v":0},{"$f":"IF(OR(B966=\"9B\"),J966+K966,0)","v":0},{"$f":"IF((B966=\"5C\"),E966+F966+G966,0)","v":0},{"$f":"IF(B966=6,F966+G966+H966,0)","v":0},{"$f":"IF((B966=\"5D\"),E966+F966+G966,0)","v":0},{"$f":"IF(OR(B966=\"6B\",B966=\"6C\"),F966+G966+H966,0)","v":0},null,0,0,0,0,0,0,0,0,0,0,0,0,0,0,0,{"$f":"((AA966*10)/132)^$K$1","v":0},{"$f":"((AB966*10)/132)^$K$1","v":0},{"$f":"SUM(AD966:AT966)","v":0}]
[1,3,null,null,null,null,null,null,null,null,null,0,0,0,0,0,0,0,0,0,0,0,0,0,0,0,0,0,null,0,0,0,0,0,0,0,0,0,0,0,0,0,0,0,0,0,0]
[1,3,null,null,null,null,null,null,null,null,null,0,0,0,0,0,0,0,0,0,0,0,0,0,0,0,0,0,null,0,0,0,0,0,0,0,0,0,0,0,0,0,0,0,0,0,0]
[1,3,null,null,null,null,null,null,null,null,null,0,0,0,0,0,0,0,0,0,0,0,0,0,0,0,0,0,null,0,0,0,0,0,0,0,0,0,0,0,0,0,0,0,0,0,0]
[1,3,null,null,null,null,null,null,null,null,null,0,0,0,0,0,0,0,0,0,0,0,0,0,0,0,0,0,null,0,0,0,0,0,{"$f":"((Q970*10)/135)^$K$1","v":0},{"$f":"((R970*10)/135)^$K$1","v":0},{"$f":"((S970*10)/135)^$K$1","v":0},{"$f":"((T970*10)/135)^$K$1","v":0},0,{"$f":"((V970*10)/98)^$K$1","v":0},{"$f":"((W970*10)/98)^$K$1","v":0},{"$f":"((X970*10)/98)^$K$1","v":0},0,0,0,0,0]
[1,3,null,null,null,null,null,null,null,null,null,0,0,0,0,0,0,0,0,0,0,0,0,0,0,0,0,0,null,0,0,0,0,0,0,0,0,0,{"$f":"((U971*10)/98)^$K$1","v":0},0,0,0,0,0,0,0,0]
[1,3,null,null,null,null,null,null,null,null,null,0,0,0,0,0,0,0,0,0,0,0,0,0,0,0,0,0,null,0,0,0,0,0,0,0,0,0,0,0,0,0,0,0,0,0,0]
[1,3,null,null,null,null,null,null,null,null,null,0,0,0,0,0,0,0,0,0,0,0,0,0,0,0,0,0,null,0,0,0,0,0,0,0,0,0,0,0,0,0,0,0,0,0,0]
[1,3,null,null,null,null,null,null,null,null,null,0,0,0,0,0,0,0,0,0,0,0,0,0,0,0,0,0,null,0,0,0,0,0,0,0,0,0,0,0,0,0,0,0,0,0,0]
[1,3,null,null,null,null,null,null,null,null,null,0,0,0,0,0,0,0,0,0,0,0,0,0,0,0,0,0,null,0,0,0,0,0,0,0,0,0,0,0,0,0,0,0,0,0,0]
[1,3,null,null,null,null,null,null,null,null,null,0,0,0,0,0,0,0,0,0,0,0,0,0,0,0,0,0,null,0,0,0,0,0,0,0,0,0,0,0,0,0,0,0,0,0,0]
[1,3,null,null,null,null,null,null,null,null,null,0,0,0,0,0,0,0,0,0,0,0,0,0,0,0,0,0,null,0,0,0,0,0,0,0,0,0,0,0,0,0,0,0,0,0,0]
[1,3,null,null,null,null,null,null,null,null,null,0,0,0,0,0,0,0,0,0,0,0,0,0,0,0,0,0,null,0,0,0,0,0,0,0,0,0,0,0,0,0,0,0,0,0,0]
[1,3,null,null,null,null,null,null,null,null,null,0,0,0,0,0,0,0,0,0,0,0,0,0,0,0,0,0,null,0,0,0,0,0,0,0,0,0,0,0,0,0,0,0,0,0,0]
[1,3,null,null,null,null,null,null,null,null,null,0,0,0,0,0,0,0,0,0,0,0,0,0,0,0,0,0,null,0,0,0,0,0,0,0,0,0,0,0,0,0,0,0,0,0,0]
[1,3,null,null,null,null,null,null,null,null,null,0,0,0,0,0,0,0,0,0,0,0,0,0,0,0,0,0,null,0,0,0,0,0,0,0,0,0,0,0,0,0,0,0,0,0,0]
[1,3,null,null,null,null,null,null,null,null,null,0,0,0,0,0,0,0,0,0,0,0,0,0,0,0,0,0,null,0,0,0,0,0,0,0,0,0,0,0,0,0,0,0,0,0,0]
[1,3,null,null,null,null,null,null,null,null,null,0,0,0,0,0,0,0,0,0,0,0,0,0,0,0,0,0,null,0,0,0,0,0,0,0,0,0,0,0,0,0,0,0,0,0,0]
[1,3,null,null,null,null,null,null,null,null,null,0,0,0,0,0,0,0,0,0,0,0,0,0,0,0,0,0,null,0,0,0,0,0,0,0,0,0,0,0,0,0,0,0,0,0,0]
[1,3,null,null,null,null,null,null,null,null,null,0,0,0,0,0,0,0,0,0,0,0,0,0,0,0,0,0,null,0,0,0,0,0,0,0,0,0,0,0,0,0,0,0,0,0,0]
[1,3,null,null,null,null,null,null,null,null,null,0,0,0,0,0,0,0,0,0,0,0,0,0,0,0,0,0,null,0,0,0,0,0,0,0,0,0,0,0,0,0,0,0,0,0,0]
[1,3,null,null,null,null,null,null,null,null,null,0,0,0,0,0,0,0,0,0,0,0,0,0,0,0,0,0,null,0,0,0,0,0,0,0,0,0,0,0,0,0,0,0,0,0,0]
[1,3,null,null,null,null,null,null,null,null,null,0,0,0,0,0,0,0,0,0,0,0,0,0,0,0,0,0,null,{"$f":"((L988*10)/58)^$K$1","v":0},{"$f":"((M988*10)/58)^$K$1","v":0},{"$f":"((N988*10)/80)^$K$1","v":0},{"$f":"((O988*10)/80)^$K$1","v":0},0,0,0,0,0,0,0,0,0,0,0,0,0,0]
[1,3,null,null,null,null,null,null,null,null,null,0,0,0,0,0,0,0,0,0,0,0,0,0,0,0,0,0,null,0,0,0,0,0,0,0,0,0,0,0,0,0,0,0,0,0,0]
[1,3,null,null,null,null,null,null,null,null,null,0,0,0,0,0,0,0,0,0,0,0,0,0,0,0,0,0,null,0,0,0,0,0,0,0,0,0,0,0,0,0,0,0,0,0,0]
[1,3,null,null,null,null,null,null,null,null,null,0,0,0,0,0,0,0,0,0,0,0,0,0,0,0,0,0,null,0,0,0,0,0,0,0,0,0,0,0,0,0,0,0,0,0,0]
[1,3,null,null,null,null,null,null,null,null,null,0,0,0,0,0,0,0,0,0,0,0,0,0,0,0,0,0,null,0,0,0,0,0,0,0,0,0,0,0,0,0,0,0,0,0,0]
[1,3,null,null,null,null,null,null,null,null,null,0,0,0,0,0,0,0,0,0,0,0,0,0,0,0,0,0,null,0,0,0,0,0,0,0,0,0,0,0,0,0,0,0,0,0,0]
[1,"3B",null,null,null,null,null,null,null,null,null,0,0,0,0,0,0,0,0,0,0,0,0,0,0,0,0,0,null,0,0,0,0,0,0,0,0,0,0,0,0,0,0,0,0,0,0]
[1,"3C",null,null,null,null,null,null,null,null,null,0,0,0,0,0,0,0,0,0,0,0,0,0,0,0,0,0,null,0,0,0,0,0,0,0,0,0,0,0,0,0,0,0,0,0,0]
[1,4,null,null,null,null,null,null,null,null,null,0,0,0,0,0,0,0,0,0,0,0,0,0,0,0,0,0,null,0,0,0,0,0,0,0,0,0,0,0,0,0,0,0,0,0,0]
[1,"4B",null,null,null,null,null,null,null,null,null,0,0,0,0,0,0,0,0,0,0,0,0,0,0,0,0,0,null,0,0,0,0,0,0,0,0,0,0,0,0,0,0,0,0,0,0]
[1,5,null,null,null,null,null,null,null,null,null,0,0,0,0,0,0,0,0,0,0,0,0,0,0,0,0,0,null,0,0,0,0,0,0,0,0,0,0,0,0,0,0,0,0,0,0]
[1,"5B",null,null,null,null,null,null,null,null,null,0,0,0,0,0,0,0,0,0,0,0,0,0,0,0,0,0,null,0,0,0,0,0,0,0,0,0,0,0,0,0,0,0,0,0,0]
[1,6,null,null,null,null,null,null,null,null,null,0,0,0,0,0,0,0,0,0,0,0,0,0,0,0,0,0,null,0,0,0,0,0,0,0,0,0,0,0,0,0,0,0,0,0,0]
[1,"6B",null,null,null,null,null,null,null,null,null,0,0,0,0,0,0,0,0,0,0,0,0,0,0,0,0,0,null,0,0,0,0,0,0,0,0,0,0,0,0,0,0,0,0,0,0]
[1,7,null,null,null,null,null,null,null,null,null,0,0,0,0,0,0,0,0,0,0,0,0,0,0,0,0,0,null,0,0,0,0,0,0,0,0,0,0,0,0,0,0,0,0,0,0]
[1,"7B",null,null,null,null,null,null,null,null,null,0,0,0,0,0,0,0,0,0,0,0,0,0,0,0,0,0,null,0,0,0,0,0,0,0,0,0,0,0,0,0,0,0,0,0,0]
[1,9,null,null,null,null,null,null,null,null,null,0,0,0,0,0,0,0,0,0,0,0,0,0,0,0,0,0,null,0,0,0,0,0,0,0,0,0,0,0,0,0,0,0,0,0,0]
[1,"9B",null,null,null,null,null,null,null,null,null,0,0,0,0,0,0,0,0,0,0,0,0,0,0,0,0,0,null,0,0,0,0,0,0,0,0,0,0,0,0,0,0,0,0,0,0]
[]
[]
[]
[null,"Truck Type","Axle 1","Axle 2","Axle 3","Axle 4","Axle 5","Axle 6","Axle 7","Axle 8","Axle 9","Average VEF"]
[null,2,"SAST","SADT",null,null,null,null,null,null,null,{"$f":"IFERROR(AVERAGEIF($B$5:$B$1005,B1010,$AU$5:$AU$1005),0)","v":1.2262184336918425}]
[null,3,"SAST","TADT",null,null,null,null,null,null,null,3.2964904664917224E-3]
[null,"3B","SAST","SADT","SADT",null,null,null,null,null,null,2.1169094171838245]
[null,4,"SAST","SAST","TADT",null,null,null,null,null,null,2.2176985780377256]
[null,5,"SAST","TADT",null,"TADT",null,null,null,null,null,0]
[null,"5B","SAST","TADT",null,"TAST",null,null,null,null,null,0.39254469722853064]
[null,"5C","SAST","SADT","TRDT",null,null,null,null,null,null,0]
[null,"5D","SAST","SADT","TRST",null,null,null,null,null,null,0]
[null,6,"SAST","TADT",null,"TRDT",null,null,null,null,null,3.0100999696777717]
[null,"6B","SAST","TADT",null,"TRST",null,null,null,null,null,9.6068813082367992]
[null,"6C","SAST","TAST",null,"TRST",null,null,null,null,null,0]
[null,7,"SAST","TADT",null,"TADT",null,"TADT",null,null,null,4.4140494905545742]
[null,"7B","SAST","TADT",null,"TAST",null,"TAST",null,null,null,6.1158261262424114]
[null,"7C","SAST","TAST",null,"TAST",null,"TAST",null,null,null,0]
[null,9,"SAST","TADT",null,"TADT",null,"TADT",null,"TADT",null,2.0339546164293179]
[null,"9B","SAST","TADT",null,"TAST",null,"TAST",null,"TAST",null,8.6985073442179228]

{"sheet":"9 Design MESA Direction 1-SS","index":10,"n_rows":84,"n_cols":24,"rows_kept":84,"cut":false,"hidden":false,"merged":[[79,0,79,2],[72,0,72,6],[72,23,74,23],[73,0,73,6],[74,0,74,6],[75,0,75,6],[76,0,76,6],[76,7,76,22],[6,39,34,52],[20,7,20,22],[22,0,22,6],[22,23,25,23],[23,0,23,6],[29,0,29,6],[29,23,31,23],[30,0,30,6],[19,0,19,4],[33,0,33,6],[24,0,24,6],[25,0,25,6],[26,0,26,6],[33,7,33,22],[49,39,77,52],[63,7,63,22],[65,0,65,6],[65,23,68,23],[66,0,66,6],[67,0,67,6],[62,0,62,4],[68,0,68,6],[69,0,69,6],[69,23,71,23],[70,0,70,6],[71,0,71,6],[37,0,37,2],[26,23,28,23],[27,0,27,6],[28,0,28,6],[31,0,31,6],[32,0,32,6]]}
["Computation of design value of Equivalent Standard Axle Loads"]
[]
["Vehicle ","Vehicle Class","Average ESA/VEF","AADTT","Load distribution factor between lanes","ESA/day for each category"]
["Medium Truck (2 Axles) - Type 2",2,{"$f":"'8 Axle Loads Direction 1-SS'!L1010","v":1.2262184336918425},{"$f":"'7 ADT Direction 1-SS'!B22","v":47.519999999999996},1,{"$f":"C4*D4*E4","v":58.269899969036352}]
["Heavy Truck (3 Axles) - Type 3",3,{"$f":"'8 Axle Loads Direction 1-SS'!L1011","v":3.2964904664917224E-3},{"$f":"'7 ADT Direction 1-SS'!C22","v":47.519999999999996},1,{"$f":"C5*D5*E5","v":0.15664922696768663}]
["Heavy Truck (3 Axles) - Type 3B","3B",{"$f":"'8 Axle Loads Direction 1-SS'!L1012","v":2.1169094171838245},{"$f":"'7 ADT Direction 1-SS'!D22","v":47.519999999999996},1,100.59553550457534]
["Heavy Truck (4 Axles) - Type 4",4,{"$f":"'8 Axle Loads Direction 1-SS'!L1013","v":2.2176985780377256},{"$f":"'7 ADT Direction 1-SS'!E22","v":47.519999999999996},3,316.15510928505819]
["Semi-Trailers (5 Axles) - Type 5",5,{"$f":"'8 Axle Loads Direction 1-SS'!L1014","v":0},{"$f":"'7 ADT Direction 1-SS'!F22","v":47.519999999999996},1,0]
["Semi-Trailers (5 Axles) - Type 5B","5B",{"$f":"'8 Axle Loads Direction 1-SS'!L1015","v":0.39254469722853064},{"$f":"'7 ADT Direction 1-SS'!G22","v":47.519999999999996},1,18.653724012299776]
["Semi-Trailers (5 Axles) - Type 5C","5C",{"$f":"'8 Axle Loads Direction 1-SS'!L1016","v":0},{"$f":"'7 ADT Direction 1-SS'!H22","v":47.519999999999996},1,0]
["Semi-Trailers (5 Axles) - Type 5D","5D",{"$f":"'8 Axle Loads Direction 1-SS'!L1017","v":0},{"$f":"'7 ADT Direction 1-SS'!I22","v":47.519999999999996},1,0]
["Semi-Trailers (6 Axles) - Type 6",6,{"$f":"'8 Axle Loads Direction 1-SS'!L1018","v":3.0100999696777717},{"$f":"'7 ADT Direction 1-SS'!J22","v":47.519999999999996},1,143.03995055908771]
["Semi-Trailers (6 Axles) - Type 6B","6B",{"$f":"'8 Axle Loads Direction 1-SS'!L1019","v":9.6068813082367992},{"$f":"'7 ADT Direction 1-SS'!K22","v":47.519999999999996},1,456.51899976741265]
["Semi-Trailers (6 Axles) - Type 6C","6C",{"$f":"'8 Axle Loads Direction 1-SS'!L1020","v":0},{"$f":"'7 ADT Direction 1-SS'!L22","v":47.519999999999996},1,0]
["Trailers (7 Axles) - Type 7",7,{"$f":"'8 Axle Loads Direction 1-SS'!L1021","v":4.4140494905545742},{"$f":"'7 ADT Direction 1-SS'!M22","v":47.519999999999996},1,209.75563179115335]
["Trailers (7 Axles) - Type 7B","7B",{"$f":"'8 Axle Loads Direction 1-SS'!L1022","v":6.1158261262424114},{"$f":"'7 ADT Direction 1-SS'!N22","v":47.519999999999996},1,290.62405751903935]
["Trailers (7 Axles) - Type 7C","7C",{"$f":"'8 Axle Loads Direction 1-SS'!L1023","v":0},{"$f":"'7 ADT Direction 1-SS'!O22","v":47.519999999999996},1,0]
["Trailers (9 Axles) - Type 9",9,{"$f":"'8 Axle Loads Direction 1-SS'!L1024","v":2.0339546164293179},{"$f":"'7 ADT Direction 1-SS'!P22","v":47.519999999999996},1,96.653523372721182]
["Trailers (9 Axles) - Type 9B","9B",{"$f":"'8 Axle Loads Direction 1-SS'!L1025","v":8.6985073442179228},{"$f":"'7 ADT Direction 1-SS'!Q22","v":47.519999999999996},1,413.35306899723565]
["a - Total ESA/day (one way)",null,null,null,null,{"$f":"SUM(F4:F19)","v":2103.7761500045872}]
[null,null,null,null,null,null,null,"Truck Type"]
["Factors",null,null,null,null,null,null,2,3,"3B",4,5,"5B","5C","5D",6,"6B","6C",7,"7B","7C",9,"9B"]
["a=current average annual daily traffic loading in ESA/day (one way) in year of count",null,null,null,null,null,null,{"$f":"F4","v":58.269899969036352},{"$f":"F5","v":0.15664922696768663},{"$f":"F6","v":100.59553550457534},{"$f":"F7","v":316.15510928505819},{"$f":"F8","v":0},{"$f":"F9","v":18.653724012299776},{"$f":"F10","v":0},{"$f":"F11","v":0},{"$f":"F12","v":143.03995055908771},{"$f":"F13","v":456.51899976741265},{"$f":"F14","v":0},{"$f":"F15","v":209.75563179115335},{"$f":"F16","v":290.62405751903935},{"$f":"F17","v":0},{"$f":"F18","v":96.653523372721182},{"$f":"F19","v":413.35306899723565},"Growth Period 1"]
["b=annual growth rate (%) for growth Period 1",null,null,null,null,null,null,5,5,5,5,5,5,5,5,5,5,5,5,5,5,5,5]
["c=design life (years) for growth Period 1",null,null,null,null,null,null,10,10,10,10,10,10,10,10,10,10,10,10,10,10,10,10]
["d=number of years to start of design life for growth Period 1",null,null,null,null,null,null,2,2,2,2,2,2,2,2,2,2,2,2,2,2,2,2]
["a=average annual daily traffic loading in ESA/day (one way) at end of growth Period 1/ beginning of Period 2",null,null,null,null,null,null,{"$f":"H23*((1+(H24/100))^(H25+H26))","v":104.6443684760706},{"$f":"I23*((1+(I24/100))^(I25+I26))","v":0.28131950521639637},180.65512880547533,567.76915301378938,0,33.499408271359449,0,0,256.87920008543028,{"$f":"Q23*((1+(Q24/100))^(Q25+Q26))","v":819.84253368160296},{"$f":"R23*((1+(R24/100))^(R25+R26))","v":0},{"$f":"S23*((1+(S24/100))^(S25+S26))","v":376.69097827091116},521.91905218978593,0,173.57584138122905,742.3227238393473,"Growth Period 2"]
["b=annual growth rate (%) for growth Period 2",null,null,null,null,null,null,4,4,4,4,4,4,4,4,4,4,4,4,4,4,4,4]
["c=design life (years) for growth Period 2",null,null,null,null,null,null,5,5,5,5,5,5,5,5,5,5,5,5,5,5,5,5]
["a=average annual daily traffic loading in ESA/day (one way) at end of growth Period 2/ beginning of Period 3",null,null,null,null,null,null,{"$f":"H27*((1+(H28/100))^(H29))","v":127.31587462622639},{"$f":"I27*((1+(I28/100))^(I29))","v":0.34226819252326068},219.79458679462746,690.77798790741679,0,40.757152302032054,0,0,312.53282435012915,997.46379811469228,0,458.30217202119951,634.99432966456027,{"$f":"U27*((1+(U28/100))^(U29))","v":0},211.18155120299443,903.1490964766158,"Growth Period 3"]
["b=annual growth rate (%) for growth Period 3",null,null,null,null,null,null,3,3,3,3,3,3,3,3,3,3,3,3,3,3,3,3]
["c=design life (years) for growth Period 3",null,null,null,null,null,null,5,5,5,5,5,5,5,5,5,5,5,5,5,5,5,5]
["Total Cummulative ESA by Truck Type (one way)",null,null,null,null,null,null,{"$f":"(((H23*365*100/H24)*(((1+(H24/100))^(H25+H26))-((1+(H24/100))^H26)))/1000000)+(((H27*365*100/H28)*(((1+(H28/100))^H29)-(1)))/1000000)+(((H30*365*100/H31)*(((1+(H31/100))^H32)-(1)))/1000000)","v":0.74852776431293255},{"$f":"(((I23*365*100/I24)*(((1+(I24/100))^(I25+I26))-((1+(I24/100))^I26)))/1000000)+(((I27*365*100/I28)*(((1+(I28/100))^I29)-(1)))/1000000)+(((I30*365*100/I31)*(((1+(I31/100))^I32)-(1)))/1000000)","v":2.01229615471761E-3},1.2922375245386455,4.06128854271258,0,0.23962337911094467,0,0,1.8374731114404046,5.8643853249080626,0,2.6944943135325459,3.7333198812058517,0,1.2415989353267332,5.3098812383890053,"MESA"]
["Total Cummulative Design MESA  (one way)",null,null,null,null,null,null,{"$f":"SUM(H33:W33)","v":27.024842311632419}]
[]
[]
[]
["Pavement Design MESA Direction 1",null,null,{"$f":"H34","v":27.024842311632419},null,0,"If MESA is already known then enter it here"]
[null,null,null,{"$f":"IF(D38>F38,D38,F38)","v":27.024842311632419}]
[]
[]
[]
[]
["Computation of design value of Equivalent Standard Axle Loads (IF YOU ALREADY HAVE VEF per vehicle class and AADTT OR ADTT)"]
[]
["Vehicle ","Vehicle Class","Average ESA/VEF","AADTT/\nADTT","Load distribution factor between lanes","ESA/day for each category"]
["Medium Truck (2 Axles) - Type 2",2,2,0,1,{"$f":"C47*D47*E47","v":0}]
["Heavy Truck (3 Axles) - Type 3",3,3,0,1,{"$f":"C48*D48*E48","v":0}]
["Heavy Truck (3 Axles) - Type 3B","3B",4,0,1,0]
["Heavy Truck (4 Axles) - Type 4",4,4.5,0,1,0]
["Semi-Trailers (5 Axles) - Type 5",5,3.8,0,1,0]
["Semi-Trailers (5 Axles) - Type 5B","5B",4.8,0,1,0]
["Semi-Trailers (5 Axles) - Type 5C","5C",4.2,0,1,0]
["Semi-Trailers (5 Axles) - Type 5D","5D",4.8,0,1,0]
["Semi-Trailers (6 Axles) - Type 6",6,6.2,0,1,0]
["Semi-Trailers (6 Axles) - Type 6B","6B",6.2,0,1,0]
["Semi-Trailers (6 Axles) - Type 6C","6C",6.9,0,1,0]
["Trailers (7 Axles) - Type 7",7,6.3,0,1,0]
["Trailers (7 Axles) - Type 7B","7B",6.3,0,1,0]
["Trailers (7 Axles) - Type 7C","7C",7,0,1,0]
["Trailers (9 Axles) - Type 9",9,6,0,1,0]
["Trailers (9 Axles) - Type 9B","9B",6.9,0,1,0]
["a - Total ESA/day (one way)",null,null,null,null,{"$f":"SUM(F47:F62)","v":0}]
[null,null,null,null,null,null,null,"Truck Type"]
["Factors",null,null,null,null,null,null,2,3,"3B",4,5,"5B","5C","5D",6,"6B","6C",7,"7B","7C",9,"9B"]
["a=current average annual daily traffic loading in ESA/day (one way) in year of count",null,null,null,null,null,null,{"$f":"F47","v":0},{"$f":"F48","v":0},{"$f":"F49","v":0},{"$f":"F50","v":0},{"$f":"F51","v":0},{"$f":"F52","v":0},{"$f":"F53","v":0},{"$f":"F54","v":0},{"$f":"F55","v":0},{"$f":"F56","v":0},{"$f":"F57","v":0},{"$f":"F58","v":0},{"$f":"F59","v":0},{"$f":"F60","v":0},{"$f":"F61","v":0},{"$f":"F62","v":0},"Growth Period 1"]
["b=annual growth rate (%) for growth Period 1",null,null,null,null,null,null,5,5,5,5,5,5,5,5,5,5,5,5,5,5,5,5]
["c=design life (years) for growth Period 1",null,null,null,null,null,null,10,10,10,10,10,10,10,10,10,10,10,10,10,10,10,10]
["d=number of years to start of design life for growth Period 1",null,null,null,null,null,null,2,2,2,2,2,2,2,2,2,2,2,2,2,2,2,2]
["a=average annual daily traffic loading in ESA/day (one way) at end of growth Period 1/ beginning of Period 2",null,null,null,null,null,null,{"$f":"H66*((1+(H67/100))^(H68+H69))","v":0},{"$f":"I66*((1+(I67/100))^(I68+I69))","v":0},0,0,0,0,0,0,0,0,{"$f":"R66*((1+(R67/100))^(R68+R69))","v":0},0,0,{"$f":"U66*((1+(U67/100))^(U68+U69))","v":0},0,0,"Growth Period 2"]
["b=annual growth rate (%) for growth Period 2",null,null,null,null,null,null,4,4,4,4,4,4,4,4,4,4,4,4,4,4,4,4]
["c=design life (years) for growth Period 2",null,null,null,null,null,null,5,5,5,5,5,5,5,5,5,5,5,5,5,5,5,5]
["a=average annual daily traffic loading in ESA/day (one way) at end of growth Period 2/ beginning of Period 3",null,null,null,null,null,null,{"$f":"H70*((1+(H71/100))^(H72))","v":0},{"$f":"I70*((1+(I71/100))^(I72))","v":0},0,0,0,0,0,0,0,0,{"$f":"R70*((1+(R71/100))^(R72))","v":0},0,0,{"$f":"U70*((1+(U71/100))^(U72))","v":0},0,0,"Growth Period 3"]
["b=annual growth rate (%) for growth Period 3",null,null,null,null,null,null,3,3,3,3,3,3,3,3,3,3,3,3,3,3,3,3]
["c=design life (years) for growth Period 3",null,null,null,null,null,null,5,5,5,5,5,5,5,5,5,5,5,5,5,5,5,5]
["Total Cummulative MESA by Truck Type (one way) ",null,null,null,null,null,null,{"$f":"(((H66*365*100/H67)*(((1+(H67/100))^(H68+H69))-((1+(H67/100))^H69)))/1000000)+(((H70*365*100/H71)*(((1+(H71/100))^H72)-(1)))/1000000)+(((H73*365*100/H74)*(((1+(H74/100))^H75)-(1)))/1000000)","v":0},{"$f":"(((I66*365*100/I67)*(((1+(I67/100))^(I68+I69))-((1+(I67/100))^I69)))/1000000)+(((I70*365*100/I71)*(((1+(I71/100))^I72)-(1)))/1000000)+(((I73*365*100/I74)*(((1+(I74/100))^I75)-(1)))/1000000)","v":0},0,0,0,0,0,0,0,0,{"$f":"(((R66*365*100/R67)*(((1+(R67/100))^(R68+R69))-((1+(R67/100))^R69)))/1000000)+(((R70*365*100/R71)*(((1+(R71/100))^R72)-(1)))/1000000)+(((R73*365*100/R74)*(((1+(R74/100))^R75)-(1)))/1000000)","v":0},0,0,{"$f":"(((U66*365*100/U67)*(((1+(U67/100))^(U68+U69))-((1+(U67/100))^U69)))/1000000)+(((U70*365*100/U71)*(((1+(U71/100))^U72)-(1)))/1000000)+(((U73*365*100/U74)*(((1+(U74/100))^U75)-(1)))/1000000)","v":0},0,0,"MESA"]
["Total Cummulative Design MESA  (one way)",null,null,null,null,null,null,{"$f":"SUM(H76:W76)","v":0}]
[]
[]
["Pavement Design MESA Direction 1",null,null,{"$f":"H77","v":0}]
[]
[]
[]
["Determinant MESA Direction 1",null,null,{"$f":"IF(D39>D80,D39,D80)","v":27.024842311632419}]

{"sheet":"10 ADT Direction 2-SS","index":11,"n_rows":43,"n_cols":35,"rows_kept":43,"cut":false,"hidden":false,"merged":[[6,20,6,25],[6,28,6,33],[11,20,13,25],[11,26,13,26],[2,1,2,17],[3,17,5,17],[3,20,3,26],[3,28,3,34],[4,20,4,25],[4,28,4,33],[5,20,5,25],[5,28,5,33],[28,3,28,4],[30,4,30,5],[31,3,31,4],[31,5,31,6],[32,3,32,4],[32,5,32,6],[39,3,39,4],[39,5,39,6],[39,7,39,8],[33,4,33,6],[34,4,34,6],[35,3,35,4],[35,5,35,7],[36,3,36,4],[36,5,36,7],[37,3,37,4],[37,5,37,7],[38,3,38,4],[38,5,38,6],[38,7,38,8],[40,3,40,4],[40,5,40,6],[40,7,40,8],[41,3,41,4],[41,5,41,6],[41,7,41,8],[41,9,41,10],[42,3,42,4],[42,5,42,6],[42,7,42,8],[42,9,42,10]]}
["Summary Traffic Count in Direction 2"]
[]
[]
["VEHICLE","Medium Truck (2 Axles) - Type 2","Heavy Truck (3 Axles) - Type 3","Heavy Truck (3 Axles) - Type 3B","Heavy Truck (4 Axles) - Type 4","Semi-Trailers (5 Axles) - Type 5","Semi-Trailers (5 Axles) - Type 5B","Semi-Trailers (5 Axles) - Type 5C","Semi-Trailers (5 Axles) - Type 5D","Semi-Trailers (6 Axles) - Type 6","Semi-Trailers (6 Axles) - Type 6B","Semi-Trailers (6 Axles) - Type 6C","Trailers (7 Axles) - Type 7","Trailers (7 Axles) - Type 7B","Trailers (7 Axles) - Type 7C","Trailers (9 Axles) - Type 9","Trailers (9 Axles) - Type 9B","DAILY averages",null,null,"Computation of 24 hr Average Night Expansion Factor (Weekday)",null,null,null,null,null,null,null,"Computation of 24 hr Average Night Expansion Factor (Weekend)"]
["Vehicle Class",2,3,"3B",4,5,"5B","5C","5D",6,"6B","6C",7,"7B","7C",9,"9B",null,null,null,"Full day count on day of 24 hr count",null,null,null,null,null,300,null,"Full day count on day of 24 hr count",null,null,null,null,null,300]
["Date",null,null,null,null,null,null,null,null,null,null,null,null,null,null,null,null,null,null,null,"Vehicle number on the 24 hr count day, corresponding to the same counting period for day that requires grossing",null,null,null,null,null,250,null,"Vehicle number on the 24 hr count day, corresponding to the same counting period for day that requires grossing",null,null,null,null,null,250]
["ADTT (Weekday) (Less than 24 hrs)",20,20,20,20,20,20,20,20,20,20,20,20,20,20,20,20,{"$f":"SUM(B7:Q7)","v":320},null,null,"Grossing Factor",null,null,null,null,null,{"$f":"AA5/AA6","v":1.2},null,"Grossing Factor",null,null,null,null,null,{"$f":"AI5/AI6","v":1.2}]
["Full day count on day of 24 hr count",30,30,30,30,30,30,30,30,30,30,30,30,30,30,30,30,{"$f":"SUM(B8:Q8)","v":480}]
["Night Expansion Factor",{"$f":"B8/B7","v":1.5},{"$f":"C8/C7","v":1.5},1.5,1.5,1.5,1.5,1.5,1.5,1.5,1.5,1.5,1.5,1.5,1.5,1.5,1.5,{"$f":"AVERAGE(B9:Q9)","v":1.5}]
["ADTT (Weekday (24 hrs)",{"$f":"B7*B9","v":30},{"$f":"C7*C9","v":30},30,30,30,30,30,30,30,30,30,30,30,30,30,30,{"$f":"SUM(B10:Q10)","v":480}]
[]
["ADTT (Weekend) (Less than 24 hrs)",20,20,20,20,20,20,20,20,20,20,20,20,20,20,20,20,{"$f":"SUM(B12:Q12)","v":320},null,null,"Lane Split Factor (or directional split if two-lane road and ADTT entered is Total)",null,null,null,null,null,1]
["Full day count on day of 24 hr count",30,30,30,30,30,30,30,30,30,30,30,30,30,30,30,30,{"$f":"SUM(B13:Q13)","v":480}]
["Night Expansion Factor",{"$f":"B13/B12","v":1.5},{"$f":"C13/C12","v":1.5},1.5,1.5,1.5,1.5,1.5,1.5,1.5,1.5,1.5,1.5,1.5,1.5,1.5,1.5,{"$f":"AVERAGE(B14:Q14)","v":1.5}]
["ADTT (Weekend) (24 hrs)",{"$f":"B12*B14","v":30},{"$f":"C12*C14","v":30},30,30,30,30,30,30,30,30,30,30,30,30,30,30,{"$f":"SUM(B15:Q15)","v":480}]
[]
["ADTT (7-day)",{"$f":"(B10*5+B15*2)/7","v":30},{"$f":"(C10*5+C15*2)/7","v":30},30,30,30,30,30,30,30,30,30,30,30,30,30,30,{"$f":"SUM(B17:Q17)","v":480}]
["Seasonal Factor",1.2,1.2,1.2,1.2,1.2,1.2,1.2,1.2,1.2,1.2,1.2,1.2,1.2,1.2,1.2,1.2,{"$f":"AVERAGE(B18:Q18)","v":1.1999999999999997}]
["Diverted Traffic Factor",1.2,1.2,1.2,1.2,1.2,1.2,1.2,1.2,1.2,1.2,1.2,1.2,1.2,1.2,1.2,1.2,1.1999999999999997]
["Generated Traffic Factor",1.1000000000000001,1.1000000000000001,1.1000000000000001,1.1000000000000001,1.1000000000000001,1.1000000000000001,1.1000000000000001,1.1000000000000001,1.1000000000000001,1.1000000000000001,1.1000000000000001,1.1000000000000001,1.1000000000000001,1.1000000000000001,1.1000000000000001,1.1000000000000001,1.0999999999999999]
[]
["AADTT (Design)",{"$f":"B17*$AA$12*B18*B19*B20","v":47.519999999999996},{"$f":"C17*$AA$12*C18*C19*C20","v":47.519999999999996},47.519999999999996,47.519999999999996,47.519999999999996,47.519999999999996,47.519999999999996,47.519999999999996,47.519999999999996,47.519999999999996,47.519999999999996,47.519999999999996,47.519999999999996,47.519999999999996,47.519999999999996,{"$f":"Q17*$AA$12*Q18*Q19*Q20","v":47.519999999999996},{"$f":"SUM(B22:Q22)","v":760.31999999999982}]
[]
[]
[]
[]
[null,"Truck Type","Axle 1","Axle 2","Axle 3","Axle 4","Axle 5","Axle 6","Axle 7","Axle 8","Axle 9"]
[null,2,"SAST","SADT"]
[null,3,"SAST","TADT"]
[null,"3B","SAST","SADT","SADT"]
[null,4,"SAST","SAST","TADT"]
[null,5,"SAST","TADT",null,"TADT"]
[null,"5B","SAST","TADT",null,"TAST"]
[null,"5C","SAST","SADT","TRDT"]
[null,"5D","SAST","SADT","TRST"]
[null,6,"SAST","TADT",null,"TRDT"]
[null,"6B","SAST","TADT",null,"TRST"]
[null,"6C","SAST","TAST",null,"TRST"]
[null,7,"SAST","TADT",null,"TADT",null,"TADT"]
[null,"7B","SAST","TADT",null,"TAST",null,"TAST"]
[null,"7C","SAST","TAST",null,"TAST",null,"TAST"]
[null,9,"SAST","TADT",null,"TADT",null,"TADT",null,"TADT"]
[null,"9B","SAST","TADT",null,"TAST",null,"TAST",null,"TAST"]

{"sheet":"11 Axle Loads Direction 2-SS","index":12,"n_rows":1025,"n_cols":51,"rows_kept":1025,"cut":false,"hidden":false,"merged":[[2,48,2,50],[1,2,1,10],[2,0,3,0],[2,1,3,1],[2,2,3,2],[2,3,3,3],[2,4,3,4],[2,5,3,5],[2,6,3,6],[2,7,3,7],[2,8,3,8],[2,9,3,9],[2,10,3,10],[2,11,2,27],[2,29,2,45],[2,46,3,46],[1010,3,1010,4],[1012,4,1012,5],[1013,3,1013,4],[1013,5,1013,6],[1014,3,1014,4],[1014,5,1014,6],[1021,3,1021,4],[1021,5,1021,6],[1021,7,1021,8],[1015,4,1015,6],[1016,4,1016,6],[1017,3,1017,4],[1017,5,1017,7],[1018,3,1018,4],[1018,5,1018,7],[1019,3,1019,4],[1019,5,1019,7],[1020,3,1020,4],[1020,5,1020,6],[1020,7,1020,8],[1022,3,1022,4],[1022,5,1022,6],[1022,7,1022,8],[1023,3,1023,4],[1023,5,1023,6],[1023,7,1023,8],[1023,9,1023,10],[1024,3,1024,4],[1024,5,1024,6],[1024,7,1024,8],[1024,9,1024,10]]}
["Computation of design axle loading from axle load survey data",null,null,null,null,null,null,null,null,"n=",4]
[null,null,"Axle Load (tonnes)"]
["Direction","Vehicle Class","Axle 1","Axle 2","Axle 3 ","Axle 4 ","Axle 5","Axle 6","Axle 7","Axle 8","Axle 9","HVAGs Loads (tonnes)",null,null,null,null,null,null,null,null,null,null,null,null,null,null,null,null,null,"HVAGs (ESA)",null,null,null,null,null,null,null,null,null,null,null,null,null,null,null,null,"VEF",null,"QADT"]
[null,null,null,null,null,null,null,null,null,null,null,"SAST1","SAST2","SADT1","SADT2","TADT1","TADT2","TADT3","TADT4","TADT5","TAST1","TAST2","TAST3","TAST4","TRDT1","TRDT2","TRST1","TRST2",null,"SAST1","SAST2","SADT1","SADT2","TADT1","TADT2","TADT3","TADT4","TADT5","TAST1","TAST2","TAST3","TAST4","TRDT1","TRDT2","TRST1","TRST2",null,null,"Load (kN)","Sum of Loads","Proportion of Loads (%/100)"]
[2,3,7,6,6,null,null,null,null,null,null,{"$f":"C5","v":7},{"$f":"IF(B5=4,D5,0)","v":0},{"$f":"IF(OR(B5=2,B5=\"3B\",B5=\"5C\",B5=\"5D\"),D5,0)","v":0},{"$f":"IF(B5=\"3B\",E5,0)","v":0},{"$f":"IF(OR(B5=3,B5=5,B5=\"5B\",B5=6,B5=\"6B\",B5=7,B5=\"7B\",B5=9,B5=\"9B\"),D5+E5,0)","v":12},{"$f":"IF(B5=4,E5+F5,0)","v":0},{"$f":"IF(OR(B5=5,B5=7,B5=9),F5+G5,0)","v":0},{"$f":"IF(OR(B5=7,B5=9),H5+I5,0)","v":0},{"$f":"IF(B5=9,J5+K5,0)","v":0},{"$f":"IF(OR(B5=\"6C\",B5=\"7C\"),D5+E5,0)","v":0},{"$f":"IF(B5=\"4B\",F5+G5,0)","v":0},{"$f":"IF(OR(B5=\"7B\",B5=\"7C\",B5=\"9B\"),H5+I5,0)","v":0},{"$f":"IF(OR(B5=\"9B\"),J5+K5,0)","v":0},{"$f":"IF((B5=\"5C\"),E5+F5+G5,0)","v":0},{"$f":"IF(B5=6,F5+G5+H5,0)","v":0},{"$f":"IF((B5=\"5D\"),E5+F5+G5,0)","v":0},{"$f":"IF(OR(B5=\"6B\",B5=\"6C\"),F5+G5+H5,0)","v":0},null,{"$f":"((L5*10)/58)^$K$1","v":2.1216814816176308},{"$f":"((M5*10)/58)^$K$1","v":0},{"$f":"((N5*10)/80)^$K$1","v":0},{"$f":"((O5*10)/80)^$K$1","v":0},{"$f":"((P5*10)/135)^$K$1","v":0.62429507696997399},{"$f":"((Q5*10)/135)^$K$1","v":0},{"$f":"((R5*10)/135)^$K$1","v":0},{"$f":"((S5*10)/135)^$K$1","v":0},{"$f":"((T5*10)/135)^$K$1","v":0},{"$f":"((U5*10)/98)^$K$1","v":0},{"$f":"((V5*10)/98)^$K$1","v":0},{"$f":"((W5*10)/98)^$K$1","v":0},{"$f":"((X5*10)/98)^$K$1","v":0},{"$f":"((Y5*10)/182)^$K$1","v":0},{"$f":"((Z5*10)/182)^$K$1","v":0},{"$f":"((AA5*10)/132)^$K$1","v":0},{"$f":"((AB5*10)/132)^$K$1","v":0},{"$f":"SUM(AD5:AT5)","v":2.7459765585876048},null,10]
[2,2,4,8,null,null,null,null,null,null,null,{"$f":"C6","v":4},{"$f":"IF(B6=4,D6,0)","v":0},{"$f":"IF(OR(B6=2,B6=\"3B\",B6=\"5C\",B6=\"5D\"),D6,0)","v":8},{"$f":"IF(B6=\"3B\",E6,0)","v":0},{"$f":"IF(OR(B6=3,B6=5,B6=\"5B\",B6=6,B6=\"6B\",B6=7,B6=\"7B\",B6=9,B6=\"9B\"),D6+E6,0)","v":0},{"$f":"IF(B6=4,E6+F6,0)","v":0},{"$f":"IF(OR(B6=5,B6=7,B6=9),F6+G6,0)","v":0},{"$f":"IF(OR(B6=7,B6=9),H6+I6,0)","v":0},{"$f":"IF(B6=9,J6+K6,0)","v":0},{"$f":"IF(OR(B6=\"6C\",B6=\"7C\"),D6+E6,0)","v":0},{"$f":"IF(B6=\"4B\",F6+G6,0)","v":0},{"$f":"IF(OR(B6=\"7B\",B6=\"7C\",B6=\"9B\"),H6+I6,0)","v":0},{"$f":"IF(OR(B6=\"9B\"),J6+K6,0)","v":0},{"$f":"IF((B6=\"5C\"),E6+F6+G6,0)","v":0},{"$f":"IF(B6=6,F6+G6+H6,0)","v":0},{"$f":"IF((B6=\"5D\"),E6+F6+G6,0)","v":0},{"$f":"IF(OR(B6=\"6B\",B6=\"6C\"),F6+G6+H6,0)","v":0},null,0.22621843369184247,0,1,0,0,0,0,0,0,0,0,0,0,0,0,{"$f":"((AA6*10)/132)^$K$1","v":0},{"$f":"((AB6*10)/132)^$K$1","v":0},{"$f":"SUM(AD6:AT6)","v":1.2262184336918425},null,20]
[2,3,null,null,null,null,null,null,null,null,null,0,0,0,0,0,0,0,0,0,0,0,0,0,0,0,0,0,null,0,0,0,0,0,0,0,0,0,0,0,0,0,0,0,0,0,0,null,30]
[2,3,null,null,null,null,null,null,null,null,null,0,0,0,0,0,0,0,0,0,0,0,0,0,0,0,0,0,null,0,0,0,0,0,0,0,0,0,0,0,0,0,0,0,0,0,0,null,40]
[2,3,null,null,null,null,null,null,null,null,null,0,0,0,0,0,0,0,0,0,0,0,0,0,0,0,0,0,null,0,0,0,0,0,0,0,0,0,0,0,0,0,0,0,0,0,0,null,50]
[2,3,null,null,null,null,null,null,null,null,null,0,0,0,0,0,0,0,0,0,0,0,0,0,0,0,0,0,null,0,0,0,0,0,0,0,0,0,0,0,0,0,0,0,0,0,0,null,60]
[2,3,null,null,null,null,null,null,null,null,null,0,0,0,0,0,0,0,0,0,0,0,0,0,0,0,0,0,null,0,0,0,0,0,0,0,0,0,0,0,0,0,0,0,0,0,0,null,70]
[2,"3B",6,10,8,null,null,null,null,null,null,6,0,10,8,0,0,0,0,0,0,0,0,0,0,0,0,0,null,1.1452308205649526,0,2.44140625,1,0,0,0,0,0,0,0,0,0,0,0,0,0,4.5866370705649526,null,80]
[2,3,null,null,null,null,null,null,null,null,null,0,0,0,0,0,0,0,0,0,0,0,0,0,0,0,0,0,null,0,0,0,0,0,0,0,0,0,0,0,0,0,0,0,0,0,0,null,90]
[2,3,null,null,null,null,null,null,null,null,null,0,0,0,0,0,0,0,0,0,0,0,0,0,0,0,0,0,null,0,0,0,0,0,0,0,0,0,0,0,0,0,0,0,0,0,0,null,100]
[2,3,null,null,null,null,null,null,null,null,null,0,0,0,0,0,0,0,0,0,0,0,0,0,0,0,0,0,null,0,0,0,0,0,0,0,0,0,0,0,0,0,0,0,0,0,0,null,110]
[2,3,null,null,null,null,null,null,null,null,null,0,0,0,0,0,0,0,0,0,0,0,0,0,0,0,0,0,null,0,0,0,0,0,0,0,0,0,0,0,0,0,0,0,0,0,0,null,120]
[2,3,null,null,null,null,null,null,null,null,null,0,0,0,0,0,0,0,0,0,0,0,0,0,0,0,0,0,null,0,0,0,0,0,0,0,0,0,0,0,0,0,0,0,0,0,0,null,130]
[2,3,null,null,null,null,null,null,null,null,null,0,0,0,0,0,0,0,0,0,0,0,0,0,0,0,0,0,null,0,0,0,0,0,0,0,0,0,0,0,0,0,0,0,0,0,0,null,140]
[2,3,null,null,null,null,null,null,null,null,null,0,0,0,0,0,0,0,0,0,0,0,0,0,0,0,0,0,null,0,0,0,0,0,0,0,0,0,0,0,0,0,0,0,0,0,0,null,150]
[2,3,null,null,null,null,null,null,null,null,null,0,0,0,0,0,0,0,0,0,0,0,0,0,0,0,0,0,null,0,0,0,0,0,0,0,0,0,0,0,0,0,0,0,0,0,0,null,160]
[2,3,null,null,null,null,null,null,null,null,null,0,0,0,0,0,0,0,0,0,0,0,0,0,0,0,0,0,null,0,0,0,0,0,0,0,0,0,0,0,0,0,0,0,0,0,0,null,170]
[2,3,6,8,4,null,null,null,null,null,null,6,0,0,0,12,0,0,0,0,0,0,0,0,0,0,0,0,null,1.1452308205649526,0,0,0,0.62429507696997399,0,0,0,0,0,0,0,0,0,0,0,0,1.7695258975349266,null,180]
[2,3,null,null,null,null,null,null,null,null,null,0,0,0,0,0,0,0,0,0,0,0,0,0,0,0,0,0,null,0,0,0,0,0,0,0,0,0,0,0,0,0,0,0,0,0,0,null,190]
[2,3,null,null,null,null,null,null,null,null,null,0,0,0,0,0,0,0,0,0,0,0,0,0,0,0,0,0,null,0,0,0,0,0,0,0,0,0,0,0,0,0,0,0,0,0,0,null,200]
[2,3,null,null,null,null,null,null,null,null,null,0,0,0,0,0,0,0,0,0,0,0,0,0,0,0,0,0,null,0,0,0,0,0,0,0,0,0,0,0,0,0,0,0,0,0,0,null,210]
[2,3,null,null,null,null,null,null,null,null,null,0,0,0,0,0,0,0,0,0,0,0,0,0,0,0,0,0,null,0,0,0,0,0,0,0,0,0,0,0,0,0,0,0,0,0,0,null,220]
[2,3,null,null,null,null,null,null,null,null,null,0,0,0,0,0,0,0,0,0,0,0,0,0,0,0,0,0,null,0,0,0,0,0,0,0,0,0,0,0,0,0,0,0,0,0,0,null,230]
[2,3,null,null,null,null,null,null,null,null,null,0,0,0,0,0,0,0,0,0,0,0,0,0,0,0,0,0,null,0,0,0,0,0,0,0,0,0,0,0,0,0,0,0,0,0,0,null,240]
[2,3,null,null,null,null,null,null,null,null,null,0,0,0,0,0,0,0,0,0,0,0,0,0,0,0,0,0,null,0,0,0,0,0,0,0,0,0,0,0,0,0,0,0,0,0,0,null,250]
[2,4,6,6,8,9,null,null,null,null,null,6,6,0,0,0,17,0,0,0,0,0,0,0,0,0,0,0,null,1.1452308205649526,1.1452308205649526,0,0,0,2.5145519446185003,0,0,0,0,0,0,0,0,0,0,0,4.8050135857484051,null,260]
[2,3,null,null,null,null,null,null,null,null,null,0,0,0,0,0,0,0,0,0,0,0,0,0,0,0,0,0,null,0,0,0,0,0,0,0,0,0,0,0,0,0,0,0,0,0,0,null,270]
[2,3,null,null,null,null,null,null,null,null,null,0,0,0,0,0,0,0,0,0,0,0,0,0,0,0,0,0,null,0,0,0,0,0,0,0,0,0,0,0,0,0,0,0,0,0,0,null,280]
[2,3,null,null,null,null,null,null,null,null,null,0,0,0,0,0,0,0,0,0,0,0,0,0,0,0,0,0,null,0,0,0,0,0,0,0,0,0,0,0,0,0,0,0,0,0,0,null,290]
[2,3,null,null,null,null,null,null,null,null,null,0,0,0,0,0,0,0,0,0,0,0,0,0,0,0,0,0,null,0,0,0,0,0,0,0,0,0,0,0,0,0,0,0,0,0,0,null,300]
[2,"4B",6,6,10,10,null,null,null,null,null,6,0,0,0,0,0,0,0,0,0,10,0,0,0,0,0,0,null,1.1452308205649526,0,0,0,0,0,0,0,0,0,1.0841657847339399,0,0,0,0,0,0,2.2293966052988923,null,310]
[2,3,null,null,null,null,null,null,null,null,null,0,0,0,0,0,0,0,0,0,0,0,0,0,0,0,0,0,null,0,0,0,0,0,0,0,0,0,0,0,0,0,0,0,0,0,0,null,320]
[2,3,null,null,null,null,null,null,null,null,null,0,0,0,0,0,0,0,0,0,0,0,0,0,0,0,0,0,null,{"$f":"((L37*10)/58)^$K$1","v":0},{"$f":"((M37*10)/58)^$K$1","v":0},{"$f":"((N37*10)/80)^$K$1","v":0},{"$f":"((O37*10)/80)^$K$1","v":0},0,0,0,0,0,{"$f":"((U37*10)/98)^$K$1","v":0},{"$f":"((V37*10)/98)^$K$1","v":0},{"$f":"((W37*10)/98)^$K$1","v":0},{"$f":"((X37*10)/98)^$K$1","v":0},0,0,0,0,0,null,330]
[2,3,null,null,null,null,null,null,null,null,null,0,0,0,0,0,0,0,0,0,0,0,0,0,0,0,0,0,null,0,0,0,0,0,0,0,0,0,0,0,0,0,0,0,0,0,0,null,340]
[2,3,null,null,null,null,null,null,null,null,null,0,0,0,0,0,0,0,0,0,0,0,0,0,0,0,0,0,null,0,0,0,0,0,0,0,0,0,0,0,0,0,0,0,0,0,0,null,350]
[2,3,null,null,null,null,null,null,null,null,null,0,0,0,0,0,0,0,0,0,0,0,0,0,0,0,0,0,null,0,0,0,0,0,0,0,0,0,0,0,0,0,0,0,0,0,0,null,"Sum",null,{"$f":"SUM(AY5:AY39)","v":0}]
[2,3,null,null,null,null,null,null,null,null,null,0,0,0,0,0,0,0,0,0,0,0,0,0,0,0,0,0,null,0,0,0,0,0,0,0,0,0,0,0,0,0,0,0,0,0,0]
[2,3,null,null,null,null,null,null,null,null,null,0,0,0,0,0,0,0,0,0,0,0,0,0,0,0,0,0,null,0,0,0,0,0,0,0,0,0,0,0,0,0,0,0,0,0,0]
[2,3,null,null,null,null,null,null,null,null,null,0,0,0,0,0,0,0,0,0,0,0,0,0,0,0,0,0,null,0,0,0,0,0,0,0,0,0,0,0,0,0,0,0,0,0,0]
[2,3,null,null,null,null,null,null,null,null,null,0,0,0,0,0,0,0,0,0,0,0,0,0,0,0,0,0,null,0,0,0,0,0,0,0,0,0,0,0,0,0,0,0,0,0,0]
[2,5,null,null,null,null,null,null,null,null,null,0,0,0,0,0,0,0,0,0,0,0,0,0,0,0,0,0,null,0,0,0,0,0,0,0,0,0,0,0,0,0,0,0,0,0,0]
[2,3,null,null,null,null,null,null,null,null,null,0,0,0,0,0,0,0,0,0,0,0,0,0,0,0,0,0,null,0,0,0,0,0,0,0,0,0,0,0,0,0,0,0,0,0,0]
[2,3,null,null,null,null,null,null,null,null,null,0,0,0,0,0,0,0,0,0,0,0,0,0,0,0,0,0,null,0,0,0,0,0,0,0,0,0,0,0,0,0,0,0,0,0,0]
[2,3,null,null,null,null,null,null,null,null,null,0,0,0,0,0,0,0,0,0,0,0,0,0,0,0,0,0,null,0,0,0,0,0,0,0,0,0,0,0,0,0,0,0,0,0,0]
[2,3,null,null,null,null,null,null,null,null,null,0,0,0,0,0,0,0,0,0,0,0,0,0,0,0,0,0,null,0,0,0,0,0,0,0,0,0,0,0,0,0,0,0,0,0,0]
[2,3,null,null,null,null,null,null,null,null,null,0,0,0,0,0,0,0,0,0,0,0,0,0,0,0,0,0,null,0,0,0,0,0,0,0,0,0,0,0,0,0,0,0,0,0,0]
[2,"5B",4,6,6,9,9,null,null,null,null,4,0,0,0,12,0,0,0,0,0,0,0,0,0,0,0,0,null,0.22621843369184247,0,0,0,0.62429507696997399,0,0,0,0,0,0,0,0,0,0,0,0,0.85051351066181646]
[2,3,null,null,null,null,null,null,null,null,null,0,0,0,0,0,0,0,0,0,0,0,0,0,0,0,0,0,null,0,0,0,0,0,0,0,0,0,0,0,0,0,0,0,0,0,0]
[2,3,null,null,null,null,null,null,null,null,null,0,0,0,0,0,0,0,0,0,0,0,0,0,0,0,0,0,null,0,0,0,0,0,0,0,0,0,0,0,0,0,0,0,0,0,0]
[2,3,null,null,null,null,null,null,null,null,null,0,0,0,0,0,0,0,0,0,0,0,0,0,0,0,0,0,null,0,0,0,0,0,0,0,0,0,0,0,0,0,0,0,0,0,0]
[2,3,null,null,null,null,null,null,null,null,null,0,0,0,0,0,0,0,0,0,0,0,0,0,0,0,0,0,null,0,0,0,0,0,0,0,0,0,0,0,0,0,0,0,0,0,0]
[2,3,null,null,null,null,null,null,null,null,null,0,0,0,0,0,0,0,0,0,0,0,0,0,0,0,0,0,null,0,0,0,0,0,0,0,0,0,0,0,0,0,0,0,0,0,0]
[2,3,null,null,null,null,null,null,null,null,null,0,0,0,0,0,0,0,0,0,0,0,0,0,0,0,0,0,null,0,0,0,0,0,0,0,0,0,0,0,0,0,0,0,0,0,0]
[2,6,5,6,6,9,9,9,null,null,null,5,0,0,0,12,0,0,0,0,0,0,0,0,0,27,0,0,null,0.55229109788047448,0,0,0,0.62429507696997399,0,0,0,0,0,0,0,0,0,4.8436137645050952,0,0,6.0201999393555434]
[2,3,null,null,null,null,null,null,null,null,null,0,0,0,0,0,0,0,0,0,0,0,0,0,0,0,0,0,null,0,0,0,0,0,0,0,0,0,0,0,0,0,0,0,0,0,0]
[2,3,null,null,null,null,null,null,null,null,null,0,0,0,0,0,0,0,0,0,0,0,0,0,0,0,0,0,null,0,0,0,0,0,0,0,0,0,0,0,0,0,0,0,0,0,0]
[2,3,null,null,null,null,null,null,null,null,null,0,0,0,0,0,0,0,0,0,0,0,0,0,0,0,0,0,null,0,0,0,0,0,0,0,0,0,0,0,0,0,0,0,0,0,0]
[2,3,null,null,null,null,null,null,null,null,null,0,0,0,0,0,0,0,0,0,0,0,0,0,0,0,0,0,null,0,0,0,0,0,0,0,0,0,0,0,0,0,0,0,0,0,0]
[2,"6B",5,7,7,9,9,9,null,null,null,5,0,0,0,14,0,0,0,0,0,0,0,0,0,0,0,27,null,0.55229109788047448,0,0,0,1.1565837035531692,0,0,0,0,0,0,0,0,0,0,0,17.504887815039957,19.213762616473602]
[2,3,null,null,null,null,null,null,null,null,null,0,0,0,0,0,0,0,0,0,0,0,0,0,0,0,0,0,null,0,0,0,0,0,0,0,0,0,0,0,0,0,0,0,0,0,0]
[2,3,null,null,null,null,null,null,null,null,null,0,0,0,0,0,0,0,0,0,0,0,0,0,0,0,0,0,null,0,0,0,0,0,0,0,0,0,0,0,0,0,0,0,0,0,0]
[2,3,null,null,null,null,null,null,null,null,null,0,0,0,0,0,0,0,0,0,0,0,0,0,0,0,0,0,null,0,0,0,0,0,0,0,0,0,0,0,0,0,0,0,0,0,0]
[2,3,null,null,null,null,null,null,null,null,null,0,0,0,0,0,0,0,0,0,0,0,0,0,0,0,0,0,null,0,0,0,0,0,0,0,0,0,0,0,0,0,0,0,0,0,0]
[2,7,4,6,6,10,10,9,9,null,null,4,0,0,0,12,0,20,18,0,0,0,0,0,0,0,0,0,null,0.22621843369184247,0,0,0,0.62429507696997399,0,4.8170916432868358,3.1604938271604937,0,0,0,0,0,0,0,0,0,8.8280989811091466]
[2,3,null,null,null,null,null,null,null,null,null,0,0,0,0,0,0,0,0,0,0,0,0,0,0,0,0,0,null,{"$f":"((L69*10)/58)^$K$1","v":0},{"$f":"((M69*10)/58)^$K$1","v":0},{"$f":"((N69*10)/80)^$K$1","v":0},{"$f":"((O69*10)/80)^$K$1","v":0},{"$f":"((P69*10)/135)^$K$1","v":0},{"$f":"((Q69*10)/135)^$K$1","v":0},{"$f":"((R69*10)/135)^$K$1","v":0},{"$f":"((S69*10)/135)^$K$1","v":0},{"$f":"((T69*10)/135)^$K$1","v":0},{"$f":"((U69*10)/98)^$K$1","v":0},{"$f":"((V69*10)/98)^$K$1","v":0},{"$f":"((W69*10)/98)^$K$1","v":0},{"$f":"((X69*10)/98)^$K$1","v":0},{"$f":"((Y69*10)/182)^$K$1","v":0},{"$f":"((Z69*10)/182)^$K$1","v":0},0,0,0]
[2,3,null,null,null,null,null,null,null,null,null,{"$f":"C70","v":0},{"$f":"IF(B70=4,D70,0)","v":0},{"$f":"IF(OR(B70=2,B70=\"3B\",B70=\"5C\",B70=\"5D\"),D70,0)","v":0},{"$f":"IF(B70=\"3B\",E70,0)","v":0},{"$f":"IF(OR(B70=3,B70=5,B70=\"5B\",B70=6,B70=\"6B\",B70=7,B70=\"7B\",B70=9,B70=\"9B\"),D70+E70,0)","v":0},{"$f":"IF(B70=4,E70+F70,0)","v":0},{"$f":"IF(OR(B70=5,B70=7,B70=9),F70+G70,0)","v":0},{"$f":"IF(OR(B70=7,B70=9),H70+I70,0)","v":0},{"$f":"IF(B70=9,J70+K70,0)","v":0},{"$f":"IF(OR(B70=\"6C\",B70=\"7C\"),D70+E70,0)","v":0},{"$f":"IF(B70=\"4B\",F70+G70,0)","v":0},{"$f":"IF(OR(B70=\"7B\",B70=\"7C\",B70=\"9B\"),H70+I70,0)","v":0},{"$f":"IF(OR(B70=\"9B\"),J70+K70,0)","v":0},{"$f":"IF((B70=\"5C\"),E70+F70+G70,0)","v":0},{"$f":"IF(B70=6,F70+G70+H70,0)","v":0},{"$f":"IF((B70=\"5D\"),E70+F70+G70,0)","v":0},{"$f":"IF(OR(B70=\"6B\",B70=\"6C\"),F70+G70+H70,0)","v":0},null,0,0,0,0,0,0,0,0,0,0,0,0,0,0,0,{"$f":"((AA70*10)/132)^$K$1","v":0},{"$f":"((AB70*10)/132)^$K$1","v":0},{"$f":"SUM(AD70:AT70)","v":0}]
[2,"7B",4,6,6,10,10,9,9,null,null,4,0,0,0,12,0,0,0,0,0,0,18,0,0,0,0,0,null,0.22621843369184247,0,0,0,0.62429507696997399,0,0,0,0,0,0,11.381138741823007,0,0,0,0,0,12.231652252484823]
[2,3,null,null,null,null,null,null,null,null,null,0,0,0,0,0,0,0,0,0,0,0,0,0,0,0,0,0,null,0,0,0,0,0,0,0,0,0,0,0,0,0,0,0,0,0,0]
[2,3,null,null,null,null,null,null,null,null,null,0,0,0,0,0,0,0,0,0,0,0,0,0,0,0,0,0,null,0,0,0,0,0,0,0,0,0,0,0,0,0,0,0,0,0,0]
[2,3,null,null,null,null,null,null,null,null,null,0,0,0,0,0,0,0,0,0,0,0,0,0,0,0,0,0,null,0,0,0,0,0,0,0,0,0,0,0,0,0,0,0,0,0,0]
[2,3,null,null,null,null,null,null,null,null,null,0,0,0,0,0,0,0,0,0,0,0,0,0,0,0,0,0,null,0,0,0,0,0,0,0,0,0,0,0,0,0,0,0,0,0,0]
[2,3,null,null,null,null,null,null,null,null,null,0,0,0,0,0,0,0,0,0,0,0,0,0,0,0,0,0,null,0,0,0,0,0,0,0,0,0,0,0,0,0,0,0,0,0,0]
[2,9,4,4,6,6,7,7,7,7,8,4,0,0,0,10,0,13,14,15,0,0,0,0,0,0,0,0,null,0.22621843369184247,0,0,0,0.30106822770542724,0,0.85988096514947066,1.1565837035531692,1.5241579027587262,0,0,0,0,0,0,0,0,4.0679092328586357]
[2,3,null,null,null,null,null,null,null,null,null,0,0,0,0,0,0,0,0,0,0,0,0,0,0,0,0,0,null,0,0,0,0,0,0,0,0,0,0,0,0,0,0,0,0,0,0]
[2,3,null,null,null,null,null,null,null,null,null,0,0,0,0,0,0,0,0,0,0,0,0,0,0,0,0,0,null,0,0,0,0,0,0,0,0,0,0,0,0,0,0,0,0,0,0]
[2,3,null,null,null,null,null,null,null,null,null,0,0,0,0,0,0,0,0,0,0,0,0,0,0,0,0,0,null,0,0,0,0,0,0,0,0,0,0,0,0,0,0,0,0,0,0]
[2,3,null,null,null,null,null,null,null,null,null,0,0,0,0,0,0,0,0,0,0,0,0,0,0,0,0,0,null,0,0,0,0,0,0,0,0,0,0,0,0,0,0,0,0,0,0]
[2,3,null,null,null,null,null,null,null,null,null,0,0,0,0,0,0,0,0,0,0,0,0,0,0,0,0,0,null,0,0,0,0,0,0,0,0,0,0,0,0,0,0,0,0,0,0]
[2,"9B",4,4,6,6,7,9,9,7,8,4,0,0,0,10,0,0,0,0,0,0,18,15,0,0,0,0,null,0.22621843369184247,0,0,0,0.30106822770542724,0,0,0,0,0,0,11.381138741823007,5.4885892852155678,0,0,0,0,17.397014688435846]
[2,3,null,null,null,null,null,null,null,null,null,0,0,0,0,0,0,0,0,0,0,0,0,0,0,0,0,0,null,0,0,0,0,0,0,0,0,0,0,0,0,0,0,0,0,0,0]
[2,3,null,null,null,null,null,null,null,null,null,0,0,0,0,0,0,0,0,0,0,0,0,0,0,0,0,0,null,0,0,0,0,0,0,0,0,0,0,0,0,0,0,0,0,0,0]
[2,3,null,null,null,null,null,null,null,null,null,0,0,0,0,0,0,0,0,0,0,0,0,0,0,0,0,0,null,0,0,0,0,0,0,0,0,0,0,0,0,0,0,0,0,0,0]
[2,3,null,null,null,null,null,null,null,null,null,0,0,0,0,0,0,0,0,0,0,0,0,0,0,0,0,0,null,0,0,0,0,0,0,0,0,0,0,0,0,0,0,0,0,0,0]
[2,3,null,null,null,null,null,null,null,null,null,0,0,0,0,0,0,0,0,0,0,0,0,0,0,0,0,0,null,0,0,0,0,0,0,0,0,0,0,0,0,0,0,0,0,0,0]
[2,3,null,null,null,null,null,null,null,null,null,0,0,0,0,0,0,0,0,0,0,0,0,0,0,0,0,0,null,0,0,0,0,0,0,0,0,0,0,0,0,0,0,0,0,0,0]
[2,3,null,null,null,null,null,null,null,null,null,0,0,0,0,0,0,0,0,0,0,0,0,0,0,0,0,0,null,0,0,0,0,0,0,0,0,0,0,0,0,0,0,0,0,0,0]
[2,3,null,null,null,null,null,null,null,null,null,0,0,0,0,0,0,0,0,0,0,0,0,0,0,0,0,0,null,0,0,0,0,0,0,0,0,0,0,0,0,0,0,0,0,0,0]
[2,3,null,null,null,null,null,null,null,null,null,0,0,0,0,0,0,0,0,0,0,0,0,0,0,0,0,0,null,0,0,0,0,0,0,0,0,0,0,0,0,0,0,0,0,0,0]
[2,3,null,null,null,null,null,null,null,null,null,0,0,0,0,0,0,0,0,0,0,0,0,0,0,0,0,0,null,0,0,0,0,0,0,0,0,0,0,0,0,0,0,0,0,0,0]
[2,3,null,null,null,null,null,null,null,null,null,0,0,0,0,0,0,0,0,0,0,0,0,0,0,0,0,0,null,0,0,0,0,0,0,0,0,0,0,0,0,0,0,0,0,0,0]
[2,3,null,null,null,null,null,null,null,null,null,0,0,0,0,0,0,0,0,0,0,0,0,0,0,0,0,0,null,0,0,0,0,0,0,0,0,0,0,0,0,0,0,0,0,0,0]
[2,3,null,null,null,null,null,null,null,null,null,0,0,0,0,0,0,0,0,0,0,0,0,0,0,0,0,0,null,0,0,0,0,0,0,0,0,0,0,0,0,0,0,0,0,0,0]
[2,3,null,null,null,null,null,null,null,null,null,0,0,0,0,0,0,0,0,0,0,0,0,0,0,0,0,0,null,0,0,0,0,0,0,0,0,0,0,0,0,0,0,0,0,0,0]
[2,3,null,null,null,null,null,null,null,null,null,0,0,0,0,0,0,0,0,0,0,0,0,0,0,0,0,0,null,0,0,0,0,0,0,0,0,0,0,0,0,0,0,0,0,0,0]
[2,3,null,null,null,null,null,null,null,null,null,0,0,0,0,0,0,0,0,0,0,0,0,0,0,0,0,0,null,0,0,0,0,0,0,0,0,0,0,0,0,0,0,0,0,0,0]
[2,3,null,null,null,null,null,null,null,null,null,0,0,0,0,0,0,0,0,0,0,0,0,0,0,0,0,0,null,0,0,0,0,0,0,0,0,0,0,0,0,0,0,0,0,0,0]
[2,3,null,null,null,null,null,null,null,null,null,0,0,0,0,0,0,0,0,0,0,0,0,0,0,0,0,0,null,{"$f":"((L101*10)/58)^$K$1","v":0},{"$f":"((M101*10)/58)^$K$1","v":0},{"$f":"((N101*10)/80)^$K$1","v":0},{"$f":"((O101*10)/80)^$K$1","v":0},0,0,0,0,0,{"$f":"((U101*10)/98)^$K$1","v":0},{"$f":"((V101*10)/98)^$K$1","v":0},{"$f":"((W101*10)/98)^$K$1","v":0},0,0,0,0,0,0]
[2,3,null,null,null,null,null,null,null,null,null,0,0,0,0,0,0,0,0,0,0,0,0,0,0,0,0,0,null,0,0,0,0,0,0,0,0,0,0,0,0,0,0,0,0,0,0]
[2,3,null,null,null,null,null,null,null,null,null,0,0,0,0,0,0,0,0,0,0,0,0,0,0,0,0,0,null,0,0,0,0,0,0,0,0,0,0,0,0,0,0,0,0,0,0]
[2,3,null,null,null,null,null,null,null,null,null,0,0,0,0,0,0,0,0,0,0,0,0,0,0,0,0,0,null,0,0,0,0,0,0,0,0,0,0,0,0,0,0,0,0,0,0]
[2,3,null,null,null,null,null,null,null,null,null,0,0,0,0,0,0,0,0,0,0,0,0,0,0,0,0,0,null,0,0,0,0,0,0,0,0,0,0,0,0,0,0,0,0,0,0]
[2,3,null,null,null,null,null,null,null,null,null,0,0,0,0,0,0,0,0,0,0,0,0,0,0,0,0,0,null,0,0,0,0,0,0,0,0,0,0,0,0,0,0,0,0,0,0]
[2,3,null,null,null,null,null,null,null,null,null,0,0,0,0,0,0,0,0,0,0,0,0,0,0,0,0,0,null,0,0,0,0,0,0,0,0,0,0,0,0,0,0,0,0,0,0]
[2,3,null,null,null,null,null,null,null,null,null,0,0,0,0,0,0,0,0,0,0,0,0,0,0,0,0,0,null,0,0,0,0,0,0,0,0,0,0,0,0,0,0,0,0,0,0]
[2,3,null,null,null,null,null,null,null,null,null,0,0,0,0,0,0,0,0,0,0,0,0,0,0,0,0,0,null,0,0,0,0,0,0,0,0,0,0,0,0,0,0,0,0,0,0]
[2,3,null,null,null,null,null,null,null,null,null,0,0,0,0,0,0,0,0,0,0,0,0,0,0,0,0,0,null,0,0,0,0,0,0,0,0,0,0,0,0,0,0,0,0,0,0]
[2,3,null,null,null,null,null,null,null,null,null,0,0,0,0,0,0,0,0,0,0,0,0,0,0,0,0,0,null,0,0,0,0,0,0,0,0,0,0,0,0,0,0,0,0,0,0]
[2,3,null,null,null,null,null,null,null,null,null,0,0,0,0,0,0,0,0,0,0,0,0,0,0,0,0,0,null,0,0,0,0,0,0,0,0,0,0,0,0,0,0,0,0,0,0]
[2,3,null,null,null,null,null,null,null,null,null,0,0,0,0,0,0,0,0,0,0,0,0,0,0,0,0,0,null,0,0,0,0,0,0,0,0,0,0,0,0,0,0,0,0,0,0]
[2,3,null,null,null,null,null,null,null,null,null,0,0,0,0,0,0,0,0,0,0,0,0,0,0,0,0,0,null,0,0,0,0,0,0,0,0,0,0,0,0,0,0,0,0,0,0]
[2,3,null,null,null,null,null,null,null,null,null,0,0,0,0,0,0,0,0,0,0,0,0,0,0,0,0,0,null,0,0,0,0,0,0,0,0,0,0,0,0,0,0,0,0,0,0]
[2,3,null,null,null,null,null,null,null,null,null,0,0,0,0,0,0,0,0,0,0,0,0,0,0,0,0,0,null,0,0,0,0,0,0,0,0,0,0,0,0,0,0,0,0,0,0]
[2,3,null,null,null,null,null,null,null,null,null,0,0,0,0,0,0,0,0,0,0,0,0,0,0,0,0,0,null,0,0,0,0,0,0,0,0,0,0,0,0,0,0,0,0,0,0]
[2,3,null,null,null,null,null,null,null,null,null,0,0,0,0,0,0,0,0,0,0,0,0,0,0,0,0,0,null,0,0,0,0,0,0,0,0,0,0,0,0,0,0,0,0,0,0]
[2,3,null,null,null,null,null,null,null,null,null,0,0,0,0,0,0,0,0,0,0,0,0,0,0,0,0,0,null,0,0,0,0,0,0,0,0,0,0,0,0,0,0,0,0,0,0]
[2,3,null,null,null,null,null,null,null,null,null,0,0,0,0,0,0,0,0,0,0,0,0,0,0,0,0,0,null,0,0,0,0,0,0,0,0,0,0,0,0,0,0,0,0,0,0]
[2,3,null,null,null,null,null,null,null,null,null,0,0,0,0,0,0,0,0,0,0,0,0,0,0,0,0,0,null,0,0,0,0,0,0,0,0,0,0,0,0,0,0,0,0,0,0]
[2,3,null,null,null,null,null,null,null,null,null,0,0,0,0,0,0,0,0,0,0,0,0,0,0,0,0,0,null,0,0,0,0,0,0,0,0,0,0,0,0,0,0,0,0,0,0]
[2,3,null,null,null,null,null,null,null,null,null,0,0,0,0,0,0,0,0,0,0,0,0,0,0,0,0,0,null,0,0,0,0,0,0,0,0,0,0,0,0,0,0,0,0,0,0]
[2,3,null,null,null,null,null,null,null,null,null,0,0,0,0,0,0,0,0,0,0,0,0,0,0,0,0,0,null,0,0,0,0,0,0,0,0,0,0,0,0,0,0,0,0,0,0]
[2,3,null,null,null,null,null,null,null,null,null,0,0,0,0,0,0,0,0,0,0,0,0,0,0,0,0,0,null,0,0,0,0,0,0,0,0,0,0,0,0,0,0,0,0,0,0]
[2,3,null,null,null,null,null,null,null,null,null,0,0,0,0,0,0,0,0,0,0,0,0,0,0,0,0,0,null,0,0,0,0,0,0,0,0,0,0,0,0,0,0,0,0,0,0]
[2,3,null,null,null,null,null,null,null,null,null,0,0,0,0,0,0,0,0,0,0,0,0,0,0,0,0,0,null,0,0,0,0,0,0,0,0,0,0,0,0,0,0,0,0,0,0]
[2,3,null,null,null,null,null,null,null,null,null,0,0,0,0,0,0,0,0,0,0,0,0,0,0,0,0,0,null,0,0,0,0,0,0,0,0,0,0,0,0,0,0,0,0,0,0]
[2,3,null,null,null,null,null,null,null,null,null,0,0,0,0,0,0,0,0,0,0,0,0,0,0,0,0,0,null,0,0,0,0,0,0,0,0,0,0,0,0,0,0,0,0,0,0]
[2,3,null,null,null,null,null,null,null,null,null,0,0,0,0,0,0,0,0,0,0,0,0,0,0,0,0,0,null,0,0,0,0,0,0,0,0,0,0,0,0,0,0,0,0,0,0]
[2,3,null,null,null,null,null,null,null,null,null,0,0,0,0,0,0,0,0,0,0,0,0,0,0,0,0,0,null,0,0,0,0,0,0,0,0,0,0,0,0,0,0,0,0,0,0]
[2,3,null,null,null,null,null,null,null,null,null,0,0,0,0,0,0,0,0,0,0,0,0,0,0,0,0,0,null,0,0,0,0,0,0,0,0,0,0,0,0,0,0,0,0,0,0]
[2,3,null,null,null,null,null,null,null,null,null,0,0,0,0,0,0,0,0,0,0,0,0,0,0,0,0,0,null,{"$f":"((L133*10)/58)^$K$1","v":0},{"$f":"((M133*10)/58)^$K$1","v":0},{"$f":"((N133*10)/80)^$K$1","v":0},{"$f":"((O133*10)/80)^$K$1","v":0},{"$f":"((P133*10)/135)^$K$1","v":0},{"$f":"((Q133*10)/135)^$K$1","v":0},{"$f":"((R133*10)/135)^$K$1","v":0},{"$f":"((S133*10)/135)^$K$1","v":0},{"$f":"((T133*10)/135)^$K$1","v":0},{"$f":"((U133*10)/98)^$K$1","v":0},{"$f":"((V133*10)/98)^$K$1","v":0},{"$f":"((W133*10)/98)^$K$1","v":0},{"$f":"((X133*10)/98)^$K$1","v":0},{"$f":"((Y133*10)/182)^$K$1","v":0},{"$f":"((Z133*10)/182)^$K$1","v":0},0,0,0]
[2,3,null,null,null,null,null,null,null,null,null,{"$f":"C134","v":0},{"$f":"IF(B134=4,D134,0)","v":0},{"$f":"IF(OR(B134=2,B134=\"3B\",B134=\"5C\",B134=\"5D\"),D134,0)","v":0},{"$f":"IF(B134=\"3B\",E134,0)","v":0},{"$f":"IF(OR(B134=3,B134=5,B134=\"5B\",B134=6,B134=\"6B\",B134=7,B134=\"7B\",B134=9,B134=\"9B\"),D134+E134,0)","v":0},{"$f":"IF(B134=4,E134+F134,0)","v":0},{"$f":"IF(OR(B134=5,B134=7,B134=9),F134+G134,0)","v":0},{"$f":"IF(OR(B134=7,B134=9),H134+I134,0)","v":0},{"$f":"IF(B134=9,J134+K134,0)","v":0},{"$f":"IF(OR(B134=\"6C\",B134=\"7C\"),D134+E134,0)","v":0},{"$f":"IF(B134=\"4B\",F134+G134,0)","v":0},{"$f":"IF(OR(B134=\"7B\",B134=\"7C\",B134=\"9B\"),H134+I134,0)","v":0},{"$f":"IF(OR(B134=\"9B\"),J134+K134,0)","v":0},{"$f":"IF((B134=\"5C\"),E134+F134+G134,0)","v":0},{"$f":"IF(B134=6,F134+G134+H134,0)","v":0},{"$f":"IF((B134=\"5D\"),E134+F134+G134,0)","v":0},{"$f":"IF(OR(B134=\"6B\",B134=\"6C\"),F134+G134+H134,0)","v":0},null,0,0,0,0,0,0,0,0,0,0,0,0,0,0,0,{"$f":"((AA134*10)/132)^$K$1","v":0},{"$f":"((AB134*10)/132)^$K$1","v":0},{"$f":"SUM(AD134:AT134)","v":0}]
[2,3,null,null,null,null,null,null,null,null,null,0,0,0,0,0,0,0,0,0,0,0,0,0,0,0,0,0,null,0,0,0,0,0,0,0,0,0,0,0,0,0,0,0,0,0,0]
[2,3,null,null,null,null,null,null,null,null,null,0,0,0,0,0,0,0,0,0,0,0,0,0,0,0,0,0,null,0,0,0,0,0,0,0,0,0,0,0,0,0,0,0,0,0,0]
[2,3,null,null,null,null,null,null,null,null,null,0,0,0,0,0,0,0,0,0,0,0,0,0,0,0,0,0,null,0,0,0,0,0,0,0,0,0,0,0,0,0,0,0,0,0,0]
[2,3,null,null,null,null,null,null,null,null,null,0,0,0,0,0,0,0,0,0,0,0,0,0,0,0,0,0,null,0,0,0,0,0,0,0,0,0,0,0,0,0,0,0,0,0,0]
[2,3,null,null,null,null,null,null,null,null,null,0,0,0,0,0,0,0,0,0,0,0,0,0,0,0,0,0,null,0,0,0,0,0,0,0,0,0,0,0,0,0,0,0,0,0,0]
[2,3,null,null,null,null,null,null,null,null,null,0,0,0,0,0,0,0,0,0,0,0,0,0,0,0,0,0,null,0,0,0,0,0,0,0,0,0,0,0,0,0,0,0,0,0,0]
[2,3,null,null,null,null,null,null,null,null,null,0,0,0,0,0,0,0,0,0,0,0,0,0,0,0,0,0,null,0,0,0,0,0,0,0,0,0,0,0,0,0,0,0,0,0,0]
[2,3,null,null,null,null,null,null,null,null,null,0,0,0,0,0,0,0,0,0,0,0,0,0,0,0,0,0,null,0,0,0,0,0,0,0,0,0,0,0,0,0,0,0,0,0,0]
[2,3,null,null,null,null,null,null,null,null,null,0,0,0,0,0,0,0,0,0,0,0,0,0,0,0,0,0,null,0,0,0,0,0,0,0,0,0,0,0,0,0,0,0,0,0,0]
[2,"3B",null,null,null,null,null,null,null,null,null,0,0,0,0,0,0,0,0,0,0,0,0,0,0,0,0,0,null,0,0,0,0,0,0,0,0,0,0,0,0,0,0,0,0,0,0]
[2,"3C",null,null,null,null,null,null,null,null,null,0,0,0,0,0,0,0,0,0,0,0,0,0,0,0,0,0,null,0,0,0,0,0,0,0,0,0,0,0,0,0,0,0,0,0,0]
[2,4,null,null,null,null,null,null,null,null,null,0,0,0,0,0,0,0,0,0,0,0,0,0,0,0,0,0,null,0,0,0,0,0,0,0,0,0,0,0,0,0,0,0,0,0,0]
[2,"4B",null,null,null,null,null,null,null,null,null,0,0,0,0,0,0,0,0,0,0,0,0,0,0,0,0,0,null,0,0,0,0,0,0,0,0,0,0,0,0,0,0,0,0,0,0]
[2,5,null,null,null,null,null,null,null,null,null,0,0,0,0,0,0,0,0,0,0,0,0,0,0,0,0,0,null,0,0,0,0,0,0,0,0,0,0,0,0,0,0,0,0,0,0]
[2,"5B",null,null,null,null,null,null,null,null,null,0,0,0,0,0,0,0,0,0,0,0,0,0,0,0,0,0,null,0,0,0,0,0,0,0,0,0,0,0,0,0,0,0,0,0,0]
[2,6,null,null,null,null,null,null,null,null,null,0,0,0,0,0,0,0,0,0,0,0,0,0,0,0,0,0,null,0,0,0,0,0,0,0,0,0,0,0,0,0,0,0,0,0,0]
[2,"6B",null,null,null,null,null,null,null,null,null,0,0,0,0,0,0,0,0,0,0,0,0,0,0,0,0,0,null,0,0,0,0,0,0,0,0,0,0,0,0,0,0,0,0,0,0]
[2,7,null,null,null,null,null,null,null,null,null,0,0,0,0,0,0,0,0,0,0,0,0,0,0,0,0,0,null,0,0,0,0,0,0,0,0,0,0,0,0,0,0,0,0,0,0]
[2,"7B",null,null,null,null,null,null,null,null,null,0,0,0,0,0,0,0,0,0,0,0,0,0,0,0,0,0,null,0,0,0,0,0,0,0,0,0,0,0,0,0,0,0,0,0,0]
[2,9,null,null,null,null,null,null,null,null,null,0,0,0,0,0,0,0,0,0,0,0,0,0,0,0,0,0,null,0,0,0,0,0,0,0,0,0,0,0,0,0,0,0,0,0,0]
[2,"9B",null,null,null,null,null,null,null,null,null,0,0,0,0,0,0,0,0,0,0,0,0,0,0,0,0,0,null,0,0,0,0,0,0,0,0,0,0,0,0,0,0,0,0,0,0]
[2,2,4,8,null,null,null,null,null,null,null,4,0,8,0,0,0,0,0,0,0,0,0,0,0,0,0,0,null,{"$f":"((L156*10)/58)^$K$1","v":0.22621843369184247},{"$f":"((M156*10)/58)^$K$1","v":0},{"$f":"((N156*10)/80)^$K$1","v":1},{"$f":"((O156*10)/80)^$K$1","v":0},0,0,0,0,0,0,0,0,0,0,0,0,0,1.2262184336918425,null,20]
[2,3,null,null,null,null,null,null,null,null,null,0,0,0,0,0,0,0,0,0,0,0,0,0,0,0,0,0,null,0,0,0,0,0,0,0,0,0,0,0,0,0,0,0,0,0,0,null,30]
[2,3,null,null,null,null,null,null,null,null,null,0,0,0,0,0,0,0,0,0,0,0,0,0,0,0,0,0,null,0,0,0,0,0,0,0,0,0,0,0,0,0,0,0,0,0,0,null,40]
[2,3,null,null,null,null,null,null,null,null,null,0,0,0,0,0,0,0,0,0,0,0,0,0,0,0,0,0,null,0,0,0,0,0,0,0,0,0,0,0,0,0,0,0,0,0,0,null,50]
[2,3,null,null,null,null,null,null,null,null,null,0,0,0,0,0,0,0,0,0,0,0,0,0,0,0,0,0,null,0,0,0,0,0,0,0,0,0,0,0,0,0,0,0,0,0,0,null,60]
[2,3,null,null,null,null,null,null,null,null,null,0,0,0,0,0,0,0,0,0,0,0,0,0,0,0,0,0,null,0,0,0,0,0,0,0,0,0,0,0,0,0,0,0,0,0,0,null,70]
[2,"3B",6,10,8,null,null,null,null,null,null,6,0,10,8,0,0,0,0,0,0,0,0,0,0,0,0,0,null,1.1452308205649526,0,2.44140625,1,0,0,0,0,0,0,0,0,0,0,0,0,0,4.5866370705649526,null,80]
[2,3,null,null,null,null,null,null,null,null,null,0,0,0,0,0,0,0,0,0,0,0,0,0,0,0,0,0,null,0,0,0,0,0,0,0,0,0,0,0,0,0,0,0,0,0,0,null,90]
[2,3,null,null,null,null,null,null,null,null,null,0,0,0,0,0,0,0,0,0,0,0,0,0,0,0,0,0,null,0,0,0,0,0,0,0,0,0,0,0,0,0,0,0,0,0,0,null,100]
[2,3,null,null,null,null,null,null,null,null,null,0,0,0,0,0,0,0,0,0,0,0,0,0,0,0,0,0,null,0,0,0,0,0,0,0,0,0,{"$f":"((U165*10)/98)^$K$1","v":0},{"$f":"((V165*10)/98)^$K$1","v":0},{"$f":"((W165*10)/98)^$K$1","v":0},{"$f":"((X165*10)/98)^$K$1","v":0},0,0,0,0,0,null,110]
[2,3,null,null,null,null,null,null,null,null,null,0,0,0,0,0,0,0,0,0,0,0,0,0,0,0,0,0,null,0,0,0,0,0,0,0,0,0,0,0,0,0,0,0,0,0,0,null,120]
[2,3,null,null,null,null,null,null,null,null,null,0,0,0,0,0,0,0,0,0,0,0,0,0,0,0,0,0,null,0,0,0,0,0,0,0,0,0,0,0,0,0,0,0,0,0,0,null,130]
[2,3,null,null,null,null,null,null,null,null,null,0,0,0,0,0,0,0,0,0,0,0,0,0,0,0,0,0,null,0,0,0,0,0,0,0,0,0,0,0,0,0,0,0,0,0,0,null,140]
[2,3,null,null,null,null,null,null,null,null,null,0,0,0,0,0,0,0,0,0,0,0,0,0,0,0,0,0,null,0,0,0,0,0,0,0,0,0,0,0,0,0,0,0,0,0,0,null,150]
[2,3,null,null,null,null,null,null,null,null,null,0,0,0,0,0,0,0,0,0,0,0,0,0,0,0,0,0,null,0,0,0,0,0,0,0,0,0,0,0,0,0,0,0,0,0,0,null,160]
[2,3,null,null,null,null,null,null,null,null,null,0,0,0,0,0,0,0,0,0,0,0,0,0,0,0,0,0,null,0,0,0,0,0,0,0,0,0,0,0,0,0,0,0,0,0,0,null,170]
[2,"3C",6,8,4,null,null,null,null,null,null,6,0,0,0,0,0,0,0,0,0,0,0,0,0,0,0,0,null,1.1452308205649526,0,0,0,0,0,0,0,0,0,0,0,0,0,0,0,0,1.1452308205649526,null,180]
[2,3,null,null,null,null,null,null,null,null,null,0,0,0,0,0,0,0,0,0,0,0,0,0,0,0,0,0,null,0,0,0,0,0,0,0,0,0,0,0,0,0,0,0,0,0,0,null,190]
[2,3,null,null,null,null,null,null,null,null,null,0,0,0,0,0,0,0,0,0,0,0,0,0,0,0,0,0,null,0,0,0,0,0,0,0,0,0,0,0,0,0,0,0,0,0,0,null,200]
[2,3,null,null,null,null,null,null,null,null,null,0,0,0,0,0,0,0,0,0,0,0,0,0,0,0,0,0,null,0,0,0,0,0,0,0,0,0,0,0,0,0,0,0,0,0,0,null,210]
[2,3,null,null,null,null,null,null,null,null,null,0,0,0,0,0,0,0,0,0,0,0,0,0,0,0,0,0,null,0,0,0,0,0,0,0,0,0,0,0,0,0,0,0,0,0,0,null,220]
[2,3,null,null,null,null,null,null,null,null,null,0,0,0,0,0,0,0,0,0,0,0,0,0,0,0,0,0,null,0,0,0,0,0,0,0,0,0,0,0,0,0,0,0,0,0,0,null,230]
[2,3,null,null,null,null,null,null,null,null,null,0,0,0,0,0,0,0,0,0,0,0,0,0,0,0,0,0,null,0,0,0,0,0,0,0,0,0,0,0,0,0,0,0,0,0,0,null,240]
[2,3,null,null,null,null,null,null,null,null,null,0,0,0,0,0,0,0,0,0,0,0,0,0,0,0,0,0,null,0,0,0,0,0,0,0,0,0,0,0,0,0,0,0,0,0,0,null,250]
[2,4,6,6,8,9,null,null,null,null,null,6,6,0,0,0,17,0,0,0,0,0,0,0,0,0,0,0,null,1.1452308205649526,1.1452308205649526,0,0,0,2.5145519446185003,0,0,0,0,0,0,0,0,0,0,0,4.8050135857484051,null,260]
[2,3,null,null,null,null,null,null,null,null,null,0,0,0,0,0,0,0,0,0,0,0,0,0,0,0,0,0,null,0,0,0,0,0,0,0,0,0,0,0,0,0,0,0,0,0,0,null,270]
[2,3,null,null,null,null,null,null,null,null,null,0,0,0,0,0,0,0,0,0,0,0,0,0,0,0,0,0,null,0,0,0,0,0,0,0,0,0,0,0,0,0,0,0,0,0,0,null,280]
[2,3,null,null,null,null,null,null,null,null,null,0,0,0,0,0,0,0,0,0,0,0,0,0,0,0,0,0,null,0,0,0,0,0,0,0,0,0,0,0,0,0,0,0,0,0,0,null,290]
[2,3,null,null,null,null,null,null,null,null,null,0,0,0,0,0,0,0,0,0,0,0,0,0,0,0,0,0,null,0,0,0,0,0,0,0,0,0,0,0,0,0,0,0,0,0,0,null,300]
[2,"4B",6,6,10,10,null,null,null,null,null,6,0,0,0,0,0,0,0,0,0,10,0,0,0,0,0,0,null,1.1452308205649526,0,0,0,0,0,0,0,0,0,1.0841657847339399,0,0,0,0,0,0,2.2293966052988923,null,310]
[2,3,null,null,null,null,null,null,null,null,null,0,0,0,0,0,0,0,0,0,0,0,0,0,0,0,0,0,null,0,0,0,0,0,0,0,0,0,0,0,0,0,0,0,0,0,0,null,320]
[2,3,null,null,null,null,null,null,null,null,null,0,0,0,0,0,0,0,0,0,0,0,0,0,0,0,0,0,null,0,0,0,0,0,0,0,0,0,0,0,0,0,0,0,0,0,0,null,330]
[2,3,null,null,null,null,null,null,null,null,null,0,0,0,0,0,0,0,0,0,0,0,0,0,0,0,0,0,null,0,0,0,0,0,0,0,0,0,0,0,0,0,0,0,0,0,0,null,340]
[2,3,null,null,null,null,null,null,null,null,null,0,0,0,0,0,0,0,0,0,0,0,0,0,0,0,0,0,null,0,0,0,0,0,0,0,0,0,0,0,0,0,0,0,0,0,0,null,350]
[2,3,null,null,null,null,null,null,null,null,null,0,0,0,0,0,0,0,0,0,0,0,0,0,0,0,0,0,null,0,0,0,0,0,0,0,0,0,0,0,0,0,0,0,0,0,0,null,"Sum",null,{"$f":"SUM(AY155:AY189)","v":0}]
[2,3,null,null,null,null,null,null,null,null,null,0,0,0,0,0,0,0,0,0,0,0,0,0,0,0,0,0,null,0,0,0,0,0,0,0,0,0,0,0,0,0,0,0,0,0,0]
[2,3,null,null,null,null,null,null,null,null,null,0,0,0,0,0,0,0,0,0,0,0,0,0,0,0,0,0,null,0,0,0,0,0,0,0,0,0,0,0,0,0,0,0,0,0,0]
[2,3,null,null,null,null,null,null,null,null,null,0,0,0,0,0,0,0,0,0,0,0,0,0,0,0,0,0,null,0,0,0,0,0,0,0,0,0,0,0,0,0,0,0,0,0,0]
[2,3,null,null,null,null,null,null,null,null,null,0,0,0,0,0,0,0,0,0,0,0,0,0,0,0,0,0,null,0,0,0,0,0,0,0,0,0,0,0,0,0,0,0,0,0,0]
[2,5,null,null,null,null,null,null,null,null,null,0,0,0,0,0,0,0,0,0,0,0,0,0,0,0,0,0,null,0,0,0,0,0,0,0,0,0,0,0,0,0,0,0,0,0,0]
[2,3,null,null,null,null,null,null,null,null,null,0,0,0,0,0,0,0,0,0,0,0,0,0,0,0,0,0,null,0,0,0,0,0,0,0,0,0,0,0,0,0,0,0,0,0,0]
[2,3,null,null,null,null,null,null,null,null,null,0,0,0,0,0,0,0,0,0,0,0,0,0,0,0,0,0,null,0,0,0,0,{"$f":"((P197*10)/135)^$K$1","v":0},{"$f":"((Q197*10)/135)^$K$1","v":0},{"$f":"((R197*10)/135)^$K$1","v":0},{"$f":"((S197*10)/135)^$K$1","v":0},{"$f":"((T197*10)/135)^$K$1","v":0},{"$f":"((U197*10)/98)^$K$1","v":0},{"$f":"((V197*10)/98)^$K$1","v":0},{"$f":"((W197*10)/98)^$K$1","v":0},{"$f":"((X197*10)/98)^$K$1","v":0},{"$f":"((Y197*10)/182)^$K$1","v":0},{"$f":"((Z197*10)/182)^$K$1","v":0},0,0,0]
[2,3,null,null,null,null,null,null,null,null,null,{"$f":"C198","v":0},{"$f":"IF(B198=4,D198,0)","v":0},{"$f":"IF(OR(B198=2,B198=\"3B\",B198=\"5C\",B198=\"5D\"),D198,0)","v":0},{"$f":"IF(B198=\"3B\",E198,0)","v":0},{"$f":"IF(OR(B198=3,B198=5,B198=\"5B\",B198=6,B198=\"6B\",B198=7,B198=\"7B\",B198=9,B198=\"9B\"),D198+E198,0)","v":0},{"$f":"IF(B198=4,E198+F198,0)","v":0},{"$f":"IF(OR(B198=5,B198=7,B198=9),F198+G198,0)","v":0},{"$f":"IF(OR(B198=7,B198=9),H198+I198,0)","v":0},{"$f":"IF(B198=9,J198+K198,0)","v":0},{"$f":"IF(OR(B198=\"6C\",B198=\"7C\"),D198+E198,0)","v":0},{"$f":"IF(B198=\"4B\",F198+G198,0)","v":0},{"$f":"IF(OR(B198=\"7B\",B198=\"7C\",B198=\"9B\"),H198+I198,0)","v":0},{"$f":"IF(OR(B198=\"9B\"),J198+K198,0)","v":0},{"$f":"IF((B198=\"5C\"),E198+F198+G198,0)","v":0},{"$f":"IF(B198=6,F198+G198+H198,0)","v":0},{"$f":"IF((B198=\"5D\"),E198+F198+G198,0)","v":0},{"$f":"IF(OR(B198=\"6B\",B198=\"6C\"),F198+G198+H198,0)","v":0},null,0,0,0,0,0,0,0,0,0,0,0,0,0,0,0,{"$f":"((AA198*10)/132)^$K$1","v":0},{"$f":"((AB198*10)/132)^$K$1","v":0},{"$f":"SUM(AD198:AT198)","v":0}]
[2,3,null,null,null,null,null,null,null,null,null,0,0,0,0,0,0,0,0,0,0,0,0,0,0,0,0,0,null,0,0,0,0,0,0,0,0,0,0,0,0,0,0,0,0,0,0]
[2,3,null,null,null,null,null,null,null,null,null,0,0,0,0,0,0,0,0,0,0,0,0,0,0,0,0,0,null,0,0,0,0,0,0,0,0,0,0,0,0,0,0,0,0,0,0]
[2,"5B",4,6,6,9,9,null,null,null,null,4,0,0,0,12,0,0,0,0,0,0,0,0,0,0,0,0,null,0.22621843369184247,0,0,0,0.62429507696997399,0,0,0,0,0,0,0,0,0,0,0,0,0.85051351066181646]
[2,3,null,null,null,null,null,null,null,null,null,0,0,0,0,0,0,0,0,0,0,0,0,0,0,0,0,0,null,0,0,0,0,0,0,0,0,0,0,0,0,0,0,0,0,0,0]
[2,3,null,null,null,null,null,null,null,null,null,0,0,0,0,0,0,0,0,0,0,0,0,0,0,0,0,0,null,0,0,0,0,0,0,0,0,0,0,0,0,0,0,0,0,0,0]
[2,3,null,null,null,null,null,null,null,null,null,0,0,0,0,0,0,0,0,0,0,0,0,0,0,0,0,0,null,0,0,0,0,0,0,0,0,0,0,0,0,0,0,0,0,0,0]
[2,3,null,null,null,null,null,null,null,null,null,0,0,0,0,0,0,0,0,0,0,0,0,0,0,0,0,0,null,0,0,0,0,0,0,0,0,0,0,0,0,0,0,0,0,0,0]
[2,3,null,null,null,null,null,null,null,null,null,0,0,0,0,0,0,0,0,0,0,0,0,0,0,0,0,0,null,0,0,0,0,0,0,0,0,0,0,0,0,0,0,0,0,0,0]
[2,3,null,null,null,null,null,null,null,null,null,0,0,0,0,0,0,0,0,0,0,0,0,0,0,0,0,0,null,0,0,0,0,0,0,0,0,0,0,0,0,0,0,0,0,0,0]
[2,6,5,6,6,9,9,9,null,null,null,5,0,0,0,12,0,0,0,0,0,0,0,0,0,27,0,0,null,0.55229109788047448,0,0,0,0.62429507696997399,0,0,0,0,0,0,0,0,0,4.8436137645050952,0,0,6.0201999393555434]
[2,3,null,null,null,null,null,null,null,null,null,0,0,0,0,0,0,0,0,0,0,0,0,0,0,0,0,0,null,0,0,0,0,0,0,0,0,0,0,0,0,0,0,0,0,0,0]
[2,3,null,null,null,null,null,null,null,null,null,0,0,0,0,0,0,0,0,0,0,0,0,0,0,0,0,0,null,0,0,0,0,0,0,0,0,0,0,0,0,0,0,0,0,0,0]
[2,3,null,null,null,null,null,null,null,null,null,0,0,0,0,0,0,0,0,0,0,0,0,0,0,0,0,0,null,0,0,0,0,0,0,0,0,0,0,0,0,0,0,0,0,0,0]
[2,3,null,null,null,null,null,null,null,null,null,0,0,0,0,0,0,0,0,0,0,0,0,0,0,0,0,0,null,0,0,0,0,0,0,0,0,0,0,0,0,0,0,0,0,0,0]
[2,"6B",5,7,7,9,9,9,null,null,null,5,0,0,0,14,0,0,0,0,0,0,0,0,0,0,0,27,null,0.55229109788047448,0,0,0,1.1565837035531692,0,0,0,0,0,0,0,0,0,0,0,17.504887815039957,19.213762616473602]
[2,3,null,null,null,null,null,null,null,null,null,0,0,0,0,0,0,0,0,0,0,0,0,0,0,0,0,0,null,0,0,0,0,0,0,0,0,0,0,0,0,0,0,0,0,0,0]
[2,3,null,null,null,null,null,null,null,null,null,0,0,0,0,0,0,0,0,0,0,0,0,0,0,0,0,0,null,0,0,0,0,0,0,0,0,0,0,0,0,0,0,0,0,0,0]
[2,3,null,null,null,null,null,null,null,null,null,0,0,0,0,0,0,0,0,0,0,0,0,0,0,0,0,0,null,0,0,0,0,0,0,0,0,0,0,0,0,0,0,0,0,0,0]
[2,3,null,null,null,null,null,null,null,null,null,0,0,0,0,0,0,0,0,0,0,0,0,0,0,0,0,0,null,0,0,0,0,0,0,0,0,0,0,0,0,0,0,0,0,0,0]
[2,7,4,6,6,10,10,9,9,null,null,4,0,0,0,12,0,20,18,0,0,0,0,0,0,0,0,0,null,0.22621843369184247,0,0,0,0.62429507696997399,0,4.8170916432868358,3.1604938271604937,0,0,0,0,0,0,0,0,0,8.8280989811091466]
[2,3,null,null,null,null,null,null,null,null,null,0,0,0,0,0,0,0,0,0,0,0,0,0,0,0,0,0,null,0,0,0,0,0,0,0,0,0,0,0,0,{"$f":"((X219*10)/98)^$K$1","v":0},0,0,0,0,0]
[2,3,null,null,null,null,null,null,null,null,null,0,0,0,0,0,0,0,0,0,0,0,0,0,0,0,0,0,null,{"$f":"((L220*10)/58)^$K$1","v":0},{"$f":"((M220*10)/58)^$K$1","v":0},{"$f":"((N220*10)/80)^$K$1","v":0},{"$f":"((O220*10)/80)^$K$1","v":0},0,0,0,0,0,{"$f":"((U220*10)/98)^$K$1","v":0},{"$f":"((V220*10)/98)^$K$1","v":0},{"$f":"((W220*10)/98)^$K$1","v":0},0,0,0,0,0,0]
[2,"7B",4,6,6,10,10,9,9,null,null,4,0,0,0,12,0,0,0,0,0,0,18,0,0,0,0,0,null,0.22621843369184247,0,0,0,0.62429507696997399,0,0,0,0,0,0,11.381138741823007,0,0,0,0,0,12.231652252484823]
[2,3,null,null,null,null,null,null,null,null,null,0,0,0,0,0,0,0,0,0,0,0,0,0,0,0,0,0,null,0,0,0,0,0,0,0,0,0,0,0,0,0,0,0,0,0,0]
[2,3,null,null,null,null,null,null,null,null,null,0,0,0,0,0,0,0,0,0,0,0,0,0,0,0,0,0,null,0,0,0,0,0,0,0,0,0,0,0,0,0,0,0,0,0,0]
[2,3,null,null,null,null,null,null,null,null,null,0,0,0,0,0,0,0,0,0,0,0,0,0,0,0,0,0,null,0,0,0,0,0,0,0,0,0,0,0,0,0,0,0,0,0,0]
[2,3,null,null,null,null,null,null,null,null,null,0,0,0,0,0,0,0,0,0,0,0,0,0,0,0,0,0,null,0,0,0,0,0,0,0,0,0,0,0,0,0,0,0,0,0,0]
[2,3,null,null,null,null,null,null,null,null,null,0,0,0,0,0,0,0,0,0,0,0,0,0,0,0,0,0,null,0,0,0,0,0,0,0,0,0,0,0,0,0,0,0,0,0,0]
[2,9,4,4,6,6,7,7,7,7,8,4,0,0,0,10,0,13,14,15,0,0,0,0,0,0,0,0,null,0.22621843369184247,0,0,0,0.30106822770542724,0,0.85988096514947066,1.1565837035531692,1.5241579027587262,0,0,0,0,0,0,0,0,4.0679092328586357]
[2,3,null,null,null,null,null,null,null,null,null,0,0,0,0,0,0,0,0,0,0,0,0,0,0,0,0,0,null,0,0,0,0,0,0,0,0,0,0,0,0,0,0,0,0,0,0]
[2,3,null,null,null,null,null,null,null,null,null,0,0,0,0,0,0,0,0,0,0,0,0,0,0,0,0,0,null,0,0,0,0,0,0,0,0,0,0,0,0,0,0,0,0,0,0]
[2,3,null,null,null,null,null,null,null,null,null,0,0,0,0,0,0,0,0,0,0,0,0,0,0,0,0,0,null,0,0,0,0,0,0,0,0,0,0,0,0,0,0,0,0,0,0]
[2,3,null,null,null,null,null,null,null,null,null,0,0,0,0,0,0,0,0,0,0,0,0,0,0,0,0,0,null,0,0,0,0,0,0,0,0,0,0,0,0,0,0,0,0,0,0]
[2,3,null,null,null,null,null,null,null,null,null,0,0,0,0,0,0,0,0,0,0,0,0,0,0,0,0,0,null,0,0,0,0,0,0,0,0,0,0,0,0,0,0,0,0,0,0]
[2,"9B",4,4,6,6,7,9,9,7,8,4,0,0,0,10,0,0,0,0,0,0,18,15,0,0,0,0,null,0.22621843369184247,0,0,0,0.30106822770542724,0,0,0,0,0,0,11.381138741823007,5.4885892852155678,0,0,0,0,17.397014688435846]
[2,3,null,null,null,null,null,null,null,null,null,0,0,0,0,0,0,0,0,0,0,0,0,0,0,0,0,0,null,0,0,0,0,0,0,0,0,0,0,0,0,0,0,0,0,0,0]
[2,3,null,null,null,null,null,null,null,null,null,0,0,0,0,0,0,0,0,0,0,0,0,0,0,0,0,0,null,0,0,0,0,0,0,0,0,0,0,0,0,0,0,0,0,0,0]
[2,3,null,null,null,null,null,null,null,null,null,0,0,0,0,0,0,0,0,0,0,0,0,0,0,0,0,0,null,0,0,0,0,0,0,0,0,0,0,0,0,0,0,0,0,0,0]
[2,3,null,null,null,null,null,null,null,null,null,0,0,0,0,0,0,0,0,0,0,0,0,0,0,0,0,0,null,0,0,0,0,0,0,0,0,0,0,0,0,0,0,0,0,0,0]
[2,3,null,null,null,null,null,null,null,null,null,0,0,0,0,0,0,0,0,0,0,0,0,0,0,0,0,0,null,0,0,0,0,0,0,0,0,0,0,0,0,0,0,0,0,0,0]
[2,3,null,null,null,null,null,null,null,null,null,0,0,0,0,0,0,0,0,0,0,0,0,0,0,0,0,0,null,0,0,0,0,0,0,0,0,0,0,0,0,0,0,0,0,0,0]
[2,3,null,null,null,null,null,null,null,null,null,0,0,0,0,0,0,0,0,0,0,0,0,0,0,0,0,0,null,0,0,0,0,0,0,0,0,0,0,0,0,0,0,0,0,0,0]
[2,3,null,null,null,null,null,null,null,null,null,0,0,0,0,0,0,0,0,0,0,0,0,0,0,0,0,0,null,0,0,0,0,0,0,0,0,0,0,0,0,0,0,0,0,0,0]
[2,3,null,null,null,null,null,null,null,null,null,0,0,0,0,0,0,0,0,0,0,0,0,0,0,0,0,0,null,0,0,0,0,0,0,0,0,0,0,0,0,0,0,0,0,0,0]
[2,3,null,null,null,null,null,null,null,null,null,0,0,0,0,0,0,0,0,0,0,0,0,0,0,0,0,0,null,0,0,0,0,0,0,0,0,0,0,0,0,0,0,0,0,0,0]
[2,3,null,null,null,null,null,null,null,null,null,0,0,0,0,0,0,0,0,0,0,0,0,0,0,0,0,0,null,0,0,0,0,0,0,0,0,0,0,0,0,0,0,0,0,0,0]
[2,3,null,null,null,null,null,null,null,null,null,0,0,0,0,0,0,0,0,0,0,0,0,0,0,0,0,0,null,0,0,0,0,0,0,0,0,0,0,0,0,0,0,0,0,0,0]
[2,3,null,null,null,null,null,null,null,null,null,0,0,0,0,0,0,0,0,0,0,0,0,0,0,0,0,0,null,0,0,0,0,0,0,0,0,0,0,0,0,0,0,0,0,0,0]
[2,3,null,null,null,null,null,null,null,null,null,0,0,0,0,0,0,0,0,0,0,0,0,0,0,0,0,0,null,0,0,0,0,0,0,0,0,0,0,0,0,0,0,0,0,0,0]
[2,3,null,null,null,null,null,null,null,null,null,0,0,0,0,0,0,0,0,0,0,0,0,0,0,0,0,0,null,0,0,0,0,0,0,0,0,0,0,0,0,0,0,0,0,0,0]
[2,3,null,null,null,null,null,null,null,null,null,0,0,0,0,0,0,0,0,0,0,0,0,0,0,0,0,0,null,0,0,0,0,0,0,0,0,0,0,0,0,0,0,0,0,0,0]
[2,3,null,null,null,null,null,null,null,null,null,0,0,0,0,0,0,0,0,0,0,0,0,0,0,0,0,0,null,0,0,0,0,0,0,0,0,0,0,0,0,0,0,0,0,0,0]
[2,3,null,null,null,null,null,null,null,null,null,0,0,0,0,0,0,0,0,0,0,0,0,0,0,0,0,0,null,0,0,0,0,0,0,0,0,0,0,0,0,0,0,0,0,0,0]
[2,3,null,null,null,null,null,null,null,null,null,0,0,0,0,0,0,0,0,0,0,0,0,0,0,0,0,0,null,0,0,0,0,0,0,0,0,0,{"$f":"((U252*10)/98)^$K$1","v":0},{"$f":"((V252*10)/98)^$K$1","v":0},{"$f":"((W252*10)/98)^$K$1","v":0},0,0,0,0,0,0]
[2,3,null,null,null,null,null,null,null,null,null,0,0,0,0,0,0,0,0,0,0,0,0,0,0,0,0,0,null,0,0,0,0,0,0,0,0,0,0,0,0,0,0,0,0,0,0]
[2,3,null,null,null,null,null,null,null,null,null,0,0,0,0,0,0,0,0,0,0,0,0,0,0,0,0,0,null,0,0,0,0,0,0,0,0,0,0,0,0,0,0,0,0,0,0]
[2,3,null,null,null,null,null,null,null,null,null,0,0,0,0,0,0,0,0,0,0,0,0,0,0,0,0,0,null,0,0,0,0,0,0,0,0,0,0,0,0,0,0,0,0,0,0]
[2,3,null,null,null,null,null,null,null,null,null,0,0,0,0,0,0,0,0,0,0,0,0,0,0,0,0,0,null,0,0,0,0,0,0,0,0,0,0,0,0,0,0,0,0,0,0]
[2,3,null,null,null,null,null,null,null,null,null,0,0,0,0,0,0,0,0,0,0,0,0,0,0,0,0,0,null,0,0,0,0,0,0,0,0,0,0,0,0,0,0,0,0,0,0]
[2,3,null,null,null,null,null,null,null,null,null,0,0,0,0,0,0,0,0,0,0,0,0,0,0,0,0,0,null,0,0,0,0,{"$f":"((P258*10)/135)^$K$1","v":0},{"$f":"((Q258*10)/135)^$K$1","v":0},{"$f":"((R258*10)/135)^$K$1","v":0},{"$f":"((S258*10)/135)^$K$1","v":0},{"$f":"((T258*10)/135)^$K$1","v":0},0,0,0,0,0,0,0,0,0]
[2,3,null,null,null,null,null,null,null,null,null,0,0,0,0,0,0,0,0,0,0,0,0,0,0,0,0,0,null,0,0,0,0,0,0,0,0,0,0,0,0,0,0,0,0,0,0]
[2,3,null,null,null,null,null,null,null,null,null,0,0,0,0,0,0,0,0,0,0,0,0,0,0,0,0,0,null,0,0,0,0,0,0,0,0,0,0,0,0,0,0,0,0,0,0]
[2,3,null,null,null,null,null,null,null,null,null,0,0,0,0,0,0,0,0,0,0,0,0,0,0,0,0,0,null,0,0,0,0,0,0,0,0,0,0,0,0,0,{"$f":"((Y261*10)/182)^$K$1","v":0},{"$f":"((Z261*10)/182)^$K$1","v":0},0,0,0]
[2,3,null,null,null,null,null,null,null,null,null,{"$f":"C262","v":0},{"$f":"IF(B262=4,D262,0)","v":0},{"$f":"IF(OR(B262=2,B262=\"3B\",B262=\"5C\",B262=\"5D\"),D262,0)","v":0},{"$f":"IF(B262=\"3B\",E262,0)","v":0},{"$f":"IF(OR(B262=3,B262=5,B262=\"5B\",B262=6,B262=\"6B\",B262=7,B262=\"7B\",B262=9,B262=\"9B\"),D262+E262,0)","v":0},{"$f":"IF(B262=4,E262+F262,0)","v":0},{"$f":"IF(OR(B262=5,B262=7,B262=9),F262+G262,0)","v":0},{"$f":"IF(OR(B262=7,B262=9),H262+I262,0)","v":0},{"$f":"IF(B262=9,J262+K262,0)","v":0},{"$f":"IF(OR(B262=\"6C\",B262=\"7C\"),D262+E262,0)","v":0},{"$f":"IF(B262=\"4B\",F262+G262,0)","v":0},{"$f":"IF(OR(B262=\"7B\",B262=\"7C\",B262=\"9B\"),H262+I262,0)","v":0},{"$f":"IF(OR(B262=\"9B\"),J262+K262,0)","v":0},{"$f":"IF((B262=\"5C\"),E262+F262+G262,0)","v":0},{"$f":"IF(B262=6,F262+G262+H262,0)","v":0},{"$f":"IF((B262=\"5D\"),E262+F262+G262,0)","v":0},{"$f":"IF(OR(B262=\"6B\",B262=\"6C\"),F262+G262+H262,0)","v":0},null,0,0,0,0,0,0,0,0,0,0,0,0,0,0,0,{"$f":"((AA262*10)/132)^$K$1","v":0},{"$f":"((AB262*10)/132)^$K$1","v":0},{"$f":"SUM(AD262:AT262)","v":0}]
[2,3,null,null,null,null,null,null,null,null,null,0,0,0,0,0,0,0,0,0,0,0,0,0,0,0,0,0,null,0,0,0,0,0,0,0,0,0,0,0,0,0,0,0,0,0,0]
[2,3,null,null,null,null,null,null,null,null,null,0,0,0,0,0,0,0,0,0,0,0,0,0,0,0,0,0,null,0,0,0,0,0,0,0,0,0,0,0,0,0,0,0,0,0,0]
[2,3,null,null,null,null,null,null,null,null,null,0,0,0,0,0,0,0,0,0,0,0,0,0,0,0,0,0,null,0,0,0,0,0,0,0,0,0,0,0,0,0,0,0,0,0,0]
[2,3,null,null,null,null,null,null,null,null,null,0,0,0,0,0,0,0,0,0,0,0,0,0,0,0,0,0,null,0,0,0,0,0,0,0,0,0,0,0,0,0,0,0,0,0,0]
[2,3,null,null,null,null,null,null,null,null,null,0,0,0,0,0,0,0,0,0,0,0,0,0,0,0,0,0,null,0,0,0,0,0,0,0,0,0,0,0,0,0,0,0,0,0,0]
[2,3,null,null,null,null,null,null,null,null,null,0,0,0,0,0,0,0,0,0,0,0,0,0,0,0,0,0,null,0,0,0,0,0,0,0,0,0,0,0,0,0,0,0,0,0,0]
[2,3,null,null,null,null,null,null,null,null,null,0,0,0,0,0,0,0,0,0,0,0,0,0,0,0,0,0,null,0,0,0,0,0,0,0,0,0,0,0,0,0,0,0,0,0,0]
[2,3,null,null,null,null,null,null,null,null,null,0,0,0,0,0,0,0,0,0,0,0,0,0,0,0,0,0,null,0,0,0,0,0,0,0,0,0,0,0,0,0,0,0,0,0,0]
[2,3,null,null,null,null,null,null,null,null,null,0,0,0,0,0,0,0,0,0,0,0,0,0,0,0,0,0,null,0,0,0,0,0,0,0,0,0,0,0,0,0,0,0,0,0,0]
[2,3,null,null,null,null,null,null,null,null,null,0,0,0,0,0,0,0,0,0,0,0,0,0,0,0,0,0,null,0,0,0,0,0,0,0,0,0,0,0,0,0,0,0,0,0,0]
[2,3,null,null,null,null,null,null,null,null,null,0,0,0,0,0,0,0,0,0,0,0,0,0,0,0,0,0,null,0,0,0,0,0,0,0,0,0,0,0,0,0,0,0,0,0,0]
[2,3,null,null,null,null,null,null,null,null,null,0,0,0,0,0,0,0,0,0,0,0,0,0,0,0,0,0,null,0,0,0,0,0,0,0,0,0,0,0,0,0,0,0,0,0,0]
[2,3,null,null,null,null,null,null,null,null,null,0,0,0,0,0,0,0,0,0,0,0,0,0,0,0,0,0,null,0,0,0,0,0,0,0,0,0,0,0,0,0,0,0,0,0,0]
[2,3,null,null,null,null,null,null,null,null,null,0,0,0,0,0,0,0,0,0,0,0,0,0,0,0,0,0,null,0,0,0,0,0,0,0,0,0,0,0,0,0,0,0,0,0,0]
[2,3,null,null,null,null,null,null,null,null,null,0,0,0,0,0,0,0,0,0,0,0,0,0,0,0,0,0,null,0,0,0,0,0,0,0,0,0,0,0,0,0,0,0,0,0,0]
[2,3,null,null,null,null,null,null,null,null,null,0,0,0,0,0,0,0,0,0,0,0,0,0,0,0,0,0,null,0,0,0,0,0,0,0,0,0,0,0,0,0,0,0,0,0,0]
[2,3,null,null,null,null,null,null,null,null,null,0,0,0,0,0,0,0,0,0,0,0,0,0,0,0,0,0,null,0,0,0,0,0,0,0,0,0,0,0,0,0,0,0,0,0,0]
[2,3,null,null,null,null,null,null,null,null,null,0,0,0,0,0,0,0,0,0,0,0,0,0,0,0,0,0,null,0,0,0,0,0,0,0,0,0,0,0,0,0,0,0,0,0,0]
[2,3,null,null,null,null,null,null,null,null,null,0,0,0,0,0,0,0,0,0,0,0,0,0,0,0,0,0,null,0,0,0,0,0,0,0,0,0,0,0,0,0,0,0,0,0,0]
[2,3,null,null,null,null,null,null,null,null,null,0,0,0,0,0,0,0,0,0,0,0,0,0,0,0,0,0,null,0,0,0,0,0,0,0,0,0,0,0,0,0,0,0,0,0,0]
[2,3,null,null,null,null,null,null,null,null,null,0,0,0,0,0,0,0,0,0,0,0,0,0,0,0,0,0,null,0,0,0,0,0,0,0,0,0,0,0,0,{"$f":"((X283*10)/98)^$K$1","v":0},0,0,0,0,0]
[2,3,null,null,null,null,null,null,null,null,null,0,0,0,0,0,0,0,0,0,0,0,0,0,0,0,0,0,null,{"$f":"((L284*10)/58)^$K$1","v":0},{"$f":"((M284*10)/58)^$K$1","v":0},{"$f":"((N284*10)/80)^$K$1","v":0},{"$f":"((O284*10)/80)^$K$1","v":0},0,0,0,0,0,{"$f":"((U284*10)/98)^$K$1","v":0},{"$f":"((V284*10)/98)^$K$1","v":0},{"$f":"((W284*10)/98)^$K$1","v":0},0,0,0,0,0,0]
[2,3,null,null,null,null,null,null,null,null,null,0,0,0,0,0,0,0,0,0,0,0,0,0,0,0,0,0,null,0,0,0,0,0,0,0,0,0,0,0,0,0,0,0,0,0,0]
[2,3,null,null,null,null,null,null,null,null,null,0,0,0,0,0,0,0,0,0,0,0,0,0,0,0,0,0,null,0,0,0,0,0,0,0,0,0,0,0,0,0,0,0,0,0,0]
[2,3,null,null,null,null,null,null,null,null,null,0,0,0,0,0,0,0,0,0,0,0,0,0,0,0,0,0,null,0,0,0,0,0,0,0,0,0,0,0,0,0,0,0,0,0,0]
[2,3,null,null,null,null,null,null,null,null,null,0,0,0,0,0,0,0,0,0,0,0,0,0,0,0,0,0,null,0,0,0,0,0,0,0,0,0,0,0,0,0,0,0,0,0,0]
[2,3,null,null,null,null,null,null,null,null,null,0,0,0,0,0,0,0,0,0,0,0,0,0,0,0,0,0,null,0,0,0,0,0,0,0,0,0,0,0,0,0,0,0,0,0,0]
[2,3,null,null,null,null,null,null,null,null,null,0,0,0,0,0,0,0,0,0,0,0,0,0,0,0,0,0,null,0,0,0,0,0,0,0,0,0,0,0,0,0,0,0,0,0,0]
[2,3,null,null,null,null,null,null,null,null,null,0,0,0,0,0,0,0,0,0,0,0,0,0,0,0,0,0,null,0,0,0,0,0,0,0,0,0,0,0,0,0,0,0,0,0,0]
[2,3,null,null,null,null,null,null,null,null,null,0,0,0,0,0,0,0,0,0,0,0,0,0,0,0,0,0,null,0,0,0,0,0,0,0,0,0,0,0,0,0,0,0,0,0,0]
[2,3,null,null,null,null,null,null,null,null,null,0,0,0,0,0,0,0,0,0,0,0,0,0,0,0,0,0,null,0,0,0,0,0,0,0,0,0,0,0,0,0,0,0,0,0,0]
[2,"3B",null,null,null,null,null,null,null,null,null,0,0,0,0,0,0,0,0,0,0,0,0,0,0,0,0,0,null,0,0,0,0,0,0,0,0,0,0,0,0,0,0,0,0,0,0]
[2,"3C",null,null,null,null,null,null,null,null,null,0,0,0,0,0,0,0,0,0,0,0,0,0,0,0,0,0,null,0,0,0,0,0,0,0,0,0,0,0,0,0,0,0,0,0,0]
[2,4,null,null,null,null,null,null,null,null,null,0,0,0,0,0,0,0,0,0,0,0,0,0,0,0,0,0,null,0,0,0,0,0,0,0,0,0,0,0,0,0,0,0,0,0,0]
[2,"4B",null,null,null,null,null,null,null,null,null,0,0,0,0,0,0,0,0,0,0,0,0,0,0,0,0,0,null,0,0,0,0,0,0,0,0,0,0,0,0,0,0,0,0,0,0]
[2,5,null,null,null,null,null,null,null,null,null,0,0,0,0,0,0,0,0,0,0,0,0,0,0,0,0,0,null,0,0,0,0,0,0,0,0,0,0,0,0,0,0,0,0,0,0]
[2,"5B",null,null,null,null,null,null,null,null,null,0,0,0,0,0,0,0,0,0,0,0,0,0,0,0,0,0,null,0,0,0,0,0,0,0,0,0,0,0,0,0,0,0,0,0,0]
[2,6,null,null,null,null,null,null,null,null,null,0,0,0,0,0,0,0,0,0,0,0,0,0,0,0,0,0,null,0,0,0,0,0,0,0,0,0,0,0,0,0,0,0,0,0,0]
[2,"6B",null,null,null,null,null,null,null,null,null,0,0,0,0,0,0,0,0,0,0,0,0,0,0,0,0,0,null,0,0,0,0,0,0,0,0,0,0,0,0,0,0,0,0,0,0]
[2,7,null,null,null,null,null,null,null,null,null,0,0,0,0,0,0,0,0,0,0,0,0,0,0,0,0,0,null,0,0,0,0,0,0,0,0,0,0,0,0,0,0,0,0,0,0]
[2,"7B",null,null,null,null,null,null,null,null,null,0,0,0,0,0,0,0,0,0,0,0,0,0,0,0,0,0,null,0,0,0,0,0,0,0,0,0,0,0,0,0,0,0,0,0,0]
[2,9,null,null,null,null,null,null,null,null,null,0,0,0,0,0,0,0,0,0,0,0,0,0,0,0,0,0,null,0,0,0,0,0,0,0,0,0,0,0,0,0,0,0,0,0,0]
[2,"9B",null,null,null,null,null,null,null,null,null,0,0,0,0,0,0,0,0,0,0,0,0,0,0,0,0,0,null,0,0,0,0,0,0,0,0,0,0,0,0,0,0,0,0,0,0]
[2,2,4,8,null,null,null,null,null,null,null,4,0,8,0,0,0,0,0,0,0,0,0,0,0,0,0,0,null,0.22621843369184247,0,1,0,0,{"$f":"((Q306*10)/135)^$K$1","v":0},{"$f":"((R306*10)/135)^$K$1","v":0},{"$f":"((S306*10)/135)^$K$1","v":0},{"$f":"((T306*10)/135)^$K$1","v":0},0,{"$f":"((V306*10)/98)^$K$1","v":0},{"$f":"((W306*10)/98)^$K$1","v":0},{"$f":"((X306*10)/98)^$K$1","v":0},0,0,0,0,1.2262184336918425,null,20]
[2,3,null,null,null,null,null,null,null,null,null,0,0,0,0,0,0,0,0,0,0,0,0,0,0,0,0,0,null,0,0,0,0,0,0,0,0,0,0,0,0,0,0,0,0,0,0,null,30]
[2,3,null,null,null,null,null,null,null,null,null,0,0,0,0,0,0,0,0,0,0,0,0,0,0,0,0,0,null,0,0,0,0,0,0,0,0,0,0,0,0,0,0,0,0,0,0,null,40]
[2,3,null,null,null,null,null,null,null,null,null,0,0,0,0,0,0,0,0,0,0,0,0,0,0,0,0,0,null,0,0,0,0,0,0,0,0,0,0,0,0,0,0,0,0,0,0,null,50]
[2,3,null,null,null,null,null,null,null,null,null,0,0,0,0,0,0,0,0,0,0,0,0,0,0,0,0,0,null,0,0,0,0,0,0,0,0,0,0,0,0,0,0,0,0,0,0,null,60]
[2,3,null,null,null,null,null,null,null,null,null,0,0,0,0,0,0,0,0,0,0,0,0,0,0,0,0,0,null,0,0,0,0,0,0,0,0,0,0,0,0,0,0,0,0,0,0,null,70]
[2,"3B",6,10,8,null,null,null,null,null,null,6,0,10,8,0,0,0,0,0,0,0,0,0,0,0,0,0,null,1.1452308205649526,0,2.44140625,1,0,0,0,0,0,0,0,0,0,0,0,0,0,4.5866370705649526,null,80]
[2,3,null,null,null,null,null,null,null,null,null,0,0,0,0,0,0,0,0,0,0,0,0,0,0,0,0,0,null,0,0,0,0,0,0,0,0,0,0,0,0,0,0,0,0,0,0,null,90]
[2,3,null,null,null,null,null,null,null,null,null,0,0,0,0,0,0,0,0,0,0,0,0,0,0,0,0,0,null,0,0,0,0,0,0,0,0,0,0,0,0,0,0,0,0,0,0,null,100]
[2,3,null,null,null,null,null,null,null,null,null,0,0,0,0,0,0,0,0,0,0,0,0,0,0,0,0,0,null,0,0,0,0,0,0,0,0,0,0,0,0,0,0,0,0,0,0,null,110]
[2,3,null,null,null,null,null,null,null,null,null,0,0,0,0,0,0,0,0,0,0,0,0,0,0,0,0,0,null,0,0,0,0,0,0,0,0,0,{"$f":"((U316*10)/98)^$K$1","v":0},0,0,0,0,0,0,0,0,null,120]
[2,3,null,null,null,null,null,null,null,null,null,0,0,0,0,0,0,0,0,0,0,0,0,0,0,0,0,0,null,0,0,0,0,0,0,0,0,0,0,0,0,0,0,0,0,0,0,null,130]
[2,3,null,null,null,null,null,null,null,null,null,0,0,0,0,0,0,0,0,0,0,0,0,0,0,0,0,0,null,0,0,0,0,0,0,0,0,0,0,0,0,0,0,0,0,0,0,null,140]
[2,3,null,null,null,null,null,null,null,null,null,0,0,0,0,0,0,0,0,0,0,0,0,0,0,0,0,0,null,0,0,0,0,0,0,0,0,0,0,0,0,0,0,0,0,0,0,null,150]
[2,3,null,null,null,null,null,null,null,null,null,0,0,0,0,0,0,0,0,0,0,0,0,0,0,0,0,0,null,0,0,0,0,0,0,0,0,0,0,0,0,0,0,0,0,0,0,null,160]
[2,3,null,null,null,null,null,null,null,null,null,0,0,0,0,0,0,0,0,0,0,0,0,0,0,0,0,0,null,0,0,0,0,0,0,0,0,0,0,0,0,0,0,0,0,0,0,null,170]
[2,"3C",6,8,4,null,null,null,null,null,null,6,0,0,0,0,0,0,0,0,0,0,0,0,0,0,0,0,null,1.1452308205649526,0,0,0,{"$f":"((P322*10)/135)^$K$1","v":0},0,0,0,0,0,0,0,0,0,0,0,0,1.1452308205649526,null,180]
[2,3,null,null,null,null,null,null,null,null,null,0,0,0,0,0,0,0,0,0,0,0,0,0,0,0,0,0,null,0,0,0,0,0,0,0,0,0,0,0,0,0,0,0,0,0,0,null,190]
[2,3,null,null,null,null,null,null,null,null,null,0,0,0,0,0,0,0,0,0,0,0,0,0,0,0,0,0,null,0,0,0,0,0,0,0,0,0,0,0,0,0,0,0,0,0,0,null,200]
[2,3,null,null,null,null,null,null,null,null,null,0,0,0,0,0,0,0,0,0,0,0,0,0,0,0,0,0,null,0,0,0,0,0,0,0,0,0,0,0,0,0,{"$f":"((Y325*10)/182)^$K$1","v":0},{"$f":"((Z325*10)/182)^$K$1","v":0},0,0,0,null,210]
[2,3,null,null,null,null,null,null,null,null,null,{"$f":"C326","v":0},{"$f":"IF(B326=4,D326,0)","v":0},{"$f":"IF(OR(B326=2,B326=\"3B\",B326=\"5C\",B326=\"5D\"),D326,0)","v":0},{"$f":"IF(B326=\"3B\",E326,0)","v":0},{"$f":"IF(OR(B326=3,B326=5,B326=\"5B\",B326=6,B326=\"6B\",B326=7,B326=\"7B\",B326=9,B326=\"9B\"),D326+E326,0)","v":0},{"$f":"IF(B326=4,E326+F326,0)","v":0},{"$f":"IF(OR(B326=5,B326=7,B326=9),F326+G326,0)","v":0},{"$f":"IF(OR(B326=7,B326=9),H326+I326,0)","v":0},{"$f":"IF(B326=9,J326+K326,0)","v":0},{"$f":"IF(OR(B326=\"6C\",B326=\"7C\"),D326+E326,0)","v":0},{"$f":"IF(B326=\"4B\",F326+G326,0)","v":0},{"$f":"IF(OR(B326=\"7B\",B326=\"7C\",B326=\"9B\"),H326+I326,0)","v":0},{"$f":"IF(OR(B326=\"9B\"),J326+K326,0)","v":0},{"$f":"IF((B326=\"5C\"),E326+F326+G326,0)","v":0},{"$f":"IF(B326=6,F326+G326+H326,0)","v":0},{"$f":"IF((B326=\"5D\"),E326+F326+G326,0)","v":0},{"$f":"IF(OR(B326=\"6B\",B326=\"6C\"),F326+G326+H326,0)","v":0},null,0,0,0,0,0,0,0,0,0,0,0,0,0,0,0,{"$f":"((AA326*10)/132)^$K$1","v":0},{"$f":"((AB326*10)/132)^$K$1","v":0},{"$f":"SUM(AD326:AT326)","v":0},null,220]
[2,3,null,null,null,null,null,null,null,null,null,0,0,0,0,0,0,0,0,0,0,0,0,0,0,0,0,0,null,0,0,0,0,0,0,0,0,0,0,0,0,0,0,0,0,0,0,null,230]
[2,3,null,null,null,null,null,null,null,null,null,0,0,0,0,0,0,0,0,0,0,0,0,0,0,0,0,0,null,0,0,0,0,0,0,0,0,0,0,0,0,0,0,0,0,0,0,null,240]
[2,3,null,null,null,null,null,null,null,null,null,0,0,0,0,0,0,0,0,0,0,0,0,0,0,0,0,0,null,0,0,0,0,0,0,0,0,0,0,0,0,0,0,0,0,0,0,null,250]
[2,4,6,6,8,9,null,null,null,null,null,6,6,0,0,0,17,0,0,0,0,0,0,0,0,0,0,0,null,1.1452308205649526,1.1452308205649526,0,0,0,2.5145519446185003,0,0,0,0,0,0,0,0,0,0,0,4.8050135857484051,null,260]
[2,3,null,null,null,null,null,null,null,null,null,0,0,0,0,0,0,0,0,0,0,0,0,0,0,0,0,0,null,0,0,0,0,0,0,0,0,0,0,0,0,0,0,0,0,0,0,null,270]
[2,3,null,null,null,null,null,null,null,null,null,0,0,0,0,0,0,0,0,0,0,0,0,0,0,0,0,0,null,0,0,0,0,0,0,0,0,0,0,0,0,0,0,0,0,0,0,null,280]
[2,3,null,null,null,null,null,null,null,null,null,0,0,0,0,0,0,0,0,0,0,0,0,0,0,0,0,0,null,0,0,0,0,0,0,0,0,0,0,0,0,0,0,0,0,0,0,null,290]
[2,3,null,null,null,null,null,null,null,null,null,0,0,0,0,0,0,0,0,0,0,0,0,0,0,0,0,0,null,0,0,0,0,0,0,0,0,0,0,0,0,0,0,0,0,0,0,null,300]
[2,"4B",6,6,10,10,null,null,null,null,null,6,0,0,0,0,0,0,0,0,0,10,0,0,0,0,0,0,null,1.1452308205649526,0,0,0,0,0,0,0,0,0,1.0841657847339399,0,0,0,0,0,0,2.2293966052988923,null,310]
[2,3,null,null,null,null,null,null,null,null,null,0,0,0,0,0,0,0,0,0,0,0,0,0,0,0,0,0,null,0,0,0,0,0,0,0,0,0,0,0,0,0,0,0,0,0,0,null,320]
[2,3,null,null,null,null,null,null,null,null,null,0,0,0,0,0,0,0,0,0,0,0,0,0,0,0,0,0,null,0,0,0,0,0,0,0,0,0,0,0,0,0,0,0,0,0,0,null,330]
[2,3,null,null,null,null,null,null,null,null,null,0,0,0,0,0,0,0,0,0,0,0,0,0,0,0,0,0,null,0,0,0,0,0,{"$f":"((Q338*10)/135)^$K$1","v":0},{"$f":"((R338*10)/135)^$K$1","v":0},{"$f":"((S338*10)/135)^$K$1","v":0},{"$f":"((T338*10)/135)^$K$1","v":0},0,{"$f":"((V338*10)/98)^$K$1","v":0},{"$f":"((W338*10)/98)^$K$1","v":0},{"$f":"((X338*10)/98)^$K$1","v":0},0,0,0,0,0,null,340]
[2,3,null,null,null,null,null,null,null,null,null,0,0,0,0,0,0,0,0,0,0,0,0,0,0,0,0,0,null,0,0,0,0,0,0,0,0,0,0,0,0,0,0,0,0,0,0,null,350]
[2,3,null,null,null,null,null,null,null,null,null,0,0,0,0,0,0,0,0,0,0,0,0,0,0,0,0,0,null,0,0,0,0,0,0,0,0,0,0,0,0,0,0,0,0,0,0,null,"Sum",null,{"$f":"SUM(AY305:AY339)","v":0}]
[2,3,null,null,null,null,null,null,null,null,null,0,0,0,0,0,0,0,0,0,0,0,0,0,0,0,0,0,null,0,0,0,0,0,0,0,0,0,0,0,0,0,0,0,0,0,0]
[2,3,null,null,null,null,null,null,null,null,null,0,0,0,0,0,0,0,0,0,0,0,0,0,0,0,0,0,null,0,0,0,0,0,0,0,0,0,0,0,0,0,0,0,0,0,0]
[2,3,null,null,null,null,null,null,null,null,null,0,0,0,0,0,0,0,0,0,0,0,0,0,0,0,0,0,null,0,0,0,0,0,0,0,0,0,0,0,0,0,0,0,0,0,0]
[2,3,null,null,null,null,null,null,null,null,null,0,0,0,0,0,0,0,0,0,0,0,0,0,0,0,0,0,null,0,0,0,0,0,0,0,0,0,0,0,0,0,0,0,0,0,0]
[2,5,null,null,null,null,null,null,null,null,null,0,0,0,0,0,0,0,0,0,0,0,0,0,0,0,0,0,null,0,0,0,0,0,0,0,0,0,0,0,0,0,0,0,0,0,0]
[2,3,null,null,null,null,null,null,null,null,null,0,0,0,0,0,0,0,0,0,0,0,0,0,0,0,0,0,null,0,0,0,0,0,0,0,0,0,0,0,0,0,0,0,0,0,0]
[2,3,null,null,null,null,null,null,null,null,null,0,0,0,0,0,0,0,0,0,0,0,0,0,0,0,0,0,null,0,0,0,0,0,0,0,0,0,0,0,0,0,0,0,0,0,0]
[2,3,null,null,null,null,null,null,null,null,null,0,0,0,0,0,0,0,0,0,0,0,0,0,0,0,0,0,null,{"$f":"((L348*10)/58)^$K$1","v":0},{"$f":"((M348*10)/58)^$K$1","v":0},{"$f":"((N348*10)/80)^$K$1","v":0},{"$f":"((O348*10)/80)^$K$1","v":0},0,0,0,0,0,{"$f":"((U348*10)/98)^$K$1","v":0},0,0,0,0,0,0,0,0]
[2,3,null,null,null,null,null,null,null,null,null,0,0,0,0,0,0,0,0,0,0,0,0,0,0,0,0,0,null,0,0,0,0,0,0,0,0,0,0,0,0,0,0,0,0,0,0]
[2,3,null,null,null,null,null,null,null,null,null,0,0,0,0,0,0,0,0,0,0,0,0,0,0,0,0,0,null,0,0,0,0,0,0,0,0,0,0,0,0,0,0,0,0,0,0]
[2,"5B",4,6,6,9,9,null,null,null,null,4,0,0,0,12,0,0,0,0,0,0,0,0,0,0,0,0,null,0.22621843369184247,0,0,0,0.62429507696997399,0,0,0,0,0,0,0,0,0,0,0,0,0.85051351066181646]
[2,3,null,null,null,null,null,null,null,null,null,0,0,0,0,0,0,0,0,0,0,0,0,0,0,0,0,0,null,0,0,0,0,0,0,0,0,0,0,0,0,0,0,0,0,0,0]
[2,3,null,null,null,null,null,null,null,null,null,0,0,0,0,0,0,0,0,0,0,0,0,0,0,0,0,0,null,0,0,0,0,0,0,0,0,0,0,0,0,0,0,0,0,0,0]
[2,3,null,null,null,null,null,null,null,null,null,0,0,0,0,0,0,0,0,0,0,0,0,0,0,0,0,0,null,0,0,0,0,0,0,0,0,0,0,0,0,0,0,0,0,0,0]
[2,3,null,null,null,null,null,null,null,null,null,0,0,0,0,0,0,0,0,0,0,0,0,0,0,0,0,0,null,0,0,0,0,0,0,0,0,0,0,0,0,0,0,0,0,0,0]
[2,3,null,null,null,null,null,null,null,null,null,0,0,0,0,0,0,0,0,0,0,0,0,0,0,0,0,0,null,0,0,0,0,0,0,0,0,0,0,0,0,0,0,0,0,0,0]
[2,3,null,null,null,null,null,null,null,null,null,0,0,0,0,0,0,0,0,0,0,0,0,0,0,0,0,0,null,0,0,0,0,0,0,0,0,0,0,0,0,0,0,0,0,0,0]
[2,6,5,6,6,9,9,9,null,null,null,5,0,0,0,12,0,0,0,0,0,0,0,0,0,27,0,0,null,0.55229109788047448,0,0,0,0.62429507696997399,0,0,0,0,0,0,0,0,0,4.8436137645050952,0,0,6.0201999393555434]
[2,3,null,null,null,null,null,null,null,null,null,0,0,0,0,0,0,0,0,0,0,0,0,0,0,0,0,0,null,0,0,0,0,0,0,0,0,0,0,0,0,0,0,0,0,0,0]
[2,3,null,null,null,null,null,null,null,null,null,0,0,0,0,0,0,0,0,0,0,0,0,0,0,0,0,0,null,0,0,0,0,0,0,0,0,0,0,0,0,0,0,0,0,0,0]
[2,3,null,null,null,null,null,null,null,null,null,0,0,0,0,0,0,0,0,0,0,0,0,0,0,0,0,0,null,0,0,0,0,0,0,0,0,0,0,0,0,0,0,0,0,0,0]
[2,3,null,null,null,null,null,null,null,null,null,0,0,0,0,0,0,0,0,0,0,0,0,0,0,0,0,0,null,0,0,0,0,0,0,0,0,0,0,0,0,0,0,0,0,0,0]
[2,"6B",5,7,7,9,9,9,null,null,null,5,0,0,0,14,0,0,0,0,0,0,0,0,0,0,0,27,null,0.55229109788047448,0,0,0,1.1565837035531692,0,0,0,0,0,0,0,0,0,0,0,17.504887815039957,19.213762616473602]
[2,3,null,null,null,null,null,null,null,null,null,0,0,0,0,0,0,0,0,0,0,0,0,0,0,0,0,0,null,0,0,0,0,0,0,0,0,0,0,0,0,0,0,0,0,0,0]
[2,3,null,null,null,null,null,null,null,null,null,0,0,0,0,0,0,0,0,0,0,0,0,0,0,0,0,0,null,0,0,0,0,0,0,0,0,0,0,0,0,0,0,0,0,0,0]
[2,3,null,null,null,null,null,null,null,null,null,0,0,0,0,0,0,0,0,0,0,0,0,0,0,0,0,0,null,0,0,0,0,0,0,0,0,0,0,0,0,0,0,0,0,0,0]
[2,3,null,null,null,null,null,null,null,null,null,0,0,0,0,0,0,0,0,0,0,0,0,0,0,0,0,0,null,0,0,0,0,0,0,0,0,0,0,0,0,0,0,0,0,0,0]
[2,7,4,6,6,10,10,9,9,null,null,4,0,0,0,12,0,20,18,0,0,0,0,0,0,0,0,0,null,0.22621843369184247,0,0,0,0.62429507696997399,0,4.8170916432868358,3.1604938271604937,0,0,0,0,0,0,0,0,0,8.8280989811091466]
[2,3,null,null,null,null,null,null,null,null,null,0,0,0,0,0,0,0,0,0,0,0,0,0,0,0,0,0,null,0,0,0,0,0,0,0,0,0,0,0,0,0,0,0,0,0,0]
[2,3,null,null,null,null,null,null,null,null,null,0,0,0,0,0,0,0,0,0,0,0,0,0,0,0,0,0,null,0,0,0,0,0,{"$f":"((Q370*10)/135)^$K$1","v":0},{"$f":"((R370*10)/135)^$K$1","v":0},{"$f":"((S370*10)/135)^$K$1","v":0},{"$f":"((T370*10)/135)^$K$1","v":0},0,{"$f":"((V370*10)/98)^$K$1","v":0},{"$f":"((W370*10)/98)^$K$1","v":0},{"$f":"((X370*10)/98)^$K$1","v":0},0,0,0,0,0]
[2,"7B",4,6,6,10,10,9,9,null,null,4,0,0,0,12,0,0,0,0,0,0,18,0,0,0,0,0,null,0.22621843369184247,0,0,0,0.62429507696997399,0,0,0,0,{"$f":"((U371*10)/98)^$K$1","v":0},0,11.381138741823007,0,0,0,0,0,12.231652252484823]
[2,3,null,null,null,null,null,null,null,null,null,0,0,0,0,0,0,0,0,0,0,0,0,0,0,0,0,0,null,0,0,0,0,0,0,0,0,0,0,0,0,0,0,0,0,0,0]
[2,3,null,null,null,null,null,null,null,null,null,0,0,0,0,0,0,0,0,0,0,0,0,0,0,0,0,0,null,0,0,0,0,0,0,0,0,0,0,0,0,0,0,0,0,0,0]
[2,3,null,null,null,null,null,null,null,null,null,0,0,0,0,0,0,0,0,0,0,0,0,0,0,0,0,0,null,0,0,0,0,0,0,0,0,0,0,0,0,0,0,0,0,0,0]
[2,3,null,null,null,null,null,null,null,null,null,0,0,0,0,0,0,0,0,0,0,0,0,0,0,0,0,0,null,0,0,0,0,0,0,0,0,0,0,0,0,0,0,0,0,0,0]
[2,3,null,null,null,null,null,null,null,null,null,0,0,0,0,0,0,0,0,0,0,0,0,0,0,0,0,0,null,0,0,0,0,0,0,0,0,0,0,0,0,0,0,0,0,0,0]
[2,9,4,4,6,6,7,7,7,7,8,4,0,0,0,10,0,13,14,15,0,0,0,0,0,0,0,0,null,0.22621843369184247,0,0,0,0.30106822770542724,0,0.85988096514947066,1.1565837035531692,1.5241579027587262,0,0,0,0,0,0,0,0,4.0679092328586357]
[2,3,null,null,null,null,null,null,null,null,null,0,0,0,0,0,0,0,0,0,0,0,0,0,0,0,0,0,null,0,0,0,0,0,0,0,0,0,0,0,0,0,0,0,0,0,0]
[2,3,null,null,null,null,null,null,null,null,null,0,0,0,0,0,0,0,0,0,0,0,0,0,0,0,0,0,null,0,0,0,0,0,0,0,0,0,0,0,0,0,0,0,0,0,0]
[2,3,null,null,null,null,null,null,null,null,null,0,0,0,0,0,0,0,0,0,0,0,0,0,0,0,0,0,null,0,0,0,0,0,0,0,0,0,0,0,0,0,0,0,0,0,0]
[2,3,null,null,null,null,null,null,null,null,null,0,0,0,0,0,0,0,0,0,0,0,0,0,0,0,0,0,null,0,0,0,0,0,0,0,0,0,0,0,0,0,0,0,0,0,0]
[2,3,null,null,null,null,null,null,null,null,null,0,0,0,0,0,0,0,0,0,0,0,0,0,0,0,0,0,null,0,0,0,0,0,0,0,0,0,0,0,0,0,0,0,0,0,0]
[2,"9B",4,4,6,6,7,9,9,7,8,4,0,0,0,10,0,0,0,0,0,0,18,15,0,0,0,0,null,0.22621843369184247,0,0,0,0.30106822770542724,0,0,0,0,0,0,11.381138741823007,5.4885892852155678,0,0,0,0,17.397014688435846]
[2,3,null,null,null,null,null,null,null,null,null,0,0,0,0,0,0,0,0,0,0,0,0,0,0,0,0,0,null,0,0,0,0,0,0,0,0,0,0,0,0,0,0,0,0,0,0]
[2,3,null,null,null,null,null,null,null,null,null,0,0,0,0,0,0,0,0,0,0,0,0,0,0,0,0,0,null,0,0,0,0,0,0,0,0,0,0,0,0,0,0,0,0,0,0]
[2,3,null,null,null,null,null,null,null,null,null,0,0,0,0,0,0,0,0,0,0,0,0,0,0,0,0,0,null,0,0,0,0,{"$f":"((P386*10)/135)^$K$1","v":0},0,0,0,0,0,0,0,0,0,0,0,0,0]
[2,3,null,null,null,null,null,null,null,null,null,0,0,0,0,0,0,0,0,0,0,0,0,0,0,0,0,0,null,0,0,0,0,0,0,0,0,0,0,0,0,0,0,0,0,0,0]
[2,3,null,null,null,null,null,null,null,null,null,0,0,0,0,0,0,0,0,0,0,0,0,0,0,0,0,0,null,0,0,0,0,0,0,0,0,0,0,0,0,0,0,0,0,0,0]
[2,3,null,null,null,null,null,null,null,null,null,0,0,0,0,0,0,0,0,0,0,0,0,0,0,0,0,0,null,0,0,0,0,0,0,0,0,0,0,0,0,0,{"$f":"((Y389*10)/182)^$K$1","v":0},{"$f":"((Z389*10)/182)^$K$1","v":0},0,0,0]
[2,3,null,null,null,null,null,null,null,null,null,{"$f":"C390","v":0},{"$f":"IF(B390=4,D390,0)","v":0},{"$f":"IF(OR(B390=2,B390=\"3B\",B390=\"5C\",B390=\"5D\"),D390,0)","v":0},{"$f":"IF(B390=\"3B\",E390,0)","v":0},{"$f":"IF(OR(B390=3,B390=5,B390=\"5B\",B390=6,B390=\"6B\",B390=7,B390=\"7B\",B390=9,B390=\"9B\"),D390+E390,0)","v":0},{"$f":"IF(B390=4,E390+F390,0)","v":0},{"$f":"IF(OR(B390=5,B390=7,B390=9),F390+G390,0)","v":0},{"$f":"IF(OR(B390=7,B390=9),H390+I390,0)","v":0},{"$f":"IF(B390=9,J390+K390,0)","v":0},{"$f":"IF(OR(B390=\"6C\",B390=\"7C\"),D390+E390,0)","v":0},{"$f":"IF(B390=\"4B\",F390+G390,0)","v":0},{"$f":"IF(OR(B390=\"7B\",B390=\"7C\",B390=\"9B\"),H390+I390,0)","v":0},{"$f":"IF(OR(B390=\"9B\"),J390+K390,0)","v":0},{"$f":"IF((B390=\"5C\"),E390+F390+G390,0)","v":0},{"$f":"IF(B390=6,F390+G390+H390,0)","v":0},{"$f":"IF((B390=\"5D\"),E390+F390+G390,0)","v":0},{"$f":"IF(OR(B390=\"6B\",B390=\"6C\"),F390+G390+H390,0)","v":0},null,0,0,0,0,0,0,0,0,0,0,0,0,0,0,0,{"$f":"((AA390*10)/132)^$K$1","v":0},{"$f":"((AB390*10)/132)^$K$1","v":0},{"$f":"SUM(AD390:AT390)","v":0}]
[2,3,null,null,null,null,null,null,null,null,null,0,0,0,0,0,0,0,0,0,0,0,0,0,0,0,0,0,null,0,0,0,0,0,0,0,0,0,0,0,0,0,0,0,0,0,0]
[2,3,null,null,null,null,null,null,null,null,null,0,0,0,0,0,0,0,0,0,0,0,0,0,0,0,0,0,null,0,0,0,0,0,0,0,0,0,0,0,0,0,0,0,0,0,0]
[2,3,null,null,null,null,null,null,null,null,null,0,0,0,0,0,0,0,0,0,0,0,0,0,0,0,0,0,null,0,0,0,0,0,0,0,0,0,0,0,0,0,0,0,0,0,0]
[2,3,null,null,null,null,null,null,null,null,null,0,0,0,0,0,0,0,0,0,0,0,0,0,0,0,0,0,null,0,0,0,0,0,0,0,0,0,0,0,0,0,0,0,0,0,0]
[2,3,null,null,null,null,null,null,null,null,null,0,0,0,0,0,0,0,0,0,0,0,0,0,0,0,0,0,null,0,0,0,0,0,0,0,0,0,0,0,0,0,0,0,0,0,0]
[2,3,null,null,null,null,null,null,null,null,null,0,0,0,0,0,0,0,0,0,0,0,0,0,0,0,0,0,null,0,0,0,0,0,0,0,0,0,0,0,0,0,0,0,0,0,0]
[2,3,null,null,null,null,null,null,null,null,null,0,0,0,0,0,0,0,0,0,0,0,0,0,0,0,0,0,null,0,0,0,0,0,0,0,0,0,0,0,0,0,0,0,0,0,0]
[2,3,null,null,null,null,null,null,null,null,null,0,0,0,0,0,0,0,0,0,0,0,0,0,0,0,0,0,null,0,0,0,0,0,0,0,0,0,0,0,0,0,0,0,0,0,0]
[2,3,null,null,null,null,null,null,null,null,null,0,0,0,0,0,0,0,0,0,0,0,0,0,0,0,0,0,null,0,0,0,0,0,0,0,0,0,0,0,0,0,0,0,0,0,0]
[2,3,null,null,null,null,null,null,null,null,null,0,0,0,0,0,0,0,0,0,0,0,0,0,0,0,0,0,null,0,0,0,0,0,0,0,0,0,0,0,0,0,0,0,0,0,0]
[2,3,null,null,null,null,null,null,null,null,null,0,0,0,0,0,0,0,0,0,0,0,0,0,0,0,0,0,null,0,0,0,0,0,0,0,0,0,0,0,0,0,0,0,0,0,0]
[2,3,null,null,null,null,null,null,null,null,null,0,0,0,0,0,0,0,0,0,0,0,0,0,0,0,0,0,null,0,0,0,0,0,{"$f":"((Q402*10)/135)^$K$1","v":0},{"$f":"((R402*10)/135)^$K$1","v":0},{"$f":"((S402*10)/135)^$K$1","v":0},{"$f":"((T402*10)/135)^$K$1","v":0},0,{"$f":"((V402*10)/98)^$K$1","v":0},{"$f":"((W402*10)/98)^$K$1","v":0},0,0,0,0,0,0]
[2,3,null,null,null,null,null,null,null,null,null,0,0,0,0,0,0,0,0,0,0,0,0,0,0,0,0,0,null,0,0,0,0,0,0,0,0,0,{"$f":"((U403*10)/98)^$K$1","v":0},0,0,0,0,0,0,0,0]
[2,3,null,null,null,null,null,null,null,null,null,0,0,0,0,0,0,0,0,0,0,0,0,0,0,0,0,0,null,0,0,0,0,0,0,0,0,0,0,0,0,0,0,0,0,0,0]
[2,3,null,null,null,null,null,null,null,null,null,0,0,0,0,0,0,0,0,0,0,0,0,0,0,0,0,0,null,0,0,0,0,0,0,0,0,0,0,0,0,0,0,0,0,0,0]
[2,3,null,null,null,null,null,null,null,null,null,0,0,0,0,0,0,0,0,0,0,0,0,0,0,0,0,0,null,0,0,0,0,0,0,0,0,0,0,0,0,0,0,0,0,0,0]
[2,3,null,null,null,null,null,null,null,null,null,0,0,0,0,0,0,0,0,0,0,0,0,0,0,0,0,0,null,0,0,0,0,0,0,0,0,0,0,0,0,0,0,0,0,0,0]
[2,3,null,null,null,null,null,null,null,null,null,0,0,0,0,0,0,0,0,0,0,0,0,0,0,0,0,0,null,0,0,0,0,0,0,0,0,0,0,0,0,0,0,0,0,0,0]
[2,3,null,null,null,null,null,null,null,null,null,0,0,0,0,0,0,0,0,0,0,0,0,0,0,0,0,0,null,0,0,0,0,0,{"$f":"((Q409*10)/135)^$K$1","v":0},{"$f":"((R409*10)/135)^$K$1","v":0},{"$f":"((S409*10)/135)^$K$1","v":0},{"$f":"((T409*10)/135)^$K$1","v":0},0,0,0,0,0,0,0,0,0]
[2,3,null,null,null,null,null,null,null,null,null,0,0,0,0,0,0,0,0,0,0,0,0,0,0,0,0,0,null,0,0,0,0,0,0,0,0,0,0,0,0,0,0,0,0,0,0]
[2,3,null,null,null,null,null,null,null,null,null,0,0,0,0,0,0,0,0,0,0,0,0,0,0,0,0,0,null,0,0,0,0,0,0,0,0,0,0,0,0,0,0,0,0,0,0]
[2,3,null,null,null,null,null,null,null,null,null,0,0,0,0,0,0,0,0,0,0,0,0,0,0,0,0,0,null,{"$f":"((L412*10)/58)^$K$1","v":0},{"$f":"((M412*10)/58)^$K$1","v":0},{"$f":"((N412*10)/80)^$K$1","v":0},{"$f":"((O412*10)/80)^$K$1","v":0},0,0,0,0,0,0,0,0,0,0,0,0,0,0]
[2,3,null,null,null,null,null,null,null,null,null,0,0,0,0,0,0,0,0,0,0,0,0,0,0,0,0,0,null,0,0,0,0,0,0,0,0,0,0,0,0,0,0,0,0,0,0]
[2,3,null,null,null,null,null,null,null,null,null,0,0,0,0,0,0,0,0,0,0,0,0,0,0,0,0,0,null,0,0,0,0,0,0,0,0,0,0,0,0,0,0,0,0,0,0]
[2,3,null,null,null,null,null,null,null,null,null,0,0,0,0,0,0,0,0,0,0,0,0,0,0,0,0,0,null,0,0,0,0,0,0,0,0,0,0,0,0,0,0,0,0,0,0]
[2,3,null,null,null,null,null,null,null,null,null,0,0,0,0,0,0,0,0,0,0,0,0,0,0,0,0,0,null,0,0,0,0,0,0,0,0,0,0,0,0,0,0,0,0,0,0]
[2,3,null,null,null,null,null,null,null,null,null,0,0,0,0,0,0,0,0,0,0,0,0,0,0,0,0,0,null,0,0,0,0,0,0,0,0,0,0,0,0,0,0,0,0,0,0]
[2,3,null,null,null,null,null,null,null,null,null,0,0,0,0,0,0,0,0,0,0,0,0,0,0,0,0,0,null,0,0,0,0,0,0,0,0,0,0,0,0,0,0,0,0,0,0]
[2,3,null,null,null,null,null,null,null,null,null,0,0,0,0,0,0,0,0,0,0,0,0,0,0,0,0,0,null,0,0,0,0,0,0,0,0,0,0,0,0,0,0,0,0,0,0]
[2,3,null,null,null,null,null,null,null,null,null,0,0,0,0,0,0,0,0,0,0,0,0,0,0,0,0,0,null,0,0,0,0,0,0,0,0,0,0,0,0,0,0,0,0,0,0]
[2,3,null,null,null,null,null,null,null,null,null,0,0,0,0,0,0,0,0,0,0,0,0,0,0,0,0,0,null,0,0,0,0,0,0,0,0,0,0,0,0,0,0,0,0,0,0]
[2,3,null,null,null,null,null,null,null,null,null,0,0,0,0,0,0,0,0,0,0,0,0,0,0,0,0,0,null,0,0,0,0,0,0,0,0,0,0,0,0,0,0,0,0,0,0]
[2,3,null,null,null,null,null,null,null,null,null,0,0,0,0,0,0,0,0,0,0,0,0,0,0,0,0,0,null,0,0,0,0,0,0,0,0,0,0,0,0,0,0,0,0,0,0]
[2,3,null,null,null,null,null,null,null,null,null,0,0,0,0,0,0,0,0,0,0,0,0,0,0,0,0,0,null,0,0,0,0,0,0,0,0,0,0,0,0,0,0,0,0,0,0]
[2,3,null,null,null,null,null,null,null,null,null,0,0,0,0,0,0,0,0,0,0,0,0,0,0,0,0,0,null,0,0,0,0,0,0,0,0,0,0,0,0,0,0,0,0,0,0]
[2,3,null,null,null,null,null,null,null,null,null,0,0,0,0,0,0,0,0,0,0,0,0,0,0,0,0,0,null,0,0,0,0,0,0,0,0,0,0,0,0,0,0,0,0,0,0]
[2,3,null,null,null,null,null,null,null,null,null,0,0,0,0,0,0,0,0,0,0,0,0,0,0,0,0,0,null,0,0,0,0,0,0,0,0,0,0,0,0,0,0,0,0,0,0]
[2,3,null,null,null,null,null,null,null,null,null,0,0,0,0,0,0,0,0,0,0,0,0,0,0,0,0,0,null,0,0,0,0,0,0,0,0,0,0,0,0,0,0,0,0,0,0]
[2,3,null,null,null,null,null,null,null,null,null,0,0,0,0,0,0,0,0,0,0,0,0,0,0,0,0,0,null,0,0,0,0,0,0,0,0,0,0,0,0,0,0,0,0,0,0]
[2,3,null,null,null,null,null,null,null,null,null,0,0,0,0,0,0,0,0,0,0,0,0,0,0,0,0,0,null,0,0,0,0,0,0,0,0,0,0,0,0,0,0,0,0,0,0]
[2,3,null,null,null,null,null,null,null,null,null,0,0,0,0,0,0,0,0,0,0,0,0,0,0,0,0,0,null,0,0,0,0,0,0,0,0,0,0,0,0,0,0,0,0,0,0]
[2,3,null,null,null,null,null,null,null,null,null,0,0,0,0,0,0,0,0,0,0,0,0,0,0,0,0,0,null,0,0,0,0,0,0,0,0,0,0,0,0,0,0,0,0,0,0]
[2,3,null,null,null,null,null,null,null,null,null,0,0,0,0,0,0,0,0,0,0,0,0,0,0,0,0,0,null,0,0,0,0,0,0,0,0,0,0,0,0,0,0,0,0,0,0]
[2,3,null,null,null,null,null,null,null,null,null,0,0,0,0,0,0,0,0,0,0,0,0,0,0,0,0,0,null,0,0,0,0,0,0,0,0,0,0,{"$f":"((V434*10)/98)^$K$1","v":0},{"$f":"((W434*10)/98)^$K$1","v":0},{"$f":"((X434*10)/98)^$K$1","v":0},0,0,0,0,0]
[2,3,null,null,null,null,null,null,null,null,null,0,0,0,0,0,0,0,0,0,0,0,0,0,0,0,0,0,null,0,0,0,0,0,0,0,0,0,{"$f":"((U435*10)/98)^$K$1","v":0},0,0,0,0,0,0,0,0]
[2,3,null,null,null,null,null,null,null,null,null,0,0,0,0,0,0,0,0,0,0,0,0,0,0,0,0,0,null,0,0,0,0,0,0,0,0,0,0,0,0,0,0,0,0,0,0]
[2,3,null,null,null,null,null,null,null,null,null,0,0,0,0,0,0,0,0,0,0,0,0,0,0,0,0,0,null,0,0,0,0,0,0,0,0,0,0,0,0,0,0,0,0,0,0]
[2,3,null,null,null,null,null,null,null,null,null,0,0,0,0,0,0,0,0,0,0,0,0,0,0,0,0,0,null,0,0,0,0,0,0,0,0,0,0,0,0,0,0,0,0,0,0]
[2,3,null,null,null,null,null,null,null,null,null,0,0,0,0,0,0,0,0,0,0,0,0,0,0,0,0,0,null,0,0,0,0,0,0,0,0,0,0,0,0,0,0,0,0,0,0]
[2,3,null,null,null,null,null,null,null,null,null,0,0,0,0,0,0,0,0,0,0,0,0,0,0,0,0,0,null,0,0,0,0,0,0,0,0,0,0,0,0,0,0,0,0,0,0]
[2,3,null,null,null,null,null,null,null,null,null,0,0,0,0,0,0,0,0,0,0,0,0,0,0,0,0,0,null,0,0,0,0,0,0,0,0,0,0,0,0,0,0,0,0,0,0]
[2,3,null,null,null,null,null,null,null,null,null,0,0,0,0,0,0,0,0,0,0,0,0,0,0,0,0,0,null,0,0,0,0,0,0,0,0,0,0,0,0,0,0,0,0,0,0]
[2,3,null,null,null,null,null,null,null,null,null,0,0,0,0,0,0,0,0,0,0,0,0,0,0,0,0,0,null,0,0,0,0,0,0,0,0,0,0,0,0,0,0,0,0,0,0]
[2,"3B",null,null,null,null,null,null,null,null,null,0,0,0,0,0,0,0,0,0,0,0,0,0,0,0,0,0,null,0,0,0,0,0,0,0,0,0,0,0,0,0,0,0,0,0,0]
[2,"3C",null,null,null,null,null,null,null,null,null,0,0,0,0,0,0,0,0,0,0,0,0,0,0,0,0,0,null,0,0,0,0,0,0,0,0,0,0,0,0,0,0,0,0,0,0]
[2,4,null,null,null,null,null,null,null,null,null,0,0,0,0,0,0,0,0,0,0,0,0,0,0,0,0,0,null,0,0,0,0,0,0,0,0,0,0,0,0,0,0,0,0,0,0]
[2,"4B",null,null,null,null,null,null,null,null,null,0,0,0,0,0,0,0,0,0,0,0,0,0,0,0,0,0,null,0,0,0,0,0,0,0,0,0,0,0,0,0,0,0,0,0,0]
[2,5,null,null,null,null,null,null,null,null,null,0,0,0,0,0,0,0,0,0,0,0,0,0,0,0,0,0,null,0,0,0,0,0,0,0,0,0,0,0,0,0,0,0,0,0,0]
[2,"5B",null,null,null,null,null,null,null,null,null,0,0,0,0,0,0,0,0,0,0,0,0,0,0,0,0,0,null,0,0,0,0,0,0,0,0,0,0,0,0,0,0,0,0,0,0]
[2,6,null,null,null,null,null,null,null,null,null,0,0,0,0,0,0,0,0,0,0,0,0,0,0,0,0,0,null,0,0,0,0,{"$f":"((P450*10)/135)^$K$1","v":0},0,0,0,0,0,0,0,0,0,0,0,0,0]
[2,"6B",null,null,null,null,null,null,null,null,null,0,0,0,0,0,0,0,0,0,0,0,0,0,0,0,0,0,null,0,0,0,0,0,0,0,0,0,0,0,0,0,0,0,0,0,0]
[2,7,null,null,null,null,null,null,null,null,null,0,0,0,0,0,0,0,0,0,0,0,0,0,0,0,0,0,null,0,0,0,0,0,0,0,0,0,0,0,0,0,0,0,0,0,0]
[2,"7B",null,null,null,null,null,null,null,null,null,0,0,0,0,0,0,0,0,0,0,0,0,0,0,0,0,0,null,0,0,0,0,0,0,0,0,0,0,0,0,0,{"$f":"((Y453*10)/182)^$K$1","v":0},{"$f":"((Z453*10)/182)^$K$1","v":0},0,0,0]
[2,9,null,null,null,null,null,null,null,null,null,{"$f":"C454","v":0},{"$f":"IF(B454=4,D454,0)","v":0},{"$f":"IF(OR(B454=2,B454=\"3B\",B454=\"5C\",B454=\"5D\"),D454,0)","v":0},{"$f":"IF(B454=\"3B\",E454,0)","v":0},{"$f":"IF(OR(B454=3,B454=5,B454=\"5B\",B454=6,B454=\"6B\",B454=7,B454=\"7B\",B454=9,B454=\"9B\"),D454+E454,0)","v":0},{"$f":"IF(B454=4,E454+F454,0)","v":0},{"$f":"IF(OR(B454=5,B454=7,B454=9),F454+G454,0)","v":0},{"$f":"IF(OR(B454=7,B454=9),H454+I454,0)","v":0},{"$f":"IF(B454=9,J454+K454,0)","v":0},{"$f":"IF(OR(B454=\"6C\",B454=\"7C\"),D454+E454,0)","v":0},{"$f":"IF(B454=\"4B\",F454+G454,0)","v":0},{"$f":"IF(OR(B454=\"7B\",B454=\"7C\",B454=\"9B\"),H454+I454,0)","v":0},{"$f":"IF(OR(B454=\"9B\"),J454+K454,0)","v":0},{"$f":"IF((B454=\"5C\"),E454+F454+G454,0)","v":0},{"$f":"IF(B454=6,F454+G454+H454,0)","v":0},{"$f":"IF((B454=\"5D\"),E454+F454+G454,0)","v":0},{"$f":"IF(OR(B454=\"6B\",B454=\"6C\"),F454+G454+H454,0)","v":0},null,0,0,0,0,0,0,0,0,0,0,0,0,0,0,0,{"$f":"((AA454*10)/132)^$K$1","v":0},{"$f":"((AB454*10)/132)^$K$1","v":0},{"$f":"SUM(AD454:AT454)","v":0}]
[2,"9B",null,null,null,null,null,null,null,null,null,0,0,0,0,0,0,0,0,0,0,0,0,0,0,0,0,0,null,0,0,0,0,0,0,0,0,0,0,0,0,0,0,0,0,0,0]
[2,2,4,8,null,null,null,null,null,null,null,4,0,8,0,0,0,0,0,0,0,0,0,0,0,0,0,0,null,0.22621843369184247,0,1,0,0,{"$f":"((Q456*10)/135)^$K$1","v":0},{"$f":"((R456*10)/135)^$K$1","v":0},{"$f":"((S456*10)/135)^$K$1","v":0},{"$f":"((T456*10)/135)^$K$1","v":0},0,{"$f":"((V456*10)/98)^$K$1","v":0},{"$f":"((W456*10)/98)^$K$1","v":0},{"$f":"((X456*10)/98)^$K$1","v":0},0,0,0,0,1.2262184336918425,null,20]
[2,3,null,null,null,null,null,null,null,null,null,0,0,0,0,0,0,0,0,0,0,0,0,0,0,0,0,0,null,0,0,0,0,0,0,0,0,0,0,0,0,0,0,0,0,0,0,null,30]
[2,3,null,null,null,null,null,null,null,null,null,0,0,0,0,0,0,0,0,0,0,0,0,0,0,0,0,0,null,0,0,0,0,0,0,0,0,0,0,0,0,0,0,0,0,0,0,null,40]
[2,3,null,null,null,null,null,null,null,null,null,0,0,0,0,0,0,0,0,0,0,0,0,0,0,0,0,0,null,0,0,0,0,0,0,0,0,0,0,0,0,0,0,0,0,0,0,null,50]
[2,3,null,null,null,null,null,null,null,null,null,0,0,0,0,0,0,0,0,0,0,0,0,0,0,0,0,0,null,0,0,0,0,0,0,0,0,0,0,0,0,0,0,0,0,0,0,null,60]
[2,3,null,null,null,null,null,null,null,null,null,0,0,0,0,0,0,0,0,0,0,0,0,0,0,0,0,0,null,0,0,0,0,0,0,0,0,0,0,0,0,0,0,0,0,0,0,null,70]
[2,"3B",6,10,8,null,null,null,null,null,null,6,0,10,8,0,0,0,0,0,0,0,0,0,0,0,0,0,null,1.1452308205649526,0,2.44140625,1,0,0,0,0,0,0,0,0,0,0,0,0,0,4.5866370705649526,null,80]
[2,3,null,null,null,null,null,null,null,null,null,0,0,0,0,0,0,0,0,0,0,0,0,0,0,0,0,0,null,0,0,0,0,0,0,0,0,0,0,0,0,0,0,0,0,0,0,null,90]
[2,3,null,null,null,null,null,null,null,null,null,0,0,0,0,0,0,0,0,0,0,0,0,0,0,0,0,0,null,0,0,0,0,0,0,0,0,0,0,0,0,0,0,0,0,0,0,null,100]
[2,3,null,null,null,null,null,null,null,null,null,0,0,0,0,0,0,0,0,0,0,0,0,0,0,0,0,0,null,0,0,0,0,0,0,0,0,0,0,0,0,0,0,0,0,0,0,null,110]
[2,3,null,null,null,null,null,null,null,null,null,0,0,0,0,0,0,0,0,0,0,0,0,0,0,0,0,0,null,0,0,0,0,0,0,0,0,0,0,0,0,0,0,0,0,0,0,null,120]
[2,3,null,null,null,null,null,null,null,null,null,0,0,0,0,0,0,0,0,0,0,0,0,0,0,0,0,0,null,0,0,0,0,0,0,0,0,0,{"$f":"((U467*10)/98)^$K$1","v":0},0,0,0,0,0,0,0,0,null,130]
[2,3,null,null,null,null,null,null,null,null,null,0,0,0,0,0,0,0,0,0,0,0,0,0,0,0,0,0,null,0,0,0,0,0,0,0,0,0,0,0,0,0,0,0,0,0,0,null,140]
[2,3,null,null,null,null,null,null,null,null,null,0,0,0,0,0,0,0,0,0,0,0,0,0,0,0,0,0,null,0,0,0,0,0,0,0,0,0,0,0,0,0,0,0,0,0,0,null,150]
[2,3,null,null,null,null,null,null,null,null,null,0,0,0,0,0,0,0,0,0,0,0,0,0,0,0,0,0,null,0,0,0,0,0,0,0,0,0,0,0,0,0,0,0,0,0,0,null,160]
[2,3,null,null,null,null,null,null,null,null,null,0,0,0,0,0,0,0,0,0,0,0,0,0,0,0,0,0,null,0,0,0,0,0,0,0,0,0,0,0,0,0,0,0,0,0,0,null,170]
[2,"3C",6,8,4,null,null,null,null,null,null,6,0,0,0,0,0,0,0,0,0,0,0,0,0,0,0,0,null,1.1452308205649526,0,0,0,0,0,0,0,0,0,0,0,0,0,0,0,0,1.1452308205649526,null,180]
[2,3,null,null,null,null,null,null,null,null,null,0,0,0,0,0,0,0,0,0,0,0,0,0,0,0,0,0,null,0,0,0,0,0,0,0,0,0,0,0,0,0,0,0,0,0,0,null,190]
[2,3,null,null,null,null,null,null,null,null,null,0,0,0,0,0,0,0,0,0,0,0,0,0,0,0,0,0,null,0,0,0,0,0,0,0,0,0,0,0,0,0,0,0,0,0,0,null,200]
[2,3,null,null,null,null,null,null,null,null,null,0,0,0,0,0,0,0,0,0,0,0,0,0,0,0,0,0,null,0,0,0,0,0,0,0,0,0,0,0,0,0,0,0,0,0,0,null,210]
[2,3,null,null,null,null,null,null,null,null,null,0,0,0,0,0,0,0,0,0,0,0,0,0,0,0,0,0,null,{"$f":"((L476*10)/58)^$K$1","v":0},{"$f":"((M476*10)/58)^$K$1","v":0},{"$f":"((N476*10)/80)^$K$1","v":0},{"$f":"((O476*10)/80)^$K$1","v":0},0,0,0,0,0,0,0,0,0,0,0,0,0,0,null,220]
[2,3,null,null,null,null,null,null,null,null,null,0,0,0,0,0,0,0,0,0,0,0,0,0,0,0,0,0,null,0,0,0,0,0,0,0,0,0,0,0,0,0,0,0,0,0,0,null,230]
[2,3,null,null,null,null,null,null,null,null,null,0,0,0,0,0,0,0,0,0,0,0,0,0,0,0,0,0,null,0,0,0,0,0,0,0,0,0,0,0,0,0,0,0,0,0,0,null,240]
[2,3,null,null,null,null,null,null,null,null,null,0,0,0,0,0,0,0,0,0,0,0,0,0,0,0,0,0,null,0,0,0,0,0,0,0,0,0,0,0,0,0,0,0,0,0,0,null,250]
[2,4,6,6,8,9,null,null,null,null,null,6,6,0,0,0,17,0,0,0,0,0,0,0,0,0,0,0,null,1.1452308205649526,1.1452308205649526,0,0,0,2.5145519446185003,0,0,0,0,0,0,0,0,0,0,0,4.8050135857484051,null,260]
[2,3,null,null,null,null,null,null,null,null,null,0,0,0,0,0,0,0,0,0,0,0,0,0,0,0,0,0,null,0,0,0,0,0,0,0,0,0,0,0,0,0,0,0,0,0,0,null,270]
[2,3,null,null,null,null,null,null,null,null,null,0,0,0,0,0,0,0,0,0,0,0,0,0,0,0,0,0,null,0,0,0,0,0,0,0,0,0,0,0,0,0,0,0,0,0,0,null,280]
[2,3,null,null,null,null,null,null,null,null,null,0,0,0,0,0,0,0,0,0,0,0,0,0,0,0,0,0,null,0,0,0,0,0,0,0,0,0,0,0,0,0,0,0,0,0,0,null,290]
[2,3,null,null,null,null,null,null,null,null,null,0,0,0,0,0,0,0,0,0,0,0,0,0,0,0,0,0,null,0,0,0,0,0,0,0,0,0,0,0,0,0,0,0,0,0,0,null,300]
[2,"4B",6,6,10,10,null,null,null,null,null,6,0,0,0,0,0,0,0,0,0,10,0,0,0,0,0,0,null,1.1452308205649526,0,0,0,0,0,0,0,0,0,1.0841657847339399,0,0,0,0,0,0,2.2293966052988923,null,310]
[2,3,null,null,null,null,null,null,null,null,null,0,0,0,0,0,0,0,0,0,0,0,0,0,0,0,0,0,null,0,0,0,0,0,0,0,0,0,0,0,0,0,0,0,0,0,0,null,320]
[2,3,null,null,null,null,null,null,null,null,null,0,0,0,0,0,0,0,0,0,0,0,0,0,0,0,0,0,null,0,0,0,0,0,0,0,0,0,0,0,0,0,0,0,0,0,0,null,330]
[2,3,null,null,null,null,null,null,null,null,null,0,0,0,0,0,0,0,0,0,0,0,0,0,0,0,0,0,null,0,0,0,0,0,{"$f":"((Q488*10)/135)^$K$1","v":0},{"$f":"((R488*10)/135)^$K$1","v":0},{"$f":"((S488*10)/135)^$K$1","v":0},{"$f":"((T488*10)/135)^$K$1","v":0},0,{"$f":"((V488*10)/98)^$K$1","v":0},{"$f":"((W488*10)/98)^$K$1","v":0},{"$f":"((X488*10)/98)^$K$1","v":0},0,0,0,0,0,null,340]
[2,3,null,null,null,null,null,null,null,null,null,0,0,0,0,0,0,0,0,0,0,0,0,0,0,0,0,0,null,0,0,0,0,0,0,0,0,0,0,0,0,0,0,0,0,0,0,null,350]
[2,3,null,null,null,null,null,null,null,null,null,0,0,0,0,0,0,0,0,0,0,0,0,0,0,0,0,0,null,0,0,0,0,0,0,0,0,0,0,0,0,0,0,0,0,0,0,null,"Sum",null,{"$f":"SUM(AY455:AY489)","v":0}]
[2,3,null,null,null,null,null,null,null,null,null,0,0,0,0,0,0,0,0,0,0,0,0,0,0,0,0,0,null,0,0,0,0,0,0,0,0,0,0,0,0,0,0,0,0,0,0]
[2,3,null,null,null,null,null,null,null,null,null,0,0,0,0,0,0,0,0,0,0,0,0,0,0,0,0,0,null,0,0,0,0,0,0,0,0,0,0,0,0,0,0,0,0,0,0]
[2,3,null,null,null,null,null,null,null,null,null,0,0,0,0,0,0,0,0,0,0,0,0,0,0,0,0,0,null,0,0,0,0,0,0,0,0,0,0,0,0,0,0,0,0,0,0]
[2,3,null,null,null,null,null,null,null,null,null,0,0,0,0,0,0,0,0,0,0,0,0,0,0,0,0,0,null,0,0,0,0,0,0,0,0,0,0,0,0,0,0,0,0,0,0]
[2,5,null,null,null,null,null,null,null,null,null,0,0,0,0,0,0,0,0,0,0,0,0,0,0,0,0,0,null,0,0,0,0,0,0,0,0,0,0,0,0,0,0,0,0,0,0]
[2,3,null,null,null,null,null,null,null,null,null,0,0,0,0,0,0,0,0,0,0,0,0,0,0,0,0,0,null,0,0,0,0,0,0,0,0,0,0,0,0,0,0,0,0,0,0]
[2,3,null,null,null,null,null,null,null,null,null,0,0,0,0,0,0,0,0,0,0,0,0,0,0,0,0,0,null,0,0,0,0,0,0,0,0,0,0,0,0,0,0,0,0,0,0]
[2,3,null,null,null,null,null,null,null,null,null,0,0,0,0,0,0,0,0,0,0,0,0,0,0,0,0,0,null,0,0,0,0,0,0,0,0,0,0,0,0,0,0,0,0,0,0]
[2,3,null,null,null,null,null,null,null,null,null,0,0,0,0,0,0,0,0,0,0,0,0,0,0,0,0,0,null,0,0,0,0,0,0,0,0,0,{"$f":"((U499*10)/98)^$K$1","v":0},0,0,0,0,0,0,0,0]
[2,3,null,null,null,null,null,null,null,null,null,0,0,0,0,0,0,0,0,0,0,0,0,0,0,0,0,0,null,0,0,0,0,0,0,0,0,0,0,0,0,0,0,0,0,0,0]
[2,"5B",4,6,6,9,9,null,null,null,null,4,0,0,0,12,0,0,0,0,0,0,0,0,0,0,0,0,null,0.22621843369184247,0,0,0,0.62429507696997399,0,0,0,0,0,0,0,0,0,0,0,0,0.85051351066181646]
[2,3,null,null,null,null,null,null,null,null,null,0,0,0,0,0,0,0,0,0,0,0,0,0,0,0,0,0,null,0,0,0,0,0,0,0,0,0,0,0,0,0,0,0,0,0,0]
[2,3,null,null,null,null,null,null,null,null,null,0,0,0,0,0,0,0,0,0,0,0,0,0,0,0,0,0,null,0,0,0,0,0,0,0,0,0,0,0,0,0,0,0,0,0,0]
[2,3,null,null,null,null,null,null,null,null,null,0,0,0,0,0,0,0,0,0,0,0,0,0,0,0,0,0,null,0,0,0,0,0,0,0,0,0,0,0,0,0,0,0,0,0,0]
[2,3,null,null,null,null,null,null,null,null,null,0,0,0,0,0,0,0,0,0,0,0,0,0,0,0,0,0,null,0,0,0,0,0,0,0,0,0,0,0,0,0,0,0,0,0,0]
[2,3,null,null,null,null,null,null,null,null,null,0,0,0,0,0,0,0,0,0,0,0,0,0,0,0,0,0,null,0,0,0,0,0,0,0,0,0,0,0,0,0,0,0,0,0,0]
[2,3,null,null,null,null,null,null,null,null,null,0,0,0,0,0,0,0,0,0,0,0,0,0,0,0,0,0,null,0,0,0,0,0,0,0,0,0,0,0,0,0,0,0,0,0,0]
[2,6,5,6,6,9,9,9,null,null,null,5,0,0,0,12,0,0,0,0,0,0,0,0,0,27,0,0,null,0.55229109788047448,0,0,0,0.62429507696997399,0,0,0,0,0,0,0,0,0,4.8436137645050952,0,0,6.0201999393555434]
[2,3,null,null,null,null,null,null,null,null,null,0,0,0,0,0,0,0,0,0,0,0,0,0,0,0,0,0,null,0,0,0,0,0,0,0,0,0,0,0,0,0,0,0,0,0,0]
[2,3,null,null,null,null,null,null,null,null,null,0,0,0,0,0,0,0,0,0,0,0,0,0,0,0,0,0,null,0,0,0,0,0,0,0,0,0,0,0,0,0,0,0,0,0,0]
[2,3,null,null,null,null,null,null,null,null,null,0,0,0,0,0,0,0,0,0,0,0,0,0,0,0,0,0,null,0,0,0,0,0,0,0,0,0,0,0,0,0,0,0,0,0,0]
[2,3,null,null,null,null,null,null,null,null,null,0,0,0,0,0,0,0,0,0,0,0,0,0,0,0,0,0,null,0,0,0,0,0,0,0,0,0,0,0,0,0,0,0,0,0,0]
[2,"6B",5,7,7,9,9,9,null,null,null,5,0,0,0,14,0,0,0,0,0,0,0,0,0,0,0,27,null,0.55229109788047448,0,0,0,1.1565837035531692,0,0,0,0,0,0,0,0,0,0,0,17.504887815039957,19.213762616473602]
[2,3,null,null,null,null,null,null,null,null,null,0,0,0,0,0,0,0,0,0,0,0,0,0,0,0,0,0,null,0,0,0,0,{"$f":"((P514*10)/135)^$K$1","v":0},0,0,0,0,0,0,0,0,0,0,0,0,0]
[2,3,null,null,null,null,null,null,null,null,null,0,0,0,0,0,0,0,0,0,0,0,0,0,0,0,0,0,null,0,0,0,0,0,0,0,0,0,0,0,0,0,0,0,0,0,0]
[2,3,null,null,null,null,null,null,null,null,null,0,0,0,0,0,0,0,0,0,0,0,0,0,0,0,0,0,null,0,0,0,0,0,0,0,0,0,0,0,0,0,0,0,0,0,0]
[2,3,null,null,null,null,null,null,null,null,null,0,0,0,0,0,0,0,0,0,0,0,0,0,0,0,0,0,null,0,0,0,0,0,0,0,0,0,0,0,0,0,{"$f":"((Y517*10)/182)^$K$1","v":0},{"$f":"((Z517*10)/182)^$K$1","v":0},0,0,0]
[2,7,4,6,6,10,10,9,9,null,null,{"$f":"C518","v":4},{"$f":"IF(B518=4,D518,0)","v":0},{"$f":"IF(OR(B518=2,B518=\"3B\",B518=\"5C\",B518=\"5D\"),D518,0)","v":0},{"$f":"IF(B518=\"3B\",E518,0)","v":0},{"$f":"IF(OR(B518=3,B518=5,B518=\"5B\",B518=6,B518=\"6B\",B518=7,B518=\"7B\",B518=9,B518=\"9B\"),D518+E518,0)","v":12},{"$f":"IF(B518=4,E518+F518,0)","v":0},{"$f":"IF(OR(B518=5,B518=7,B518=9),F518+G518,0)","v":20},{"$f":"IF(OR(B518=7,B518=9),H518+I518,0)","v":18},{"$f":"IF(B518=9,J518+K518,0)","v":0},{"$f":"IF(OR(B518=\"6C\",B518=\"7C\"),D518+E518,0)","v":0},{"$f":"IF(B518=\"4B\",F518+G518,0)","v":0},{"$f":"IF(OR(B518=\"7B\",B518=\"7C\",B518=\"9B\"),H518+I518,0)","v":0},{"$f":"IF(OR(B518=\"9B\"),J518+K518,0)","v":0},{"$f":"IF((B518=\"5C\"),E518+F518+G518,0)","v":0},{"$f":"IF(B518=6,F518+G518+H518,0)","v":0},{"$f":"IF((B518=\"5D\"),E518+F518+G518,0)","v":0},{"$f":"IF(OR(B518=\"6B\",B518=\"6C\"),F518+G518+H518,0)","v":0},null,0.22621843369184247,0,0,0,0.62429507696997399,0,4.8170916432868358,3.1604938271604937,0,0,0,0,0,0,0,{"$f":"((AA518*10)/132)^$K$1","v":0},{"$f":"((AB518*10)/132)^$K$1","v":0},{"$f":"SUM(AD518:AT518)","v":8.8280989811091466}]
[2,3,null,null,null,null,null,null,null,null,null,0,0,0,0,0,0,0,0,0,0,0,0,0,0,0,0,0,null,0,0,0,0,0,0,0,0,0,0,0,0,0,0,0,0,0,0]
[2,3,null,null,null,null,null,null,null,null,null,0,0,0,0,0,0,0,0,0,0,0,0,0,0,0,0,0,null,0,0,0,0,0,{"$f":"((Q520*10)/135)^$K$1","v":0},{"$f":"((R520*10)/135)^$K$1","v":0},{"$f":"((S520*10)/135)^$K$1","v":0},{"$f":"((T520*10)/135)^$K$1","v":0},0,{"$f":"((V520*10)/98)^$K$1","v":0},{"$f":"((W520*10)/98)^$K$1","v":0},{"$f":"((X520*10)/98)^$K$1","v":0},0,0,0,0,0]
[2,"7B",4,6,6,10,10,9,9,null,null,4,0,0,0,12,0,0,0,0,0,0,18,0,0,0,0,0,null,0.22621843369184247,0,0,0,0.62429507696997399,0,0,0,0,{"$f":"((U521*10)/98)^$K$1","v":0},0,11.381138741823007,0,0,0,0,0,12.231652252484823]
[2,3,null,null,null,null,null,null,null,null,null,0,0,0,0,0,0,0,0,0,0,0,0,0,0,0,0,0,null,0,0,0,0,0,0,0,0,0,0,0,0,0,0,0,0,0,0]
[2,3,null,null,null,null,null,null,null,null,null,0,0,0,0,0,0,0,0,0,0,0,0,0,0,0,0,0,null,0,0,0,0,0,0,0,0,0,0,0,0,0,0,0,0,0,0]
[2,3,null,null,null,null,null,null,null,null,null,0,0,0,0,0,0,0,0,0,0,0,0,0,0,0,0,0,null,0,0,0,0,0,0,0,0,0,0,0,0,0,0,0,0,0,0]
[2,3,null,null,null,null,null,null,null,null,null,0,0,0,0,0,0,0,0,0,0,0,0,0,0,0,0,0,null,0,0,0,0,0,0,0,0,0,0,0,0,0,0,0,0,0,0]
[2,3,null,null,null,null,null,null,null,null,null,0,0,0,0,0,0,0,0,0,0,0,0,0,0,0,0,0,null,0,0,0,0,0,0,0,0,0,0,0,0,0,0,0,0,0,0]
[2,9,4,4,6,6,7,7,7,7,8,4,0,0,0,10,0,13,14,15,0,0,0,0,0,0,0,0,null,0.22621843369184247,0,0,0,0.30106822770542724,0,0.85988096514947066,1.1565837035531692,1.5241579027587262,0,0,0,0,0,0,0,0,4.0679092328586357]
[2,3,null,null,null,null,null,null,null,null,null,0,0,0,0,0,0,0,0,0,0,0,0,0,0,0,0,0,null,0,0,0,0,0,0,0,0,0,0,0,0,0,0,0,0,0,0]
[2,3,null,null,null,null,null,null,null,null,null,0,0,0,0,0,0,0,0,0,0,0,0,0,0,0,0,0,null,0,0,0,0,0,0,0,0,0,0,0,0,0,0,0,0,0,0]
[2,3,null,null,null,null,null,null,null,null,null,0,0,0,0,0,0,0,0,0,0,0,0,0,0,0,0,0,null,0,0,0,0,0,0,0,0,0,0,0,0,0,0,0,0,0,0]
[2,3,null,null,null,null,null,null,null,null,null,0,0,0,0,0,0,0,0,0,0,0,0,0,0,0,0,0,null,0,0,0,0,0,0,0,0,0,0,0,0,0,0,0,0,0,0]
[2,3,null,null,null,null,null,null,null,null,null,0,0,0,0,0,0,0,0,0,0,0,0,0,0,0,0,0,null,0,0,0,0,0,0,0,0,0,0,0,0,0,0,0,0,0,0]
[2,"9B",4,4,6,6,7,9,9,7,8,4,0,0,0,10,0,0,0,0,0,0,18,15,0,0,0,0,null,0.22621843369184247,0,0,0,0.30106822770542724,0,0,0,0,0,0,11.381138741823007,5.4885892852155678,0,0,0,0,17.397014688435846]
[2,3,null,null,null,null,null,null,null,null,null,0,0,0,0,0,0,0,0,0,0,0,0,0,0,0,0,0,null,0,0,0,0,0,0,0,0,0,0,0,0,0,0,0,0,0,0]
[2,3,null,null,null,null,null,null,null,null,null,0,0,0,0,0,0,0,0,0,0,0,0,0,0,0,0,0,null,0,0,0,0,0,0,0,0,0,0,0,0,0,0,0,0,0,0]
[2,3,null,null,null,null,null,null,null,null,null,0,0,0,0,0,0,0,0,0,0,0,0,0,0,0,0,0,null,0,0,0,0,0,0,0,0,0,0,0,0,0,0,0,0,0,0]
[2,3,null,null,null,null,null,null,null,null,null,0,0,0,0,0,0,0,0,0,0,0,0,0,0,0,0,0,null,0,0,0,0,0,0,0,0,0,0,0,0,0,0,0,0,0,0]
[2,3,null,null,null,null,null,null,null,null,null,0,0,0,0,0,0,0,0,0,0,0,0,0,0,0,0,0,null,0,0,0,0,0,0,0,0,0,0,0,0,0,0,0,0,0,0]
[2,3,null,null,null,null,null,null,null,null,null,0,0,0,0,0,0,0,0,0,0,0,0,0,0,0,0,0,null,0,0,0,0,0,0,0,0,0,0,0,0,0,0,0,0,0,0]
[2,3,null,null,null,null,null,null,null,null,null,0,0,0,0,0,0,0,0,0,0,0,0,0,0,0,0,0,null,{"$f":"((L540*10)/58)^$K$1","v":0},{"$f":"((M540*10)/58)^$K$1","v":0},{"$f":"((N540*10)/80)^$K$1","v":0},{"$f":"((O540*10)/80)^$K$1","v":0},0,0,0,0,0,0,0,0,0,0,0,0,0,0]
[2,3,null,null,null,null,null,null,null,null,null,0,0,0,0,0,0,0,0,0,0,0,0,0,0,0,0,0,null,0,0,0,0,0,0,0,0,0,0,0,0,0,0,0,0,0,0]
[2,3,null,null,null,null,null,null,null,null,null,0,0,0,0,0,0,0,0,0,0,0,0,0,0,0,0,0,null,0,0,0,0,0,0,0,0,0,0,0,0,0,0,0,0,0,0]
[2,3,null,null,null,null,null,null,null,null,null,0,0,0,0,0,0,0,0,0,0,0,0,0,0,0,0,0,null,0,0,0,0,0,0,0,0,0,0,0,0,0,0,0,0,0,0]
[2,3,null,null,null,null,null,null,null,null,null,0,0,0,0,0,0,0,0,0,0,0,0,0,0,0,0,0,null,0,0,0,0,0,0,0,0,0,0,0,0,0,0,0,0,0,0]
[2,3,null,null,null,null,null,null,null,null,null,0,0,0,0,0,0,0,0,0,0,0,0,0,0,0,0,0,null,0,0,0,0,0,0,0,0,0,0,0,0,0,0,0,0,0,0]
[2,3,null,null,null,null,null,null,null,null,null,0,0,0,0,0,0,0,0,0,0,0,0,0,0,0,0,0,null,0,0,0,0,0,0,0,0,0,0,0,0,0,0,0,0,0,0]
[2,3,null,null,null,null,null,null,null,null,null,0,0,0,0,0,0,0,0,0,0,0,0,0,0,0,0,0,null,0,0,0,0,0,0,0,0,0,0,0,0,0,0,0,0,0,0]
[2,3,null,null,null,null,null,null,null,null,null,0,0,0,0,0,0,0,0,0,0,0,0,0,0,0,0,0,null,0,0,0,0,0,0,0,0,0,0,0,0,0,0,0,0,0,0]
[2,3,null,null,null,null,null,null,null,null,null,0,0,0,0,0,0,0,0,0,0,0,0,0,0,0,0,0,null,0,0,0,0,0,0,0,0,0,0,0,0,0,0,0,0,0,0]
[2,3,null,null,null,null,null,null,null,null,null,0,0,0,0,0,0,0,0,0,0,0,0,0,0,0,0,0,null,0,0,0,0,0,0,0,0,0,0,0,0,0,0,0,0,0,0]
[2,3,null,null,null,null,null,null,null,null,null,0,0,0,0,0,0,0,0,0,0,0,0,0,0,0,0,0,null,0,0,0,0,0,0,0,0,0,0,0,0,0,0,0,0,0,0]
[2,3,null,null,null,null,null,null,null,null,null,0,0,0,0,0,0,0,0,0,0,0,0,0,0,0,0,0,null,0,0,0,0,0,{"$f":"((Q552*10)/135)^$K$1","v":0},{"$f":"((R552*10)/135)^$K$1","v":0},{"$f":"((S552*10)/135)^$K$1","v":0},{"$f":"((T552*10)/135)^$K$1","v":0},0,{"$f":"((V552*10)/98)^$K$1","v":0},{"$f":"((W552*10)/98)^$K$1","v":0},0,0,0,0,0,0]
[2,3,null,null,null,null,null,null,null,null,null,0,0,0,0,0,0,0,0,0,0,0,0,0,0,0,0,0,null,0,0,0,0,0,0,0,0,0,{"$f":"((U553*10)/98)^$K$1","v":0},0,0,0,0,0,0,0,0]
[2,3,null,null,null,null,null,null,null,null,null,0,0,0,0,0,0,0,0,0,0,0,0,0,0,0,0,0,null,0,0,0,0,0,0,0,0,0,0,0,0,0,0,0,0,0,0]
[2,3,null,null,null,null,null,null,null,null,null,0,0,0,0,0,0,0,0,0,0,0,0,0,0,0,0,0,null,0,0,0,0,0,0,0,0,0,0,0,0,0,0,0,0,0,0]
[2,3,null,null,null,null,null,null,null,null,null,0,0,0,0,0,0,0,0,0,0,0,0,0,0,0,0,0,null,0,0,0,0,0,0,0,0,0,0,0,0,0,0,0,0,0,0]
[2,3,null,null,null,null,null,null,null,null,null,0,0,0,0,0,0,0,0,0,0,0,0,0,0,0,0,0,null,0,0,0,0,0,0,0,0,0,0,0,0,0,0,0,0,0,0]
[2,3,null,null,null,null,null,null,null,null,null,0,0,0,0,0,0,0,0,0,0,0,0,0,0,0,0,0,null,0,0,0,0,0,0,0,0,0,0,0,0,0,0,0,0,0,0]
[2,3,null,null,null,null,null,null,null,null,null,0,0,0,0,0,0,0,0,0,0,0,0,0,0,0,0,0,null,0,0,0,0,0,{"$f":"((Q559*10)/135)^$K$1","v":0},{"$f":"((R559*10)/135)^$K$1","v":0},{"$f":"((S559*10)/135)^$K$1","v":0},{"$f":"((T559*10)/135)^$K$1","v":0},0,0,0,0,0,0,0,0,0]
[2,3,null,null,null,null,null,null,null,null,null,0,0,0,0,0,0,0,0,0,0,0,0,0,0,0,0,0,null,0,0,0,0,0,0,0,0,0,0,0,0,0,0,0,0,0,0]
[2,3,null,null,null,null,null,null,null,null,null,0,0,0,0,0,0,0,0,0,0,0,0,0,0,0,0,0,null,0,0,0,0,0,0,0,0,0,0,0,0,0,0,0,0,0,0]
[2,3,null,null,null,null,null,null,null,null,null,0,0,0,0,0,0,0,0,0,0,0,0,0,0,0,0,0,null,0,0,0,0,0,0,0,0,0,0,0,0,0,0,0,0,0,0]
[2,3,null,null,null,null,null,null,null,null,null,0,0,0,0,0,0,0,0,0,0,0,0,0,0,0,0,0,null,0,0,0,0,0,0,0,0,0,0,0,0,0,0,0,0,0,0]
[2,3,null,null,null,null,null,null,null,null,null,0,0,0,0,0,0,0,0,0,0,0,0,0,0,0,0,0,null,0,0,0,0,0,0,0,0,0,0,0,0,0,0,0,0,0,0]
[2,3,null,null,null,null,null,null,null,null,null,0,0,0,0,0,0,0,0,0,0,0,0,0,0,0,0,0,null,0,0,0,0,0,0,0,0,0,0,0,0,0,0,0,0,0,0]
[2,3,null,null,null,null,null,null,null,null,null,0,0,0,0,0,0,0,0,0,0,0,0,0,0,0,0,0,null,0,0,0,0,0,0,0,0,0,0,0,0,0,0,0,0,0,0]
[2,3,null,null,null,null,null,null,null,null,null,0,0,0,0,0,0,0,0,0,0,0,0,0,0,0,0,0,null,0,0,0,0,0,0,0,0,0,0,0,0,0,0,0,0,0,0]
[2,3,null,null,null,null,null,null,null,null,null,0,0,0,0,0,0,0,0,0,0,0,0,0,0,0,0,0,null,0,0,0,0,0,0,0,0,0,0,0,0,0,0,0,0,0,0]
[2,3,null,null,null,null,null,null,null,null,null,0,0,0,0,0,0,0,0,0,0,0,0,0,0,0,0,0,null,0,0,0,0,0,0,0,0,0,0,0,0,0,0,0,0,0,0]
[2,3,null,null,null,null,null,null,null,null,null,0,0,0,0,0,0,0,0,0,0,0,0,0,0,0,0,0,null,0,0,0,0,0,0,0,0,0,0,0,0,0,0,0,0,0,0]
[2,3,null,null,null,null,null,null,null,null,null,0,0,0,0,0,0,0,0,0,0,0,0,0,0,0,0,0,null,0,0,0,0,0,0,0,0,0,0,0,0,0,0,0,0,0,0]
[2,3,null,null,null,null,null,null,null,null,null,0,0,0,0,0,0,0,0,0,0,0,0,0,0,0,0,0,null,0,0,0,0,0,0,0,0,0,0,0,0,0,0,0,0,0,0]
[2,3,null,null,null,null,null,null,null,null,null,0,0,0,0,0,0,0,0,0,0,0,0,0,0,0,0,0,null,0,0,0,0,0,0,0,0,0,0,0,0,0,0,0,0,0,0]
[2,3,null,null,null,null,null,null,null,null,null,0,0,0,0,0,0,0,0,0,0,0,0,0,0,0,0,0,null,0,0,0,0,0,0,0,0,0,0,0,0,0,0,0,0,0,0]
[2,3,null,null,null,null,null,null,null,null,null,0,0,0,0,0,0,0,0,0,0,0,0,0,0,0,0,0,null,0,0,0,0,0,0,0,0,0,0,0,0,0,0,0,0,0,0]
[2,3,null,null,null,null,null,null,null,null,null,0,0,0,0,0,0,0,0,0,0,0,0,0,0,0,0,0,null,0,0,0,0,0,0,0,0,0,0,0,0,0,0,0,0,0,0]
[2,3,null,null,null,null,null,null,null,null,null,0,0,0,0,0,0,0,0,0,0,0,0,0,0,0,0,0,null,0,0,0,0,0,0,0,0,0,0,0,0,0,0,0,0,0,0]
[2,3,null,null,null,null,null,null,null,null,null,0,0,0,0,0,0,0,0,0,0,0,0,0,0,0,0,0,null,0,0,0,0,{"$f":"((P578*10)/135)^$K$1","v":0},0,0,0,0,0,0,0,0,0,0,0,0,0]
[2,3,null,null,null,null,null,null,null,null,null,0,0,0,0,0,0,0,0,0,0,0,0,0,0,0,0,0,null,0,0,0,0,0,0,0,0,0,0,0,0,0,0,0,0,0,0]
[2,3,null,null,null,null,null,null,null,null,null,0,0,0,0,0,0,0,0,0,0,0,0,0,0,0,0,0,null,0,0,0,0,0,0,0,0,0,0,0,0,0,0,0,0,0,0]
[2,3,null,null,null,null,null,null,null,null,null,0,0,0,0,0,0,0,0,0,0,0,0,0,0,0,0,0,null,0,0,0,0,0,0,0,0,0,0,0,0,0,{"$f":"((Y581*10)/182)^$K$1","v":0},{"$f":"((Z581*10)/182)^$K$1","v":0},0,0,0]
[2,3,null,null,null,null,null,null,null,null,null,{"$f":"C582","v":0},{"$f":"IF(B582=4,D582,0)","v":0},{"$f":"IF(OR(B582=2,B582=\"3B\",B582=\"5C\",B582=\"5D\"),D582,0)","v":0},{"$f":"IF(B582=\"3B\",E582,0)","v":0},{"$f":"IF(OR(B582=3,B582=5,B582=\"5B\",B582=6,B582=\"6B\",B582=7,B582=\"7B\",B582=9,B582=\"9B\"),D582+E582,0)","v":0},{"$f":"IF(B582=4,E582+F582,0)","v":0},{"$f":"IF(OR(B582=5,B582=7,B582=9),F582+G582,0)","v":0},{"$f":"IF(OR(B582=7,B582=9),H582+I582,0)","v":0},{"$f":"IF(B582=9,J582+K582,0)","v":0},{"$f":"IF(OR(B582=\"6C\",B582=\"7C\"),D582+E582,0)","v":0},{"$f":"IF(B582=\"4B\",F582+G582,0)","v":0},{"$f":"IF(OR(B582=\"7B\",B582=\"7C\",B582=\"9B\"),H582+I582,0)","v":0},{"$f":"IF(OR(B582=\"9B\"),J582+K582,0)","v":0},{"$f":"IF((B582=\"5C\"),E582+F582+G582,0)","v":0},{"$f":"IF(B582=6,F582+G582+H582,0)","v":0},{"$f":"IF((B582=\"5D\"),E582+F582+G582,0)","v":0},{"$f":"IF(OR(B582=\"6B\",B582=\"6C\"),F582+G582+H582,0)","v":0},null,0,0,0,0,0,0,0,0,0,0,0,0,0,0,0,{"$f":"((AA582*10)/132)^$K$1","v":0},{"$f":"((AB582*10)/132)^$K$1","v":0},{"$f":"SUM(AD582:AT582)","v":0}]
[2,3,null,null,null,null,null,null,null,null,null,0,0,0,0,0,0,0,0,0,0,0,0,0,0,0,0,0,null,0,0,0,0,0,0,0,0,0,0,0,0,0,0,0,0,0,0]
[2,3,null,null,null,null,null,null,null,null,null,0,0,0,0,0,0,0,0,0,0,0,0,0,0,0,0,0,null,0,0,0,0,0,0,0,0,0,0,{"$f":"((V584*10)/98)^$K$1","v":0},{"$f":"((W584*10)/98)^$K$1","v":0},{"$f":"((X584*10)/98)^$K$1","v":0},0,0,0,0,0]
[2,3,null,null,null,null,null,null,null,null,null,0,0,0,0,0,0,0,0,0,0,0,0,0,0,0,0,0,null,0,0,0,0,0,0,0,0,0,{"$f":"((U585*10)/98)^$K$1","v":0},0,0,0,0,0,0,0,0]
[2,3,null,null,null,null,null,null,null,null,null,0,0,0,0,0,0,0,0,0,0,0,0,0,0,0,0,0,null,0,0,0,0,0,0,0,0,0,0,0,0,0,0,0,0,0,0]
[2,3,null,null,null,null,null,null,null,null,null,0,0,0,0,0,0,0,0,0,0,0,0,0,0,0,0,0,null,0,0,0,0,0,0,0,0,0,0,0,0,0,0,0,0,0,0]
[2,3,null,null,null,null,null,null,null,null,null,0,0,0,0,0,0,0,0,0,0,0,0,0,0,0,0,0,null,0,0,0,0,0,0,0,0,0,0,0,0,0,0,0,0,0,0]
[2,3,null,null,null,null,null,null,null,null,null,0,0,0,0,0,0,0,0,0,0,0,0,0,0,0,0,0,null,0,0,0,0,0,0,0,0,0,0,0,0,0,0,0,0,0,0]
[2,3,null,null,null,null,null,null,null,null,null,0,0,0,0,0,0,0,0,0,0,0,0,0,0,0,0,0,null,0,0,0,0,0,0,0,0,0,0,0,0,0,0,0,0,0,0]
[2,3,null,null,null,null,null,null,null,null,null,0,0,0,0,0,0,0,0,0,0,0,0,0,0,0,0,0,null,0,0,0,0,0,0,0,0,0,0,0,0,0,0,0,0,0,0]
[2,3,null,null,null,null,null,null,null,null,null,0,0,0,0,0,0,0,0,0,0,0,0,0,0,0,0,0,null,0,0,0,0,0,0,0,0,0,0,0,0,0,0,0,0,0,0]
[2,3,null,null,null,null,null,null,null,null,null,0,0,0,0,0,0,0,0,0,0,0,0,0,0,0,0,0,null,0,0,0,0,0,0,0,0,0,0,0,0,0,0,0,0,0,0]
[2,"3B",null,null,null,null,null,null,null,null,null,0,0,0,0,0,0,0,0,0,0,0,0,0,0,0,0,0,null,0,0,0,0,0,0,0,0,0,0,0,0,0,0,0,0,0,0]
[2,"3C",null,null,null,null,null,null,null,null,null,0,0,0,0,0,0,0,0,0,0,0,0,0,0,0,0,0,null,0,0,0,0,0,0,0,0,0,0,0,0,0,0,0,0,0,0]
[2,4,null,null,null,null,null,null,null,null,null,0,0,0,0,0,0,0,0,0,0,0,0,0,0,0,0,0,null,0,0,0,0,0,0,0,0,0,0,0,0,0,0,0,0,0,0]
[2,"4B",null,null,null,null,null,null,null,null,null,0,0,0,0,0,0,0,0,0,0,0,0,0,0,0,0,0,null,0,0,0,0,0,0,0,0,0,0,0,0,0,0,0,0,0,0]
[2,5,null,null,null,null,null,null,null,null,null,0,0,0,0,0,0,0,0,0,0,0,0,0,0,0,0,0,null,0,0,0,0,0,0,0,0,0,0,0,0,0,0,0,0,0,0]
[2,"5B",null,null,null,null,null,null,null,null,null,0,0,0,0,0,0,0,0,0,0,0,0,0,0,0,0,0,null,0,0,0,0,0,0,0,0,0,0,0,0,0,0,0,0,0,0]
[2,6,null,null,null,null,null,null,null,null,null,0,0,0,0,0,0,0,0,0,0,0,0,0,0,0,0,0,null,0,0,0,0,0,0,0,0,0,0,0,0,0,0,0,0,0,0]
[2,"6B",null,null,null,null,null,null,null,null,null,0,0,0,0,0,0,0,0,0,0,0,0,0,0,0,0,0,null,0,0,0,0,0,0,0,0,0,0,0,0,0,0,0,0,0,0]
[2,7,null,null,null,null,null,null,null,null,null,0,0,0,0,0,0,0,0,0,0,0,0,0,0,0,0,0,null,0,0,0,0,0,0,0,0,0,0,0,0,0,0,0,0,0,0]
[2,"7B",null,null,null,null,null,null,null,null,null,0,0,0,0,0,0,0,0,0,0,0,0,0,0,0,0,0,null,0,0,0,0,0,0,0,0,0,0,0,0,0,0,0,0,0,0]
[2,9,null,null,null,null,null,null,null,null,null,0,0,0,0,0,0,0,0,0,0,0,0,0,0,0,0,0,null,{"$f":"((L604*10)/58)^$K$1","v":0},{"$f":"((M604*10)/58)^$K$1","v":0},{"$f":"((N604*10)/80)^$K$1","v":0},{"$f":"((O604*10)/80)^$K$1","v":0},0,0,0,0,0,0,0,0,0,0,0,0,0,0]
[2,"9B",null,null,null,null,null,null,null,null,null,0,0,0,0,0,0,0,0,0,0,0,0,0,0,0,0,0,null,0,0,0,0,0,0,0,0,0,0,0,0,0,0,0,0,0,0]
[2,2,4,8,null,null,null,null,null,null,null,4,0,8,0,0,0,0,0,0,0,0,0,0,0,0,0,0,null,0.22621843369184247,0,1,0,0,{"$f":"((Q606*10)/135)^$K$1","v":0},{"$f":"((R606*10)/135)^$K$1","v":0},{"$f":"((S606*10)/135)^$K$1","v":0},{"$f":"((T606*10)/135)^$K$1","v":0},0,{"$f":"((V606*10)/98)^$K$1","v":0},{"$f":"((W606*10)/98)^$K$1","v":0},{"$f":"((X606*10)/98)^$K$1","v":0},0,0,0,0,1.2262184336918425,null,20]
[2,3,null,null,null,null,null,null,null,null,null,0,0,0,0,0,0,0,0,0,0,0,0,0,0,0,0,0,null,0,0,0,0,0,0,0,0,0,0,0,0,0,0,0,0,0,0,null,30]
[2,3,null,null,null,null,null,null,null,null,null,0,0,0,0,0,0,0,0,0,0,0,0,0,0,0,0,0,null,0,0,0,0,0,0,0,0,0,0,0,0,0,0,0,0,0,0,null,40]
[2,3,null,null,null,null,null,null,null,null,null,0,0,0,0,0,0,0,0,0,0,0,0,0,0,0,0,0,null,0,0,0,0,0,0,0,0,0,0,0,0,0,0,0,0,0,0,null,50]
[2,3,null,null,null,null,null,null,null,null,null,0,0,0,0,0,0,0,0,0,0,0,0,0,0,0,0,0,null,0,0,0,0,0,0,0,0,0,0,0,0,0,0,0,0,0,0,null,60]
[2,3,null,null,null,null,null,null,null,null,null,0,0,0,0,0,0,0,0,0,0,0,0,0,0,0,0,0,null,0,0,0,0,0,0,0,0,0,0,0,0,0,0,0,0,0,0,null,70]
[2,"3B",6,10,8,null,null,null,null,null,null,6,0,10,8,0,0,0,0,0,0,0,0,0,0,0,0,0,null,1.1452308205649526,0,2.44140625,1,0,0,0,0,0,0,0,0,0,0,0,0,0,4.5866370705649526,null,80]
[2,3,null,null,null,null,null,null,null,null,null,0,0,0,0,0,0,0,0,0,0,0,0,0,0,0,0,0,null,0,0,0,0,0,0,0,0,0,0,0,0,0,0,0,0,0,0,null,90]
[2,3,null,null,null,null,null,null,null,null,null,0,0,0,0,0,0,0,0,0,0,0,0,0,0,0,0,0,null,0,0,0,0,0,0,0,0,0,0,0,0,0,0,0,0,0,0,null,100]
[2,3,null,null,null,null,null,null,null,null,null,0,0,0,0,0,0,0,0,0,0,0,0,0,0,0,0,0,null,0,0,0,0,0,0,0,0,0,0,0,0,0,0,0,0,0,0,null,110]
[2,3,null,null,null,null,null,null,null,null,null,0,0,0,0,0,0,0,0,0,0,0,0,0,0,0,0,0,null,0,0,0,0,0,0,0,0,0,0,0,0,0,0,0,0,0,0,null,120]
[2,3,null,null,null,null,null,null,null,null,null,0,0,0,0,0,0,0,0,0,0,0,0,0,0,0,0,0,null,0,0,0,0,0,0,0,0,0,{"$f":"((U617*10)/98)^$K$1","v":0},0,0,0,0,0,0,0,0,null,130]
[2,3,null,null,null,null,null,null,null,null,null,0,0,0,0,0,0,0,0,0,0,0,0,0,0,0,0,0,null,0,0,0,0,0,0,0,0,0,0,0,0,0,0,0,0,0,0,null,140]
[2,3,null,null,null,null,null,null,null,null,null,0,0,0,0,0,0,0,0,0,0,0,0,0,0,0,0,0,null,0,0,0,0,0,0,0,0,0,0,0,0,0,0,0,0,0,0,null,150]
[2,3,null,null,null,null,null,null,null,null,null,0,0,0,0,0,0,0,0,0,0,0,0,0,0,0,0,0,null,0,0,0,0,0,0,0,0,0,0,0,0,0,0,0,0,0,0,null,160]
[2,3,null,null,null,null,null,null,null,null,null,0,0,0,0,0,0,0,0,0,0,0,0,0,0,0,0,0,null,0,0,0,0,0,0,0,0,0,0,0,0,0,0,0,0,0,0,null,170]
[2,"3C",6,8,4,null,null,null,null,null,null,6,0,0,0,0,0,0,0,0,0,0,0,0,0,0,0,0,null,1.1452308205649526,0,0,0,0,0,0,0,0,0,0,0,0,0,0,0,0,1.1452308205649526,null,180]
[2,3,null,null,null,null,null,null,null,null,null,0,0,0,0,0,0,0,0,0,0,0,0,0,0,0,0,0,null,0,0,0,0,0,0,0,0,0,0,0,0,0,0,0,0,0,0,null,190]
[2,3,null,null,null,null,null,null,null,null,null,0,0,0,0,0,0,0,0,0,0,0,0,0,0,0,0,0,null,0,0,0,0,0,0,0,0,0,0,0,0,0,0,0,0,0,0,null,200]
[2,3,null,null,null,null,null,null,null,null,null,0,0,0,0,0,0,0,0,0,0,0,0,0,0,0,0,0,null,0,0,0,0,0,0,0,0,0,0,0,0,0,0,0,0,0,0,null,210]
[2,3,null,null,null,null,null,null,null,null,null,0,0,0,0,0,0,0,0,0,0,0,0,0,0,0,0,0,null,0,0,0,0,0,0,0,0,0,0,0,0,0,0,0,0,0,0,null,220]
[2,3,null,null,null,null,null,null,null,null,null,0,0,0,0,0,0,0,0,0,0,0,0,0,0,0,0,0,null,0,0,0,0,0,0,0,0,0,0,0,0,0,0,0,0,0,0,null,230]
[2,3,null,null,null,null,null,null,null,null,null,0,0,0,0,0,0,0,0,0,0,0,0,0,0,0,0,0,null,0,0,0,0,0,0,0,0,0,0,0,0,0,0,0,0,0,0,null,240]
[2,3,null,null,null,null,null,null,null,null,null,0,0,0,0,0,0,0,0,0,0,0,0,0,0,0,0,0,null,0,0,0,0,0,0,0,0,0,0,0,0,0,0,0,0,0,0,null,250]
[2,4,6,6,8,9,null,null,null,null,null,6,6,0,0,0,17,0,0,0,0,0,0,0,0,0,0,0,null,1.1452308205649526,1.1452308205649526,0,0,0,2.5145519446185003,0,0,0,0,0,0,0,0,0,0,0,4.8050135857484051,null,260]
[2,3,null,null,null,null,null,null,null,null,null,0,0,0,0,0,0,0,0,0,0,0,0,0,0,0,0,0,null,0,0,0,0,0,0,0,0,0,0,0,0,0,0,0,0,0,0,null,270]
[2,3,null,null,null,null,null,null,null,null,null,0,0,0,0,0,0,0,0,0,0,0,0,0,0,0,0,0,null,0,0,0,0,0,0,0,0,0,0,0,0,0,0,0,0,0,0,null,280]
[2,3,null,null,null,null,null,null,null,null,null,0,0,0,0,0,0,0,0,0,0,0,0,0,0,0,0,0,null,0,0,0,0,0,0,0,0,0,0,0,0,0,0,0,0,0,0,null,290]
[2,3,null,null,null,null,null,null,null,null,null,0,0,0,0,0,0,0,0,0,0,0,0,0,0,0,0,0,null,0,0,0,0,0,0,0,0,0,0,0,0,0,0,0,0,0,0,null,300]
[2,"4B",6,6,10,10,null,null,null,null,null,6,0,0,0,0,0,0,0,0,0,10,0,0,0,0,0,0,null,1.1452308205649526,0,0,0,0,0,0,0,0,0,1.0841657847339399,0,0,0,0,0,0,2.2293966052988923,null,310]
[2,3,null,null,null,null,null,null,null,null,null,0,0,0,0,0,0,0,0,0,0,0,0,0,0,0,0,0,null,0,0,0,0,0,0,0,0,0,0,0,0,0,0,0,0,0,0,null,320]
[2,3,null,null,null,null,null,null,null,null,null,0,0,0,0,0,0,0,0,0,0,0,0,0,0,0,0,0,null,0,0,0,0,0,0,0,0,0,0,0,0,0,0,0,0,0,0,null,330]
[2,3,null,null,null,null,null,null,null,null,null,0,0,0,0,0,0,0,0,0,0,0,0,0,0,0,0,0,null,0,0,0,0,0,{"$f":"((Q638*10)/135)^$K$1","v":0},{"$f":"((R638*10)/135)^$K$1","v":0},{"$f":"((S638*10)/135)^$K$1","v":0},{"$f":"((T638*10)/135)^$K$1","v":0},0,{"$f":"((V638*10)/98)^$K$1","v":0},{"$f":"((W638*10)/98)^$K$1","v":0},{"$f":"((X638*10)/98)^$K$1","v":0},0,0,0,0,0,null,340]
[2,3,null,null,null,null,null,null,null,null,null,0,0,0,0,0,0,0,0,0,0,0,0,0,0,0,0,0,null,0,0,0,0,0,0,0,0,0,0,0,0,0,0,0,0,0,0,null,350]
[2,3,null,null,null,null,null,null,null,null,null,0,0,0,0,0,0,0,0,0,0,0,0,0,0,0,0,0,null,0,0,0,0,0,0,0,0,0,0,0,0,0,0,0,0,0,0,null,"Sum",null,{"$f":"SUM(AY605:AY639)","v":0}]
[2,3,null,null,null,null,null,null,null,null,null,0,0,0,0,0,0,0,0,0,0,0,0,0,0,0,0,0,null,0,0,0,0,0,0,0,0,0,0,0,0,0,0,0,0,0,0]
[2,3,null,null,null,null,null,null,null,null,null,0,0,0,0,0,0,0,0,0,0,0,0,0,0,0,0,0,null,0,0,0,0,{"$f":"((P642*10)/135)^$K$1","v":0},0,0,0,0,0,0,0,0,0,0,0,0,0]
[2,3,null,null,null,null,null,null,null,null,null,0,0,0,0,0,0,0,0,0,0,0,0,0,0,0,0,0,null,0,0,0,0,0,0,0,0,0,0,0,0,0,0,0,0,0,0]
[2,3,null,null,null,null,null,null,null,null,null,0,0,0,0,0,0,0,0,0,0,0,0,0,0,0,0,0,null,0,0,0,0,0,0,0,0,0,0,0,0,0,0,0,0,0,0]
[2,5,null,null,null,null,null,null,null,null,null,0,0,0,0,0,0,0,0,0,0,0,0,0,0,0,0,0,null,0,0,0,0,0,0,0,0,0,0,0,0,0,{"$f":"((Y645*10)/182)^$K$1","v":0},{"$f":"((Z645*10)/182)^$K$1","v":0},0,0,0]
[2,3,null,null,null,null,null,null,null,null,null,{"$f":"C646","v":0},{"$f":"IF(B646=4,D646,0)","v":0},{"$f":"IF(OR(B646=2,B646=\"3B\",B646=\"5C\",B646=\"5D\"),D646,0)","v":0},{"$f":"IF(B646=\"3B\",E646,0)","v":0},{"$f":"IF(OR(B646=3,B646=5,B646=\"5B\",B646=6,B646=\"6B\",B646=7,B646=\"7B\",B646=9,B646=\"9B\"),D646+E646,0)","v":0},{"$f":"IF(B646=4,E646+F646,0)","v":0},{"$f":"IF(OR(B646=5,B646=7,B646=9),F646+G646,0)","v":0},{"$f":"IF(OR(B646=7,B646=9),H646+I646,0)","v":0},{"$f":"IF(B646=9,J646+K646,0)","v":0},{"$f":"IF(OR(B646=\"6C\",B646=\"7C\"),D646+E646,0)","v":0},{"$f":"IF(B646=\"4B\",F646+G646,0)","v":0},{"$f":"IF(OR(B646=\"7B\",B646=\"7C\",B646=\"9B\"),H646+I646,0)","v":0},{"$f":"IF(OR(B646=\"9B\"),J646+K646,0)","v":0},{"$f":"IF((B646=\"5C\"),E646+F646+G646,0)","v":0},{"$f":"IF(B646=6,F646+G646+H646,0)","v":0},{"$f":"IF((B646=\"5D\"),E646+F646+G646,0)","v":0},{"$f":"IF(OR(B646=\"6B\",B646=\"6C\"),F646+G646+H646,0)","v":0},null,0,0,0,0,0,0,0,0,0,0,0,0,0,0,0,{"$f":"((AA646*10)/132)^$K$1","v":0},{"$f":"((AB646*10)/132)^$K$1","v":0},{"$f":"SUM(AD646:AT646)","v":0}]
[2,3,null,null,null,null,null,null,null,null,null,0,0,0,0,0,0,0,0,0,0,0,0,0,0,0,0,0,null,0,0,0,0,0,0,0,0,0,0,0,0,0,0,0,0,0,0]
[2,3,null,null,null,null,null,null,null,null,null,0,0,0,0,0,0,0,0,0,0,0,0,0,0,0,0,0,null,0,0,0,0,0,0,0,0,0,0,0,0,0,0,0,0,0,0]
[2,3,null,null,null,null,null,null,null,null,null,0,0,0,0,0,0,0,0,0,0,0,0,0,0,0,0,0,null,0,0,0,0,0,0,0,0,0,{"$f":"((U649*10)/98)^$K$1","v":0},0,0,0,0,0,0,0,0]
[2,3,null,null,null,null,null,null,null,null,null,0,0,0,0,0,0,0,0,0,0,0,0,0,0,0,0,0,null,0,0,0,0,0,0,0,0,0,0,0,0,0,0,0,0,0,0]
[2,"5B",4,6,6,9,9,null,null,null,null,4,0,0,0,12,0,0,0,0,0,0,0,0,0,0,0,0,null,0.22621843369184247,0,0,0,0.62429507696997399,0,0,0,0,0,0,0,0,0,0,0,0,0.85051351066181646]
[2,3,null,null,null,null,null,null,null,null,null,0,0,0,0,0,0,0,0,0,0,0,0,0,0,0,0,0,null,0,0,0,0,0,0,0,0,0,0,0,0,0,0,0,0,0,0]
[2,3,null,null,null,null,null,null,null,null,null,0,0,0,0,0,0,0,0,0,0,0,0,0,0,0,0,0,null,0,0,0,0,0,0,0,0,0,0,0,0,0,0,0,0,0,0]
[2,3,null,null,null,null,null,null,null,null,null,0,0,0,0,0,0,0,0,0,0,0,0,0,0,0,0,0,null,0,0,0,0,0,0,0,0,0,0,0,0,0,0,0,0,0,0]
[2,3,null,null,null,null,null,null,null,null,null,0,0,0,0,0,0,0,0,0,0,0,0,0,0,0,0,0,null,0,0,0,0,0,0,0,0,0,0,0,0,0,0,0,0,0,0]
[2,3,null,null,null,null,null,null,null,null,null,0,0,0,0,0,0,0,0,0,0,0,0,0,0,0,0,0,null,0,0,0,0,0,0,0,0,0,0,0,0,0,0,0,0,0,0]
[2,3,null,null,null,null,null,null,null,null,null,0,0,0,0,0,0,0,0,0,0,0,0,0,0,0,0,0,null,0,0,0,0,0,0,0,0,0,0,0,0,0,0,0,0,0,0]
[2,6,5,6,6,9,9,9,null,null,null,5,0,0,0,12,0,0,0,0,0,0,0,0,0,27,0,0,null,0.55229109788047448,0,0,0,0.62429507696997399,0,0,0,0,0,0,0,0,0,4.8436137645050952,0,0,6.0201999393555434]
[2,3,null,null,null,null,null,null,null,null,null,0,0,0,0,0,0,0,0,0,0,0,0,0,0,0,0,0,null,0,0,0,0,0,0,0,0,0,0,0,0,0,0,0,0,0,0]
[2,3,null,null,null,null,null,null,null,null,null,0,0,0,0,0,0,0,0,0,0,0,0,0,0,0,0,0,null,0,0,0,0,0,0,0,0,0,0,0,0,0,0,0,0,0,0]
[2,3,null,null,null,null,null,null,null,null,null,0,0,0,0,0,0,0,0,0,0,0,0,0,0,0,0,0,null,0,0,0,0,0,0,0,0,0,0,0,0,0,0,0,0,0,0]
[2,3,null,null,null,null,null,null,null,null,null,0,0,0,0,0,0,0,0,0,0,0,0,0,0,0,0,0,null,0,0,0,0,0,0,0,0,0,0,0,0,0,0,0,0,0,0]
[2,"6B",5,7,7,9,9,9,null,null,null,5,0,0,0,14,0,0,0,0,0,0,0,0,0,0,0,27,null,0.55229109788047448,0,0,0,1.1565837035531692,0,0,0,0,0,0,0,0,0,0,0,17.504887815039957,19.213762616473602]
[2,3,null,null,null,null,null,null,null,null,null,0,0,0,0,0,0,0,0,0,0,0,0,0,0,0,0,0,null,0,0,0,0,0,0,0,0,0,0,0,0,0,0,0,0,0,0]
[2,3,null,null,null,null,null,null,null,null,null,0,0,0,0,0,0,0,0,0,0,0,0,0,0,0,0,0,null,0,0,0,0,0,0,0,0,0,0,0,0,0,0,0,0,0,0]
[2,3,null,null,null,null,null,null,null,null,null,0,0,0,0,0,0,0,0,0,0,0,0,0,0,0,0,0,null,0,0,0,0,0,0,0,0,0,0,0,0,0,0,0,0,0,0]
[2,3,null,null,null,null,null,null,null,null,null,0,0,0,0,0,0,0,0,0,0,0,0,0,0,0,0,0,null,0,0,0,0,0,0,0,0,0,0,0,0,0,0,0,0,0,0]
[2,7,4,6,6,10,10,9,9,null,null,4,0,0,0,12,0,20,18,0,0,0,0,0,0,0,0,0,null,{"$f":"((L668*10)/58)^$K$1","v":0.22621843369184247},{"$f":"((M668*10)/58)^$K$1","v":0},{"$f":"((N668*10)/80)^$K$1","v":0},{"$f":"((O668*10)/80)^$K$1","v":0},0.62429507696997399,0,4.8170916432868358,3.1604938271604937,0,0,0,0,0,0,0,0,0,8.8280989811091466]
[2,3,null,null,null,null,null,null,null,null,null,0,0,0,0,0,0,0,0,0,0,0,0,0,0,0,0,0,null,0,0,0,0,0,0,0,0,0,0,0,0,0,0,0,0,0,0]
[2,3,null,null,null,null,null,null,null,null,null,0,0,0,0,0,0,0,0,0,0,0,0,0,0,0,0,0,null,0,0,0,0,0,{"$f":"((Q670*10)/135)^$K$1","v":0},{"$f":"((R670*10)/135)^$K$1","v":0},{"$f":"((S670*10)/135)^$K$1","v":0},{"$f":"((T670*10)/135)^$K$1","v":0},0,{"$f":"((V670*10)/98)^$K$1","v":0},{"$f":"((W670*10)/98)^$K$1","v":0},{"$f":"((X670*10)/98)^$K$1","v":0},0,0,0,0,0]
[2,"7B",4,6,6,10,10,9,9,null,null,4,0,0,0,12,0,0,0,0,0,0,18,0,0,0,0,0,null,0.22621843369184247,0,0,0,0.62429507696997399,0,0,0,0,{"$f":"((U671*10)/98)^$K$1","v":0},0,11.381138741823007,0,0,0,0,0,12.231652252484823]
[2,3,null,null,null,null,null,null,null,null,null,0,0,0,0,0,0,0,0,0,0,0,0,0,0,0,0,0,null,0,0,0,0,0,0,0,0,0,0,0,0,0,0,0,0,0,0]
[2,3,null,null,null,null,null,null,null,null,null,0,0,0,0,0,0,0,0,0,0,0,0,0,0,0,0,0,null,0,0,0,0,0,0,0,0,0,0,0,0,0,0,0,0,0,0]
[2,3,null,null,null,null,null,null,null,null,null,0,0,0,0,0,0,0,0,0,0,0,0,0,0,0,0,0,null,0,0,0,0,0,0,0,0,0,0,0,0,0,0,0,0,0,0]
[2,3,null,null,null,null,null,null,null,null,null,0,0,0,0,0,0,0,0,0,0,0,0,0,0,0,0,0,null,0,0,0,0,0,0,0,0,0,0,0,0,0,0,0,0,0,0]
[2,3,null,null,null,null,null,null,null,null,null,0,0,0,0,0,0,0,0,0,0,0,0,0,0,0,0,0,null,0,0,0,0,0,0,0,0,0,0,0,0,0,0,0,0,0,0]
[2,9,4,4,6,6,7,7,7,7,8,4,0,0,0,10,0,13,14,15,0,0,0,0,0,0,0,0,null,0.22621843369184247,0,0,0,0.30106822770542724,0,0.85988096514947066,1.1565837035531692,1.5241579027587262,0,0,0,0,0,0,0,0,4.0679092328586357]
[2,3,null,null,null,null,null,null,null,null,null,0,0,0,0,0,0,0,0,0,0,0,0,0,0,0,0,0,null,0,0,0,0,0,0,0,0,0,0,0,0,0,0,0,0,0,0]
[2,3,null,null,null,null,null,null,null,null,null,0,0,0,0,0,0,0,0,0,0,0,0,0,0,0,0,0,null,0,0,0,0,0,0,0,0,0,0,0,0,0,0,0,0,0,0]
[2,3,null,null,null,null,null,null,null,null,null,0,0,0,0,0,0,0,0,0,0,0,0,0,0,0,0,0,null,0,0,0,0,0,0,0,0,0,0,0,0,0,0,0,0,0,0]
[2,3,null,null,null,null,null,null,null,null,null,0,0,0,0,0,0,0,0,0,0,0,0,0,0,0,0,0,null,0,0,0,0,0,0,0,0,0,0,0,0,0,0,0,0,0,0]
[2,3,null,null,null,null,null,null,null,null,null,0,0,0,0,0,0,0,0,0,0,0,0,0,0,0,0,0,null,0,0,0,0,0,0,0,0,0,0,0,0,0,0,0,0,0,0]
[2,"9B",4,4,6,6,7,9,9,7,8,4,0,0,0,10,0,0,0,0,0,0,18,15,0,0,0,0,null,0.22621843369184247,0,0,0,0.30106822770542724,0,0,0,0,0,0,11.381138741823007,5.4885892852155678,0,0,0,0,17.397014688435846]
[2,3,null,null,null,null,null,null,null,null,null,0,0,0,0,0,0,0,0,0,0,0,0,0,0,0,0,0,null,0,0,0,0,0,0,0,0,0,0,0,0,0,0,0,0,0,0]
[2,3,null,null,null,null,null,null,null,null,null,0,0,0,0,0,0,0,0,0,0,0,0,0,0,0,0,0,null,0,0,0,0,0,0,0,0,0,0,0,0,0,0,0,0,0,0]
[2,3,null,null,null,null,null,null,null,null,null,0,0,0,0,0,0,0,0,0,0,0,0,0,0,0,0,0,null,0,0,0,0,0,0,0,0,0,0,0,0,0,0,0,0,0,0]
[2,3,null,null,null,null,null,null,null,null,null,0,0,0,0,0,0,0,0,0,0,0,0,0,0,0,0,0,null,0,0,0,0,0,0,0,0,0,0,0,0,0,0,0,0,0,0]
[2,3,null,null,null,null,null,null,null,null,null,0,0,0,0,0,0,0,0,0,0,0,0,0,0,0,0,0,null,0,0,0,0,0,0,0,0,0,0,0,0,0,0,0,0,0,0]
[2,3,null,null,null,null,null,null,null,null,null,0,0,0,0,0,0,0,0,0,0,0,0,0,0,0,0,0,null,0,0,0,0,0,0,0,0,0,0,0,0,0,0,0,0,0,0]
[2,3,null,null,null,null,null,null,null,null,null,0,0,0,0,0,0,0,0,0,0,0,0,0,0,0,0,0,null,0,0,0,0,0,0,0,0,0,0,0,0,0,0,0,0,0,0]
[2,3,null,null,null,null,null,null,null,null,null,0,0,0,0,0,0,0,0,0,0,0,0,0,0,0,0,0,null,0,0,0,0,0,0,0,0,0,0,0,0,0,0,0,0,0,0]
[2,3,null,null,null,null,null,null,null,null,null,0,0,0,0,0,0,0,0,0,0,0,0,0,0,0,0,0,null,0,0,0,0,0,0,0,0,0,0,0,0,0,0,0,0,0,0]
[2,3,null,null,null,null,null,null,null,null,null,0,0,0,0,0,0,0,0,0,0,0,0,0,0,0,0,0,null,0,0,0,0,0,0,0,0,0,0,0,0,0,0,0,0,0,0]
[2,3,null,null,null,null,null,null,null,null,null,0,0,0,0,0,0,0,0,0,0,0,0,0,0,0,0,0,null,0,0,0,0,0,0,0,0,0,0,0,0,0,0,0,0,0,0]
[2,3,null,null,null,null,null,null,null,null,null,0,0,0,0,0,0,0,0,0,0,0,0,0,0,0,0,0,null,0,0,0,0,0,0,0,0,0,0,0,0,0,0,0,0,0,0]
[2,3,null,null,null,null,null,null,null,null,null,0,0,0,0,0,0,0,0,0,0,0,0,0,0,0,0,0,null,0,0,0,0,0,0,0,0,0,0,0,0,0,0,0,0,0,0]
[2,3,null,null,null,null,null,null,null,null,null,0,0,0,0,0,0,0,0,0,0,0,0,0,0,0,0,0,null,0,0,0,0,0,0,0,0,0,0,0,0,0,0,0,0,0,0]
[2,3,null,null,null,null,null,null,null,null,null,0,0,0,0,0,0,0,0,0,0,0,0,0,0,0,0,0,null,0,0,0,0,0,0,0,0,0,0,0,0,0,0,0,0,0,0]
[2,3,null,null,null,null,null,null,null,null,null,0,0,0,0,0,0,0,0,0,0,0,0,0,0,0,0,0,null,0,0,0,0,0,0,0,0,0,0,0,0,0,0,0,0,0,0]
[2,3,null,null,null,null,null,null,null,null,null,0,0,0,0,0,0,0,0,0,0,0,0,0,0,0,0,0,null,0,0,0,0,0,0,0,0,0,0,0,0,0,0,0,0,0,0]
[2,3,null,null,null,null,null,null,null,null,null,0,0,0,0,0,0,0,0,0,0,0,0,0,0,0,0,0,null,0,0,0,0,0,0,0,0,0,0,0,0,0,0,0,0,0,0]
[2,3,null,null,null,null,null,null,null,null,null,0,0,0,0,0,0,0,0,0,0,0,0,0,0,0,0,0,null,0,0,0,0,0,{"$f":"((Q702*10)/135)^$K$1","v":0},{"$f":"((R702*10)/135)^$K$1","v":0},{"$f":"((S702*10)/135)^$K$1","v":0},{"$f":"((T702*10)/135)^$K$1","v":0},0,{"$f":"((V702*10)/98)^$K$1","v":0},{"$f":"((W702*10)/98)^$K$1","v":0},0,0,0,0,0,0]
[2,3,null,null,null,null,null,null,null,null,null,0,0,0,0,0,0,0,0,0,0,0,0,0,0,0,0,0,null,0,0,0,0,0,0,0,0,0,{"$f":"((U703*10)/98)^$K$1","v":0},0,0,0,0,0,0,0,0]
[2,3,null,null,null,null,null,null,null,null,null,0,0,0,0,0,0,0,0,0,0,0,0,0,0,0,0,0,null,0,0,0,0,0,0,0,0,0,0,0,0,0,0,0,0,0,0]
[2,3,null,null,null,null,null,null,null,null,null,0,0,0,0,0,0,0,0,0,0,0,0,0,0,0,0,0,null,0,0,0,0,0,0,0,0,0,0,0,0,0,0,0,0,0,0]
[2,3,null,null,null,null,null,null,null,null,null,0,0,0,0,0,0,0,0,0,0,0,0,0,0,0,0,0,null,0,0,0,0,{"$f":"((P706*10)/135)^$K$1","v":0},0,0,0,0,0,0,0,0,0,0,0,0,0]
[2,3,null,null,null,null,null,null,null,null,null,0,0,0,0,0,0,0,0,0,0,0,0,0,0,0,0,0,null,0,0,0,0,0,0,0,0,0,0,0,0,0,0,0,0,0,0]
[2,3,null,null,null,null,null,null,null,null,null,0,0,0,0,0,0,0,0,0,0,0,0,0,0,0,0,0,null,0,0,0,0,0,0,0,0,0,0,0,0,0,0,0,0,0,0]
[2,3,null,null,null,null,null,null,null,null,null,0,0,0,0,0,0,0,0,0,0,0,0,0,0,0,0,0,null,0,0,0,0,0,{"$f":"((Q709*10)/135)^$K$1","v":0},{"$f":"((R709*10)/135)^$K$1","v":0},{"$f":"((S709*10)/135)^$K$1","v":0},{"$f":"((T709*10)/135)^$K$1","v":0},0,0,0,0,{"$f":"((Y709*10)/182)^$K$1","v":0},{"$f":"((Z709*10)/182)^$K$1","v":0},0,0,0]
[2,3,null,null,null,null,null,null,null,null,null,{"$f":"C710","v":0},{"$f":"IF(B710=4,D710,0)","v":0},{"$f":"IF(OR(B710=2,B710=\"3B\",B710=\"5C\",B710=\"5D\"),D710,0)","v":0},{"$f":"IF(B710=\"3B\",E710,0)","v":0},{"$f":"IF(OR(B710=3,B710=5,B710=\"5B\",B710=6,B710=\"6B\",B710=7,B710=\"7B\",B710=9,B710=\"9B\"),D710+E710,0)","v":0},{"$f":"IF(B710=4,E710+F710,0)","v":0},{"$f":"IF(OR(B710=5,B710=7,B710=9),F710+G710,0)","v":0},{"$f":"IF(OR(B710=7,B710=9),H710+I710,0)","v":0},{"$f":"IF(B710=9,J710+K710,0)","v":0},{"$f":"IF(OR(B710=\"6C\",B710=\"7C\"),D710+E710,0)","v":0},{"$f":"IF(B710=\"4B\",F710+G710,0)","v":0},{"$f":"IF(OR(B710=\"7B\",B710=\"7C\",B710=\"9B\"),H710+I710,0)","v":0},{"$f":"IF(OR(B710=\"9B\"),J710+K710,0)","v":0},{"$f":"IF((B710=\"5C\"),E710+F710+G710,0)","v":0},{"$f":"IF(B710=6,F710+G710+H710,0)","v":0},{"$f":"IF((B710=\"5D\"),E710+F710+G710,0)","v":0},{"$f":"IF(OR(B710=\"6B\",B710=\"6C\"),F710+G710+H710,0)","v":0},null,0,0,0,0,0,0,0,0,0,0,0,0,0,0,0,{"$f":"((AA710*10)/132)^$K$1","v":0},{"$f":"((AB710*10)/132)^$K$1","v":0},{"$f":"SUM(AD710:AT710)","v":0}]
[2,3,null,null,null,null,null,null,null,null,null,0,0,0,0,0,0,0,0,0,0,0,0,0,0,0,0,0,null,0,0,0,0,0,0,0,0,0,0,0,0,0,0,0,0,0,0]
[2,3,null,null,null,null,null,null,null,null,null,0,0,0,0,0,0,0,0,0,0,0,0,0,0,0,0,0,null,0,0,0,0,0,0,0,0,0,0,0,0,0,0,0,0,0,0]
[2,3,null,null,null,null,null,null,null,null,null,0,0,0,0,0,0,0,0,0,0,0,0,0,0,0,0,0,null,0,0,0,0,0,0,0,0,0,0,0,0,0,0,0,0,0,0]
[2,3,null,null,null,null,null,null,null,null,null,0,0,0,0,0,0,0,0,0,0,0,0,0,0,0,0,0,null,0,0,0,0,0,0,0,0,0,0,0,0,0,0,0,0,0,0]
[2,3,null,null,null,null,null,null,null,null,null,0,0,0,0,0,0,0,0,0,0,0,0,0,0,0,0,0,null,0,0,0,0,0,0,0,0,0,0,0,0,0,0,0,0,0,0]
[2,3,null,null,null,null,null,null,null,null,null,0,0,0,0,0,0,0,0,0,0,0,0,0,0,0,0,0,null,0,0,0,0,0,0,0,0,0,0,0,0,0,0,0,0,0,0]
[2,3,null,null,null,null,null,null,null,null,null,0,0,0,0,0,0,0,0,0,0,0,0,0,0,0,0,0,null,0,0,0,0,0,0,0,0,0,0,0,0,0,0,0,0,0,0]
[2,3,null,null,null,null,null,null,null,null,null,0,0,0,0,0,0,0,0,0,0,0,0,0,0,0,0,0,null,0,0,0,0,0,0,0,0,0,0,0,0,0,0,0,0,0,0]
[2,3,null,null,null,null,null,null,null,null,null,0,0,0,0,0,0,0,0,0,0,0,0,0,0,0,0,0,null,0,0,0,0,0,0,0,0,0,0,0,0,0,0,0,0,0,0]
[2,3,null,null,null,null,null,null,null,null,null,0,0,0,0,0,0,0,0,0,0,0,0,0,0,0,0,0,null,0,0,0,0,0,0,0,0,0,0,0,0,0,0,0,0,0,0]
[2,3,null,null,null,null,null,null,null,null,null,0,0,0,0,0,0,0,0,0,0,0,0,0,0,0,0,0,null,0,0,0,0,0,0,0,0,0,0,0,0,0,0,0,0,0,0]
[2,3,null,null,null,null,null,null,null,null,null,0,0,0,0,0,0,0,0,0,0,0,0,0,0,0,0,0,null,0,0,0,0,0,0,0,0,0,0,0,0,0,0,0,0,0,0]
[2,3,null,null,null,null,null,null,null,null,null,0,0,0,0,0,0,0,0,0,0,0,0,0,0,0,0,0,null,0,0,0,0,0,0,0,0,0,0,0,0,0,0,0,0,0,0]
[2,3,null,null,null,null,null,null,null,null,null,0,0,0,0,0,0,0,0,0,0,0,0,0,0,0,0,0,null,0,0,0,0,0,0,0,0,0,0,0,0,0,0,0,0,0,0]
[2,3,null,null,null,null,null,null,null,null,null,0,0,0,0,0,0,0,0,0,0,0,0,0,0,0,0,0,null,0,0,0,0,0,0,0,0,0,0,0,0,0,0,0,0,0,0]
[2,3,null,null,null,null,null,null,null,null,null,0,0,0,0,0,0,0,0,0,0,0,0,0,0,0,0,0,null,0,0,0,0,0,0,0,0,0,0,0,0,0,0,0,0,0,0]
[2,3,null,null,null,null,null,null,null,null,null,0,0,0,0,0,0,0,0,0,0,0,0,0,0,0,0,0,null,0,0,0,0,0,0,0,0,0,0,0,0,0,0,0,0,0,0]
[2,3,null,null,null,null,null,null,null,null,null,0,0,0,0,0,0,0,0,0,0,0,0,0,0,0,0,0,null,0,0,0,0,0,0,0,0,0,0,0,0,0,0,0,0,0,0]
[2,3,null,null,null,null,null,null,null,null,null,0,0,0,0,0,0,0,0,0,0,0,0,0,0,0,0,0,null,0,0,0,0,0,0,0,0,0,0,0,0,0,0,0,0,0,0]
[2,3,null,null,null,null,null,null,null,null,null,0,0,0,0,0,0,0,0,0,0,0,0,0,0,0,0,0,null,0,0,0,0,0,0,0,0,0,0,0,0,0,0,0,0,0,0]
[2,3,null,null,null,null,null,null,null,null,null,0,0,0,0,0,0,0,0,0,0,0,0,0,0,0,0,0,null,0,0,0,0,0,0,0,0,0,0,0,0,0,0,0,0,0,0]
[2,3,null,null,null,null,null,null,null,null,null,0,0,0,0,0,0,0,0,0,0,0,0,0,0,0,0,0,null,{"$f":"((L732*10)/58)^$K$1","v":0},{"$f":"((M732*10)/58)^$K$1","v":0},{"$f":"((N732*10)/80)^$K$1","v":0},{"$f":"((O732*10)/80)^$K$1","v":0},0,0,0,0,0,0,0,0,0,0,0,0,0,0]
[2,3,null,null,null,null,null,null,null,null,null,0,0,0,0,0,0,0,0,0,0,0,0,0,0,0,0,0,null,0,0,0,0,0,0,0,0,0,0,0,0,0,0,0,0,0,0]
[2,3,null,null,null,null,null,null,null,null,null,0,0,0,0,0,0,0,0,0,0,0,0,0,0,0,0,0,null,0,0,0,0,0,0,0,0,0,0,{"$f":"((V734*10)/98)^$K$1","v":0},{"$f":"((W734*10)/98)^$K$1","v":0},{"$f":"((X734*10)/98)^$K$1","v":0},0,0,0,0,0]
[2,3,null,null,null,null,null,null,null,null,null,0,0,0,0,0,0,0,0,0,0,0,0,0,0,0,0,0,null,0,0,0,0,0,0,0,0,0,{"$f":"((U735*10)/98)^$K$1","v":0},0,0,0,0,0,0,0,0]
[2,3,null,null,null,null,null,null,null,null,null,0,0,0,0,0,0,0,0,0,0,0,0,0,0,0,0,0,null,0,0,0,0,0,0,0,0,0,0,0,0,0,0,0,0,0,0]
[2,3,null,null,null,null,null,null,null,null,null,0,0,0,0,0,0,0,0,0,0,0,0,0,0,0,0,0,null,0,0,0,0,0,0,0,0,0,0,0,0,0,0,0,0,0,0]
[2,3,null,null,null,null,null,null,null,null,null,0,0,0,0,0,0,0,0,0,0,0,0,0,0,0,0,0,null,0,0,0,0,0,0,0,0,0,0,0,0,0,0,0,0,0,0]
[2,3,null,null,null,null,null,null,null,null,null,0,0,0,0,0,0,0,0,0,0,0,0,0,0,0,0,0,null,0,0,0,0,0,0,0,0,0,0,0,0,0,0,0,0,0,0]
[2,3,null,null,null,null,null,null,null,null,null,0,0,0,0,0,0,0,0,0,0,0,0,0,0,0,0,0,null,0,0,0,0,0,0,0,0,0,0,0,0,0,0,0,0,0,0]
[2,3,null,null,null,null,null,null,null,null,null,0,0,0,0,0,0,0,0,0,0,0,0,0,0,0,0,0,null,0,0,0,0,0,0,0,0,0,0,0,0,0,0,0,0,0,0]
[2,3,null,null,null,null,null,null,null,null,null,0,0,0,0,0,0,0,0,0,0,0,0,0,0,0,0,0,null,0,0,0,0,0,0,0,0,0,0,0,0,0,0,0,0,0,0]
[2,3,null,null,null,null,null,null,null,null,null,0,0,0,0,0,0,0,0,0,0,0,0,0,0,0,0,0,null,0,0,0,0,0,0,0,0,0,0,0,0,0,0,0,0,0,0]
[2,"3B",null,null,null,null,null,null,null,null,null,0,0,0,0,0,0,0,0,0,0,0,0,0,0,0,0,0,null,0,0,0,0,0,0,0,0,0,0,0,0,0,0,0,0,0,0]
[2,"3C",null,null,null,null,null,null,null,null,null,0,0,0,0,0,0,0,0,0,0,0,0,0,0,0,0,0,null,0,0,0,0,0,0,0,0,0,0,0,0,0,0,0,0,0,0]
[2,4,null,null,null,null,null,null,null,null,null,0,0,0,0,0,0,0,0,0,0,0,0,0,0,0,0,0,null,0,0,0,0,0,0,0,0,0,0,0,0,0,0,0,0,0,0]
[2,"4B",null,null,null,null,null,null,null,null,null,0,0,0,0,0,0,0,0,0,0,0,0,0,0,0,0,0,null,0,0,0,0,0,0,0,0,0,0,0,0,0,0,0,0,0,0]
[2,5,null,null,null,null,null,null,null,null,null,0,0,0,0,0,0,0,0,0,0,0,0,0,0,0,0,0,null,0,0,0,0,0,0,0,0,0,0,0,0,0,0,0,0,0,0]
[2,"5B",null,null,null,null,null,null,null,null,null,0,0,0,0,0,0,0,0,0,0,0,0,0,0,0,0,0,null,0,0,0,0,0,0,0,0,0,0,0,0,0,0,0,0,0,0]
[2,6,null,null,null,null,null,null,null,null,null,0,0,0,0,0,0,0,0,0,0,0,0,0,0,0,0,0,null,0,0,0,0,0,0,0,0,0,0,0,0,0,0,0,0,0,0]
[2,"6B",null,null,null,null,null,null,null,null,null,0,0,0,0,0,0,0,0,0,0,0,0,0,0,0,0,0,null,0,0,0,0,0,0,0,0,0,0,0,0,0,0,0,0,0,0]
[2,7,null,null,null,null,null,null,null,null,null,0,0,0,0,0,0,0,0,0,0,0,0,0,0,0,0,0,null,0,0,0,0,0,0,0,0,0,0,0,0,0,0,0,0,0,0]
[2,"7B",null,null,null,null,null,null,null,null,null,0,0,0,0,0,0,0,0,0,0,0,0,0,0,0,0,0,null,0,0,0,0,0,0,0,0,0,0,0,0,0,0,0,0,0,0]
[2,9,null,null,null,null,null,null,null,null,null,0,0,0,0,0,0,0,0,0,0,0,0,0,0,0,0,0,null,0,0,0,0,0,0,0,0,0,0,0,0,0,0,0,0,0,0]
[2,"9B",null,null,null,null,null,null,null,null,null,0,0,0,0,0,0,0,0,0,0,0,0,0,0,0,0,0,null,0,0,0,0,0,0,0,0,0,0,0,0,0,0,0,0,0,0]
[2,2,4,8,null,null,null,null,null,null,null,4,0,8,0,0,0,0,0,0,0,0,0,0,0,0,0,0,null,0.22621843369184247,0,1,0,0,0,0,0,0,0,0,0,0,0,0,0,0,1.2262184336918425,null,20]
[2,3,null,null,null,null,null,null,null,null,null,0,0,0,0,0,0,0,0,0,0,0,0,0,0,0,0,0,null,0,0,0,0,0,{"$f":"((Q757*10)/135)^$K$1","v":0},{"$f":"((R757*10)/135)^$K$1","v":0},{"$f":"((S757*10)/135)^$K$1","v":0},{"$f":"((T757*10)/135)^$K$1","v":0},0,{"$f":"((V757*10)/98)^$K$1","v":0},{"$f":"((W757*10)/98)^$K$1","v":0},{"$f":"((X757*10)/98)^$K$1","v":0},0,0,0,0,0,null,30]
[2,3,null,null,null,null,null,null,null,null,null,0,0,0,0,0,0,0,0,0,0,0,0,0,0,0,0,0,null,0,0,0,0,0,0,0,0,0,0,0,0,0,0,0,0,0,0,null,40]
[2,3,null,null,null,null,null,null,null,null,null,0,0,0,0,0,0,0,0,0,0,0,0,0,0,0,0,0,null,0,0,0,0,0,0,0,0,0,0,0,0,0,0,0,0,0,0,null,50]
[2,3,null,null,null,null,null,null,null,null,null,0,0,0,0,0,0,0,0,0,0,0,0,0,0,0,0,0,null,0,0,0,0,0,0,0,0,0,0,0,0,0,0,0,0,0,0,null,60]
[2,3,null,null,null,null,null,null,null,null,null,0,0,0,0,0,0,0,0,0,0,0,0,0,0,0,0,0,null,0,0,0,0,0,0,0,0,0,0,0,0,0,0,0,0,0,0,null,70]
[2,"3B",6,10,8,null,null,null,null,null,null,6,0,10,8,0,0,0,0,0,0,0,0,0,0,0,0,0,null,1.1452308205649526,0,2.44140625,1,0,0,0,0,0,0,0,0,0,0,0,0,0,4.5866370705649526,null,80]
[2,3,null,null,null,null,null,null,null,null,null,0,0,0,0,0,0,0,0,0,0,0,0,0,0,0,0,0,null,0,0,0,0,0,0,0,0,0,0,0,0,0,0,0,0,0,0,null,90]
[2,3,null,null,null,null,null,null,null,null,null,0,0,0,0,0,0,0,0,0,0,0,0,0,0,0,0,0,null,0,0,0,0,0,0,0,0,0,0,0,0,0,0,0,0,0,0,null,100]
[2,3,null,null,null,null,null,null,null,null,null,0,0,0,0,0,0,0,0,0,0,0,0,0,0,0,0,0,null,0,0,0,0,0,0,0,0,0,0,0,0,0,0,0,0,0,0,null,110]
[2,3,null,null,null,null,null,null,null,null,null,0,0,0,0,0,0,0,0,0,0,0,0,0,0,0,0,0,null,0,0,0,0,0,0,0,0,0,0,0,0,0,0,0,0,0,0,null,120]
[2,3,null,null,null,null,null,null,null,null,null,0,0,0,0,0,0,0,0,0,0,0,0,0,0,0,0,0,null,0,0,0,0,0,0,0,0,0,{"$f":"((U767*10)/98)^$K$1","v":0},0,0,0,0,0,0,0,0,null,130]
[2,3,null,null,null,null,null,null,null,null,null,0,0,0,0,0,0,0,0,0,0,0,0,0,0,0,0,0,null,0,0,0,0,0,0,0,0,0,0,0,0,0,0,0,0,0,0,null,140]
[2,3,null,null,null,null,null,null,null,null,null,0,0,0,0,0,0,0,0,0,0,0,0,0,0,0,0,0,null,0,0,0,0,0,0,0,0,0,0,0,0,0,0,0,0,0,0,null,150]
[2,3,null,null,null,null,null,null,null,null,null,0,0,0,0,0,0,0,0,0,0,0,0,0,0,0,0,0,null,0,0,0,0,{"$f":"((P770*10)/135)^$K$1","v":0},0,0,0,0,0,0,0,0,0,0,0,0,0,null,160]
[2,3,null,null,null,null,null,null,null,null,null,0,0,0,0,0,0,0,0,0,0,0,0,0,0,0,0,0,null,0,0,0,0,0,0,0,0,0,0,0,0,0,0,0,0,0,0,null,170]
[2,"3C",6,8,4,null,null,null,null,null,null,6,0,0,0,0,0,0,0,0,0,0,0,0,0,0,0,0,null,1.1452308205649526,0,0,0,0,0,0,0,0,0,0,0,0,0,0,0,0,1.1452308205649526,null,180]
[2,3,null,null,null,null,null,null,null,null,null,0,0,0,0,0,0,0,0,0,0,0,0,0,0,0,0,0,null,0,0,0,0,0,0,0,0,0,0,0,0,0,{"$f":"((Y773*10)/182)^$K$1","v":0},{"$f":"((Z773*10)/182)^$K$1","v":0},0,0,0,null,190]
[2,3,null,null,null,null,null,null,null,null,null,{"$f":"C774","v":0},{"$f":"IF(B774=4,D774,0)","v":0},{"$f":"IF(OR(B774=2,B774=\"3B\",B774=\"5C\",B774=\"5D\"),D774,0)","v":0},{"$f":"IF(B774=\"3B\",E774,0)","v":0},{"$f":"IF(OR(B774=3,B774=5,B774=\"5B\",B774=6,B774=\"6B\",B774=7,B774=\"7B\",B774=9,B774=\"9B\"),D774+E774,0)","v":0},{"$f":"IF(B774=4,E774+F774,0)","v":0},{"$f":"IF(OR(B774=5,B774=7,B774=9),F774+G774,0)","v":0},{"$f":"IF(OR(B774=7,B774=9),H774+I774,0)","v":0},{"$f":"IF(B774=9,J774+K774,0)","v":0},{"$f":"IF(OR(B774=\"6C\",B774=\"7C\"),D774+E774,0)","v":0},{"$f":"IF(B774=\"4B\",F774+G774,0)","v":0},{"$f":"IF(OR(B774=\"7B\",B774=\"7C\",B774=\"9B\"),H774+I774,0)","v":0},{"$f":"IF(OR(B774=\"9B\"),J774+K774,0)","v":0},{"$f":"IF((B774=\"5C\"),E774+F774+G774,0)","v":0},{"$f":"IF(B774=6,F774+G774+H774,0)","v":0},{"$f":"IF((B774=\"5D\"),E774+F774+G774,0)","v":0},{"$f":"IF(OR(B774=\"6B\",B774=\"6C\"),F774+G774+H774,0)","v":0},null,0,0,0,0,0,0,0,0,0,0,0,0,0,0,0,{"$f":"((AA774*10)/132)^$K$1","v":0},{"$f":"((AB774*10)/132)^$K$1","v":0},{"$f":"SUM(AD774:AT774)","v":0},null,200]
[2,3,null,null,null,null,null,null,null,null,null,0,0,0,0,0,0,0,0,0,0,0,0,0,0,0,0,0,null,0,0,0,0,0,0,0,0,0,0,0,0,0,0,0,0,0,0,null,210]
[2,3,null,null,null,null,null,null,null,null,null,0,0,0,0,0,0,0,0,0,0,0,0,0,0,0,0,0,null,0,0,0,0,0,0,0,0,0,0,0,0,0,0,0,0,0,0,null,220]
[2,3,null,null,null,null,null,null,null,null,null,0,0,0,0,0,0,0,0,0,0,0,0,0,0,0,0,0,null,0,0,0,0,0,0,0,0,0,0,0,0,0,0,0,0,0,0,null,230]
[2,3,null,null,null,null,null,null,null,null,null,0,0,0,0,0,0,0,0,0,0,0,0,0,0,0,0,0,null,0,0,0,0,0,0,0,0,0,0,0,0,0,0,0,0,0,0,null,240]
[2,3,null,null,null,null,null,null,null,null,null,0,0,0,0,0,0,0,0,0,0,0,0,0,0,0,0,0,null,0,0,0,0,0,0,0,0,0,0,0,0,0,0,0,0,0,0,null,250]
[2,4,6,6,8,9,null,null,null,null,null,6,6,0,0,0,17,0,0,0,0,0,0,0,0,0,0,0,null,1.1452308205649526,1.1452308205649526,0,0,0,2.5145519446185003,0,0,0,0,0,0,0,0,0,0,0,4.8050135857484051,null,260]
[2,3,null,null,null,null,null,null,null,null,null,0,0,0,0,0,0,0,0,0,0,0,0,0,0,0,0,0,null,0,0,0,0,0,0,0,0,0,0,0,0,0,0,0,0,0,0,null,270]
[2,3,null,null,null,null,null,null,null,null,null,0,0,0,0,0,0,0,0,0,0,0,0,0,0,0,0,0,null,0,0,0,0,0,0,0,0,0,0,0,0,0,0,0,0,0,0,null,280]
[2,3,null,null,null,null,null,null,null,null,null,0,0,0,0,0,0,0,0,0,0,0,0,0,0,0,0,0,null,0,0,0,0,0,0,0,0,0,0,0,0,0,0,0,0,0,0,null,290]
[2,3,null,null,null,null,null,null,null,null,null,0,0,0,0,0,0,0,0,0,0,0,0,0,0,0,0,0,null,0,0,0,0,0,0,0,0,0,0,0,0,0,0,0,0,0,0,null,300]
[2,"4B",6,6,10,10,null,null,null,null,null,6,0,0,0,0,0,0,0,0,0,10,0,0,0,0,0,0,null,1.1452308205649526,0,0,0,0,0,0,0,0,0,1.0841657847339399,0,0,0,0,0,0,2.2293966052988923,null,310]
[2,3,null,null,null,null,null,null,null,null,null,0,0,0,0,0,0,0,0,0,0,0,0,0,0,0,0,0,null,0,0,0,0,0,0,0,0,0,0,0,0,0,0,0,0,0,0,null,320]
[2,3,null,null,null,null,null,null,null,null,null,0,0,0,0,0,0,0,0,0,0,0,0,0,0,0,0,0,null,0,0,0,0,0,0,0,0,0,0,0,0,0,0,0,0,0,0,null,330]
[2,3,null,null,null,null,null,null,null,null,null,0,0,0,0,0,0,0,0,0,0,0,0,0,0,0,0,0,null,0,0,0,0,0,0,0,0,0,0,0,0,0,0,0,0,0,0,null,340]
[2,3,null,null,null,null,null,null,null,null,null,0,0,0,0,0,0,0,0,0,0,0,0,0,0,0,0,0,null,0,0,0,0,0,{"$f":"((Q789*10)/135)^$K$1","v":0},{"$f":"((R789*10)/135)^$K$1","v":0},{"$f":"((S789*10)/135)^$K$1","v":0},{"$f":"((T789*10)/135)^$K$1","v":0},0,{"$f":"((V789*10)/98)^$K$1","v":0},{"$f":"((W789*10)/98)^$K$1","v":0},{"$f":"((X789*10)/98)^$K$1","v":0},0,0,0,0,0,null,350]
[2,3,null,null,null,null,null,null,null,null,null,0,0,0,0,0,0,0,0,0,0,0,0,0,0,0,0,0,null,0,0,0,0,0,0,0,0,0,0,0,0,0,0,0,0,0,0,null,"Sum",null,{"$f":"SUM(AY755:AY789)","v":0}]
[2,3,null,null,null,null,null,null,null,null,null,0,0,0,0,0,0,0,0,0,0,0,0,0,0,0,0,0,null,0,0,0,0,0,0,0,0,0,0,0,0,0,0,0,0,0,0]
[2,3,null,null,null,null,null,null,null,null,null,0,0,0,0,0,0,0,0,0,0,0,0,0,0,0,0,0,null,0,0,0,0,0,0,0,0,0,0,0,0,0,0,0,0,0,0]
[2,3,null,null,null,null,null,null,null,null,null,0,0,0,0,0,0,0,0,0,0,0,0,0,0,0,0,0,null,0,0,0,0,0,0,0,0,0,0,0,0,0,0,0,0,0,0]
[2,3,null,null,null,null,null,null,null,null,null,0,0,0,0,0,0,0,0,0,0,0,0,0,0,0,0,0,null,0,0,0,0,0,0,0,0,0,0,0,0,0,0,0,0,0,0]
[2,5,null,null,null,null,null,null,null,null,null,0,0,0,0,0,0,0,0,0,0,0,0,0,0,0,0,0,null,0,0,0,0,0,0,0,0,0,0,0,0,0,0,0,0,0,0]
[2,3,null,null,null,null,null,null,null,null,null,0,0,0,0,0,0,0,0,0,0,0,0,0,0,0,0,0,null,{"$f":"((L796*10)/58)^$K$1","v":0},{"$f":"((M796*10)/58)^$K$1","v":0},{"$f":"((N796*10)/80)^$K$1","v":0},{"$f":"((O796*10)/80)^$K$1","v":0},0,0,0,0,0,0,0,0,0,0,0,0,0,0]
[2,3,null,null,null,null,null,null,null,null,null,0,0,0,0,0,0,0,0,0,0,0,0,0,0,0,0,0,null,0,0,0,0,0,0,0,0,0,0,0,0,0,0,0,0,0,0]
[2,3,null,null,null,null,null,null,null,null,null,0,0,0,0,0,0,0,0,0,0,0,0,0,0,0,0,0,null,0,0,0,0,0,0,0,0,0,0,0,0,0,0,0,0,0,0]
[2,3,null,null,null,null,null,null,null,null,null,0,0,0,0,0,0,0,0,0,0,0,0,0,0,0,0,0,null,0,0,0,0,0,0,0,0,0,{"$f":"((U799*10)/98)^$K$1","v":0},0,0,0,0,0,0,0,0]
[2,3,null,null,null,null,null,null,null,null,null,0,0,0,0,0,0,0,0,0,0,0,0,0,0,0,0,0,null,0,0,0,0,0,0,0,0,0,0,0,0,0,0,0,0,0,0]
[2,"5B",4,6,6,9,9,null,null,null,null,4,0,0,0,12,0,0,0,0,0,0,0,0,0,0,0,0,null,0.22621843369184247,0,0,0,0.62429507696997399,0,0,0,0,0,0,0,0,0,0,0,0,0.85051351066181646]
[2,3,null,null,null,null,null,null,null,null,null,0,0,0,0,0,0,0,0,0,0,0,0,0,0,0,0,0,null,0,0,0,0,0,0,0,0,0,0,0,0,0,0,0,0,0,0]
[2,3,null,null,null,null,null,null,null,null,null,0,0,0,0,0,0,0,0,0,0,0,0,0,0,0,0,0,null,0,0,0,0,0,0,0,0,0,0,0,0,0,0,0,0,0,0]
[2,3,null,null,null,null,null,null,null,null,null,0,0,0,0,0,0,0,0,0,0,0,0,0,0,0,0,0,null,0,0,0,0,0,0,0,0,0,0,0,0,0,0,0,0,0,0]
[2,3,null,null,null,null,null,null,null,null,null,0,0,0,0,0,0,0,0,0,0,0,0,0,0,0,0,0,null,0,0,0,0,0,0,0,0,0,0,0,0,0,0,0,0,0,0]
[2,3,null,null,null,null,null,null,null,null,null,0,0,0,0,0,0,0,0,0,0,0,0,0,0,0,0,0,null,0,0,0,0,0,0,0,0,0,0,0,0,0,0,0,0,0,0]
[2,3,null,null,null,null,null,null,null,null,null,0,0,0,0,0,0,0,0,0,0,0,0,0,0,0,0,0,null,0,0,0,0,0,0,0,0,0,0,0,0,0,0,0,0,0,0]
[2,6,5,6,6,9,9,9,null,null,null,5,0,0,0,12,0,0,0,0,0,0,0,0,0,27,0,0,null,0.55229109788047448,0,0,0,0.62429507696997399,0,0,0,0,0,0,0,0,0,4.8436137645050952,0,0,6.0201999393555434]
[2,3,null,null,null,null,null,null,null,null,null,0,0,0,0,0,0,0,0,0,0,0,0,0,0,0,0,0,null,0,0,0,0,0,0,0,0,0,0,0,0,0,0,0,0,0,0]
[2,3,null,null,null,null,null,null,null,null,null,0,0,0,0,0,0,0,0,0,0,0,0,0,0,0,0,0,null,0,0,0,0,0,0,0,0,0,0,0,0,0,0,0,0,0,0]
[2,3,null,null,null,null,null,null,null,null,null,0,0,0,0,0,0,0,0,0,0,0,0,0,0,0,0,0,null,0,0,0,0,0,0,0,0,0,0,0,0,0,0,0,0,0,0]
[2,3,null,null,null,null,null,null,null,null,null,0,0,0,0,0,0,0,0,0,0,0,0,0,0,0,0,0,null,0,0,0,0,0,0,0,0,0,0,0,0,0,0,0,0,0,0]
[2,"6B",5,7,7,9,9,9,null,null,null,5,0,0,0,14,0,0,0,0,0,0,0,0,0,0,0,27,null,0.55229109788047448,0,0,0,1.1565837035531692,0,0,0,0,0,0,0,0,0,0,0,17.504887815039957,19.213762616473602]
[2,3,null,null,null,null,null,null,null,null,null,0,0,0,0,0,0,0,0,0,0,0,0,0,0,0,0,0,null,0,0,0,0,0,0,0,0,0,0,0,0,0,0,0,0,0,0]
[2,3,null,null,null,null,null,null,null,null,null,0,0,0,0,0,0,0,0,0,0,0,0,0,0,0,0,0,null,0,0,0,0,0,0,0,0,0,0,0,0,0,0,0,0,0,0]
[2,3,null,null,null,null,null,null,null,null,null,0,0,0,0,0,0,0,0,0,0,0,0,0,0,0,0,0,null,0,0,0,0,0,0,0,0,0,0,0,0,0,0,0,0,0,0]
[2,3,null,null,null,null,null,null,null,null,null,0,0,0,0,0,0,0,0,0,0,0,0,0,0,0,0,0,null,0,0,0,0,0,0,0,0,0,0,0,0,0,0,0,0,0,0]
[2,7,4,6,6,10,10,9,9,null,null,4,0,0,0,12,0,20,18,0,0,0,0,0,0,0,0,0,null,0.22621843369184247,0,0,0,0.62429507696997399,0,4.8170916432868358,3.1604938271604937,0,0,0,0,0,0,0,0,0,8.8280989811091466]
[2,3,null,null,null,null,null,null,null,null,null,0,0,0,0,0,0,0,0,0,0,0,0,0,0,0,0,0,null,0,0,0,0,0,0,0,0,0,0,0,0,0,0,0,0,0,0]
[2,3,null,null,null,null,null,null,null,null,null,0,0,0,0,0,0,0,0,0,0,0,0,0,0,0,0,0,null,0,0,0,0,0,0,0,0,0,0,0,0,0,0,0,0,0,0]
[2,"7B",4,6,6,10,10,9,9,null,null,4,0,0,0,12,0,0,0,0,0,0,18,0,0,0,0,0,null,0.22621843369184247,0,0,0,0.62429507696997399,{"$f":"((Q821*10)/135)^$K$1","v":0},{"$f":"((R821*10)/135)^$K$1","v":0},{"$f":"((S821*10)/135)^$K$1","v":0},{"$f":"((T821*10)/135)^$K$1","v":0},0,{"$f":"((V821*10)/98)^$K$1","v":0},{"$f":"((W821*10)/98)^$K$1","v":11.381138741823007},{"$f":"((X821*10)/98)^$K$1","v":0},0,0,0,0,12.231652252484823]
[2,3,null,null,null,null,null,null,null,null,null,0,0,0,0,0,0,0,0,0,0,0,0,0,0,0,0,0,null,0,0,0,0,0,0,0,0,0,{"$f":"((U822*10)/98)^$K$1","v":0},0,0,0,0,0,0,0,0]
[2,3,null,null,null,null,null,null,null,null,null,0,0,0,0,0,0,0,0,0,0,0,0,0,0,0,0,0,null,0,0,0,0,0,0,0,0,0,0,0,0,0,0,0,0,0,0]
[2,3,null,null,null,null,null,null,null,null,null,0,0,0,0,0,0,0,0,0,0,0,0,0,0,0,0,0,null,0,0,0,0,0,0,0,0,0,0,0,0,0,0,0,0,0,0]
[2,3,null,null,null,null,null,null,null,null,null,0,0,0,0,0,0,0,0,0,0,0,0,0,0,0,0,0,null,0,0,0,0,0,0,0,0,0,0,0,0,0,0,0,0,0,0]
[2,3,null,null,null,null,null,null,null,null,null,0,0,0,0,0,0,0,0,0,0,0,0,0,0,0,0,0,null,0,0,0,0,0,0,0,0,0,0,0,0,0,0,0,0,0,0]
[2,9,4,4,6,6,7,7,7,7,8,4,0,0,0,10,0,13,14,15,0,0,0,0,0,0,0,0,null,0.22621843369184247,0,0,0,0.30106822770542724,0,0.85988096514947066,1.1565837035531692,1.5241579027587262,0,0,0,0,0,0,0,0,4.0679092328586357]
[2,3,null,null,null,null,null,null,null,null,null,0,0,0,0,0,0,0,0,0,0,0,0,0,0,0,0,0,null,0,0,0,0,0,0,0,0,0,0,0,0,0,0,0,0,0,0]
[2,3,null,null,null,null,null,null,null,null,null,0,0,0,0,0,0,0,0,0,0,0,0,0,0,0,0,0,null,0,0,0,0,0,0,0,0,0,0,0,0,0,0,0,0,0,0]
[2,3,null,null,null,null,null,null,null,null,null,0,0,0,0,0,0,0,0,0,0,0,0,0,0,0,0,0,null,0,0,0,0,0,0,0,0,0,0,0,0,0,0,0,0,0,0]
[2,3,null,null,null,null,null,null,null,null,null,0,0,0,0,0,0,0,0,0,0,0,0,0,0,0,0,0,null,0,0,0,0,0,0,0,0,0,0,0,0,0,0,0,0,0,0]
[2,3,null,null,null,null,null,null,null,null,null,0,0,0,0,0,0,0,0,0,0,0,0,0,0,0,0,0,null,0,0,0,0,0,0,0,0,0,0,0,0,0,0,0,0,0,0]
[2,"9B",4,4,6,6,7,9,9,7,8,4,0,0,0,10,0,0,0,0,0,0,18,15,0,0,0,0,null,0.22621843369184247,0,0,0,0.30106822770542724,0,0,0,0,0,0,11.381138741823007,5.4885892852155678,0,0,0,0,17.397014688435846]
[2,3,null,null,null,null,null,null,null,null,null,0,0,0,0,0,0,0,0,0,0,0,0,0,0,0,0,0,null,0,0,0,0,{"$f":"((P834*10)/135)^$K$1","v":0},0,0,0,0,0,0,0,0,0,0,0,0,0]
[2,3,null,null,null,null,null,null,null,null,null,0,0,0,0,0,0,0,0,0,0,0,0,0,0,0,0,0,null,0,0,0,0,0,0,0,0,0,0,0,0,0,0,0,0,0,0]
[2,3,null,null,null,null,null,null,null,null,null,0,0,0,0,0,0,0,0,0,0,0,0,0,0,0,0,0,null,0,0,0,0,0,0,0,0,0,0,0,0,0,0,0,0,0,0]
[2,3,null,null,null,null,null,null,null,null,null,0,0,0,0,0,0,0,0,0,0,0,0,0,0,0,0,0,null,0,0,0,0,0,0,0,0,0,0,0,0,0,{"$f":"((Y837*10)/182)^$K$1","v":0},{"$f":"((Z837*10)/182)^$K$1","v":0},0,0,0]
[2,3,null,null,null,null,null,null,null,null,null,{"$f":"C838","v":0},{"$f":"IF(B838=4,D838,0)","v":0},{"$f":"IF(OR(B838=2,B838=\"3B\",B838=\"5C\",B838=\"5D\"),D838,0)","v":0},{"$f":"IF(B838=\"3B\",E838,0)","v":0},{"$f":"IF(OR(B838=3,B838=5,B838=\"5B\",B838=6,B838=\"6B\",B838=7,B838=\"7B\",B838=9,B838=\"9B\"),D838+E838,0)","v":0},{"$f":"IF(B838=4,E838+F838,0)","v":0},{"$f":"IF(OR(B838=5,B838=7,B838=9),F838+G838,0)","v":0},{"$f":"IF(OR(B838=7,B838=9),H838+I838,0)","v":0},{"$f":"IF(B838=9,J838+K838,0)","v":0},{"$f":"IF(OR(B838=\"6C\",B838=\"7C\"),D838+E838,0)","v":0},{"$f":"IF(B838=\"4B\",F838+G838,0)","v":0},{"$f":"IF(OR(B838=\"7B\",B838=\"7C\",B838=\"9B\"),H838+I838,0)","v":0},{"$f":"IF(OR(B838=\"9B\"),J838+K838,0)","v":0},{"$f":"IF((B838=\"5C\"),E838+F838+G838,0)","v":0},{"$f":"IF(B838=6,F838+G838+H838,0)","v":0},{"$f":"IF((B838=\"5D\"),E838+F838+G838,0)","v":0},{"$f":"IF(OR(B838=\"6B\",B838=\"6C\"),F838+G838+H838,0)","v":0},null,0,0,0,0,0,0,0,0,0,0,0,0,0,0,0,{"$f":"((AA838*10)/132)^$K$1","v":0},{"$f":"((AB838*10)/132)^$K$1","v":0},{"$f":"SUM(AD838:AT838)","v":0}]
[2,3,null,null,null,null,null,null,null,null,null,0,0,0,0,0,0,0,0,0,0,0,0,0,0,0,0,0,null,0,0,0,0,0,0,0,0,0,0,0,0,0,0,0,0,0,0]
[2,3,null,null,null,null,null,null,null,null,null,0,0,0,0,0,0,0,0,0,0,0,0,0,0,0,0,0,null,0,0,0,0,0,0,0,0,0,0,0,0,0,0,0,0,0,0]
[2,3,null,null,null,null,null,null,null,null,null,0,0,0,0,0,0,0,0,0,0,0,0,0,0,0,0,0,null,0,0,0,0,0,0,0,0,0,0,0,0,0,0,0,0,0,0]
[2,3,null,null,null,null,null,null,null,null,null,0,0,0,0,0,0,0,0,0,0,0,0,0,0,0,0,0,null,0,0,0,0,0,0,0,0,0,0,0,0,0,0,0,0,0,0]
[2,3,null,null,null,null,null,null,null,null,null,0,0,0,0,0,0,0,0,0,0,0,0,0,0,0,0,0,null,0,0,0,0,0,0,0,0,0,0,0,0,0,0,0,0,0,0]
[2,3,null,null,null,null,null,null,null,null,null,0,0,0,0,0,0,0,0,0,0,0,0,0,0,0,0,0,null,0,0,0,0,0,0,0,0,0,0,0,0,0,0,0,0,0,0]
[2,3,null,null,null,null,null,null,null,null,null,0,0,0,0,0,0,0,0,0,0,0,0,0,0,0,0,0,null,0,0,0,0,0,0,0,0,0,0,0,0,0,0,0,0,0,0]
[2,3,null,null,null,null,null,null,null,null,null,0,0,0,0,0,0,0,0,0,0,0,0,0,0,0,0,0,null,0,0,0,0,0,0,0,0,0,0,0,0,0,0,0,0,0,0]
[2,3,null,null,null,null,null,null,null,null,null,0,0,0,0,0,0,0,0,0,0,0,0,0,0,0,0,0,null,0,0,0,0,0,0,0,0,0,0,0,0,0,0,0,0,0,0]
[2,3,null,null,null,null,null,null,null,null,null,0,0,0,0,0,0,0,0,0,0,0,0,0,0,0,0,0,null,0,0,0,0,0,0,0,0,0,0,0,0,0,0,0,0,0,0]
[2,3,null,null,null,null,null,null,null,null,null,0,0,0,0,0,0,0,0,0,0,0,0,0,0,0,0,0,null,0,0,0,0,0,0,0,0,0,0,0,0,0,0,0,0,0,0]
[2,3,null,null,null,null,null,null,null,null,null,0,0,0,0,0,0,0,0,0,0,0,0,0,0,0,0,0,null,0,0,0,0,0,0,0,0,0,0,0,0,0,0,0,0,0,0]
[2,3,null,null,null,null,null,null,null,null,null,0,0,0,0,0,0,0,0,0,0,0,0,0,0,0,0,0,null,0,0,0,0,0,0,0,0,0,0,0,0,0,0,0,0,0,0]
[2,3,null,null,null,null,null,null,null,null,null,0,0,0,0,0,0,0,0,0,0,0,0,0,0,0,0,0,null,0,0,0,0,0,0,0,0,0,0,0,0,0,0,0,0,0,0]
[2,3,null,null,null,null,null,null,null,null,null,0,0,0,0,0,0,0,0,0,0,0,0,0,0,0,0,0,null,0,0,0,0,0,{"$f":"((Q853*10)/135)^$K$1","v":0},{"$f":"((R853*10)/135)^$K$1","v":0},{"$f":"((S853*10)/135)^$K$1","v":0},{"$f":"((T853*10)/135)^$K$1","v":0},0,{"$f":"((V853*10)/98)^$K$1","v":0},{"$f":"((W853*10)/98)^$K$1","v":0},0,0,0,0,0,0]
[2,3,null,null,null,null,null,null,null,null,null,0,0,0,0,0,0,0,0,0,0,0,0,0,0,0,0,0,null,0,0,0,0,0,0,0,0,0,{"$f":"((U854*10)/98)^$K$1","v":0},0,0,0,0,0,0,0,0]
[2,3,null,null,null,null,null,null,null,null,null,0,0,0,0,0,0,0,0,0,0,0,0,0,0,0,0,0,null,0,0,0,0,0,0,0,0,0,0,0,0,0,0,0,0,0,0]
[2,3,null,null,null,null,null,null,null,null,null,0,0,0,0,0,0,0,0,0,0,0,0,0,0,0,0,0,null,0,0,0,0,0,0,0,0,0,0,0,0,0,0,0,0,0,0]
[2,3,null,null,null,null,null,null,null,null,null,0,0,0,0,0,0,0,0,0,0,0,0,0,0,0,0,0,null,0,0,0,0,0,0,0,0,0,0,0,0,0,0,0,0,0,0]
[2,3,null,null,null,null,null,null,null,null,null,0,0,0,0,0,0,0,0,0,0,0,0,0,0,0,0,0,null,0,0,0,0,0,0,0,0,0,0,0,0,0,0,0,0,0,0]
[2,3,null,null,null,null,null,null,null,null,null,0,0,0,0,0,0,0,0,0,0,0,0,0,0,0,0,0,null,0,0,0,0,0,0,0,0,0,0,0,0,0,0,0,0,0,0]
[2,3,null,null,null,null,null,null,null,null,null,0,0,0,0,0,0,0,0,0,0,0,0,0,0,0,0,0,null,{"$f":"((L860*10)/58)^$K$1","v":0},{"$f":"((M860*10)/58)^$K$1","v":0},{"$f":"((N860*10)/80)^$K$1","v":0},{"$f":"((O860*10)/80)^$K$1","v":0},0,{"$f":"((Q860*10)/135)^$K$1","v":0},{"$f":"((R860*10)/135)^$K$1","v":0},{"$f":"((S860*10)/135)^$K$1","v":0},{"$f":"((T860*10)/135)^$K$1","v":0},0,0,0,0,0,0,0,0,0]
[2,3,null,null,null,null,null,null,null,null,null,0,0,0,0,0,0,0,0,0,0,0,0,0,0,0,0,0,null,0,0,0,0,0,0,0,0,0,0,0,0,0,0,0,0,0,0]
[2,3,null,null,null,null,null,null,null,null,null,0,0,0,0,0,0,0,0,0,0,0,0,0,0,0,0,0,null,0,0,0,0,0,0,0,0,0,0,0,0,0,0,0,0,0,0]
[2,3,null,null,null,null,null,null,null,null,null,0,0,0,0,0,0,0,0,0,0,0,0,0,0,0,0,0,null,0,0,0,0,0,0,0,0,0,0,0,0,0,0,0,0,0,0]
[2,3,null,null,null,null,null,null,null,null,null,0,0,0,0,0,0,0,0,0,0,0,0,0,0,0,0,0,null,0,0,0,0,0,0,0,0,0,0,0,0,0,0,0,0,0,0]
[2,3,null,null,null,null,null,null,null,null,null,0,0,0,0,0,0,0,0,0,0,0,0,0,0,0,0,0,null,0,0,0,0,0,0,0,0,0,0,0,0,0,0,0,0,0,0]
[2,3,null,null,null,null,null,null,null,null,null,0,0,0,0,0,0,0,0,0,0,0,0,0,0,0,0,0,null,0,0,0,0,0,0,0,0,0,0,0,0,0,0,0,0,0,0]
[2,3,null,null,null,null,null,null,null,null,null,0,0,0,0,0,0,0,0,0,0,0,0,0,0,0,0,0,null,0,0,0,0,0,0,0,0,0,0,0,0,0,0,0,0,0,0]
[2,3,null,null,null,null,null,null,null,null,null,0,0,0,0,0,0,0,0,0,0,0,0,0,0,0,0,0,null,0,0,0,0,0,0,0,0,0,0,0,0,0,0,0,0,0,0]
[2,3,null,null,null,null,null,null,null,null,null,0,0,0,0,0,0,0,0,0,0,0,0,0,0,0,0,0,null,0,0,0,0,0,0,0,0,0,0,0,0,0,0,0,0,0,0]
[2,3,null,null,null,null,null,null,null,null,null,0,0,0,0,0,0,0,0,0,0,0,0,0,0,0,0,0,null,0,0,0,0,0,0,0,0,0,0,0,0,0,0,0,0,0,0]
[2,3,null,null,null,null,null,null,null,null,null,0,0,0,0,0,0,0,0,0,0,0,0,0,0,0,0,0,null,0,0,0,0,0,0,0,0,0,0,0,0,0,0,0,0,0,0]
[2,3,null,null,null,null,null,null,null,null,null,0,0,0,0,0,0,0,0,0,0,0,0,0,0,0,0,0,null,0,0,0,0,0,0,0,0,0,0,0,0,0,0,0,0,0,0]
[2,3,null,null,null,null,null,null,null,null,null,0,0,0,0,0,0,0,0,0,0,0,0,0,0,0,0,0,null,0,0,0,0,0,0,0,0,0,0,0,0,0,0,0,0,0,0]
[2,3,null,null,null,null,null,null,null,null,null,0,0,0,0,0,0,0,0,0,0,0,0,0,0,0,0,0,null,0,0,0,0,0,0,0,0,0,0,0,0,0,0,0,0,0,0]
[2,3,null,null,null,null,null,null,null,null,null,0,0,0,0,0,0,0,0,0,0,0,0,0,0,0,0,0,null,0,0,0,0,0,0,0,0,0,0,0,0,0,0,0,0,0,0]
[2,3,null,null,null,null,null,null,null,null,null,0,0,0,0,0,0,0,0,0,0,0,0,0,0,0,0,0,null,0,0,0,0,0,0,0,0,0,0,0,0,0,0,0,0,0,0]
[2,3,null,null,null,null,null,null,null,null,null,0,0,0,0,0,0,0,0,0,0,0,0,0,0,0,0,0,null,0,0,0,0,0,0,0,0,0,0,0,0,0,0,0,0,0,0]
[2,3,null,null,null,null,null,null,null,null,null,0,0,0,0,0,0,0,0,0,0,0,0,0,0,0,0,0,null,0,0,0,0,0,0,0,0,0,0,0,0,0,0,0,0,0,0]
[2,3,null,null,null,null,null,null,null,null,null,0,0,0,0,0,0,0,0,0,0,0,0,0,0,0,0,0,null,0,0,0,0,0,0,0,0,0,0,0,0,0,0,0,0,0,0]
[2,3,null,null,null,null,null,null,null,null,null,0,0,0,0,0,0,0,0,0,0,0,0,0,0,0,0,0,null,0,0,0,0,0,0,0,0,0,0,0,0,0,0,0,0,0,0]
[2,3,null,null,null,null,null,null,null,null,null,0,0,0,0,0,0,0,0,0,0,0,0,0,0,0,0,0,null,0,0,0,0,0,0,0,0,0,0,0,0,0,0,0,0,0,0]
[2,3,null,null,null,null,null,null,null,null,null,0,0,0,0,0,0,0,0,0,0,0,0,0,0,0,0,0,null,0,0,0,0,0,0,0,0,0,0,0,0,0,0,0,0,0,0]
[2,3,null,null,null,null,null,null,null,null,null,0,0,0,0,0,0,0,0,0,0,0,0,0,0,0,0,0,null,0,0,0,0,0,0,0,0,0,0,0,0,0,0,0,0,0,0]
[2,3,null,null,null,null,null,null,null,null,null,0,0,0,0,0,0,0,0,0,0,0,0,0,0,0,0,0,null,0,0,0,0,0,0,0,0,0,0,0,0,0,0,0,0,0,0]
[2,3,null,null,null,null,null,null,null,null,null,0,0,0,0,0,0,0,0,0,0,0,0,0,0,0,0,0,null,0,0,0,0,0,0,0,0,0,0,{"$f":"((V885*10)/98)^$K$1","v":0},{"$f":"((W885*10)/98)^$K$1","v":0},{"$f":"((X885*10)/98)^$K$1","v":0},0,0,0,0,0]
[2,3,null,null,null,null,null,null,null,null,null,0,0,0,0,0,0,0,0,0,0,0,0,0,0,0,0,0,null,0,0,0,0,0,0,0,0,0,{"$f":"((U886*10)/98)^$K$1","v":0},0,0,0,0,0,0,0,0]
[2,3,null,null,null,null,null,null,null,null,null,0,0,0,0,0,0,0,0,0,0,0,0,0,0,0,0,0,null,0,0,0,0,0,0,0,0,0,0,0,0,0,0,0,0,0,0]
[2,3,null,null,null,null,null,null,null,null,null,0,0,0,0,0,0,0,0,0,0,0,0,0,0,0,0,0,null,0,0,0,0,0,0,0,0,0,0,0,0,0,0,0,0,0,0]
[2,3,null,null,null,null,null,null,null,null,null,0,0,0,0,0,0,0,0,0,0,0,0,0,0,0,0,0,null,0,0,0,0,0,0,0,0,0,0,0,0,0,0,0,0,0,0]
[2,3,null,null,null,null,null,null,null,null,null,0,0,0,0,0,0,0,0,0,0,0,0,0,0,0,0,0,null,0,0,0,0,0,0,0,0,0,0,0,0,0,0,0,0,0,0]
[2,3,null,null,null,null,null,null,null,null,null,0,0,0,0,0,0,0,0,0,0,0,0,0,0,0,0,0,null,0,0,0,0,0,0,0,0,0,0,0,0,0,0,0,0,0,0]
[2,3,null,null,null,null,null,null,null,null,null,0,0,0,0,0,0,0,0,0,0,0,0,0,0,0,0,0,null,0,0,0,0,0,0,0,0,0,0,0,0,0,0,0,0,0,0]
[2,3,null,null,null,null,null,null,null,null,null,0,0,0,0,0,0,0,0,0,0,0,0,0,0,0,0,0,null,0,0,0,0,0,0,0,0,0,0,0,0,0,0,0,0,0,0]
[2,"3B",null,null,null,null,null,null,null,null,null,0,0,0,0,0,0,0,0,0,0,0,0,0,0,0,0,0,null,0,0,0,0,0,0,0,0,0,0,0,0,0,0,0,0,0,0]
[2,"3C",null,null,null,null,null,null,null,null,null,0,0,0,0,0,0,0,0,0,0,0,0,0,0,0,0,0,null,0,0,0,0,0,0,0,0,0,0,0,0,0,0,0,0,0,0]
[2,4,null,null,null,null,null,null,null,null,null,0,0,0,0,0,0,0,0,0,0,0,0,0,0,0,0,0,null,0,0,0,0,0,0,0,0,0,0,0,0,0,0,0,0,0,0]
[2,"4B",null,null,null,null,null,null,null,null,null,0,0,0,0,0,0,0,0,0,0,0,0,0,0,0,0,0,null,0,0,0,0,0,0,0,0,0,0,0,0,0,0,0,0,0,0]
[2,5,null,null,null,null,null,null,null,null,null,0,0,0,0,0,0,0,0,0,0,0,0,0,0,0,0,0,null,0,0,0,0,{"$f":"((P898*10)/135)^$K$1","v":0},0,0,0,0,0,0,0,0,0,0,0,0,0]
[2,"5B",null,null,null,null,null,null,null,null,null,0,0,0,0,0,0,0,0,0,0,0,0,0,0,0,0,0,null,0,0,0,0,0,0,0,0,0,0,0,0,0,0,0,0,0,0]
[2,6,null,null,null,null,null,null,null,null,null,0,0,0,0,0,0,0,0,0,0,0,0,0,0,0,0,0,null,0,0,0,0,0,0,0,0,0,0,0,0,0,0,0,0,0,0]
[2,"6B",null,null,null,null,null,null,null,null,null,0,0,0,0,0,0,0,0,0,0,0,0,0,0,0,0,0,null,0,0,0,0,0,0,0,0,0,0,0,0,0,{"$f":"((Y901*10)/182)^$K$1","v":0},{"$f":"((Z901*10)/182)^$K$1","v":0},0,0,0]
[2,7,null,null,null,null,null,null,null,null,null,{"$f":"C902","v":0},{"$f":"IF(B902=4,D902,0)","v":0},{"$f":"IF(OR(B902=2,B902=\"3B\",B902=\"5C\",B902=\"5D\"),D902,0)","v":0},{"$f":"IF(B902=\"3B\",E902,0)","v":0},{"$f":"IF(OR(B902=3,B902=5,B902=\"5B\",B902=6,B902=\"6B\",B902=7,B902=\"7B\",B902=9,B902=\"9B\"),D902+E902,0)","v":0},{"$f":"IF(B902=4,E902+F902,0)","v":0},{"$f":"IF(OR(B902=5,B902=7,B902=9),F902+G902,0)","v":0},{"$f":"IF(OR(B902=7,B902=9),H902+I902,0)","v":0},{"$f":"IF(B902=9,J902+K902,0)","v":0},{"$f":"IF(OR(B902=\"6C\",B902=\"7C\"),D902+E902,0)","v":0},{"$f":"IF(B902=\"4B\",F902+G902,0)","v":0},{"$f":"IF(OR(B902=\"7B\",B902=\"7C\",B902=\"9B\"),H902+I902,0)","v":0},{"$f":"IF(OR(B902=\"9B\"),J902+K902,0)","v":0},{"$f":"IF((B902=\"5C\"),E902+F902+G902,0)","v":0},{"$f":"IF(B902=6,F902+G902+H902,0)","v":0},{"$f":"IF((B902=\"5D\"),E902+F902+G902,0)","v":0},{"$f":"IF(OR(B902=\"6B\",B902=\"6C\"),F902+G902+H902,0)","v":0},null,0,0,0,0,0,0,0,0,0,0,0,0,0,0,0,{"$f":"((AA902*10)/132)^$K$1","v":0},{"$f":"((AB902*10)/132)^$K$1","v":0},{"$f":"SUM(AD902:AT902)","v":0}]
[2,"7B",null,null,null,null,null,null,null,null,null,0,0,0,0,0,0,0,0,0,0,0,0,0,0,0,0,0,null,0,0,0,0,0,0,0,0,0,0,0,0,0,0,0,0,0,0]
[2,9,null,null,null,null,null,null,null,null,null,0,0,0,0,0,0,0,0,0,0,0,0,0,0,0,0,0,null,0,0,0,0,0,0,0,0,0,0,0,0,0,0,0,0,0,0]
[2,"9B",null,null,null,null,null,null,null,null,null,0,0,0,0,0,0,0,0,0,0,0,0,0,0,0,0,0,null,0,0,0,0,0,0,0,0,0,0,0,0,0,0,0,0,0,0]
[2,3,null,null,null,null,null,null,null,null,null,0,0,0,0,0,0,0,0,0,0,0,0,0,0,0,0,0,null,0,0,0,0,0,{"$f":"((Q906*10)/135)^$K$1","v":0},{"$f":"((R906*10)/135)^$K$1","v":0},{"$f":"((S906*10)/135)^$K$1","v":0},{"$f":"((T906*10)/135)^$K$1","v":0},0,{"$f":"((V906*10)/98)^$K$1","v":0},{"$f":"((W906*10)/98)^$K$1","v":0},{"$f":"((X906*10)/98)^$K$1","v":0},0,0,0,0,0]
[2,3,null,null,null,null,null,null,null,null,null,0,0,0,0,0,0,0,0,0,0,0,0,0,0,0,0,0,null,0,0,0,0,0,0,0,0,0,0,0,0,0,0,0,0,0,0]
[2,6,5,6,6,9,9,9,null,null,null,5,0,0,0,12,0,0,0,0,0,0,0,0,0,27,0,0,null,0.55229109788047448,0,0,0,0.62429507696997399,0,0,0,0,0,0,0,0,0,4.8436137645050952,0,0,6.0201999393555434]
[2,3,null,null,null,null,null,null,null,null,null,0,0,0,0,0,0,0,0,0,0,0,0,0,0,0,0,0,null,0,0,0,0,0,0,0,0,0,0,0,0,0,0,0,0,0,0]
[2,3,null,null,null,null,null,null,null,null,null,0,0,0,0,0,0,0,0,0,0,0,0,0,0,0,0,0,null,0,0,0,0,0,0,0,0,0,0,0,0,0,0,0,0,0,0]
[2,3,null,null,null,null,null,null,null,null,null,0,0,0,0,0,0,0,0,0,0,0,0,0,0,0,0,0,null,0,0,0,0,0,0,0,0,0,0,0,0,0,0,0,0,0,0]
[2,3,null,null,null,null,null,null,null,null,null,0,0,0,0,0,0,0,0,0,0,0,0,0,0,0,0,0,null,0,0,0,0,0,0,0,0,0,0,0,0,0,0,0,0,0,0]
[2,"6B",5,7,7,9,9,9,null,null,null,5,0,0,0,14,0,0,0,0,0,0,0,0,0,0,0,27,null,0.55229109788047448,0,0,0,1.1565837035531692,0,0,0,0,0,0,0,0,0,0,0,17.504887815039957,19.213762616473602]
[2,3,null,null,null,null,null,null,null,null,null,0,0,0,0,0,0,0,0,0,0,0,0,0,0,0,0,0,null,0,0,0,0,0,0,0,0,0,0,0,0,0,0,0,0,0,0]
[2,3,null,null,null,null,null,null,null,null,null,0,0,0,0,0,0,0,0,0,0,0,0,0,0,0,0,0,null,0,0,0,0,0,0,0,0,0,0,0,0,0,0,0,0,0,0]
[2,3,null,null,null,null,null,null,null,null,null,0,0,0,0,0,0,0,0,0,0,0,0,0,0,0,0,0,null,0,0,0,0,0,0,0,0,0,0,0,0,0,0,0,0,0,0]
[2,3,null,null,null,null,null,null,null,null,null,0,0,0,0,0,0,0,0,0,0,0,0,0,0,0,0,0,null,0,0,0,0,0,0,0,0,0,0,0,0,0,0,0,0,0,0]
[2,7,4,6,6,10,10,9,9,null,null,4,0,0,0,12,0,20,18,0,0,0,0,0,0,0,0,0,null,0.22621843369184247,0,0,0,0.62429507696997399,0,4.8170916432868358,3.1604938271604937,0,{"$f":"((U918*10)/98)^$K$1","v":0},0,0,0,0,0,0,0,8.8280989811091466]
[2,3,null,null,null,null,null,null,null,null,null,0,0,0,0,0,0,0,0,0,0,0,0,0,0,0,0,0,null,0,0,0,0,0,0,0,0,0,0,0,0,0,0,0,0,0,0]
[2,3,null,null,null,null,null,null,null,null,null,0,0,0,0,0,0,0,0,0,0,0,0,0,0,0,0,0,null,0,0,0,0,0,0,0,0,0,0,0,0,0,0,0,0,0,0]
[2,"7B",4,6,6,10,10,9,9,null,null,4,0,0,0,12,0,0,0,0,0,0,18,0,0,0,0,0,null,0.22621843369184247,0,0,0,0.62429507696997399,0,0,0,0,0,0,11.381138741823007,0,0,0,0,0,12.231652252484823]
[2,3,null,null,null,null,null,null,null,null,null,0,0,0,0,0,0,0,0,0,0,0,0,0,0,0,0,0,null,0,0,0,0,0,0,0,0,0,0,0,0,0,0,0,0,0,0]
[2,3,null,null,null,null,null,null,null,null,null,0,0,0,0,0,0,0,0,0,0,0,0,0,0,0,0,0,null,0,0,0,0,0,0,0,0,0,0,0,0,0,0,0,0,0,0]
[2,3,null,null,null,null,null,null,null,null,null,0,0,0,0,0,0,0,0,0,0,0,0,0,0,0,0,0,null,{"$f":"((L924*10)/58)^$K$1","v":0},{"$f":"((M924*10)/58)^$K$1","v":0},{"$f":"((N924*10)/80)^$K$1","v":0},{"$f":"((O924*10)/80)^$K$1","v":0},0,0,0,0,0,0,0,0,0,0,0,0,0,0]
[2,3,null,null,null,null,null,null,null,null,null,0,0,0,0,0,0,0,0,0,0,0,0,0,0,0,0,0,null,0,0,0,0,0,0,0,0,0,0,0,0,0,0,0,0,0,0]
[2,3,null,null,null,null,null,null,null,null,null,0,0,0,0,0,0,0,0,0,0,0,0,0,0,0,0,0,null,0,0,0,0,0,0,0,0,0,0,0,0,0,0,0,0,0,0]
[2,9,4,4,6,6,7,7,7,7,8,4,0,0,0,10,0,13,14,15,0,0,0,0,0,0,0,0,null,0.22621843369184247,0,0,0,0.30106822770542724,0,0.85988096514947066,1.1565837035531692,1.5241579027587262,0,0,0,0,0,0,0,0,4.0679092328586357]
[2,3,null,null,null,null,null,null,null,null,null,0,0,0,0,0,0,0,0,0,0,0,0,0,0,0,0,0,null,0,0,0,0,0,0,0,0,0,0,0,0,0,0,0,0,0,0]
[2,3,null,null,null,null,null,null,null,null,null,0,0,0,0,0,0,0,0,0,0,0,0,0,0,0,0,0,null,0,0,0,0,0,0,0,0,0,0,0,0,0,0,0,0,0,0]
[2,3,null,null,null,null,null,null,null,null,null,0,0,0,0,0,0,0,0,0,0,0,0,0,0,0,0,0,null,0,0,0,0,0,0,0,0,0,0,0,0,0,0,0,0,0,0]
[2,3,null,null,null,null,null,null,null,null,null,0,0,0,0,0,0,0,0,0,0,0,0,0,0,0,0,0,null,0,0,0,0,0,0,0,0,0,0,0,0,0,0,0,0,0,0]
[2,3,null,null,null,null,null,null,null,null,null,0,0,0,0,0,0,0,0,0,0,0,0,0,0,0,0,0,null,0,0,0,0,0,0,0,0,0,0,0,0,0,0,0,0,0,0]
[2,"9B",4,4,6,6,7,9,9,7,8,4,0,0,0,10,0,0,0,0,0,0,18,15,0,0,0,0,null,0.22621843369184247,0,0,0,0.30106822770542724,0,0,0,0,0,0,11.381138741823007,5.4885892852155678,0,0,0,0,17.397014688435846]
[2,3,null,null,null,null,null,null,null,null,null,0,0,0,0,0,0,0,0,0,0,0,0,0,0,0,0,0,null,0,0,0,0,0,0,0,0,0,0,0,0,0,0,0,0,0,0]
[2,3,null,null,null,null,null,null,null,null,null,0,0,0,0,0,0,0,0,0,0,0,0,0,0,0,0,0,null,0,0,0,0,0,0,0,0,0,0,0,0,0,0,0,0,0,0]
[2,3,null,null,null,null,null,null,null,null,null,0,0,0,0,0,0,0,0,0,0,0,0,0,0,0,0,0,null,0,0,0,0,0,0,0,0,0,0,0,0,0,0,0,0,0,0]
[2,3,null,null,null,null,null,null,null,null,null,0,0,0,0,0,0,0,0,0,0,0,0,0,0,0,0,0,null,0,0,0,0,0,0,0,0,0,0,0,0,0,0,0,0,0,0]
[2,3,null,null,null,null,null,null,null,null,null,0,0,0,0,0,0,0,0,0,0,0,0,0,0,0,0,0,null,0,0,0,0,0,{"$f":"((Q938*10)/135)^$K$1","v":0},{"$f":"((R938*10)/135)^$K$1","v":0},{"$f":"((S938*10)/135)^$K$1","v":0},{"$f":"((T938*10)/135)^$K$1","v":0},0,{"$f":"((V938*10)/98)^$K$1","v":0},{"$f":"((W938*10)/98)^$K$1","v":0},{"$f":"((X938*10)/98)^$K$1","v":0},0,0,0,0,0]
[2,3,null,null,null,null,null,null,null,null,null,0,0,0,0,0,0,0,0,0,0,0,0,0,0,0,0,0,null,0,0,0,0,0,0,0,0,0,0,0,0,0,0,0,0,0,0]
[2,3,null,null,null,null,null,null,null,null,null,0,0,0,0,0,0,0,0,0,0,0,0,0,0,0,0,0,null,0,0,0,0,0,0,0,0,0,0,0,0,0,0,0,0,0,0]
[2,3,null,null,null,null,null,null,null,null,null,0,0,0,0,0,0,0,0,0,0,0,0,0,0,0,0,0,null,0,0,0,0,0,0,0,0,0,0,0,0,0,0,0,0,0,0]
[2,3,null,null,null,null,null,null,null,null,null,0,0,0,0,0,0,0,0,0,0,0,0,0,0,0,0,0,null,0,0,0,0,0,0,0,0,0,0,0,0,0,0,0,0,0,0]
[2,3,null,null,null,null,null,null,null,null,null,0,0,0,0,0,0,0,0,0,0,0,0,0,0,0,0,0,null,0,0,0,0,0,0,0,0,0,0,0,0,0,0,0,0,0,0]
[2,3,null,null,null,null,null,null,null,null,null,0,0,0,0,0,0,0,0,0,0,0,0,0,0,0,0,0,null,0,0,0,0,0,0,0,0,0,0,0,0,0,0,0,0,0,0]
[2,3,null,null,null,null,null,null,null,null,null,0,0,0,0,0,0,0,0,0,0,0,0,0,0,0,0,0,null,0,0,0,0,0,0,0,0,0,0,0,0,0,0,0,0,0,0]
[2,3,null,null,null,null,null,null,null,null,null,0,0,0,0,0,0,0,0,0,0,0,0,0,0,0,0,0,null,0,0,0,0,0,0,0,0,0,0,0,0,0,0,0,0,0,0]
[2,3,null,null,null,null,null,null,null,null,null,0,0,0,0,0,0,0,0,0,0,0,0,0,0,0,0,0,null,0,0,0,0,0,0,0,0,0,0,0,0,0,0,0,0,0,0]
[2,3,null,null,null,null,null,null,null,null,null,0,0,0,0,0,0,0,0,0,0,0,0,0,0,0,0,0,null,0,0,0,0,0,0,0,0,0,0,0,0,0,0,0,0,0,0]
[2,3,null,null,null,null,null,null,null,null,null,0,0,0,0,0,0,0,0,0,0,0,0,0,0,0,0,0,null,0,0,0,0,0,0,0,0,0,0,0,0,0,0,0,0,0,0]
[2,3,null,null,null,null,null,null,null,null,null,0,0,0,0,0,0,0,0,0,0,0,0,0,0,0,0,0,null,0,0,0,0,0,0,0,0,0,{"$f":"((U950*10)/98)^$K$1","v":0},0,0,0,0,0,0,0,0]
[2,3,null,null,null,null,null,null,null,null,null,0,0,0,0,0,0,0,0,0,0,0,0,0,0,0,0,0,null,0,0,0,0,0,0,0,0,0,0,0,0,0,0,0,0,0,0]
[2,3,null,null,null,null,null,null,null,null,null,0,0,0,0,0,0,0,0,0,0,0,0,0,0,0,0,0,null,0,0,0,0,0,0,0,0,0,0,0,0,0,0,0,0,0,0]
[2,3,null,null,null,null,null,null,null,null,null,0,0,0,0,0,0,0,0,0,0,0,0,0,0,0,0,0,null,0,0,0,0,0,0,0,0,0,0,0,0,0,0,0,0,0,0]
[2,3,null,null,null,null,null,null,null,null,null,0,0,0,0,0,0,0,0,0,0,0,0,0,0,0,0,0,null,0,0,0,0,0,0,0,0,0,0,0,0,0,0,0,0,0,0]
[2,3,null,null,null,null,null,null,null,null,null,0,0,0,0,0,0,0,0,0,0,0,0,0,0,0,0,0,null,0,0,0,0,0,0,0,0,0,0,0,0,0,0,0,0,0,0]
[2,3,null,null,null,null,null,null,null,null,null,0,0,0,0,0,0,0,0,0,0,0,0,0,0,0,0,0,null,0,0,0,0,0,0,0,0,0,0,0,0,0,0,0,0,0,0]
[2,3,null,null,null,null,null,null,null,null,null,0,0,0,0,0,0,0,0,0,0,0,0,0,0,0,0,0,null,0,0,0,0,0,0,0,0,0,0,0,0,0,0,0,0,0,0]
[2,3,null,null,null,null,null,null,null,null,null,0,0,0,0,0,0,0,0,0,0,0,0,0,0,0,0,0,null,0,0,0,0,0,0,0,0,0,0,0,0,0,0,0,0,0,0]
[2,3,null,null,null,null,null,null,null,null,null,0,0,0,0,0,0,0,0,0,0,0,0,0,0,0,0,0,null,0,0,0,0,0,0,0,0,0,0,0,0,0,0,0,0,0,0]
[2,3,null,null,null,null,null,null,null,null,null,0,0,0,0,0,0,0,0,0,0,0,0,0,0,0,0,0,null,0,0,0,0,0,0,0,0,0,0,0,0,0,0,0,0,0,0]
[2,3,null,null,null,null,null,null,null,null,null,0,0,0,0,0,0,0,0,0,0,0,0,0,0,0,0,0,null,0,0,0,0,0,0,0,0,0,0,0,0,0,0,0,0,0,0]
[2,3,null,null,null,null,null,null,null,null,null,0,0,0,0,0,0,0,0,0,0,0,0,0,0,0,0,0,null,0,0,0,0,{"$f":"((P962*10)/135)^$K$1","v":0},0,0,0,0,0,0,0,0,0,0,0,0,0]
[2,3,null,null,null,null,null,null,null,null,null,0,0,0,0,0,0,0,0,0,0,0,0,0,0,0,0,0,null,0,0,0,0,0,0,0,0,0,0,0,0,0,0,0,0,0,0]
[2,3,null,null,null,null,null,null,null,null,null,0,0,0,0,0,0,0,0,0,0,0,0,0,0,0,0,0,null,0,0,0,0,0,0,0,0,0,0,0,0,0,0,0,0,0,0]
[2,3,null,null,null,null,null,null,null,null,null,0,0,0,0,0,0,0,0,0,0,0,0,0,0,0,0,0,null,0,0,0,0,0,0,0,0,0,0,0,0,0,{"$f":"((Y965*10)/182)^$K$1","v":0},{"$f":"((Z965*10)/182)^$K$1","v":0},0,0,0]
[2,3,null,null,null,null,null,null,null,null,null,{"$f":"C966","v":0},{"$f":"IF(B966=4,D966,0)","v":0},{"$f":"IF(OR(B966=2,B966=\"3B\",B966=\"5C\",B966=\"5D\"),D966,0)","v":0},{"$f":"IF(B966=\"3B\",E966,0)","v":0},{"$f":"IF(OR(B966=3,B966=5,B966=\"5B\",B966=6,B966=\"6B\",B966=7,B966=\"7B\",B966=9,B966=\"9B\"),D966+E966,0)","v":0},{"$f":"IF(B966=4,E966+F966,0)","v":0},{"$f":"IF(OR(B966=5,B966=7,B966=9),F966+G966,0)","v":0},{"$f":"IF(OR(B966=7,B966=9),H966+I966,0)","v":0},{"$f":"IF(B966=9,J966+K966,0)","v":0},{"$f":"IF(OR(B966=\"6C\",B966=\"7C\"),D966+E966,0)","v":0},{"$f":"IF(B966=\"4B\",F966+G966,0)","v":0},{"$f":"IF(OR(B966=\"7B\",B966=\"7C\",B966=\"9B\"),H966+I966,0)","v":0},{"$f":"IF(OR(B966=\"9B\"),J966+K966,0)","v":0},{"$f":"IF((B966=\"5C\"),E966+F966+G966,0)","v":0},{"$f":"IF(B966=6,F966+G966+H966,0)","v":0},{"$f":"IF((B966=\"5D\"),E966+F966+G966,0)","v":0},{"$f":"IF(OR(B966=\"6B\",B966=\"6C\"),F966+G966+H966,0)","v":0},null,0,0,0,0,0,0,0,0,0,0,0,0,0,0,0,{"$f":"((AA966*10)/132)^$K$1","v":0},{"$f":"((AB966*10)/132)^$K$1","v":0},{"$f":"SUM(AD966:AT966)","v":0}]
[2,3,null,null,null,null,null,null,null,null,null,0,0,0,0,0,0,0,0,0,0,0,0,0,0,0,0,0,null,0,0,0,0,0,0,0,0,0,0,0,0,0,0,0,0,0,0]
[2,3,null,null,null,null,null,null,null,null,null,0,0,0,0,0,0,0,0,0,0,0,0,0,0,0,0,0,null,0,0,0,0,0,0,0,0,0,0,0,0,0,0,0,0,0,0]
[2,3,null,null,null,null,null,null,null,null,null,0,0,0,0,0,0,0,0,0,0,0,0,0,0,0,0,0,null,0,0,0,0,0,0,0,0,0,0,0,0,0,0,0,0,0,0]
[2,3,null,null,null,null,null,null,null,null,null,0,0,0,0,0,0,0,0,0,0,0,0,0,0,0,0,0,null,0,0,0,0,0,{"$f":"((Q970*10)/135)^$K$1","v":0},{"$f":"((R970*10)/135)^$K$1","v":0},{"$f":"((S970*10)/135)^$K$1","v":0},{"$f":"((T970*10)/135)^$K$1","v":0},0,{"$f":"((V970*10)/98)^$K$1","v":0},{"$f":"((W970*10)/98)^$K$1","v":0},{"$f":"((X970*10)/98)^$K$1","v":0},0,0,0,0,0]
[2,3,null,null,null,null,null,null,null,null,null,0,0,0,0,0,0,0,0,0,0,0,0,0,0,0,0,0,null,0,0,0,0,0,0,0,0,0,{"$f":"((U971*10)/98)^$K$1","v":0},0,0,0,0,0,0,0,0]
[2,3,null,null,null,null,null,null,null,null,null,0,0,0,0,0,0,0,0,0,0,0,0,0,0,0,0,0,null,0,0,0,0,0,0,0,0,0,0,0,0,0,0,0,0,0,0]
[2,3,null,null,null,null,null,null,null,null,null,0,0,0,0,0,0,0,0,0,0,0,0,0,0,0,0,0,null,0,0,0,0,0,0,0,0,0,0,0,0,0,0,0,0,0,0]
[2,3,null,null,null,null,null,null,null,null,null,0,0,0,0,0,0,0,0,0,0,0,0,0,0,0,0,0,null,0,0,0,0,0,0,0,0,0,0,0,0,0,0,0,0,0,0]
[2,3,null,null,null,null,null,null,null,null,null,0,0,0,0,0,0,0,0,0,0,0,0,0,0,0,0,0,null,0,0,0,0,0,0,0,0,0,0,0,0,0,0,0,0,0,0]
[2,3,null,null,null,null,null,null,null,null,null,0,0,0,0,0,0,0,0,0,0,0,0,0,0,0,0,0,null,0,0,0,0,0,0,0,0,0,0,0,0,0,0,0,0,0,0]
[2,3,null,null,null,null,null,null,null,null,null,0,0,0,0,0,0,0,0,0,0,0,0,0,0,0,0,0,null,0,0,0,0,0,0,0,0,0,0,0,0,0,0,0,0,0,0]
[2,3,null,null,null,null,null,null,null,null,null,0,0,0,0,0,0,0,0,0,0,0,0,0,0,0,0,0,null,0,0,0,0,0,0,0,0,0,0,0,0,0,0,0,0,0,0]
[2,3,null,null,null,null,null,null,null,null,null,0,0,0,0,0,0,0,0,0,0,0,0,0,0,0,0,0,null,0,0,0,0,0,0,0,0,0,0,0,0,0,0,0,0,0,0]
[2,3,null,null,null,null,null,null,null,null,null,0,0,0,0,0,0,0,0,0,0,0,0,0,0,0,0,0,null,0,0,0,0,0,0,0,0,0,0,0,0,0,0,0,0,0,0]
[2,3,null,null,null,null,null,null,null,null,null,0,0,0,0,0,0,0,0,0,0,0,0,0,0,0,0,0,null,0,0,0,0,0,0,0,0,0,0,0,0,0,0,0,0,0,0]
[2,3,null,null,null,null,null,null,null,null,null,0,0,0,0,0,0,0,0,0,0,0,0,0,0,0,0,0,null,0,0,0,0,0,0,0,0,0,0,0,0,0,0,0,0,0,0]
[2,3,null,null,null,null,null,null,null,null,null,0,0,0,0,0,0,0,0,0,0,0,0,0,0,0,0,0,null,0,0,0,0,0,0,0,0,0,0,0,0,0,0,0,0,0,0]
[2,3,null,null,null,null,null,null,null,null,null,0,0,0,0,0,0,0,0,0,0,0,0,0,0,0,0,0,null,0,0,0,0,0,0,0,0,0,0,0,0,0,0,0,0,0,0]
[2,3,null,null,null,null,null,null,null,null,null,0,0,0,0,0,0,0,0,0,0,0,0,0,0,0,0,0,null,0,0,0,0,0,0,0,0,0,0,0,0,0,0,0,0,0,0]
[2,3,null,null,null,null,null,null,null,null,null,0,0,0,0,0,0,0,0,0,0,0,0,0,0,0,0,0,null,0,0,0,0,0,0,0,0,0,0,0,0,0,0,0,0,0,0]
[2,3,null,null,null,null,null,null,null,null,null,0,0,0,0,0,0,0,0,0,0,0,0,0,0,0,0,0,null,0,0,0,0,0,0,0,0,0,0,0,0,0,0,0,0,0,0]
[2,3,null,null,null,null,null,null,null,null,null,0,0,0,0,0,0,0,0,0,0,0,0,0,0,0,0,0,null,{"$f":"((L988*10)/58)^$K$1","v":0},{"$f":"((M988*10)/58)^$K$1","v":0},{"$f":"((N988*10)/80)^$K$1","v":0},{"$f":"((O988*10)/80)^$K$1","v":0},0,0,0,0,0,0,0,0,0,0,0,0,0,0]
[2,3,null,null,null,null,null,null,null,null,null,0,0,0,0,0,0,0,0,0,0,0,0,0,0,0,0,0,null,0,0,0,0,0,0,0,0,0,0,0,0,0,0,0,0,0,0]
[2,3,null,null,null,null,null,null,null,null,null,0,0,0,0,0,0,0,0,0,0,0,0,0,0,0,0,0,null,0,0,0,0,0,0,0,0,0,0,0,0,0,0,0,0,0,0]
[2,3,null,null,null,null,null,null,null,null,null,0,0,0,0,0,0,0,0,0,0,0,0,0,0,0,0,0,null,0,0,0,0,0,0,0,0,0,0,0,0,0,0,0,0,0,0]
[2,3,null,null,null,null,null,null,null,null,null,0,0,0,0,0,0,0,0,0,0,0,0,0,0,0,0,0,null,0,0,0,0,0,0,0,0,0,0,0,0,0,0,0,0,0,0]
[2,3,null,null,null,null,null,null,null,null,null,0,0,0,0,0,0,0,0,0,0,0,0,0,0,0,0,0,null,0,0,0,0,0,0,0,0,0,0,0,0,0,0,0,0,0,0]
[2,"3B",null,null,null,null,null,null,null,null,null,0,0,0,0,0,0,0,0,0,0,0,0,0,0,0,0,0,null,0,0,0,0,0,0,0,0,0,0,0,0,0,0,0,0,0,0]
[2,"3C",null,null,null,null,null,null,null,null,null,0,0,0,0,0,0,0,0,0,0,0,0,0,0,0,0,0,null,0,0,0,0,0,0,0,0,0,0,0,0,0,0,0,0,0,0]
[2,4,null,null,null,null,null,null,null,null,null,0,0,0,0,0,0,0,0,0,0,0,0,0,0,0,0,0,null,0,0,0,0,0,0,0,0,0,0,0,0,0,0,0,0,0,0]
[2,"4B",null,null,null,null,null,null,null,null,null,0,0,0,0,0,0,0,0,0,0,0,0,0,0,0,0,0,null,0,0,0,0,0,0,0,0,0,0,0,0,0,0,0,0,0,0]
[2,5,null,null,null,null,null,null,null,null,null,0,0,0,0,0,0,0,0,0,0,0,0,0,0,0,0,0,null,0,0,0,0,0,0,0,0,0,0,0,0,0,0,0,0,0,0]
[2,"5B",null,null,null,null,null,null,null,null,null,0,0,0,0,0,0,0,0,0,0,0,0,0,0,0,0,0,null,0,0,0,0,0,0,0,0,0,0,0,0,0,0,0,0,0,0]
[2,6,null,null,null,null,null,null,null,null,null,0,0,0,0,0,0,0,0,0,0,0,0,0,0,0,0,0,null,0,0,0,0,0,0,0,0,0,0,0,0,0,0,0,0,0,0]
[2,"6B",null,null,null,null,null,null,null,null,null,0,0,0,0,0,0,0,0,0,0,0,0,0,0,0,0,0,null,0,0,0,0,0,0,0,0,0,0,0,0,0,0,0,0,0,0]
[2,7,null,null,null,null,null,null,null,null,null,0,0,0,0,0,0,0,0,0,0,0,0,0,0,0,0,0,null,0,0,0,0,0,0,0,0,0,0,0,0,0,0,0,0,0,0]
[2,"7B",null,null,null,null,null,null,null,null,null,0,0,0,0,0,0,0,0,0,0,0,0,0,0,0,0,0,null,0,0,0,0,0,0,0,0,0,0,0,0,0,0,0,0,0,0]
[2,9,null,null,null,null,null,null,null,null,null,0,0,0,0,0,0,0,0,0,0,0,0,0,0,0,0,0,null,0,0,0,0,0,0,0,0,0,0,0,0,0,0,0,0,0,0]
[2,"9B",null,null,null,null,null,null,null,null,null,0,0,0,0,0,0,0,0,0,0,0,0,0,0,0,0,0,null,0,0,0,0,0,0,0,0,0,0,0,0,0,0,0,0,0,0]
[]
[]
[]
[null,"Truck Type","Axle 1","Axle 2","Axle 3","Axle 4","Axle 5","Axle 6","Axle 7","Axle 8","Axle 9","Average VEF"]
[null,2,"SAST","SADT",null,null,null,null,null,null,null,{"$f":"IFERROR(AVERAGEIF($B$5:$B$1005,B1010,$AU$5:$AU$1005),0)","v":1.2262184336918425}]
[null,3,"SAST","TADT",null,null,null,null,null,null,null,{"$f":"IFERROR(AVERAGEIF($B$5:$B$1005,B1011,$AU$5:$AU$1005),0)","v":5.4142715301229395E-3}]
[null,"3B","SAST","SADT","SADT",null,null,null,null,null,null,2.1169094171838245]
[null,4,"SAST","SAST","TADT",null,null,null,null,null,null,2.2176985780377256]
[null,5,"SAST","TADT",null,"TADT",null,null,null,null,null,0]
[null,"5B","SAST","TADT",null,"TAST",null,null,null,null,null,0.39254469722853064]
[null,"5C","SAST","SADT","TRDT",null,null,null,null,null,null,0]
[null,"5D","SAST","SADT","TRST",null,null,null,null,null,null,0]
[null,6,"SAST","TADT",null,"TRDT",null,null,null,null,null,3.0100999696777717]
[null,"6B","SAST","TADT",null,"TRST",null,null,null,null,null,{"$f":"IFERROR(AVERAGEIF($B$5:$B$1005,B1019,$AU$5:$AU$1005),0)","v":9.6068813082367992}]
[null,"6C","SAST","TAST",null,"TRST",null,null,null,null,null,0]
[null,7,"SAST","TADT",null,"TADT",null,"TADT",null,null,null,4.4140494905545742]
[null,"7B","SAST","TADT",null,"TAST",null,"TAST",null,null,null,{"$f":"IFERROR(AVERAGEIF($B$5:$B$1005,B1022,$AU$5:$AU$1005),0)","v":6.1158261262424114}]
[null,"7C","SAST","TAST",null,"TAST",null,"TAST",null,null,null,0]
[null,9,"SAST","TADT",null,"TADT",null,"TADT",null,"TADT",null,2.0339546164293179]
[null,"9B","SAST","TADT",null,"TAST",null,"TAST",null,"TAST",null,8.6985073442179228]

{"sheet":"12 Design MESA Direction 2-SS","index":13,"n_rows":84,"n_cols":24,"rows_kept":84,"cut":false,"hidden":false,"merged":[[19,0,19,4],[62,0,62,4],[24,0,24,6],[25,0,25,6],[26,0,26,6],[32,0,32,6],[33,0,33,6],[26,23,28,23],[27,0,27,6],[28,0,28,6],[29,0,29,6],[29,23,31,23],[30,0,30,6],[31,0,31,6],[33,7,33,22],[37,0,37,2],[49,39,77,52],[63,7,63,22],[65,0,65,6],[65,23,68,23],[66,0,66,6],[6,39,34,52],[20,7,20,22],[22,0,22,6],[22,23,25,23],[23,0,23,6],[67,0,67,6],[68,0,68,6],[69,0,69,6],[69,23,71,23],[70,0,70,6],[71,0,71,6],[79,0,79,2],[72,0,72,6],[72,23,74,23],[73,0,73,6],[74,0,74,6],[75,0,75,6],[76,0,76,6],[76,7,76,22]]}
["Computation of design value of Equivalent Standard Axle Loads"]
[]
["Vehicle ","Vehicle Class","Average ESA/VEF","AADTT","Load distribution factor between lanes","ESA/day for each category"]
["Medium Truck (2 Axles) - Type 2",2,{"$f":"'11 Axle Loads Direction 2-SS'!L1010","v":1.2262184336918425},{"$f":"'10 ADT Direction 2-SS'!B22","v":47.519999999999996},1,{"$f":"C4*D4*E4","v":58.269899969036352}]
["Heavy Truck (3 Axles) - Type 3",3,{"$f":"'11 Axle Loads Direction 2-SS'!L1011","v":5.4142715301229395E-3},{"$f":"'10 ADT Direction 2-SS'!C22","v":47.519999999999996},1,{"$f":"C5*D5*E5","v":0.25728618311144208}]
["Heavy Truck (3 Axles) - Type 3B","3B",{"$f":"'11 Axle Loads Direction 2-SS'!L1012","v":2.1169094171838245},{"$f":"'10 ADT Direction 2-SS'!D22","v":47.519999999999996},1,100.59553550457534]
["Heavy Truck (4 Axles) - Type 4",4,{"$f":"'11 Axle Loads Direction 2-SS'!L1013","v":2.2176985780377256},{"$f":"'10 ADT Direction 2-SS'!E22","v":47.519999999999996},1,105.38503642835272]
["Semi-Trailers (5 Axles) - Type 5",5,{"$f":"'11 Axle Loads Direction 2-SS'!L1014","v":0},{"$f":"'10 ADT Direction 2-SS'!F22","v":47.519999999999996},1,0]
["Semi-Trailers (5 Axles) - Type 5B","5B",{"$f":"'11 Axle Loads Direction 2-SS'!L1015","v":0.39254469722853064},{"$f":"'10 ADT Direction 2-SS'!G22","v":47.519999999999996},1,18.653724012299776]
["Semi-Trailers (5 Axles) - Type 5C","5C",{"$f":"'11 Axle Loads Direction 2-SS'!L1016","v":0},{"$f":"'10 ADT Direction 2-SS'!H22","v":47.519999999999996},1,0]
["Semi-Trailers (5 Axles) - Type 5D","5D",{"$f":"'11 Axle Loads Direction 2-SS'!L1017","v":0},{"$f":"'10 ADT Direction 2-SS'!I22","v":47.519999999999996},1,0]
["Semi-Trailers (6 Axles) - Type 6",6,{"$f":"'11 Axle Loads Direction 2-SS'!L1018","v":3.0100999696777717},{"$f":"'10 ADT Direction 2-SS'!J22","v":47.519999999999996},1,143.03995055908771]
["Semi-Trailers (6 Axles) - Type 6B","6B",{"$f":"'11 Axle Loads Direction 2-SS'!L1019","v":9.6068813082367992},{"$f":"'10 ADT Direction 2-SS'!K22","v":47.519999999999996},1,456.51899976741265]
["Semi-Trailers (6 Axles) - Type 6C","6C",{"$f":"'11 Axle Loads Direction 2-SS'!L1020","v":0},{"$f":"'10 ADT Direction 2-SS'!L22","v":47.519999999999996},1,0]
["Trailers (7 Axles) - Type 7",7,{"$f":"'11 Axle Loads Direction 2-SS'!L1021","v":4.4140494905545742},{"$f":"'10 ADT Direction 2-SS'!M22","v":47.519999999999996},1,209.75563179115335]
["Trailers (7 Axles) - Type 7B","7B",{"$f":"'11 Axle Loads Direction 2-SS'!L1022","v":6.1158261262424114},{"$f":"'10 ADT Direction 2-SS'!N22","v":47.519999999999996},1,290.62405751903935]
["Trailers (7 Axles) - Type 7C","7C",{"$f":"'11 Axle Loads Direction 2-SS'!L1023","v":0},{"$f":"'10 ADT Direction 2-SS'!O22","v":47.519999999999996},1,0]
["Trailers (9 Axles) - Type 9",9,{"$f":"'11 Axle Loads Direction 2-SS'!L1024","v":2.0339546164293179},{"$f":"'10 ADT Direction 2-SS'!P22","v":47.519999999999996},1,96.653523372721182]
["Trailers (9 Axles) - Type 9B","9B",{"$f":"'11 Axle Loads Direction 2-SS'!L1025","v":8.6985073442179228},{"$f":"'10 ADT Direction 2-SS'!Q22","v":47.519999999999996},1,413.35306899723565]
["a - Total ESA/day (one way)",null,null,null,null,{"$f":"SUM(F4:F19)","v":1893.1067141040253}]
[null,null,null,null,null,null,null,"Truck Type"]
["Factors",null,null,null,null,null,null,2,3,"3B",4,5,"5B","5C","5D",6,"6B","6C",7,"7B","7C",9,"9B"]
["a=current average annual daily traffic loading in ESA/day (one way) in year of count",null,null,null,null,null,null,{"$f":"F4","v":58.269899969036352},{"$f":"F5","v":0.25728618311144208},{"$f":"F6","v":100.59553550457534},{"$f":"F7","v":105.38503642835272},{"$f":"F8","v":0},{"$f":"F9","v":18.653724012299776},{"$f":"F10","v":0},{"$f":"F11","v":0},{"$f":"F12","v":143.03995055908771},{"$f":"F13","v":456.51899976741265},{"$f":"F14","v":0},{"$f":"F15","v":209.75563179115335},{"$f":"F16","v":290.62405751903935},{"$f":"F17","v":0},{"$f":"F18","v":96.653523372721182},{"$f":"F19","v":413.35306899723565},"Growth Period 1"]
["b=annual growth rate (%) for growth Period 1",null,null,null,null,null,null,5,5,5,5,5,5,5,5,5,5,5,5,5,5,5,5]
["c=design life (years) for growth Period 1",null,null,null,null,null,null,10,10,10,10,10,10,10,10,10,10,10,10,10,10,10,10]
["d=number of years to start of design life for growth Period 1",null,null,null,null,null,null,2,2,2,2,2,2,2,2,2,2,2,2,2,2,2,2]
["a=average annual daily traffic loading in ESA/day (one way) at end of growth Period 1/ beginning of Period 2",null,null,null,null,null,null,{"$f":"H23*((1+(H24/100))^(H25+H26))","v":104.6443684760706},{"$f":"I23*((1+(I24/100))^(I25+I26))","v":0.46204901953877114},180.65512880547533,189.25638433792977,0,33.499408271359449,0,0,256.87920008543028,{"$f":"Q23*((1+(Q24/100))^(Q25+Q26))","v":819.84253368160296},{"$f":"R23*((1+(R24/100))^(R25+R26))","v":0},{"$f":"S23*((1+(S24/100))^(S25+S26))","v":376.69097827091116},521.91905218978593,0,173.57584138122905,742.3227238393473,"Growth Period 2"]
["b=annual growth rate (%) for growth Period 2",null,null,null,null,null,null,4,4,4,4,4,4,4,4,4,4,4,4,4,4,4,4]
["c=design life (years) for growth Period 2",null,null,null,null,null,null,5,5,5,5,5,5,5,5,5,5,5,5,5,5,5,5]
["a=average annual daily traffic loading in ESA/day (one way) at end of growth Period 2/ beginning of Period 3",null,null,null,null,null,null,{"$f":"H27*((1+(H28/100))^(H29))","v":127.31587462622639},{"$f":"I27*((1+(I28/100))^(I29))","v":0.56215328067292036},219.79458679462746,230.25932930247222,0,40.757152302032054,0,0,312.53282435012915,997.46379811469228,0,458.30217202119951,634.99432966456027,0,211.18155120299443,903.1490964766158,"Growth Period 3"]
["b=annual growth rate (%) for growth Period 3",null,null,null,null,null,null,3,3,3,3,3,3,3,3,3,3,3,3,3,3,3,3]
["c=design life (years) for growth Period 3",null,null,null,null,null,null,5,5,5,5,5,5,5,5,5,5,5,5,5,5,5,5]
["Total Cummulative ESA by Truck Type (one way)",null,null,null,null,null,null,{"$f":"(((H23*365*100/H24)*(((1+(H24/100))^(H25+H26))-((1+(H24/100))^H26)))/1000000)+(((H27*365*100/H28)*(((1+(H28/100))^H29)-(1)))/1000000)+(((H30*365*100/H31)*(((1+(H31/100))^H32)-(1)))/1000000)","v":0.74852776431293255},{"$f":"(((I23*365*100/I24)*(((1+(I24/100))^(I25+I26))-((1+(I24/100))^I26)))/1000000)+(((I27*365*100/I28)*(((1+(I28/100))^I29)-(1)))/1000000)+(((I30*365*100/I31)*(((1+(I31/100))^I32)-(1)))/1000000)","v":3.3050657635477739E-3},1.2922375245386455,1.3537628475708601,0,0.23962337911094467,0,0,1.8374731114404046,5.8643853249080626,0,2.6944943135325459,3.7333198812058517,0,1.2415989353267332,5.3098812383890053,"MESA"]
["Total Cummulative Design MESA  (one way)",null,null,null,null,null,null,{"$f":"SUM(H33:W33)","v":24.318609386099531}]
[]
[]
[]
["Pavement Design MESA Direction 2",null,null,{"$f":"H34","v":24.318609386099531},null,0,"If MESA is already known then enter it here"]
[null,null,null,{"$f":"IF(D38>F38,D38,F38)","v":24.318609386099531}]
[]
[]
[]
[]
["Computation of design value of Equivalent Standard Axle Loads (IF YOU ALREADY HAVE VEF per vehicle class and AADTT OR ADTT)"]
[]
["Vehicle ","Vehicle Class","Average ESA/VEF","AADTT/\nADTT","Load distribution factor between lanes","ESA/day for each category"]
["Medium Truck (2 Axles) - Type 2",2,2,0,1,{"$f":"C47*D47*E47","v":0}]
["Heavy Truck (3 Axles) - Type 3",3,3,0,1,{"$f":"C48*D48*E48","v":0}]
["Heavy Truck (3 Axles) - Type 3B","3B",4,0,1,0]
["Heavy Truck (4 Axles) - Type 4",4,4.5,0,1,0]
["Semi-Trailers (5 Axles) - Type 5",5,3.8,0,1,0]
["Semi-Trailers (5 Axles) - Type 5B","5B",4.8,0,1,0]
["Semi-Trailers (5 Axles) - Type 5C","5C",4.2,0,1,0]
["Semi-Trailers (5 Axles) - Type 5D","5D",4.8,0,1,0]
["Semi-Trailers (6 Axles) - Type 6",6,6.2,0,1,0]
["Semi-Trailers (6 Axles) - Type 6B","6B",6.2,0,1,0]
["Semi-Trailers (6 Axles) - Type 6C","6C",6.9,0,1,0]
["Trailers (7 Axles) - Type 7",7,6.3,0,1,0]
["Trailers (7 Axles) - Type 7B","7B",6.3,0,1,0]
["Trailers (7 Axles) - Type 7C","7C",7,0,1,0]
["Trailers (9 Axles) - Type 9",9,6,0,1,0]
["Trailers (9 Axles) - Type 9B","9B",6.9,0,1,0]
["a - Total ESA/day (one way)",null,null,null,null,{"$f":"SUM(F47:F62)","v":0}]
[null,null,null,null,null,null,null,"Truck Type"]
["Factors",null,null,null,null,null,null,2,3,"3B",4,5,"5B","5C","5D",6,"6B","6C",7,"7B","7C",9,"9B"]
["a=current average annual daily traffic loading in ESA/day (one way) in year of count",null,null,null,null,null,null,{"$f":"F47","v":0},{"$f":"F48","v":0},{"$f":"F49","v":0},{"$f":"F50","v":0},{"$f":"F51","v":0},{"$f":"F52","v":0},{"$f":"F53","v":0},{"$f":"F54","v":0},{"$f":"F55","v":0},{"$f":"F56","v":0},{"$f":"F57","v":0},{"$f":"F58","v":0},{"$f":"F59","v":0},{"$f":"F60","v":0},{"$f":"F61","v":0},{"$f":"F62","v":0},"Growth Period 1"]
["b=annual growth rate (%) for growth Period 1",null,null,null,null,null,null,5,5,5,5,5,5,5,5,5,5,5,5,5,5,5,5]
["c=design life (years) for growth Period 1",null,null,null,null,null,null,10,10,10,10,10,10,10,10,10,10,10,10,10,10,10,10]
["d=number of years to start of design life for growth Period 1",null,null,null,null,null,null,2,2,2,2,2,2,2,2,2,2,2,2,2,2,2,2]
["a=average annual daily traffic loading in ESA/day (one way) at end of growth Period 1/ beginning of Period 2",null,null,null,null,null,null,{"$f":"H66*((1+(H67/100))^(H68+H69))","v":0},{"$f":"I66*((1+(I67/100))^(I68+I69))","v":0},0,0,0,0,0,0,0,0,0,0,0,0,0,0,"Growth Period 2"]
["b=annual growth rate (%) for growth Period 2",null,null,null,null,null,null,4,4,4,4,4,4,4,4,4,4,4,4,4,4,4,4]
["c=design life (years) for growth Period 2",null,null,null,null,null,null,5,5,5,5,5,5,5,5,5,5,5,5,5,5,5,5]
["a=average annual daily traffic loading in ESA/day (one way) at end of growth Period 2/ beginning of Period 3",null,null,null,null,null,null,{"$f":"H70*((1+(H71/100))^(H72))","v":0},{"$f":"I70*((1+(I71/100))^(I72))","v":0},0,0,0,0,0,0,0,0,0,0,0,0,0,0,"Growth Period 3"]
["b=annual growth rate (%) for growth Period 3",null,null,null,null,null,null,3,3,3,3,3,3,3,3,3,3,3,3,3,3,3,3]
["c=design life (years) for growth Period 3",null,null,null,null,null,null,5,5,5,5,5,5,5,5,5,5,5,5,5,5,5,5]
["Total Cummulative MESA by Truck Type (one way) ",null,null,null,null,null,null,{"$f":"(((H66*365*100/H67)*(((1+(H67/100))^(H68+H69))-((1+(H67/100))^H69)))/1000000)+(((H70*365*100/H71)*(((1+(H71/100))^H72)-(1)))/1000000)+(((H73*365*100/H74)*(((1+(H74/100))^H75)-(1)))/1000000)","v":0},{"$f":"(((I66*365*100/I67)*(((1+(I67/100))^(I68+I69))-((1+(I67/100))^I69)))/1000000)+(((I70*365*100/I71)*(((1+(I71/100))^I72)-(1)))/1000000)+(((I73*365*100/I74)*(((1+(I74/100))^I75)-(1)))/1000000)","v":0},0,0,0,0,0,0,0,0,0,0,0,0,0,0,"MESA"]
["Total Cummulative Design MESA  (one way)",null,null,null,null,null,null,{"$f":"SUM(H76:W76)","v":0}]
[]
[]
["Pavement Design MESA Direction 2",null,null,{"$f":"H77","v":0}]
[]
[]
[]
["Determinant MESA Direction 2",null,null,{"$f":"IF(D39>D80,D39,D80)","v":24.318609386099531}]

{"sheet":"13 Uniform Sections-CUSUMs","index":14,"n_rows":504,"n_cols":13,"rows_kept":504,"cut":false,"hidden":false,"merged":[]}
[]
[null,"Chainage","CBR or other property","Value less mean","Cumulative Sums (CUSUMS)"]
[null,0.5,7,{"$f":"IF(C3>0,C3-$C$504,0)","v":-0.625},{"$f":"D3","v":-0.625}]
[null,1,6,{"$f":"IF(C4>0,C4-$C$504,0)","v":-1.625},{"$f":"D4+E3","v":-2.25}]
[null,1.5,9,1.375,{"$f":"D5+E4","v":-0.875}]
[null,2,7,-0.625,{"$f":"D6+E5","v":-1.5}]
[null,2.5,7,-0.625,-2.125]
[null,3,10,2.375,0.25]
[null,3.5,8,0.375,0.625]
[null,4,6,-1.625,-1]
[null,4.5,9,1.375,0.375]
[null,5,7,-0.625,-0.25]
[null,5.5,7,-0.625,-0.875]
[null,6,7,-0.625,-1.5]
[null,6.5,8,0.375,-1.125]
[null,7,11,3.375,2.25]
[null,7.5,11,3.375,5.625]
[null,8,10,2.375,8]
[null,8.5,11,3.375,11.375]
[null,9,13,5.375,16.75]
[null,9.5,13,5.375,22.125]
[null,10,12,4.375,26.5]
[null,10.5,10,2.375,28.875]
[null,11,13,5.375,34.25]
[null,11.5,4,-3.625,30.625,null,"Coefficient of Variation (CoV)"]
[null,12,5,-2.625,28,null,"Section","Start Chainage","End Chainage","CoV (%)",null,"CoV=(Standard deviation of the values in that section)/(Mean of the values of that sections)"]
[null,12.5,6,-1.625,26.375,null,1]
[null,13,4,-3.625,22.75,null,2,null,null,null,null,"CoV< 0.2 represents good homogeneity"]
[null,13.5,3,-4.625,18.125,null,3,null,null,null,null,"0.2<CoV<0.3 represents moderate homogeneity"]
[null,14,3,-4.625,13.5,null,4,null,null,null,null,"CoV> 0.3 poor homogeneity"]
[null,14.5,6,-1.625,11.875,null,5]
[null,15,4,-3.625,8.25]
[null,15.5,3,-4.625,3.625]
[null,16,4,-3.625,0]
[null,null,null,0,0,null,null,null,null,null,null,"CoV< 0.2 ","represents good homogeneity"]
[null,null,null,0,0,null,null,null,null,null,null,"0.2<CoV<0.3"," represents moderate homogeneity"]
[null,null,null,0,0,null,null,null,null,null,null,"CoV> 0.3 poor homogeneity","poor homogeneity"]
[null,null,null,0,0]
[null,null,null,0,0]
[null,null,null,0,0]
[null,null,null,0,0]
[null,null,null,0,0]
[null,null,null,0,0]
[null,null,null,0,0]
[null,null,null,0,0]
[null,null,null,0,0]
[null,null,null,0,0]
[null,null,null,0,0]
[null,null,null,0,0]
[null,null,null,0,0]
[null,null,null,0,0]
[null,null,null,0,0]
[null,null,null,0,0]
[null,null,null,0,0]
[null,null,null,0,0]
[null,null,null,0,0]
[null,null,null,0,0]
[null,null,null,0,0]
[null,null,null,0,0]
[null,null,null,0,0]
[null,null,null,0,0]
[null,null,null,0,0]
[null,null,null,0,0]
[null,null,null,0,0]
[null,null,null,0,0]
[null,null,null,0,0]
[null,null,null,0,0]
[null,null,null,{"$f":"IF(C68>0,C68-$C$504,0)","v":0},0]
[null,null,null,0,0]
[null,null,null,0,{"$f":"D70+E69","v":0}]
[null,null,null,0,0]
[null,null,null,0,0]
[null,null,null,0,0]
[null,null,null,0,0]
[null,null,null,0,0]
[null,null,null,0,0]
[null,null,null,0,0]
[null,null,null,0,0]
[null,null,null,0,0]
[null,null,null,0,0]
[null,null,null,0,0]
[null,null,null,0,0]
[null,null,null,0,0]
[null,null,null,0,0]
[null,null,null,0,0]
[null,null,null,0,0]
[null,null,null,0,0]
[null,null,null,0,0]
[null,null,null,0,0]
[null,null,null,0,0]
[null,null,null,0,0]
[null,null,null,0,0]
[null,null,null,0,0]
[null,null,null,0,0]
[null,null,null,0,0]
[null,null,null,0,0]
[null,null,null,0,0]
[null,null,null,0,0]
[null,null,null,0,0]
[null,null,null,0,0]
[null,null,null,0,0]
[null,null,null,0,0]
[null,null,null,0,0]
[null,null,null,0,0]
[null,null,null,0,0]
[null,null,null,0,0]
[null,null,null,0,0]
[null,null,null,0,0]
[null,null,null,0,0]
[null,null,null,0,0]
[null,null,null,0,0]
[null,null,null,0,0]
[null,null,null,0,0]
[null,null,null,0,0]
[null,null,null,0,0]
[null,null,null,0,0]
[null,null,null,0,0]
[null,null,null,0,0]
[null,null,null,0,0]
[null,null,null,0,0]
[null,null,null,0,0]
[null,null,null,0,0]
[null,null,null,0,0]
[null,null,null,0,0]
[null,null,null,0,0]
[null,null,null,0,0]
[null,null,null,0,0]
[null,null,null,0,0]
[null,null,null,0,0]
[null,null,null,0,0]
[null,null,null,0,0]
[null,null,null,{"$f":"IF(C132>0,C132-$C$504,0)","v":0},0]
[null,null,null,0,0]
[null,null,null,0,{"$f":"D134+E133","v":0}]
[null,null,null,0,0]
[null,null,null,0,0]
[null,null,null,0,0]
[null,null,null,0,0]
[null,null,null,0,0]
[null,null,null,0,0]
[null,null,null,0,0]
[null,null,null,0,0]
[null,null,null,0,0]
[null,null,null,0,0]
[null,null,null,0,0]
[null,null,null,0,0]
[null,null,null,0,0]
[null,null,null,0,0]
[null,null,null,0,0]
[null,null,null,0,0]
[null,null,null,0,0]
[null,null,null,0,0]
[null,null,null,0,0]
[null,null,null,0,0]
[null,null,null,0,0]
[null,null,null,0,0]
[null,null,null,0,0]
[null,null,null,0,0]
[null,null,null,0,0]
[null,null,null,0,0]
[null,null,null,0,0]
[null,null,null,0,0]
[null,null,null,0,0]
[null,null,null,0,0]
[null,null,null,0,0]
[null,null,null,0,0]
[null,null,null,0,0]
[null,null,null,0,0]
[null,null,null,0,0]
[null,null,null,0,0]
[null,null,null,0,0]
[null,null,null,0,0]
[null,null,null,0,0]
[null,null,null,0,0]
[null,null,null,0,0]
[null,null,null,0,0]
[null,null,null,0,0]
[null,null,null,0,0]
[null,null,null,0,0]
[null,null,null,0,0]
[null,null,null,0,0]
[null,null,null,0,0]
[null,null,null,0,0]
[null,null,null,0,0]
[null,null,null,0,0]
[null,null,null,0,0]
[null,null,null,0,0]
[null,null,null,0,0]
[null,null,null,0,0]
[null,null,null,0,0]
[null,null,null,0,0]
[null,null,null,0,0]
[null,null,null,0,0]
[null,null,null,0,0]
[null,null,null,0,0]
[null,null,null,{"$f":"IF(C196>0,C196-$C$504,0)","v":0},0]
[null,null,null,0,0]
[null,null,null,0,{"$f":"D198+E197","v":0}]
[null,null,null,0,0]
[null,null,null,0,0]
[null,null,null,0,0]
[null,null,null,0,0]
[null,null,null,0,0]
[null,null,null,0,0]
[null,null,null,0,0]
[null,null,null,0,0]
[null,null,null,0,0]
[null,null,null,0,0]
[null,null,null,0,0]
[null,null,null,0,0]
[null,null,null,0,0]
[null,null,null,0,0]
[null,null,null,0,0]
[null,null,null,0,0]
[null,null,null,0,0]
[null,null,null,0,0]
[null,null,null,0,0]
[null,null,null,0,0]
[null,null,null,0,0]
[null,null,null,0,0]
[null,null,null,0,0]
[null,null,null,0,0]
[null,null,null,0,0]
[null,null,null,0,0]
[null,null,null,0,0]
[null,null,null,0,0]
[null,null,null,0,0]
[null,null,null,0,0]
[null,null,null,0,0]
[null,null,null,0,0]
[null,null,null,0,0]
[null,null,null,0,0]
[null,null,null,0,0]
[null,null,null,0,0]
[null,null,null,0,0]
[null,null,null,0,0]
[null,null,null,0,0]
[null,null,null,0,0]
[null,null,null,0,0]
[null,null,null,0,0]
[null,null,null,0,0]
[null,null,null,0,0]
[null,null,null,0,0]
[null,null,null,0,0]
[null,null,null,0,0]
[null,null,null,0,0]
[null,null,null,0,0]
[null,null,null,0,0]
[null,null,null,0,0]
[null,null,null,0,0]
[null,null,null,0,0]
[null,null,null,0,0]
[null,null,null,0,0]
[null,null,null,0,0]
[null,null,null,0,0]
[null,null,null,0,0]
[null,null,null,0,0]
[null,null,null,0,0]
[null,null,null,0,0]
[null,null,null,{"$f":"IF(C260>0,C260-$C$504,0)","v":0},0]
[null,null,null,0,0]
[null,null,null,0,{"$f":"D262+E261","v":0}]
[null,null,null,0,0]
[null,null,null,0,0]
[null,null,null,0,0]
[null,null,null,0,0]
[null,null,null,0,0]
[null,null,null,0,0]
[null,null,null,0,0]
[null,null,null,0,0]
[null,null,null,0,0]
[null,null,null,0,0]
[null,null,null,0,0]
[null,null,null,0,0]
[null,null,null,0,0]
[null,null,null,0,0]
[null,null,null,0,0]
[null,null,null,0,0]
[null,null,null,0,0]
[null,null,null,0,0]
[null,null,null,0,0]
[null,null,null,0,0]
[null,null,null,0,0]
[null,null,null,0,0]
[null,null,null,0,0]
[null,null,null,0,0]
[null,null,null,0,0]
[null,null,null,0,0]
[null,null,null,0,0]
[null,null,null,0,0]
[null,null,null,0,0]
[null,null,null,0,0]
[null,null,null,0,0]
[null,null,null,0,0]
[null,null,null,0,0]
[null,null,null,0,0]
[null,null,null,0,0]
[null,null,null,0,0]
[null,null,null,0,0]
[null,null,null,0,0]
[null,null,null,0,0]
[null,null,null,0,0]
[null,null,null,0,0]
[null,null,null,0,0]
[null,null,null,0,0]
[null,null,null,0,0]
[null,null,null,0,0]
[null,null,null,0,0]
[null,null,null,0,0]
[null,null,null,0,0]
[null,null,null,0,0]
[null,null,null,0,0]
[null,null,null,0,0]
[null,null,null,0,0]
[null,null,null,0,0]
[null,null,null,0,0]
[null,null,null,0,0]
[null,null,null,0,0]
[null,null,null,0,0]
[null,null,null,0,0]
[null,null,null,0,0]
[null,null,null,0,0]
[null,null,null,0,0]
[null,null,null,{"$f":"IF(C324>0,C324-$C$504,0)","v":0},0]
[null,null,null,0,0]
[null,null,null,0,{"$f":"D326+E325","v":0}]
[null,null,null,0,0]
[null,null,null,0,0]
[null,null,null,0,0]
[null,null,null,0,0]
[null,null,null,0,0]
[null,null,null,0,0]
[null,null,null,0,0]
[null,null,null,0,0]
[null,null,null,0,0]
[null,null,null,0,0]
[null,null,null,0,0]
[null,null,null,0,0]
[null,null,null,0,0]
[null,null,null,0,0]
[null,null,null,0,0]
[null,null,null,0,0]
[null,null,null,0,0]
[null,null,null,0,0]
[null,null,null,0,0]
[null,null,null,0,0]
[null,null,null,0,0]
[null,null,null,0,0]
[null,null,null,0,0]
[null,null,null,0,0]
[null,null,null,0,0]
[null,null,null,0,0]
[null,null,null,0,0]
[null,null,null,0,0]
[null,null,null,0,0]
[null,null,null,0,0]
[null,null,null,0,0]
[null,null,null,0,0]
[null,null,null,0,0]
[null,null,null,0,0]
[null,null,null,0,0]
[null,null,null,0,0]
[null,null,null,0,0]
[null,null,null,0,0]
[null,null,null,0,0]
[null,null,null,0,0]
[null,null,null,0,0]
[null,null,null,0,0]
[null,null,null,0,0]
[null,null,null,0,0]
[null,null,null,0,0]
[null,null,null,0,0]
[null,null,null,0,0]
[null,null,null,0,0]
[null,null,null,0,0]
[null,null,null,0,0]
[null,null,null,0,0]
[null,null,null,0,0]
[null,null,null,0,0]
[null,null,null,0,0]
[null,null,null,0,0]
[null,null,null,0,0]
[null,null,null,0,0]
[null,null,null,0,0]
[null,null,null,0,0]
[null,null,null,0,0]
[null,null,null,0,0]
[null,null,null,{"$f":"IF(C388>0,C388-$C$504,0)","v":0},0]
[null,null,null,0,0]
[null,null,null,0,{"$f":"D390+E389","v":0}]
[null,null,null,0,0]
[null,null,null,0,0]
[null,null,null,0,0]
[null,null,null,0,0]
[null,null,null,0,0]
[null,null,null,0,0]
[null,null,null,0,0]
[null,null,null,0,0]
[null,null,null,0,0]
[null,null,null,0,0]
[null,null,null,0,0]
[null,null,null,0,0]
[null,null,null,0,0]
[null,null,null,0,0]
[null,null,null,0,0]
[null,null,null,0,0]
[null,null,null,0,0]
[null,null,null,0,0]
[null,null,null,0,0]
[null,null,null,0,0]
[null,null,null,0,0]
[null,null,null,0,0]
[null,null,null,0,0]
[null,null,null,0,0]
[null,null,null,0,0]
[null,null,null,0,0]
[null,null,null,0,0]
[null,null,null,0,0]
[null,null,null,0,0]
[null,null,null,0,0]
[null,null,null,0,0]
[null,null,null,0,0]
[null,null,null,0,0]
[null,null,null,0,0]
[null,null,null,0,0]
[null,null,null,0,0]
[null,null,null,0,0]
[null,null,null,0,0]
[null,null,null,0,0]
[null,null,null,0,0]
[null,null,null,0,0]
[null,null,null,0,0]
[null,null,null,0,0]
[null,null,null,0,0]
[null,null,null,0,0]
[null,null,null,0,0]
[null,null,null,0,0]
[null,null,null,0,0]
[null,null,null,0,0]
[null,null,null,0,0]
[null,null,null,0,0]
[null,null,null,0,0]
[null,null,null,0,0]
[null,null,null,0,0]
[null,null,null,0,0]
[null,null,null,0,0]
[null,null,null,0,0]
[null,null,null,0,0]
[null,null,null,0,0]
[null,null,null,0,0]
[null,null,null,0,0]
[null,null,null,{"$f":"IF(C452>0,C452-$C$504,0)","v":0},0]
[null,null,null,0,0]
[null,null,null,0,{"$f":"D454+E453","v":0}]
[null,null,null,0,0]
[null,null,null,0,0]
[null,null,null,0,0]
[null,null,null,0,0]
[null,null,null,0,0]
[null,null,null,0,0]
[null,null,null,0,0]
[null,null,null,0,0]
[null,null,null,0,0]
[null,null,null,0,0]
[null,null,null,0,0]
[null,null,null,0,0]
[null,null,null,0,0]
[null,null,null,0,0]
[null,null,null,0,0]
[null,null,null,0,0]
[null,null,null,0,0]
[null,null,null,0,0]
[null,null,null,0,0]
[null,null,null,0,0]
[null,null,null,0,0]
[null,null,null,0,0]
[null,null,null,0,0]
[null,null,null,0,0]
[null,null,null,0,0]
[null,null,null,0,0]
[null,null,null,0,0]
[null,null,null,0,0]
[null,null,null,0,0]
[null,null,null,0,0]
[null,null,null,0,0]
[null,null,null,0,0]
[null,null,null,0,0]
[null,null,null,0,0]
[null,null,null,0,0]
[null,null,null,0,0]
[null,null,null,0,0]
[null,null,null,0,0]
[null,null,null,0,0]
[null,null,null,0,0]
[null,null,null,0,0]
[null,null,null,0,0]
[null,null,null,0,0]
[null,null,null,0,0]
[null,null,null,0,0]
[null,null,null,0,0]
[null,null,null,0,0]
[null,null,null,0,0]
[null,null,null,0,0]
[null,"Mean",{"$f":"AVERAGE(C3:C503)","v":7.625}]

{"sheet":"14 Flexible Pavement Structure","index":15,"n_rows":101,"n_cols":22,"rows_kept":101,"cut":false,"hidden":false,"merged":[[27,5,27,10],[1,10,1,13],[1,9,3,9],[1,14,3,14],[0,9,0,12],[22,5,22,6],[22,7,22,8],[21,5,21,8],[15,5,15,6],[2,10,2,11],[2,12,2,13],[14,5,14,6]]}
[null,null,null,null,null,"Subgrade Class","CBR (%)",null,null,null,null,null,null,null,null,null,"Traffic Class","MESA",null,null,null,"Foundation Select"]
["Chainage","Subgrade CBR (%)","Percentile",0.05,null,"S1","<3",2.9,null,"Native Subgrade Class","Capping",null,null,null,"Foundation Class",null,"T1","≤0.3",0.3,null,null,"F1 (S3)"]
[0.5,7,null,null,null,"S2","3-4",4,null,null,"Layer 1",null,"Layer 2",null,null,null,"T2","0.3-0.7",0.7,null,null,"F2 (S4)"]
[1,6,null,null,null,"S3","5-7",7,null,null,"Material","Thickness(mm)","Material","Thickness(mm)",null,null,"T3","0.7-1.5",1.5,null,null,"F3 (S5)"]
[1.5,9,null,null,null,"S4","8-14",14,null,"S1","G8",425,null,null,"F1 (S3)",{"$f":"_xlfn.CONCAT(J5,\"-\",O5,)","v":"S1-F1 (S3)"},"T4","1.5-3.0",3,null,null,"F4 (S6)"]
[2,7,null,null,null,"S5","15-30",30,null,"S1","G8",200,"GC",150,"F1 (S3)",{"$f":"_xlfn.CONCAT(J6,\"-\",O6,)","v":"S1-F1 (S3)"},"T5","3.0-6.0",6]
[2.5,7,null,null,null,"S6","≥30",9999999,null,"S1","GC",300,null,null,"F1 (S3)","S1-F1 (S3)","T6","6.0-10.0",10]
[3,10,null,null,null,null,null,null,null,"S1","G8",275,"GC",200,"F2 (S4)","S1-F2 (S4)","T7","10.0-17.0",17]
[3.5,8,null,null,null,null,null,null,null,"S1","GC",375,null,null,"F2 (S4)","S1-F2 (S4)","T8","17.0-30.0",30]
[4,6,null,null,null,null,null,null,null,"S1","GC",300,"GS2",175,"F3 (S5)","S1-F3 (S5)","T9","30.0-50.0",50]
[4.5,9,null,null,null,"Design Subgrade Strength",{"$f":"IF(B101=\"\",\"\",B101)","v":6},null,null,"S1","GS2",225,null,null,"F3 (S5)","S1-F3 (S5)","T10","50.0-80.0+",999999]
[5,7,null,null,null,"Design Subgrade Class",{"$f":"_xlfn.XLOOKUP(G11,H2:H7,F2:F7,,1)","v":"S3"},null,null,"S2","GC",150,null,null,"F1 (S3)","S2-F1 (S3)"]
[5.5,7,null,null,null,null,null,null,null,"S2","GC",250,null,null,"F2 (S4)","S2-F2 (S4)"]
[6,7,null,null,null,"Foundation Class","F2 (S4)",{"$f":"_xlfn.CONCAT(G12,\"-\",G14)","v":"S3-F2 (S4)"},null,"S2","GC",350,null,null,"F3 (S5)","S2-F3 (S5)"]
[6.5,8,null,null,null,{"$f":"IF(ISERROR(_xlfn.XLOOKUP(H14,P5:P20,P5:P20)),\"No capping required\",\"\")","v":""},null,null,null,"S2","GS2",400,null,null,"F4 (S6)","S2-F4 (S6)","Design Traffic MESA",{"$f":"MAX('3 Design MESA Direction 1'!D66,'6 Design MESA Direction 2'!D66,'9 Design MESA Direction 1-SS'!D84,'12 Design MESA Direction 2-SS'!D84)","v":51}]
[null,null,null,null,null,{"$f":"IF(G12=\"S6\",\"S6 calculated, F4 (S6) should be used\",\"\")","v":""},null,null,null,"S3","GC",150,null,null,"F2 (S4)","S3-F2 (S4)","Design Traffic Class",{"$f":"IF(R15=\"-\",\"-\",_xlfn.XLOOKUP(R15,S2:S12,Q2:Q12,\"-\",1))","v":"T10"}]
[null,null,null,null,null,null,null,null,null,"S3","GC",225,null,null,"F3 (S5)","S3-F3 (S5)"]
[null,null,null,null,null,null,null,null,null,"S3","GS2",275,null,null,"F4 (S6)","S3-F4 (S6)"]
[null,null,null,null,null,null,null,null,null,"S4","GS2",200,null,null,"F4 (S6)","S4-F4 (S6)"]
[null,null,null,null,null,null,null,null,null,"S5","GS2",150,null,null,"F4 (S6)","S5-F4 (S6)"]
[]
[null,null,null,null,null,"Capping layer"]
[null,null,null,null,null,"Layer 1",null,"Layer 2"]
[null,null,null,null,null,"Material","Thickness(mm)","Material","Thickness(mm)"]
[null,null,null,null,null,{"$f":"IFERROR(IF($F$15=\"No capping required\",$F$15,_xlfn.XLOOKUP($H$14,$P$5:$P$20,K$5:K$20)),\"Select foundation\")","v":"GC"},{"$f":"IFERROR(_xlfn.XLOOKUP($H$14,$P$5:$P$20,L$5:L$20),\"\")","v":150},{"$f":"IFERROR(IF($F$15=\"No capping required\",$F$15,_xlfn.XLOOKUP($H$14,$P$5:$P$20,M$5:M$20)),\"Select foundation\")","v":0},{"$f":"IFERROR(_xlfn.XLOOKUP($H$14,$P$5:$P$20,N$5:N$20),\"\")","v":0}]
[]
[]
[null,null,null,null,null,"Possible Design Structures"]
[null,null,null,null,null,"Chart","Surfacing","Wearing Course","Binder Course","Roadbase","Sub-base"]
[null,null,null,null,null,"Chart A1",{"$f":"_xlfn.XLOOKUP(_xlfn.CONCAT($F30,\"-\",$R$16,\"-\",$G$14),'24 Table B'!$A:$A,'24 Table B'!F:F,\".\",0)","v":"."},{"$f":"_xlfn.XLOOKUP(_xlfn.CONCAT($F30,\"-\",$R$16,\"-\",$G$14),'24 Table B'!$A:$A,'24 Table B'!G:G,\".\",0)","v":"."},{"$f":"_xlfn.XLOOKUP(_xlfn.CONCAT($F30,\"-\",$R$16,\"-\",$G$14),'24 Table B'!$A:$A,'24 Table B'!H:H,\".\",0)","v":"."},{"$f":"_xlfn.XLOOKUP(_xlfn.CONCAT($F30,\"-\",$R$16,\"-\",$G$14),'24 Table B'!$A:$A,'24 Table B'!I:I,\".\",0)","v":"."},{"$f":"_xlfn.XLOOKUP(_xlfn.CONCAT($F30,\"-\",$R$16,\"-\",$G$14),'24 Table B'!$A:$A,'24 Table B'!J:J,\".\",0)","v":"."}]
[null,null,null,null,null,"Chart A2",{"$f":"_xlfn.XLOOKUP(_xlfn.CONCAT($F31,\"-\",$R$16,\"-\",$G$14),'24 Table B'!$A:$A,'24 Table B'!F:F,\".\",0)","v":"."},{"$f":"_xlfn.XLOOKUP(_xlfn.CONCAT($F31,\"-\",$R$16,\"-\",$G$14),'24 Table B'!$A:$A,'24 Table B'!G:G,\".\",0)","v":"."},{"$f":"_xlfn.XLOOKUP(_xlfn.CONCAT($F31,\"-\",$R$16,\"-\",$G$14),'24 Table B'!$A:$A,'24 Table B'!H:H,\".\",0)","v":"."},{"$f":"_xlfn.XLOOKUP(_xlfn.CONCAT($F31,\"-\",$R$16,\"-\",$G$14),'24 Table B'!$A:$A,'24 Table B'!I:I,\".\",0)","v":"."},{"$f":"_xlfn.XLOOKUP(_xlfn.CONCAT($F31,\"-\",$R$16,\"-\",$G$14),'24 Table B'!$A:$A,'24 Table B'!J:J,\".\",0)","v":"."}]
[null,null,null,null,null,"Chart A3",{"$f":"_xlfn.XLOOKUP(_xlfn.CONCAT($F32,\"-\",$R$16,\"-\",$G$14),'24 Table B'!$A:$A,'24 Table B'!F:F,\".\",0)","v":"."},{"$f":"_xlfn.XLOOKUP(_xlfn.CONCAT($F32,\"-\",$R$16,\"-\",$G$14),'24 Table B'!$A:$A,'24 Table B'!G:G,\".\",0)","v":"."},{"$f":"_xlfn.XLOOKUP(_xlfn.CONCAT($F32,\"-\",$R$16,\"-\",$G$14),'24 Table B'!$A:$A,'24 Table B'!H:H,\".\",0)","v":"."},{"$f":"_xlfn.XLOOKUP(_xlfn.CONCAT($F32,\"-\",$R$16,\"-\",$G$14),'24 Table B'!$A:$A,'24 Table B'!I:I,\".\",0)","v":"."},{"$f":"_xlfn.XLOOKUP(_xlfn.CONCAT($F32,\"-\",$R$16,\"-\",$G$14),'24 Table B'!$A:$A,'24 Table B'!J:J,\".\",0)","v":"."}]
[null,null,null,null,null,"Chart B",{"$f":"_xlfn.XLOOKUP(_xlfn.CONCAT($F33,\"-\",$R$16,\"-\",$G$14),'24 Table B'!$A:$A,'24 Table B'!F:F,\".\",0)","v":"."},{"$f":"_xlfn.XLOOKUP(_xlfn.CONCAT($F33,\"-\",$R$16,\"-\",$G$14),'24 Table B'!$A:$A,'24 Table B'!G:G,\".\",0)","v":"."},{"$f":"_xlfn.XLOOKUP(_xlfn.CONCAT($F33,\"-\",$R$16,\"-\",$G$14),'24 Table B'!$A:$A,'24 Table B'!H:H,\".\",0)","v":"."},{"$f":"_xlfn.XLOOKUP(_xlfn.CONCAT($F33,\"-\",$R$16,\"-\",$G$14),'24 Table B'!$A:$A,'24 Table B'!I:I,\".\",0)","v":"."},{"$f":"_xlfn.XLOOKUP(_xlfn.CONCAT($F33,\"-\",$R$16,\"-\",$G$14),'24 Table B'!$A:$A,'24 Table B'!J:J,\".\",0)","v":"."}]
[null,null,null,null,null,"Chart C1",{"$f":"_xlfn.XLOOKUP(_xlfn.CONCAT($F34,\"-\",$R$16,\"-\",$G$14),'24 Table B'!$A:$A,'24 Table B'!F:F,\".\",0)","v":"."},{"$f":"_xlfn.XLOOKUP(_xlfn.CONCAT($F34,\"-\",$R$16,\"-\",$G$14),'24 Table B'!$A:$A,'24 Table B'!G:G,\".\",0)","v":"."},{"$f":"_xlfn.XLOOKUP(_xlfn.CONCAT($F34,\"-\",$R$16,\"-\",$G$14),'24 Table B'!$A:$A,'24 Table B'!H:H,\".\",0)","v":"."},{"$f":"_xlfn.XLOOKUP(_xlfn.CONCAT($F34,\"-\",$R$16,\"-\",$G$14),'24 Table B'!$A:$A,'24 Table B'!I:I,\".\",0)","v":"."},{"$f":"_xlfn.XLOOKUP(_xlfn.CONCAT($F34,\"-\",$R$16,\"-\",$G$14),'24 Table B'!$A:$A,'24 Table B'!J:J,\".\",0)","v":"."}]
[null,null,null,null,null,"Chart C2",{"$f":"_xlfn.XLOOKUP(_xlfn.CONCAT($F35,\"-\",$R$16,\"-\",$G$14),'24 Table B'!$A:$A,'24 Table B'!F:F,\".\",0)","v":"-"},{"$f":"_xlfn.XLOOKUP(_xlfn.CONCAT($F35,\"-\",$R$16,\"-\",$G$14),'24 Table B'!$A:$A,'24 Table B'!G:G,\".\",0)","v":"40 HMA  "},{"$f":"_xlfn.XLOOKUP(_xlfn.CONCAT($F35,\"-\",$R$16,\"-\",$G$14),'24 Table B'!$A:$A,'24 Table B'!H:H,\".\",0)","v":"60 DBM  "},{"$f":"_xlfn.XLOOKUP(_xlfn.CONCAT($F35,\"-\",$R$16,\"-\",$G$14),'24 Table B'!$A:$A,'24 Table B'!I:I,\".\",0)","v":"175 GB1/MAC/BSM  "},{"$f":"_xlfn.XLOOKUP(_xlfn.CONCAT($F35,\"-\",$R$16,\"-\",$G$14),'24 Table B'!$A:$A,'24 Table B'!J:J,\".\",0)","v":"250 CB1  "}]
[null,null,null,null,null,"Chart D",{"$f":"_xlfn.XLOOKUP(_xlfn.CONCAT($F36,\"-\",$R$16,\"-\",$G$14),'24 Table B'!$A:$A,'24 Table B'!F:F,\".\",0)","v":"-"},{"$f":"_xlfn.XLOOKUP(_xlfn.CONCAT($F36,\"-\",$R$16,\"-\",$G$14),'24 Table B'!$A:$A,'24 Table B'!G:G,\".\",0)","v":"50 HMA  "},{"$f":"_xlfn.XLOOKUP(_xlfn.CONCAT($F36,\"-\",$R$16,\"-\",$G$14),'24 Table B'!$A:$A,'24 Table B'!H:H,\".\",0)","v":"75 DBM/SMA/EME2  "},{"$f":"_xlfn.XLOOKUP(_xlfn.CONCAT($F36,\"-\",$R$16,\"-\",$G$14),'24 Table B'!$A:$A,'24 Table B'!I:I,\".\",0)","v":"300 GB1/MAC/BSM  "},{"$f":"_xlfn.XLOOKUP(_xlfn.CONCAT($F36,\"-\",$R$16,\"-\",$G$14),'24 Table B'!$A:$A,'24 Table B'!J:J,\".\",0)","v":"250 CB1  "}]
[]
[]
[]
[]
[]
[]
[]
[]
[]
[]
[]
[]
[]
[]
[]
[]
[]
[]
[]
[]
[]
[]
[]
[]
[]
[]
[]
[]
[]
[]
[]
[]
[]
[]
[]
[]
[]
[]
[]
[]
[]
[]
[]
[]
[]
[]
[]
[]
[]
[]
[]
[]
[]
[]
[]
[]
[]
[]
[]
[]
[]
[]
[]
[]
["Percentile CBR Value",{"$f":"IFERROR(_xlfn.PERCENTILE.INC(B3:B100,D2),\"-\")","v":6}]

{"sheet":"15 Flexible Pavement Struct 2","index":16,"n_rows":101,"n_cols":22,"rows_kept":101,"cut":false,"hidden":false,"merged":[[14,5,14,6],[21,5,21,8],[22,5,22,6],[22,7,22,8],[27,5,27,10],[15,5,15,6],[0,9,0,12],[1,9,3,9],[1,10,1,13],[1,14,3,14],[2,10,2,11],[2,12,2,13]]}
[null,null,null,null,null,"Subgrade Class","CBR (%)",null,null,null,null,null,null,null,null,null,"Traffic Class","MESA",null,null,null,"Foundation Select"]
["Chainage","Subgrade CBR (%)","Percentile",0.05,null,"S1","<3",2,null,"Native Subgrade Class","Capping",null,null,null,"Foundation Class",null,"T1","≤0.3",0.3,null,null,"F1 (S3)"]
[10,10,null,null,null,"S2","3-4",4,null,null,"Layer 1",null,"Layer 2",null,null,null,"T2","0.3-0.7",0.7,null,null,"F2 (S4)"]
[20,12,null,null,null,"S3","5-7",7,null,null,"Material","Thickness(mm)","Material","Thickness(mm)",null,null,"T3","0.7-1.5",1.5,null,null,"F3 (S5)"]
[30,14,null,null,null,"S4","8-14",14,null,"S1","G8",425,null,null,"F1 (S3)",{"$f":"_xlfn.CONCAT(J5,\"-\",O5,)","v":"S1-F1 (S3)"},"T4","1.5-3.0",3,null,null,"F4 (S6)"]
[40,8,null,null,null,"S5","15-29",29,null,"S1","G8",200,"GC",150,"F1 (S3)",{"$f":"_xlfn.CONCAT(J6,\"-\",O6,)","v":"S1-F1 (S3)"},"T5","3.0-6.0",6]
[50,20,null,null,null,"S6","≥30",9999999,null,"S1","GC",300,null,null,"F1 (S3)","S1-F1 (S3)","T6","6.0-10.0",10]
[60,1,null,null,null,null,null,null,null,"S1","G8",275,"GC",200,"F2 (S4)","S1-F2 (S4)","T7","10.0-17.0",17]
[70,1,null,null,null,null,null,null,null,"S1","GC",375,null,null,"F2 (S4)","S1-F2 (S4)","T8","17.0-30.0",30]
[null,null,null,null,null,null,null,null,null,"S1","GC",300,"GS2",175,"F3 (S5)","S1-F3 (S5)","T9","30.0-50.0",50]
[null,null,null,null,null,"Design Subgrade Strength",4,null,null,"S1","GS2",225,null,null,"F3 (S5)","S1-F3 (S5)","T10","50.0-80.0+",99999]
[null,null,null,null,null,"Design Subgrade Class","S3",null,null,"S2","GC",150,null,null,"F1 (S3)","S2-F1 (S3)"]
[null,null,null,null,null,null,null,null,null,"S2","GC",250,null,null,"F2 (S4)","S2-F2 (S4)"]
[null,null,null,null,null,"Foundation Class","F2 (S4)",{"$f":"_xlfn.CONCAT(G12,\"-\",G14)","v":"S3-F2 (S4)"},null,"S2","GC",350,null,null,"F3 (S5)","S2-F3 (S5)"]
[null,null,null,null,null,{"$f":"IF(ISERROR(_xlfn.XLOOKUP(H14,P5:P20,P5:P20)),\"No capping required\",\"\")","v":""},null,null,null,"S2","GS2",400,null,null,"F4 (S6)","S2-F4 (S6)","Design Traffic MESA",51]
[null,null,null,null,null,{"$f":"IF(G12=\"S6\",\"S6 calculated, F4 (S6) should be used\",\"\")","v":""},null,null,null,"S3","GC",150,null,null,"F2 (S4)","S3-F2 (S4)","Design Traffic Class","T10"]
[null,null,null,null,null,null,null,null,null,"S3","GC",225,null,null,"F3 (S5)","S3-F3 (S5)"]
[null,null,null,null,null,null,null,null,null,"S3","GS2",275,null,null,"F4 (S6)","S3-F4 (S6)"]
[null,null,null,null,null,null,null,null,null,"S4","GS2",200,null,null,"F4 (S6)","S4-F4 (S6)"]
[null,null,null,null,null,null,null,null,null,"S5","GS2",150,null,null,"F4 (S6)","S5-F4 (S6)"]
[]
[null,null,null,null,null,"Capping layer"]
[null,null,null,null,null,"Layer 1",null,"Layer 2"]
[null,null,null,null,null,"Material","Thickness(mm)","Material","Thickness(mm)"]
[null,null,null,null,null,{"$f":"IFERROR(IF($F$15=\"No capping required\",$F$15,_xlfn.XLOOKUP($H$14,$P$5:$P$20,K$5:K$20)),\"Select foundation\")","v":"GC"},{"$f":"IFERROR(_xlfn.XLOOKUP($H$14,$P$5:$P$20,L$5:L$20),\"\")","v":150},{"$f":"IFERROR(IF($F$15=\"No capping required\",$F$15,_xlfn.XLOOKUP($H$14,$P$5:$P$20,M$5:M$20)),\"Select foundation\")","v":0},{"$f":"IFERROR(_xlfn.XLOOKUP($H$14,$P$5:$P$20,N$5:N$20),\"\")","v":0}]
[]
[]
[null,null,null,null,null,"Possible Design Structures"]
[null,null,null,null,null,"Chart","Surfacing","Wearing Course","Binder Course","Roadbase","Sub-base"]
[null,null,null,null,null,"Chart A1",{"$f":"_xlfn.XLOOKUP(_xlfn.CONCAT($F30,\"-\",$R$16,\"-\",$G$14),'24 Table B'!$A:$A,'24 Table B'!F:F,\".\",0)","v":"."},{"$f":"_xlfn.XLOOKUP(_xlfn.CONCAT($F30,\"-\",$R$16,\"-\",$G$14),'24 Table B'!$A:$A,'24 Table B'!G:G,\".\",0)","v":"."},{"$f":"_xlfn.XLOOKUP(_xlfn.CONCAT($F30,\"-\",$R$16,\"-\",$G$14),'24 Table B'!$A:$A,'24 Table B'!H:H,\".\",0)","v":"."},{"$f":"_xlfn.XLOOKUP(_xlfn.CONCAT($F30,\"-\",$R$16,\"-\",$G$14),'24 Table B'!$A:$A,'24 Table B'!I:I,\".\",0)","v":"."},{"$f":"_xlfn.XLOOKUP(_xlfn.CONCAT($F30,\"-\",$R$16,\"-\",$G$14),'24 Table B'!$A:$A,'24 Table B'!J:J,\".\",0)","v":"."}]
[null,null,null,null,null,"Chart A2",{"$f":"_xlfn.XLOOKUP(_xlfn.CONCAT($F31,\"-\",$R$16,\"-\",$G$14),'24 Table B'!$A:$A,'24 Table B'!F:F,\".\",0)","v":"."},{"$f":"_xlfn.XLOOKUP(_xlfn.CONCAT($F31,\"-\",$R$16,\"-\",$G$14),'24 Table B'!$A:$A,'24 Table B'!G:G,\".\",0)","v":"."},{"$f":"_xlfn.XLOOKUP(_xlfn.CONCAT($F31,\"-\",$R$16,\"-\",$G$14),'24 Table B'!$A:$A,'24 Table B'!H:H,\".\",0)","v":"."},{"$f":"_xlfn.XLOOKUP(_xlfn.CONCAT($F31,\"-\",$R$16,\"-\",$G$14),'24 Table B'!$A:$A,'24 Table B'!I:I,\".\",0)","v":"."},{"$f":"_xlfn.XLOOKUP(_xlfn.CONCAT($F31,\"-\",$R$16,\"-\",$G$14),'24 Table B'!$A:$A,'24 Table B'!J:J,\".\",0)","v":"."}]
[null,null,null,null,null,"Chart A3",{"$f":"_xlfn.XLOOKUP(_xlfn.CONCAT($F32,\"-\",$R$16,\"-\",$G$14),'24 Table B'!$A:$A,'24 Table B'!F:F,\".\",0)","v":"."},{"$f":"_xlfn.XLOOKUP(_xlfn.CONCAT($F32,\"-\",$R$16,\"-\",$G$14),'24 Table B'!$A:$A,'24 Table B'!G:G,\".\",0)","v":"."},{"$f":"_xlfn.XLOOKUP(_xlfn.CONCAT($F32,\"-\",$R$16,\"-\",$G$14),'24 Table B'!$A:$A,'24 Table B'!H:H,\".\",0)","v":"."},{"$f":"_xlfn.XLOOKUP(_xlfn.CONCAT($F32,\"-\",$R$16,\"-\",$G$14),'24 Table B'!$A:$A,'24 Table B'!I:I,\".\",0)","v":"."},{"$f":"_xlfn.XLOOKUP(_xlfn.CONCAT($F32,\"-\",$R$16,\"-\",$G$14),'24 Table B'!$A:$A,'24 Table B'!J:J,\".\",0)","v":"."}]
[null,null,null,null,null,"Chart B",{"$f":"_xlfn.XLOOKUP(_xlfn.CONCAT($F33,\"-\",$R$16,\"-\",$G$14),'24 Table B'!$A:$A,'24 Table B'!F:F,\".\",0)","v":"."},{"$f":"_xlfn.XLOOKUP(_xlfn.CONCAT($F33,\"-\",$R$16,\"-\",$G$14),'24 Table B'!$A:$A,'24 Table B'!G:G,\".\",0)","v":"."},{"$f":"_xlfn.XLOOKUP(_xlfn.CONCAT($F33,\"-\",$R$16,\"-\",$G$14),'24 Table B'!$A:$A,'24 Table B'!H:H,\".\",0)","v":"."},{"$f":"_xlfn.XLOOKUP(_xlfn.CONCAT($F33,\"-\",$R$16,\"-\",$G$14),'24 Table B'!$A:$A,'24 Table B'!I:I,\".\",0)","v":"."},{"$f":"_xlfn.XLOOKUP(_xlfn.CONCAT($F33,\"-\",$R$16,\"-\",$G$14),'24 Table B'!$A:$A,'24 Table B'!J:J,\".\",0)","v":"."}]
[null,null,null,null,null,"Chart C1",{"$f":"_xlfn.XLOOKUP(_xlfn.CONCAT($F34,\"-\",$R$16,\"-\",$G$14),'24 Table B'!$A:$A,'24 Table B'!F:F,\".\",0)","v":"."},{"$f":"_xlfn.XLOOKUP(_xlfn.CONCAT($F34,\"-\",$R$16,\"-\",$G$14),'24 Table B'!$A:$A,'24 Table B'!G:G,\".\",0)","v":"."},{"$f":"_xlfn.XLOOKUP(_xlfn.CONCAT($F34,\"-\",$R$16,\"-\",$G$14),'24 Table B'!$A:$A,'24 Table B'!H:H,\".\",0)","v":"."},{"$f":"_xlfn.XLOOKUP(_xlfn.CONCAT($F34,\"-\",$R$16,\"-\",$G$14),'24 Table B'!$A:$A,'24 Table B'!I:I,\".\",0)","v":"."},{"$f":"_xlfn.XLOOKUP(_xlfn.CONCAT($F34,\"-\",$R$16,\"-\",$G$14),'24 Table B'!$A:$A,'24 Table B'!J:J,\".\",0)","v":"."}]
[null,null,null,null,null,"Chart C2",{"$f":"_xlfn.XLOOKUP(_xlfn.CONCAT($F35,\"-\",$R$16,\"-\",$G$14),'24 Table B'!$A:$A,'24 Table B'!F:F,\".\",0)","v":"-"},{"$f":"_xlfn.XLOOKUP(_xlfn.CONCAT($F35,\"-\",$R$16,\"-\",$G$14),'24 Table B'!$A:$A,'24 Table B'!G:G,\".\",0)","v":"40 HMA  "},{"$f":"_xlfn.XLOOKUP(_xlfn.CONCAT($F35,\"-\",$R$16,\"-\",$G$14),'24 Table B'!$A:$A,'24 Table B'!H:H,\".\",0)","v":"60 DBM  "},{"$f":"_xlfn.XLOOKUP(_xlfn.CONCAT($F35,\"-\",$R$16,\"-\",$G$14),'24 Table B'!$A:$A,'24 Table B'!I:I,\".\",0)","v":"175 GB1/MAC/BSM  "},{"$f":"_xlfn.XLOOKUP(_xlfn.CONCAT($F35,\"-\",$R$16,\"-\",$G$14),'24 Table B'!$A:$A,'24 Table B'!J:J,\".\",0)","v":"250 CB1  "}]
[null,null,null,null,null,"Chart D",{"$f":"_xlfn.XLOOKUP(_xlfn.CONCAT($F36,\"-\",$R$16,\"-\",$G$14),'24 Table B'!$A:$A,'24 Table B'!F:F,\".\",0)","v":"-"},{"$f":"_xlfn.XLOOKUP(_xlfn.CONCAT($F36,\"-\",$R$16,\"-\",$G$14),'24 Table B'!$A:$A,'24 Table B'!G:G,\".\",0)","v":"50 HMA  "},{"$f":"_xlfn.XLOOKUP(_xlfn.CONCAT($F36,\"-\",$R$16,\"-\",$G$14),'24 Table B'!$A:$A,'24 Table B'!H:H,\".\",0)","v":"75 DBM/SMA/EME2  "},{"$f":"_xlfn.XLOOKUP(_xlfn.CONCAT($F36,\"-\",$R$16,\"-\",$G$14),'24 Table B'!$A:$A,'24 Table B'!I:I,\".\",0)","v":"300 GB1/MAC/BSM  "},{"$f":"_xlfn.XLOOKUP(_xlfn.CONCAT($F36,\"-\",$R$16,\"-\",$G$14),'24 Table B'!$A:$A,'24 Table B'!J:J,\".\",0)","v":"250 CB1  "}]
[]
[]
[]
[]
[]
[]
[]
[]
[]
[]
[]
[]
[]
[]
[]
[]
[]
[]
[]
[]
[]
[]
[]
[]
[]
[]
[]
[]
[]
[]
[]
[]
[]
[]
[]
[]
[]
[]
[]
[]
[]
[]
[]
[]
[]
[]
[]
[]
[]
[]
[]
[]
[]
[]
[]
[]
[]
[]
[]
[]
[]
[]
[]
[]
["Percentile CBR Value",{"$f":"IFERROR(_xlfn.PERCENTILE.INC(B3:B100,D2),\"-\")","v":1}]

{"sheet":"16 Axle Loads Concrete Dir-1","index":17,"n_rows":1026,"n_cols":579,"rows_kept":139,"cut":true,"hidden":true,"merged":[[2,524,2,558],[1006,26,1006,27],[1015,5,1015,6],[1016,4,1016,6],[1025,9,1025,10],[2,11,2,27],[2,59,2,88],[1021,7,1021,8],[1023,5,1023,6],[1023,7,1023,8],[2,9,3,9],[2,10,3,10],[1019,5,1019,7],[1022,5,1022,6],[1022,7,1022,8],[1017,4,1017,6],[1006,24,1006,25],[1025,3,1025,4],[1025,5,1025,6],[1025,7,1025,8],[1018,5,1018,7],[1020,3,1020,4],[1020,5,1020,7],[1019,3,1019,4],[1022,3,1022,4],[2,561,2,563],[2,564,2,566],[2,576,2,578],[1,2,1,10],[2,0,3,0],[2,1,3,1],[2,2,3,2],[2,3,3,3],[2,4,3,4],[2,5,3,5],[2,6,3,6],[2,7,3,7],[2,8,3,8],[2,567,2,569],[2,570,2,572],[2,573,2,575],[2,179,2,208],[2,209,2,238],[1023,3,1023,4],[1024,3,1024,4],[1024,5,1024,6],[1024,7,1024,8],[1018,3,1018,4],[1021,3,1021,4],[1021,5,1021,6],[1011,3,1011,4],[1024,9,1024,10],[2,29,2,58],[1013,4,1013,5],[1014,3,1014,4],[1014,5,1014,6],[1015,3,1015,4],[2,454,2,488],[2,389,2,418],[2,419,2,453],[2,489,2,523],[1006,11,1006,12],[1006,13,1006,14],[1006,15,1006,19],[1006,20,1006,23],[2,239,2,268],[2,269,2,298],[2,299,2,328],[2,329,2,358],[2,359,2,388],[2,89,2,118],[2,119,2,148],[2,149,2,178]],"bounds":{"rows_first":62,"rows_last":15,"rows_between":62,"halvings":5}}
["Computation of design axle loading from axle load survey data"]
[null,null,"Axle Load (tonnes)"]
["Direction","Vehicle Class","Axle 1","Axle 2","Axle 3 ","Axle 4 ","Axle 5","Axle 6","Axle 7","Axle 8","Axle 9","HVAGs Loads (tonnes)",null,null,null,null,null,null,null,null,null,null,null,null,null,null,null,null,null,"SAST1 Axle Loads (kN)",null,null,null,null,null,null,null,null,null,null,null,null,null,null,null,null,null,null,null,null,null,null,null,null,null,null,null,null,null,"SAST2 Axle Loads (kN)",null,null,null,null,null,null,null,null,null,null,null,null,null,null,null,null,null,null,null,null,null,null,null,null,null,null,null,null,null,"SADT1 Axle Loads (kN)",null,null,null,null,null,null,null,null,null,null,null,null,null,null,null,null,null,null,null,null,null,null,null,null,null,null,null,null,null,"SADT2 Axle Loads (kN)",null,null,null,null,null,null,null,null,null,null,null,null,null,null,null,null,null,null,null,null,null,null,null,null,null,null,null,null,null,"TADT1 Axle Loads (kN)",null,null,null,null,null,null,null,null,null,null,null,null,null,null,null,null,null,null,null,null,null,null,null,null,null,null,null,null,null,"TADT2 Axle Loads (kN)",null,null,null,null,null,null,null,null,null,null,null,null,null,null,null,null,null,null,null,null,null,null,null,null,null,null,null,null,null,"TADT3 Axle Loads (kN)",null,null,null,null,null,null,null,null,null,null,null,null,null,null,null,null,null,null,null,null,null,null,null,null,null,null,null,null,null,"TADT4 Axle Loads (kN)",null,null,null,null,null,null,null,null,null,null,null,null,null,null,null,null,null,null,null,null,null,null,null,null,null,null,null,null,null,"TADT5 Axle Loads (kN)",null,null,null,null,null,null,null,null,null,null,null,null,null,null,null,null,null,null,null,null,null,null,null,null,null,null,null,null,null,"TAST1 Axle Loads (kN)",null,null,null,null,null,null,null,null,null,null,null,null,null,null,null,null,null,null,null,null,null,null,null,null,null,null,null,null,null,"TAST2 Axle Loads (kN)",null,null,null,null,null,null,null,null,null,null,null,null,null,null,null,null,null,null,null,null,null,null,null,null,null,null,null,null,null,"TAST3 Axle Loads (kN)",null,null,null,null,null,null,null,null,null,null,null,null,null,null,null,null,null,null,null,null,null,null,null,null,null,null,null,null,null,"TAST4 Axle Loads (kN)",null,null,null,null,null,null,null,null,null,null,null,null,null,null,null,null,null,null,null,null,null,null,null,null,null,null,null,null,null,"TRDT1 Axle Loads (kN)",null,null,null,null,null,null,null,null,null,null,null,null,null,null,null,null,null,null,null,null,null,null,null,null,null,null,null,null,null,null,null,null,null,null,"TRDT2 Axle Loads (kN)",null,null,null,null,null,null,null,null,null,null,null,null,null,null,null,null,null,null,null,null,null,null,null,null,null,null,null,null,null,null,null,null,null,null,"TRST1 Axle Loads (kN)",null,null,null,null,null,null,null,null,null,null,null,null,null,null,null,null,null,null,null,null,null,null,null,null,null,null,null,null,null,null,null,null,null,null,"TRST2 Axle Loads (kN)",null,null,null,null,null,null,null,null,null,null,null,null,null,null,null,null,null,null,null,null,null,null,null,null,null,null,null,null,null,null,null,null,null,null,null,null,"SAST",null,null,"SADT",null,null,"TAST",null,null,"TADT",null,null,"TRDT",null,null,"TRST"]
[null,null,null,null,null,null,null,null,null,null,null,"SAST1","SAST2","SADT1","SADT2","TADT1","TADT2","TADT3","TADT4","TADT5","TAST1","TAST2","TAST3","TAST4","TRDT1","TRDT2","TRST1","TRST2",null,10,20,30,40,50,60,70,80,90,100,110,120,130,140,150,160,170,180,190,200,210,220,230,240,250,260,270,280,290,300,10,20,30,40,50,60,70,80,90,100,110,120,130,140,150,160,170,180,190,200,210,220,230,240,250,260,270,280,290,300,10,20,30,40,50,60,70,80,90,100,110,120,130,140,150,160,170,180,190,200,210,220,230,240,250,260,270,280,290,300,10,20,30,40,50,60,70,80,90,100,110,120,130,140,150,160,170,180,190,200,210,220,230,240,250,260,270,280,290,300,10,20,30,40,50,60,70,80,90,100,110,120,130,140,150,160,170,180,190,200,210,220,230,240,250,260,270,280,290,300,10,20,30,40,50,60,70,80,90,100,110,120,130,140,150,160,170,180,190,200,210,220,230,240,250,260,270,280,290,300,10,20,30,40,50,60,70,80,90,100,110,120,130,140,150,160,170,180,190,200,210,220,230,240,250,260,270,280,290,300,10,20,30,40,50,60,70,80,90,100,110,120,130,140,150,160,170,180,190,200,210,220,230,240,250,260,270,280,290,300,10,20,30,40,50,60,70,80,90,100,110,120,130,140,150,160,170,180,190,200,210,220,230,240,250,260,270,280,290,300,10,20,30,40,50,60,70,80,90,100,110,120,130,140,150,160,170,180,190,200,210,220,230,240,250,260,270,280,290,300,10,20,30,40,50,60,70,80,90,100,110,120,130,140,150,160,170,180,190,200,210,220,230,240,250,260,270,280,290,300,10,20,30,40,50,60,70,80,90,100,110,120,130,140,150,160,170,180,190,200,210,220,230,240,250,260,270,280,290,300,10,20,30,40,50,60,70,80,90,100,110,120,130,140,150,160,170,180,190,200,210,220,230,240,250,260,270,280,290,300,10,20,30,40,50,60,70,80,90,100,110,120,130,140,150,160,170,180,190,200,210,220,230,240,250,260,270,280,290,300,310,320,330,340,350,10,20,30,40,50,60,70,80,90,100,110,120,130,140,150,160,170,180,190,200,210,220,230,240,250,260,270,280,290,300,310,320,330,340,350,10,20,30,40,50,60,70,80,90,100,110,120,130,140,150,160,170,180,190,200,210,220,230,240,250,260,270,280,290,300,310,320,330,340,350,10,20,30,40,50,60,70,80,90,100,110,120,130,140,150,160,170,180,190,200,210,220,230,240,250,260,270,280,290,300,310,320,330,340,350,null,null,"Load (kN)","Sum of Loads","Proportion of Loads (%)","Load (kN)","Sum of Loads","Proportion of Loads (%)","Load (kN)","Sum of Loads","Proportion of Loads (%)","Load (kN)","Sum of Loads","Proportion of Loads (%)","Load (kN)","Sum of Loads","Proportion of Loads (%)","Load (kN)","Sum of Loads","Proportion of Loads (%/100)"]
[1,{"$f":"'8 Axle Loads Direction 1-SS'!B5","v":3},{"$f":"'8 Axle Loads Direction 1-SS'!C5","v":7},{"$f":"'8 Axle Loads Direction 1-SS'!D5","v":6},{"$f":"'8 Axle Loads Direction 1-SS'!E5","v":6},{"$f":"'8 Axle Loads Direction 1-SS'!F5","v":0},{"$f":"'8 Axle Loads Direction 1-SS'!G5","v":0},{"$f":"'8 Axle Loads Direction 1-SS'!H5","v":0},{"$f":"'8 Axle Loads Direction 1-SS'!I5","v":0},{"$f":"'8 Axle Loads Direction 1-SS'!J5","v":0},{"$f":"'8 Axle Loads Direction 1-SS'!K5","v":0},{"$f":"C5","v":7},{"$f":"IF(B5=4,D5,0)","v":0},{"$f":"IF(OR(B5=2,B5=\"3B\",B5=\"5C\",B5=\"5D\"),D5,0)","v":0},{"$f":"IF(B5=\"3B\",E5,0)","v":0},{"$f":"IF(OR(B5=3,B5=5,B5=\"5B\",B5=6,B5=\"6B\",B5=7,B5=\"7B\",B5=9,B5=\"9B\"),D5+E5,0)","v":12},{"$f":"IF(B5=4,E5+F5,0)","v":0},{"$f":"IF(OR(B5=5,B5=7,B5=9),F5+G5,0)","v":0},{"$f":"IF(OR(B5=7,B5=9),H5+I5,0)","v":0},{"$f":"IF(B5=9,J5+K5,0)","v":0},{"$f":"IF(OR(B5=\"6C\",B5=\"7C\"),D5+E5,0)","v":0},{"$f":"IF(B5=\"4B\",F5+G5,0)","v":0},{"$f":"IF(OR(B5=\"7B\",B5=\"7C\",B5=\"9B\"),H5+I5,0)","v":0},{"$f":"IF(OR(B5=\"9B\"),J5+K5,0)","v":0},{"$f":"IF((B5=\"5C\"),E5+F5+G5,0)","v":0},{"$f":"IF(B5=6,F5+G5+H5,0)","v":0},{"$f":"IF((B5=\"5D\"),E5+F5+G5,0)","v":0},{"$f":"IF(OR(B5=\"6B\",B5=\"6C\"),F5+G5+H5,0)","v":0},null,{"$f":"IF($L5<=1,$L5*10,0)","v":0},{"$f":"IF(AND($L5>1,$L5<=2),$L5*10,0)","v":0},{"$f":"IF(AND($L5>2,$L5<=3),$L5*10,0)","v":0},{"$f":"IF(AND($L5>3,$L5<=4),$L5*10,0)","v":0},{"$f":"IF(AND($L5>4,$L5<=5),$L5*10,0)","v":0},{"$f":"IF(AND($L5>5,$L5<=6),$L5*10,0)","v":0},{"$f":"IF(AND($L5>6,$L5<=7),$L5*10,0)","v":70},{"$f":"IF(AND($L5>7,$L5<=8),$L5*10,0)","v":0},{"$f":"IF(AND($L5>8,$L5<=9),$L5*10,0)","v":0},{"$f":"IF(AND($L5>9,$L5<=10),$L5*10,0)","v":0},{"$f":"IF(AND($L5>10,$L5<=11),$L5*10,0)","v":0},{"$f":"IF(AND($L5>11,$L5<=12),$L5*10,0)","v":0},{"$f":"IF(AND($L5>12,$L5<=13),$L5*10,0)","v":0},{"$f":"IF(AND($L5>13,$L5<=14),$L5*10,0)","v":0},{"$f":"IF(AND($L5>14,$L5<=15),$L5*10,0)","v":0},{"$f":"IF(AND($L5>15,$L5<=16),$L5*10,0)","v":0},{"$f":"IF(AND($L5>16,$L5<=17),$L5*10,0)","v":0},{"$f":"IF(AND($L5>17,$L5<=18),$L5*10,0)","v":0},{"$f":"IF(AND($L5>18,$L5<=19),$L5*10,0)","v":0},{"$f":"IF(AND($L5>19,$L5<=20),$L5*10,0)","v":0},{"$f":"IF(AND($L5>20,$L5<=21),$L5*10,0)","v":0},{"$f":"IF(AND($L5>21,$L5<=22),$L5*10,0)","v":0},{"$f":"IF(AND($L5>22,$L5<=23),$L5*10,0)","v":0},{"$f":"IF(AND($L5>23,$L5<=24),$L5*10,0)","v":0},{"$f":"IF(AND($L5>24,$L5<=25),$L5*10,0)","v":0},{"$f":"IF(AND($L5>25,$L5<=26),$L5*10,0)","v":0},{"$f":"IF(AND($L5>26,$L5<=27),$L5*10,0)","v":0},{"$f":"IF(AND($L5>27,$L5<=28),$L5*10,0)","v":0},{"$f":"IF(AND($L5>28,$L5<=29),$L5*10,0)","v":0},{"$f":"IF(AND($L5>29,$L5<=30),$L5*10,0)","v":0},{"$f":"IF($M5<=1,$M5*10,0)","v":0},{"$f":"IF(AND($M5>1,$M5<=2),$M5*10,0)","v":0},{"$f":"IF(AND($M5>2,$M5<=3),$M5*10,0)","v":0},{"$f":"IF(AND($M5>3,$M5<=4),$M5*10,0)","v":0},{"$f":"IF(AND($M5>4,$M5<=5),$M5*10,0)","v":0},{"$f":"IF(AND($M5>5,$M5<=6),$M5*10,0)","v":0},{"$f":"IF(AND($M5>6,$M5<=7),$M5*10,0)","v":0},{"$f":"IF(AND($M5>7,$M5<=8),$M5*10,0)","v":0},{"$f":"IF(AND($M5>8,$M5<=9),$M5*10,0)","v":0},{"$f":"IF(AND($M5>9,$M5<=10),$M5*10,0)","v":0},{"$f":"IF(AND($M5>10,$M5<=11),$M5*10,0)","v":0},{"$f":"IF(AND($M5>11,$M5<=12),$M5*10,0)","v":0},{"$f":"IF(AND($M5>12,$M5<=13),$M5*10,0)","v":0},{"$f":"IF(AND($M5>13,$M5<=14),$M5*10,0)","v":0},{"$f":"IF(AND($M5>14,$M5<=15),$M5*10,0)","v":0},{"$f":"IF(AND($M5>15,$M5<=16),$M5*10,0)","v":0},{"$f":"IF(AND($M5>16,$M5<=17),$M5*10,0)","v":0},{"$f":"IF(AND($M5>17,$M5<=18),$M5*10,0)","v":0},{"$f":"IF(AND($M5>18,$M5<=19),$M5*10,0)","v":0},{"$f":"IF(AND($M5>19,$M5<=20),$M5*10,0)","v":0},{"$f":"IF(AND($M5>20,$M5<=21),$M5*10,0)","v":0},{"$f":"IF(AND($M5>21,$M5<=22),$M5*10,0)","v":0},{"$f":"IF(AND($M5>22,$M5<=23),$M5*10,0)","v":0},{"$f":"IF(AND($M5>23,$M5<=24),$M5*10,0)","v":0},{"$f":"IF(AND($M5>24,$M5<=25),$M5*10,0)","v":0},{"$f":"IF(AND($M5>25,$M5<=26),$M5*10,0)","v":0},{"$f":"IF(AND($M5>26,$M5<=27),$M5*10,0)","v":0},{"$f":"IF(AND($M5>27,$M5<=28),$M5*10,0)","v":0},{"$f":"IF(AND($M5>28,$M5<=29),$M5*10,0)","v":0},{"$f":"IF(AND($M5>29,$M5<=30),$M5*10,0)","v":0},{"$f":"IF($N5<=1,$N5*10,0)","v":0},{"$f":"IF(AND($N5>1,$N5<=2),$N5*10,0)","v":0},{"$f":"IF(AND($N5>2,$N5<=3),$N5*10,0)","v":0},{"$f":"IF(AND($N5>3,$N5<=4),$N5*10,0)","v":0},{"$f":"IF(AND($N5>4,$N5<=5),$N5*10,0)","v":0},{"$f":"IF(AND($N5>5,$N5<=6),$N5*10,0)","v":0},{"$f":"IF(AND($N5>6,$N5<=7),$N5*10,0)","v":0},{"$f":"IF(AND($N5>7,$N5<=8),$N5*10,0)","v":0},{"$f":"IF(AND($N5>8,$N5<=9),$N5*10,0)","v":0},{"$f":"IF(AND($N5>9,$N5<=10),$N5*10,0)","v":0},{"$f":"IF(AND($N5>10,$N5<=11),$N5*10,0)","v":0},{"$f":"IF(AND($N5>11,$N5<=12),$N5*10,0)","v":0},{"$f":"IF(AND($N5>12,$N5<=13),$N5*10,0)","v":0},{"$f":"IF(AND($N5>13,$N5<=14),$N5*10,0)","v":0},{"$f":"IF(AND($N5>14,$N5<=15),$N5*10,0)","v":0},{"$f":"IF(AND($N5>15,$N5<=16),$N5*10,0)","v":0},{"$f":"IF(AND($N5>16,$N5<=17),$N5*10,0)","v":0},{"$f":"IF(AND($N5>17,$N5<=18),$N5*10,0)","v":0},{"$f":"IF(AND($N5>18,$N5<=19),$N5*10,0)","v":0},{"$f":"IF(AND($N5>19,$N5<=20),$N5*10,0)","v":0},{"$f":"IF(AND($N5>20,$N5<=21),$N5*10,0)","v":0},{"$f":"IF(AND($N5>21,$N5<=22),$N5*10,0)","v":0},{"$f":"IF(AND($N5>22,$N5<=23),$N5*10,0)","v":0},{"$f":"IF(AND($N5>23,$N5<=24),$N5*10,0)","v":0},{"$f":"IF(AND($N5>24,$N5<=25),$N5*10,0)","v":0},{"$f":"IF(AND($N5>25,$N5<=26),$N5*10,0)","v":0},{"$f":"IF(AND($N5>26,$N5<=27),$N5*10,0)","v":0},{"$f":"IF(AND($N5>27,$N5<=28),$N5*10,0)","v":0},{"$f":"IF(AND($N5>28,$N5<=29),$N5*10,0)","v":0},{"$f":"IF(AND($N5>29,$N5<=30),$N5*10,0)","v":0},{"$f":"IF($O5<=1,$O5*10,0)","v":0},{"$f":"IF(AND($O5>1,$O5<=2),$O5*10,0)","v":0},{"$f":"IF(AND($O5>2,$O5<=3),$O5*10,0)","v":0},{"$f":"IF(AND($O5>3,$O5<=4),$O5*10,0)","v":0},{"$f":"IF(AND($O5>4,$O5<=5),$O5*10,0)","v":0},{"$f":"IF(AND($O5>5,$O5<=6),$O5*10,0)","v":0},{"$f":"IF(AND($O5>6,$O5<=7),$O5*10,0)","v":0},{"$f":"IF(AND($O5>7,$O5<=8),$O5*10,0)","v":0},{"$f":"IF(AND($O5>8,$O5<=9),$O5*10,0)","v":0},{"$f":"IF(AND($O5>9,$O5<=10),$O5*10,0)","v":0},{"$f":"IF(AND($O5>10,$O5<=11),$O5*10,0)","v":0},{"$f":"IF(AND($O5>11,$O5<=12),$O5*10,0)","v":0},{"$f":"IF(AND($O5>12,$O5<=13),$O5*10,0)","v":0},{"$f":"IF(AND($O5>13,$O5<=14),$O5*10,0)","v":0},{"$f":"IF(AND($O5>14,$O5<=15),$O5*10,0)","v":0},{"$f":"IF(AND($O5>15,$O5<=16),$O5*10,0)","v":0},{"$f":"IF(AND($O5>16,$O5<=17),$O5*10,0)","v":0},{"$f":"IF(AND($O5>17,$O5<=18),$O5*10,0)","v":0},{"$f":"IF(AND($O5>18,$O5<=19),$O5*10,0)","v":0},{"$f":"IF(AND($O5>19,$O5<=20),$O5*10,0)","v":0},{"$f":"IF(AND($O5>20,$O5<=21),$O5*10,0)","v":0},{"$f":"IF(AND($O5>21,$O5<=22),$O5*10,0)","v":0},{"$f":"IF(AND($O5>22,$O5<=23),$O5*10,0)","v":0},{"$f":"IF(AND($O5>23,$O5<=24),$O5*10,0)","v":0},{"$f":"IF(AND($O5>24,$O5<=25),$O5*10,0)","v":0},{"$f":"IF(AND($O5>25,$O5<=26),$O5*10,0)","v":0},{"$f":"IF(AND($O5>26,$O5<=27),$O5*10,0)","v":0},{"$f":"IF(AND($O5>27,$O5<=28),$O5*10,0)","v":0},{"$f":"IF(AND($O5>28,$O5<=29),$O5*10,0)","v":0},{"$f":"IF(AND($O5>29,$O5<=30),$O5*10,0)","v":0},{"$f":"IF($P5<=1,$P5*10,0)","v":0},{"$f":"IF(AND($P5>1,$P5<=2),$P5*10,0)","v":0},{"$f":"IF(AND($P5>2,$P5<=3),$P5*10,0)","v":0},{"$f":"IF(AND($P5>3,$P5<=4),$P5*10,0)","v":0},{"$f":"IF(AND($P5>4,$P5<=5),$P5*10,0)","v":0},{"$f":"IF(AND($P5>5,$P5<=6),$P5*10,0)","v":0},{"$f":"IF(AND($P5>6,$P5<=7),$P5*10,0)","v":0},{"$f":"IF(AND($P5>7,$P5<=8),$P5*10,0)","v":0},{"$f":"IF(AND($P5>8,$P5<=9),$P5*10,0)","v":0},{"$f":"IF(AND($P5>9,$P5<=10),$P5*10,0)","v":0},{"$f":"IF(AND($P5>10,$P5<=11),$P5*10,0)","v":0},{"$f":"IF(AND($P5>11,$P5<=12),$P5*10,0)","v":120},{"$f":"IF(AND($P5>12,$P5<=13),$P5*10,0)","v":0},{"$f":"IF(AND($P5>13,$P5<=14),$P5*10,0)","v":0},{"$f":"IF(AND($P5>14,$P5<=15),$P5*10,0)","v":0},{"$f":"IF(AND($P5>15,$P5<=16),$P5*10,0)","v":0},{"$f":"IF(AND($P5>16,$P5<=17),$P5*10,0)","v":0},{"$f":"IF(AND($P5>17,$P5<=18),$P5*10,0)","v":0},{"$f":"IF(AND($P5>18,$P5<=19),$P5*10,0)","v":0},{"$f":"IF(AND($P5>19,$P5<=20),$P5*10,0)","v":0},{"$f":"IF(AND($P5>20,$P5<=21),$P5*10,0)","v":0},{"$f":"IF(AND($P5>21,$P5<=22),$P5*10,0)","v":0},{"$f":"IF(AND($P5>22,$P5<=23),$P5*10,0)","v":0},{"$f":"IF(AND($P5>23,$P5<=24),$P5*10,0)","v":0},{"$f":"IF(AND($P5>24,$P5<=25),$P5*10,0)","v":0},{"$f":"IF(AND($P5>25,$P5<=26),$P5*10,0)","v":0},{"$f":"IF(AND($P5>26,$P5<=27),$P5*10,0)","v":0},{"$f":"IF(AND($P5>27,$P5<=28),$P5*10,0)","v":0},{"$f":"IF(AND($P5>28,$P5<=29),$P5*10,0)","v":0},{"$f":"IF(AND($P5>29,$P5<=30),$P5*10,0)","v":0},{"$f":"IF($Q5<=1,$Q5*10,0)","v":0},{"$f":"IF(AND($Q5>1,$Q5<=2),$Q5*10,0)","v":0},{"$f":"IF(AND($Q5>2,$Q5<=3),$Q5*10,0)","v":0},{"$f":"IF(AND($Q5>3,$Q5<=4),$Q5*10,0)","v":0},{"$f":"IF(AND($Q5>4,$Q5<=5),$Q5*10,0)","v":0},{"$f":"IF(AND($Q5>5,$Q5<=6),$Q5*10,0)","v":0},{"$f":"IF(AND($Q5>6,$Q5<=7),$Q5*10,0)","v":0},{"$f":"IF(AND($Q5>7,$Q5<=8),$Q5*10,0)","v":0},{"$f":"IF(AND($Q5>8,$Q5<=9),$Q5*10,0)","v":0},{"$f":"IF(AND($Q5>9,$Q5<=10),$Q5*10,0)","v":0},{"$f":"IF(AND($Q5>10,$Q5<=11),$Q5*10,0)","v":0},{"$f":"IF(AND($Q5>11,$Q5<=12),$Q5*10,0)","v":0},{"$f":"IF(AND($Q5>12,$Q5<=13),$Q5*10,0)","v":0},{"$f":"IF(AND($Q5>13,$Q5<=14),$Q5*10,0)","v":0},{"$f":"IF(AND($Q5>14,$Q5<=15),$Q5*10,0)","v":0},{"$f":"IF(AND($Q5>15,$Q5<=16),$Q5*10,0)","v":0},{"$f":"IF(AND($Q5>16,$Q5<=17),$Q5*10,0)","v":0},{"$f":"IF(AND($Q5>17,$Q5<=18),$Q5*10,0)","v":0},{"$f":"IF(AND($Q5>18,$Q5<=19),$Q5*10,0)","v":0},{"$f":"IF(AND($Q5>19,$Q5<=20),$Q5*10,0)","v":0},{"$f":"IF(AND($Q5>20,$Q5<=21),$Q5*10,0)","v":0},{"$f":"IF(AND($Q5>21,$Q5<=22),$Q5*10,0)","v":0},{"$f":"IF(AND($Q5>22,$Q5<=23),$Q5*10,0)","v":0},{"$f":"IF(AND($Q5>23,$Q5<=24),$Q5*10,0)","v":0},{"$f":"IF(AND($Q5>24,$Q5<=25),$Q5*10,0)","v":0},{"$f":"IF(AND($Q5>25,$Q5<=26),$Q5*10,0)","v":0},{"$f":"IF(AND($Q5>26,$Q5<=27),$Q5*10,0)","v":0},{"$f":"IF(AND($Q5>27,$Q5<=28),$Q5*10,0)","v":0},{"$f":"IF(AND($Q5>28,$Q5<=29),$Q5*10,0)","v":0},{"$f":"IF(AND($Q5>29,$Q5<=30),$Q5*10,0)","v":0},{"$f":"IF($R5<=1,$R5*10,0)","v":0},{"$f":"IF(AND($R5>1,$R5<=2),$R5*10,0)","v":0},{"$f":"IF(AND($R5>2,$R5<=3),$R5*10,0)","v":0},{"$f":"IF(AND($R5>3,$R5<=4),$R5*10,0)","v":0},{"$f":"IF(AND($R5>4,$R5<=5),$R5*10,0)","v":0},{"$f":"IF(AND($R5>5,$R5<=6),$R5*10,0)","v":0},{"$f":"IF(AND($R5>6,$R5<=7),$R5*10,0)","v":0},{"$f":"IF(AND($R5>7,$R5<=8),$R5*10,0)","v":0},{"$f":"IF(AND($R5>8,$R5<=9),$R5*10,0)","v":0},{"$f":"IF(AND($R5>9,$R5<=10),$R5*10,0)","v":0},{"$f":"IF(AND($R5>10,$R5<=11),$R5*10,0)","v":0},{"$f":"IF(AND($R5>11,$R5<=12),$R5*10,0)","v":0},{"$f":"IF(AND($R5>12,$R5<=13),$R5*10,0)","v":0},{"$f":"IF(AND($R5>13,$R5<=14),$R5*10,0)","v":0},{"$f":"IF(AND($R5>14,$R5<=15),$R5*10,0)","v":0},{"$f":"IF(AND($R5>15,$R5<=16),$R5*10,0)","v":0},{"$f":"IF(AND($R5>16,$R5<=17),$R5*10,0)","v":0},{"$f":"IF(AND($R5>17,$R5<=18),$R5*10,0)","v":0},{"$f":"IF(AND($R5>18,$R5<=19),$R5*10,0)","v":0},{"$f":"IF(AND($R5>19,$R5<=20),$R5*10,0)","v":0},{"$f":"IF(AND($R5>20,$R5<=21),$R5*10,0)","v":0},{"$f":"IF(AND($R5>21,$R5<=22),$R5*10,0)","v":0},{"$f":"IF(AND($R5>22,$R5<=23),$R5*10,0)","v":0},{"$f":"IF(AND($R5>23,$R5<=24),$R5*10,0)","v":0},{"$f":"IF(AND($R5>24,$R5<=25),$R5*10,0)","v":0},{"$f":"IF(AND($R5>25,$R5<=26),$R5*10,0)","v":0},{"$f":"IF(AND($R5>26,$R5<=27),$R5*10,0)","v":0},{"$f":"IF(AND($R5>27,$R5<=28),$R5*10,0)","v":0},{"$f":"IF(AND($R5>28,$R5<=29),$R5*10,0)","v":0},{"$f":"IF(AND($R5>29,$R5<=30),$R5*10,0)","v":0},{"$f":"IF($S5<=1,$S5*10,0)","v":0},{"$f":"IF(AND($S5>1,$S5<=2),$S5*10,0)","v":0},{"$f":"IF(AND($S5>2,$S5<=3),$S5*10,0)","v":0},{"$f":"IF(AND($S5>3,$S5<=4),$S5*10,0)","v":0},{"$f":"IF(AND($S5>4,$S5<=5),$S5*10,0)","v":0},{"$f":"IF(AND($S5>5,$S5<=6),$S5*10,0)","v":0},{"$f":"IF(AND($S5>6,$S5<=7),$S5*10,0)","v":0},{"$f":"IF(AND($S5>7,$S5<=8),$S5*10,0)","v":0},{"$f":"IF(AND($S5>8,$S5<=9),$S5*10,0)","v":0},{"$f":"IF(AND($S5>9,$S5<=10),$S5*10,0)","v":0},{"$f":"IF(AND($S5>10,$S5<=11),$S5*10,0)","v":0},{"$f":"IF(AND($S5>11,$S5<=12),$S5*10,0)","v":0},{"$f":"IF(AND($S5>12,$S5<=13),$S5*10,0)","v":0},{"$f":"IF(AND($S5>13,$S5<=14),$S5*10,0)","v":0},{"$f":"IF(AND($S5>14,$S5<=15),$S5*10,0)","v":0},{"$f":"IF(AND($S5>15,$S5<=16),$S5*10,0)","v":0},{"$f":"IF(AND($S5>16,$S5<=17),$S5*10,0)","v":0},{"$f":"IF(AND($S5>17,$S5<=18),$S5*10,0)","v":0},{"$f":"IF(AND($S5>18,$S5<=19),$S5*10,0)","v":0},{"$f":"IF(AND($S5>19,$S5<=20),$S5*10,0)","v":0},{"$f":"IF(AND($S5>20,$S5<=21),$S5*10,0)","v":0},{"$f":"IF(AND($S5>21,$S5<=22),$S5*10,0)","v":0},{"$f":"IF(AND($S5>22,$S5<=23),$S5*10,0)","v":0},{"$f":"IF(AND($S5>23,$S5<=24),$S5*10,0)","v":0},{"$f":"IF(AND($S5>24,$S5<=25),$S5*10,0)","v":0},{"$f":"IF(AND($S5>25,$S5<=26),$S5*10,0)","v":0},{"$f":"IF(AND($S5>26,$S5<=27),$S5*10,0)","v":0},{"$f":"IF(AND($S5>27,$S5<=28),$S5*10,0)","v":0},{"$f":"IF(AND($S5>28,$S5<=29),$S5*10,0)","v":0},{"$f":"IF(AND($S5>29,$S5<=30),$S5*10,0)","v":0},{"$f":"IF($T5<=1,$T5*10,0)","v":0},{"$f":"IF(AND($T5>1,$T5<=2),$T5*10,0)","v":0},{"$f":"IF(AND($T5>2,$T5<=3),$T5*10,0)","v":0},{"$f":"IF(AND($T5>3,$T5<=4),$T5*10,0)","v":0},{"$f":"IF(AND($T5>4,$T5<=5),$T5*10,0)","v":0},{"$f":"IF(AND($T5>5,$T5<=6),$T5*10,0)","v":0},{"$f":"IF(AND($T5>6,$T5<=7),$T5*10,0)","v":0},{"$f":"IF(AND($T5>7,$T5<=8),$T5*10,0)","v":0},{"$f":"IF(AND($T5>8,$T5<=9),$T5*10,0)","v":0},{"$f":"IF(AND($T5>9,$T5<=10),$T5*10,0)","v":0},{"$f":"IF(AND($T5>10,$T5<=11),$T5*10,0)","v":0},{"$f":"IF(AND($T5>11,$T5<=12),$T5*10,0)","v":0},{"$f":"IF(AND($T5>12,$T5<=13),$T5*10,0)","v":0},{"$f":"IF(AND($T5>13,$T5<=14),$T5*10,0)","v":0},{"$f":"IF(AND($T5>14,$T5<=15),$T5*10,0)","v":0},{"$f":"IF(AND($T5>15,$T5<=16),$T5*10,0)","v":0},{"$f":"IF(AND($T5>16,$T5<=17),$T5*10,0)","v":0},{"$f":"IF(AND($T5>17,$T5<=18),$T5*10,0)","v":0},{"$f":"IF(AND($T5>18,$T5<=19),$T5*10,0)","v":0},{"$f":"IF(AND($T5>19,$T5<=20),$T5*10,0)","v":0},{"$f":"IF(AND($T5>20,$T5<=21),$T5*10,0)","v":0},{"$f":"IF(AND($T5>21,$T5<=22),$T5*10,0)","v":0},{"$f":"IF(AND($T5>22,$T5<=23),$T5*10,0)","v":0},{"$f":"IF(AND($T5>23,$T5<=24),$T5*10,0)","v":0},{"$f":"IF(AND($T5>24,$T5<=25),$T5*10,0)","v":0},{"$f":"IF(AND($T5>25,$T5<=26),$T5*10,0)","v":0},{"$f":"IF(AND($T5>26,$T5<=27),$T5*10,0)","v":0},{"$f":"IF(AND($T5>27,$T5<=28),$T5*10,0)","v":0},{"$f":"IF(AND($T5>28,$T5<=29),$T5*10,0)","v":0},{"$f":"IF(AND($T5>29,$T5<=30),$T5*10,0)","v":0},{"$f":"IF($U5<=1,$U5*10,0)","v":0},{"$f":"IF(AND($U5>1,$U5<=2),$U5*10,0)","v":0},{"$f":"IF(AND($U5>2,$U5<=3),$U5*10,0)","v":0},{"$f":"IF(AND($U5>3,$U5<=4),$U5*10,0)","v":0},{"$f":"IF(AND($U5>4,$U5<=5),$U5*10,0)","v":0},{"$f":"IF(AND($U5>5,$U5<=6),$U5*10,0)","v":0},{"$f":"IF(AND($U5>6,$U5<=7),$U5*10,0)","v":0},{"$f":"IF(AND($U5>7,$U5<=8),$U5*10,0)","v":0},{"$f":"IF(AND($U5>8,$U5<=9),$U5*10,0)","v":0},{"$f":"IF(AND($U5>9,$U5<=10),$U5*10,0)","v":0},{"$f":"IF(AND($U5>10,$U5<=11),$U5*10,0)","v":0},{"$f":"IF(AND($U5>11,$U5<=12),$U5*10,0)","v":0},{"$f":"IF(AND($U5>12,$U5<=13),$U5*10,0)","v":0},{"$f":"IF(AND($U5>13,$U5<=14),$U5*10,0)","v":0},{"$f":"IF(AND($U5>14,$U5<=15),$U5*10,0)","v":0},{"$f":"IF(AND($U5>15,$U5<=16),$U5*10,0)","v":0},{"$f":"IF(AND($U5>16,$U5<=17),$U5*10,0)","v":0},{"$f":"IF(AND($U5>17,$U5<=18),$U5*10,0)","v":0},{"$f":"IF(AND($U5>18,$U5<=19),$U5*10,0)","v":0},{"$f":"IF(AND($U5>19,$U5<=20),$U5*10,0)","v":0},{"$f":"IF(AND($U5>20,$U5<=21),$U5*10,0)","v":0},{"$f":"IF(AND($U5>21,$U5<=22),$U5*10,0)","v":0},{"$f":"IF(AND($U5>22,$U5<=23),$U5*10,0)","v":0},{"$f":"IF(AND($U5>23,$U5<=24),$U5*10,0)","v":0},{"$f":"IF(AND($U5>24,$U5<=25),$U5*10,0)","v":0},{"$f":"IF(AND($U5>25,$U5<=26),$U5*10,0)","v":0},{"$f":"IF(AND($U5>26,$U5<=27),$U5*10,0)","v":0},{"$f":"IF(AND($U5>27,$U5<=28),$U5*10,0)","v":0},{"$f":"IF(AND($U5>28,$U5<=29),$U5*10,0)","v":0},{"$f":"IF(AND($U5>29,$U5<=30),$U5*10,0)","v":0},{"$f":"IF($V5<=1,$V5*10,0)","v":0},{"$f":"IF(AND($V5>1,$V5<=2),$V5*10,0)","v":0},{"$f":"IF(AND($V5>2,$V5<=3),$V5*10,0)","v":0},{"$f":"IF(AND($V5>3,$V5<=4),$V5*10,0)","v":0},{"$f":"IF(AND($V5>4,$V5<=5),$V5*10,0)","v":0},{"$f":"IF(AND($V5>5,$V5<=6),$V5*10,0)","v":0},{"$f":"IF(AND($V5>6,$V5<=7),$V5*10,0)","v":0},{"$f":"IF(AND($V5>7,$V5<=8),$V5*10,0)","v":0},{"$f":"IF(AND($V5>8,$V5<=9),$V5*10,0)","v":0},{"$f":"IF(AND($V5>9,$V5<=10),$V5*10,0)","v":0},{"$f":"IF(AND($V5>10,$V5<=11),$V5*10,0)","v":0},{"$f":"IF(AND($V5>11,$V5<=12),$V5*10,0)","v":0},{"$f":"IF(AND($V5>12,$V5<=13),$V5*10,0)","v":0},{"$f":"IF(AND($V5>13,$V5<=14),$V5*10,0)","v":0},{"$f":"IF(AND($V5>14,$V5<=15),$V5*10,0)","v":0},{"$f":"IF(AND($V5>15,$V5<=16),$V5*10,0)","v":0},{"$f":"IF(AND($V5>16,$V5<=17),$V5*10,0)","v":0},{"$f":"IF(AND($V5>17,$V5<=18),$V5*10,0)","v":0},{"$f":"IF(AND($V5>18,$V5<=19),$V5*10,0)","v":0},{"$f":"IF(AND($V5>19,$V5<=20),$V5*10,0)","v":0},{"$f":"IF(AND($V5>20,$V5<=21),$V5*10,0)","v":0},{"$f":"IF(AND($V5>21,$V5<=22),$V5*10,0)","v":0},{"$f":"IF(AND($V5>22,$V5<=23),$V5*10,0)","v":0},{"$f":"IF(AND($V5>23,$V5<=24),$V5*10,0)","v":0},{"$f":"IF(AND($V5>24,$V5<=25),$V5*10,0)","v":0},{"$f":"IF(AND($V5>25,$V5<=26),$V5*10,0)","v":0},{"$f":"IF(AND($V5>26,$V5<=27),$V5*10,0)","v":0},{"$f":"IF(AND($V5>27,$V5<=28),$V5*10,0)","v":0},{"$f":"IF(AND($V5>28,$V5<=29),$V5*10,0)","v":0},{"$f":"IF(AND($V5>29,$V5<=30),$V5*10,0)","v":0},{"$f":"IF($W5<=1,$W5*10,0)","v":0},{"$f":"IF(AND($W5>1,$W5<=2),$W5*10,0)","v":0},{"$f":"IF(AND($W5>2,$W5<=3),$W5*10,0)","v":0},{"$f":"IF(AND($W5>3,$W5<=4),$W5*10,0)","v":0},{"$f":"IF(AND($W5>4,$W5<=5),$W5*10,0)","v":0},{"$f":"IF(AND($W5>5,$W5<=6),$W5*10,0)","v":0},{"$f":"IF(AND($W5>6,$W5<=7),$W5*10,0)","v":0},{"$f":"IF(AND($W5>7,$W5<=8),$W5*10,0)","v":0},{"$f":"IF(AND($W5>8,$W5<=9),$W5*10,0)","v":0},{"$f":"IF(AND($W5>9,$W5<=10),$W5*10,0)","v":0},{"$f":"IF(AND($W5>10,$W5<=11),$W5*10,0)","v":0},{"$f":"IF(AND($W5>11,$W5<=12),$W5*10,0)","v":0},{"$f":"IF(AND($W5>12,$W5<=13),$W5*10,0)","v":0},{"$f":"IF(AND($W5>13,$W5<=14),$W5*10,0)","v":0},{"$f":"IF(AND($W5>14,$W5<=15),$W5*10,0)","v":0},{"$f":"IF(AND($W5>15,$W5<=16),$W5*10,0)","v":0},{"$f":"IF(AND($W5>16,$W5<=17),$W5*10,0)","v":0},{"$f":"IF(AND($W5>17,$W5<=18),$W5*10,0)","v":0},{"$f":"IF(AND($W5>18,$W5<=19),$W5*10,0)","v":0},{"$f":"IF(AND($W5>19,$W5<=20),$W5*10,0)","v":0},{"$f":"IF(AND($W5>20,$W5<=21),$W5*10,0)","v":0},{"$f":"IF(AND($W5>21,$W5<=22),$W5*10,0)","v":0},{"$f":"IF(AND($W5>22,$W5<=23),$W5*10,0)","v":0},{"$f":"IF(AND($W5>23,$W5<=24),$W5*10,0)","v":0},{"$f":"IF(AND($W5>24,$W5<=25),$W5*10,0)","v":0},{"$f":"IF(AND($W5>25,$W5<=26),$W5*10,0)","v":0},{"$f":"IF(AND($W5>26,$W5<=27),$W5*10,0)","v":0},{"$f":"IF(AND($W5>27,$W5<=28),$W5*10,0)","v":0},{"$f":"IF(AND($W5>28,$W5<=29),$W5*10,0)","v":0},{"$f":"IF(AND($W5>29,$W5<=30),$W5*10,0)","v":0},{"$f":"IF($X5<=1,$X5*10,0)","v":0},{"$f":"IF(AND($X5>1,$X5<=2),$X5*10,0)","v":0},{"$f":"IF(AND($X5>2,$X5<=3),$X5*10,0)","v":0},{"$f":"IF(AND($X5>3,$X5<=4),$X5*10,0)","v":0},{"$f":"IF(AND($X5>4,$X5<=5),$X5*10,0)","v":0},{"$f":"IF(AND($X5>5,$X5<=6),$X5*10,0)","v":0},{"$f":"IF(AND($X5>6,$X5<=7),$X5*10,0)","v":0},{"$f":"IF(AND($X5>7,$X5<=8),$X5*10,0)","v":0},{"$f":"IF(AND($X5>8,$X5<=9),$X5*10,0)","v":0},{"$f":"IF(AND($X5>9,$X5<=10),$X5*10,0)","v":0},{"$f":"IF(AND($X5>10,$X5<=11),$X5*10,0)","v":0},{"$f":"IF(AND($X5>11,$X5<=12),$X5*10,0)","v":0},{"$f":"IF(AND($X5>12,$X5<=13),$X5*10,0)","v":0},{"$f":"IF(AND($X5>13,$X5<=14),$X5*10,0)","v":0},{"$f":"IF(AND($X5>14,$X5<=15),$X5*10,0)","v":0},{"$f":"IF(AND($X5>15,$X5<=16),$X5*10,0)","v":0},{"$f":"IF(AND($X5>16,$X5<=17),$X5*10,0)","v":0},{"$f":"IF(AND($X5>17,$X5<=18),$X5*10,0)","v":0},{"$f":"IF(AND($X5>18,$X5<=19),$X5*10,0)","v":0},{"$f":"IF(AND($X5>19,$X5<=20),$X5*10,0)","v":0},{"$f":"IF(AND($X5>20,$X5<=21),$X5*10,0)","v":0},{"$f":"IF(AND($X5>21,$X5<=22),$X5*10,0)","v":0},{"$f":"IF(AND($X5>22,$X5<=23),$X5*10,0)","v":0},{"$f":"IF(AND($X5>23,$X5<=24),$X5*10,0)","v":0},{"$f":"IF(AND($X5>24,$X5<=25),$X5*10,0)","v":0},{"$f":"IF(AND($X5>25,$X5<=26),$X5*10,0)","v":0},{"$f":"IF(AND($X5>26,$X5<=27),$X5*10,0)","v":0},{"$f":"IF(AND($X5>27,$X5<=28),$X5*10,0)","v":0},{"$f":"IF(AND($X5>28,$X5<=29),$X5*10,0)","v":0},{"$f":"IF(AND($X5>29,$X5<=30),$X5*10,0)","v":0},{"$f":"IF($Y5<=1,$Y5*10,0)","v":0},{"$f":"IF(AND($Y5>1,$Y5<=2),$Y5*10,0)","v":0},{"$f":"IF(AND($Y5>2,$Y5<=3),$Y5*10,0)","v":0},{"$f":"IF(AND($Y5>3,$Y5<=4),$Y5*10,0)","v":0},{"$f":"IF(AND($Y5>4,$Y5<=5),$Y5*10,0)","v":0},{"$f":"IF(AND($Y5>5,$Y5<=6),$Y5*10,0)","v":0},{"$f":"IF(AND($Y5>6,$Y5<=7),$Y5*10,0)","v":0},{"$f":"IF(AND($Y5>7,$Y5<=8),$Y5*10,0)","v":0},{"$f":"IF(AND($Y5>8,$Y5<=9),$Y5*10,0)","v":0},{"$f":"IF(AND($Y5>9,$Y5<=10),$Y5*10,0)","v":0},{"$f":"IF(AND($Y5>10,$Y5<=11),$Y5*10,0)","v":0},{"$f":"IF(AND($Y5>11,$Y5<=12),$Y5*10,0)","v":0},{"$f":"IF(AND($Y5>12,$Y5<=13),$Y5*10,0)","v":0},{"$f":"IF(AND($Y5>13,$Y5<=14),$Y5*10,0)","v":0},{"$f":"IF(AND($Y5>14,$Y5<=15),$Y5*10,0)","v":0},{"$f":"IF(AND($Y5>15,$Y5<=16),$Y5*10,0)","v":0},{"$f":"IF(AND($Y5>16,$Y5<=17),$Y5*10,0)","v":0},{"$f":"IF(AND($Y5>17,$Y5<=18),$Y5*10,0)","v":0},{"$f":"IF(AND($Y5>18,$Y5<=19),$Y5*10,0)","v":0},{"$f":"IF(AND($Y5>19,$Y5<=20),$Y5*10,0)","v":0},{"$f":"IF(AND($Y5>20,$Y5<=21),$Y5*10,0)","v":0},{"$f":"IF(AND($Y5>21,$Y5<=22),$Y5*10,0)","v":0},{"$f":"IF(AND($Y5>22,$Y5<=23),$Y5*10,0)","v":0},{"$f":"IF(AND($Y5>23,$Y5<=24),$Y5*10,0)","v":0},{"$f":"IF(AND($Y5>24,$Y5<=25),$Y5*10,0)","v":0},{"$f":"IF(AND($Y5>25,$Y5<=26),$Y5*10,0)","v":0},{"$f":"IF(AND($Y5>26,$Y5<=27),$Y5*10,0)","v":0},{"$f":"IF(AND($Y5>27,$Y5<=28),$Y5*10,0)","v":0},{"$f":"IF(AND($Y5>28,$Y5<=29),$Y5*10,0)","v":0},{"$f":"IF(AND($Y5>29,$Y5<=30),$Y5*10,0)","v":0},{"$f":"IF(AND($Y5>30,$Y5<=31),$Y5*10,0)","v":0},{"$f":"IF(AND($Y5>31,$Y5<=32),$Y5*10,0)","v":0},{"$f":"IF(AND($Y5>32,$Y5<=33),$Y5*10,0)","v":0},{"$f":"IF(AND($Y5>33,$Y5<=34),$Y5*10,0)","v":0},{"$f":"IF(AND($Y5>34,$Y5<=35),$Y5*10,0)","v":0},{"$f":"IF($Z5<=1,$Z5*10,0)","v":0},{"$f":"IF(AND($Z5>1,$Z5<=2),$Z5*10,0)","v":0},{"$f":"IF(AND($Z5>2,$Z5<=3),$Z5*10,0)","v":0},{"$f":"IF(AND($Z5>3,$Z5<=4),$Z5*10,0)","v":0},{"$f":"IF(AND($Z5>4,$Z5<=5),$Z5*10,0)","v":0},{"$f":"IF(AND($Z5>5,$Z5<=6),$Z5*10,0)","v":0},{"$f":"IF(AND($Z5>6,$Z5<=7),$Z5*10,0)","v":0},{"$f":"IF(AND($Z5>7,$Z5<=8),$Z5*10,0)","v":0},{"$f":"IF(AND($Z5>8,$Z5<=9),$Z5*10,0)","v":0},{"$f":"IF(AND($Z5>9,$Z5<=10),$Z5*10,0)","v":0},{"$f":"IF(AND($Z5>10,$Z5<=11),$Z5*10,0)","v":0},{"$f":"IF(AND($Z5>11,$Z5<=12),$Z5*10,0)","v":0},{"$f":"IF(AND($Z5>12,$Z5<=13),$Z5*10,0)","v":0},{"$f":"IF(AND($Z5>13,$Z5<=14),$Z5*10,0)","v":0},{"$f":"IF(AND($Z5>14,$Z5<=15),$Z5*10,0)","v":0},{"$f":"IF(AND($Z5>15,$Z5<=16),$Z5*10,0)","v":0},{"$f":"IF(AND($Z5>16,$Z5<=17),$Z5*10,0)","v":0},{"$f":"IF(AND($Z5>17,$Z5<=18),$Z5*10,0)","v":0},{"$f":"IF(AND($Z5>18,$Z5<=19),$Z5*10,0)","v":0},{"$f":"IF(AND($Z5>19,$Z5<=20),$Z5*10,0)","v":0},{"$f":"IF(AND($Z5>20,$Z5<=21),$Z5*10,0)","v":0},{"$f":"IF(AND($Z5>21,$Z5<=22),$Z5*10,0)","v":0},{"$f":"IF(AND($Z5>22,$Z5<=23),$Z5*10,0)","v":0},{"$f":"IF(AND($Z5>23,$Z5<=24),$Z5*10,0)","v":0},{"$f":"IF(AND($Z5>24,$Z5<=25),$Z5*10,0)","v":0},{"$f":"IF(AND($Z5>25,$Z5<=26),$Z5*10,0)","v":0},{"$f":"IF(AND($Z5>26,$Z5<=27),$Z5*10,0)","v":0},{"$f":"IF(AND($Z5>27,$Z5<=28),$Z5*10,0)","v":0},{"$f":"IF(AND($Z5>28,$Z5<=29),$Z5*10,0)","v":0},{"$f":"IF(AND($Z5>29,$Z5<=30),$Z5*10,0)","v":0},{"$f":"IF(AND($Z5>30,$Z5<=31),$Z5*10,0)","v":0},{"$f":"IF(AND($Z5>31,$Z5<=32),$Z5*10,0)","v":0},{"$f":"IF(AND($Z5>32,$Z5<=33),$Z5*10,0)","v":0},{"$f":"IF(AND($Z5>33,$Z5<=34),$Z5*10,0)","v":0},{"$f":"IF(AND($Z5>34,$Z5<=35),$Z5*10,0)","v":0},{"$f":"IF($AA5<=1,$AA5*10,0)","v":0},{"$f":"IF(AND($AA5>1,$AA5<=2),$AA5*10,0)","v":0},{"$f":"IF(AND($AA5>2,$AA5<=3),$AA5*10,0)","v":0},{"$f":"IF(AND($AA5>3,$AA5<=4),$AA5*10,0)","v":0},{"$f":"IF(AND($AA5>4,$AA5<=5),$AA5*10,0)","v":0},{"$f":"IF(AND($AA5>5,$AA5<=6),$AA5*10,0)","v":0},{"$f":"IF(AND($AA5>6,$AA5<=7),$AA5*10,0)","v":0},{"$f":"IF(AND($AA5>7,$AA5<=8),$AA5*10,0)","v":0},{"$f":"IF(AND($AA5>8,$AA5<=9),$AA5*10,0)","v":0},{"$f":"IF(AND($AA5>9,$AA5<=10),$AA5*10,0)","v":0},{"$f":"IF(AND($AA5>10,$AA5<=11),$AA5*10,0)","v":0},{"$f":"IF(AND($AA5>11,$AA5<=12),$AA5*10,0)","v":0},{"$f":"IF(AND($AA5>12,$AA5<=13),$AA5*10,0)","v":0},{"$f":"IF(AND($AA5>13,$AA5<=14),$AA5*10,0)","v":0},{"$f":"IF(AND($AA5>14,$AA5<=15),$AA5*10,0)","v":0},{"$f":"IF(AND($AA5>15,$AA5<=16),$AA5*10,0)","v":0},{"$f":"IF(AND($AA5>16,$AA5<=17),$AA5*10,0)","v":0},{"$f":"IF(AND($AA5>17,$AA5<=18),$AA5*10,0)","v":0},{"$f":"IF(AND($AA5>18,$AA5<=19),$AA5*10,0)","v":0},{"$f":"IF(AND($AA5>19,$AA5<=20),$AA5*10,0)","v":0},{"$f":"IF(AND($AA5>20,$AA5<=21),$AA5*10,0)","v":0},{"$f":"IF(AND($AA5>21,$AA5<=22),$AA5*10,0)","v":0},{"$f":"IF(AND($AA5>22,$AA5<=23),$AA5*10,0)","v":0},{"$f":"IF(AND($AA5>23,$AA5<=24),$AA5*10,0)","v":0},{"$f":"IF(AND($AA5>24,$AA5<=25),$AA5*10,0)","v":0},{"$f":"IF(AND($AA5>25,$AA5<=26),$AA5*10,0)","v":0},{"$f":"IF(AND($AA5>26,$AA5<=27),$AA5*10,0)","v":0},{"$f":"IF(AND($AA5>27,$AA5<=28),$AA5*10,0)","v":0},{"$f":"IF(AND($AA5>28,$AA5<=29),$AA5*10,0)","v":0},{"$f":"IF(AND($AA5>29,$AA5<=30),$AA5*10,0)","v":0},{"$f":"IF(AND($AA5>30,$AA5<=31),$AA5*10,0)","v":0},{"$f":"IF(AND($AA5>31,$AA5<=32),$AA5*10,0)","v":0},{"$f":"IF(AND($AA5>32,$AA5<=33),$AA5*10,0)","v":0},{"$f":"IF(AND($AA5>33,$AA5<=34),$AA5*10,0)","v":0},{"$f":"IF(AND($AA5>34,$AA5<=35),$AA5*10,0)","v":0},{"$f":"IF($AB5<=1,$AB5*10,0)","v":0},{"$f":"IF(AND($AB5>1,$AB5<=2),$AB5*10,0)","v":0},{"$f":"IF(AND($AB5>2,$AB5<=3),$AB5*10,0)","v":0},{"$f":"IF(AND($AB5>3,$AB5<=4),$AB5*10,0)","v":0},{"$f":"IF(AND($AB5>4,$AB5<=5),$AB5*10,0)","v":0},{"$f":"IF(AND($AB5>5,$AB5<=6),$AB5*10,0)","v":0},{"$f":"IF(AND($AB5>6,$AB5<=7),$AB5*10,0)","v":0},{"$f":"IF(AND($AB5>7,$AB5<=8),$AB5*10,0)","v":0},{"$f":"IF(AND($AB5>8,$AB5<=9),$AB5*10,0)","v":0},{"$f":"IF(AND($AB5>9,$AB5<=10),$AB5*10,0)","v":0},{"$f":"IF(AND($AB5>10,$AB5<=11),$AB5*10,0)","v":0},{"$f":"IF(AND($AB5>11,$AB5<=12),$AB5*10,0)","v":0},{"$f":"IF(AND($AB5>12,$AB5<=13),$AB5*10,0)","v":0},{"$f":"IF(AND($AB5>13,$AB5<=14),$AB5*10,0)","v":0},{"$f":"IF(AND($AB5>14,$AB5<=15),$AB5*10,0)","v":0},{"$f":"IF(AND($AB5>15,$AB5<=16),$AB5*10,0)","v":0},{"$f":"IF(AND($AB5>16,$AB5<=17),$AB5*10,0)","v":0},{"$f":"IF(AND($AB5>17,$AB5<=18),$AB5*10,0)","v":0},{"$f":"IF(AND($AB5>18,$AB5<=19),$AB5*10,0)","v":0},{"$f":"IF(AND($AB5>19,$AB5<=20),$AB5*10,0)","v":0},{"$f":"IF(AND($AB5>20,$AB5<=21),$AB5*10,0)","v":0},{"$f":"IF(AND($AB5>21,$AB5<=22),$AB5*10,0)","v":0},{"$f":"IF(AND($AB5>22,$AB5<=23),$AB5*10,0)","v":0},{"$f":"IF(AND($AB5>23,$AB5<=24),$AB5*10,0)","v":0},{"$f":"IF(AND($AB5>24,$AB5<=25),$AB5*10,0)","v":0},{"$f":"IF(AND($AB5>25,$AB5<=26),$AB5*10,0)","v":0},{"$f":"IF(AND($AB5>26,$AB5<=27),$AB5*10,0)","v":0},{"$f":"IF(AND($AB5>27,$AB5<=28),$AB5*10,0)","v":0},{"$f":"IF(AND($AB5>28,$AB5<=29),$AB5*10,0)","v":0},{"$f":"IF(AND($AB5>29,$AB5<=30),$AB5*10,0)","v":0},{"$f":"IF(AND($AB5>30,$AB5<=31),$AB5*10,0)","v":0},{"$f":"IF(AND($AB5>31,$AB5<=32),$AB5*10,0)","v":0},{"$f":"IF(AND($AB5>32,$AB5<=33),$AB5*10,0)","v":0},{"$f":"IF(AND($AB5>33,$AB5<=34),$AB5*10,0)","v":0},{"$f":"IF(AND($AB5>34,$AB5<=35),$AB5*10,0)","v":0},null,null,10,{"$f":"AD$1006+BH$1006","v":0},{"$f":"(UQ5/$UQ$35)*100","v":0},10,{"$f":"CL$1006+DP$1006","v":0},{"$f":"(UT5/$UT$35)*100","v":0},10,{"$f":"KN$1006+LR$1006+MV$1006+NZ$1006","v":0},{"$f":"(UW5/$UW$35)*100","v":0},10,{"$f":"ET$1006+FX$1006+HB$1006+IF$1006+JJ$1006","v":0},{"$f":"(UZ5/$UZ$35)*100","v":0},10,{"$f":"PD$1006+QM$1006","v":0},{"$f":"(VC5/$VC$40)*100","v":0},10,{"$f":"RV$1006+TE$1006","v":0},{"$f":"(VF5/$VF$40)*100","v":0}]
[1,{"$f":"'8 Axle Loads Direction 1-SS'!B6","v":2},{"$f":"'8 Axle Loads Direction 1-SS'!C6","v":4},{"$f":"'8 Axle Loads Direction 1-SS'!D6","v":8},{"$f":"'8 Axle Loads Direction 1-SS'!E6","v":0},{"$f":"'8 Axle Loads Direction 1-SS'!F6","v":0},{"$f":"'8 Axle Loads Direction 1-SS'!G6","v":0},{"$f":"'8 Axle Loads Direction 1-SS'!H6","v":0},{"$f":"'8 Axle Loads Direction 1-SS'!I6","v":0},{"$f":"'8 Axle Loads Direction 1-SS'!J6","v":0},{"$f":"'8 Axle Loads Direction 1-SS'!K6","v":0},4,0,8,0,0,0,0,0,0,0,0,0,0,0,0,0,0,null,0,0,0,40,0,0,0,0,0,0,0,0,0,0,0,0,0,0,0,0,0,0,0,0,0,0,0,0,0,0,0,0,0,0,0,0,0,0,0,0,0,0,0,0,0,0,0,0,0,0,0,0,0,0,0,0,0,0,0,0,0,0,0,0,0,0,0,80,0,0,0,0,0,0,0,0,0,0,0,0,0,0,0,0,0,0,0,0,0,0,0,0,0,0,0,0,0,0,0,0,0,0,0,0,0,0,0,0,0,0,0,0,0,0,0,0,0,0,0,0,0,0,0,0,0,0,0,0,0,0,0,0,0,0,0,0,0,0,0,0,0,0,0,0,0,0,0,0,0,0,0,0,0,0,0,0,0,0,0,0,0,0,0,0,0,0,0,0,0,0,0,0,0,0,0,0,0,0,0,0,0,0,0,0,0,0,0,0,0,0,0,0,0,0,0,0,0,0,0,0,0,0,0,0,0,0,0,0,0,0,0,0,0,0,0,0,0,0,0,0,0,0,0,0,0,0,0,0,0,0,0,0,0,0,0,0,0,0,0,0,0,0,0,0,0,0,0,0,0,0,0,0,0,0,0,0,0,0,0,0,0,0,0,0,0,0,0,0,0,0,0,0,0,0,0,0,0,0,0,0,0,0,0,0,0,0,0,0,0,0,0,0,0,0,0,0,0,0,0,0,0,0,0,0,0,0,0,0,0,0,0,0,0,0,0,0,0,0,0,0,0,0,0,0,0,0,0,0,0,0,0,0,0,0,0,0,0,0,0,0,0,0,0,0,0,0,0,0,0,0,0,0,0,0,0,0,0,0,0,0,{"$f":"IF($X6<=1,$X6*10,0)","v":0},{"$f":"IF(AND($X6>1,$X6<=2),$X6*10,0)","v":0},{"$f":"IF(AND($X6>2,$X6<=3),$X6*10,0)","v":0},{"$f":"IF(AND($X6>3,$X6<=4),$X6*10,0)","v":0},{"$f":"IF(AND($X6>4,$X6<=5),$X6*10,0)","v":0},{"$f":"IF(AND($X6>5,$X6<=6),$X6*10,0)","v":0},{"$f":"IF(AND($X6>6,$X6<=7),$X6*10,0)","v":0},{"$f":"IF(AND($X6>7,$X6<=8),$X6*10,0)","v":0},{"$f":"IF(AND($X6>8,$X6<=9),$X6*10,0)","v":0},{"$f":"IF(AND($X6>9,$X6<=10),$X6*10,0)","v":0},{"$f":"IF(AND($X6>10,$X6<=11),$X6*10,0)","v":0},{"$f":"IF(AND($X6>11,$X6<=12),$X6*10,0)","v":0},{"$f":"IF(AND($X6>12,$X6<=13),$X6*10,0)","v":0},{"$f":"IF(AND($X6>13,$X6<=14),$X6*10,0)","v":0},{"$f":"IF(AND($X6>14,$X6<=15),$X6*10,0)","v":0},{"$f":"IF(AND($X6>15,$X6<=16),$X6*10,0)","v":0},{"$f":"IF(AND($X6>16,$X6<=17),$X6*10,0)","v":0},{"$f":"IF(AND($X6>17,$X6<=18),$X6*10,0)","v":0},{"$f":"IF(AND($X6>18,$X6<=19),$X6*10,0)","v":0},{"$f":"IF(AND($X6>19,$X6<=20),$X6*10,0)","v":0},{"$f":"IF(AND($X6>20,$X6<=21),$X6*10,0)","v":0},{"$f":"IF(AND($X6>21,$X6<=22),$X6*10,0)","v":0},{"$f":"IF(AND($X6>22,$X6<=23),$X6*10,0)","v":0},{"$f":"IF(AND($X6>23,$X6<=24),$X6*10,0)","v":0},{"$f":"IF(AND($X6>24,$X6<=25),$X6*10,0)","v":0},{"$f":"IF(AND($X6>25,$X6<=26),$X6*10,0)","v":0},{"$f":"IF(AND($X6>26,$X6<=27),$X6*10,0)","v":0},{"$f":"IF(AND($X6>27,$X6<=28),$X6*10,0)","v":0},{"$f":"IF(AND($X6>28,$X6<=29),$X6*10,0)","v":0},{"$f":"IF(AND($X6>29,$X6<=30),$X6*10,0)","v":0},{"$f":"IF($Y6<=1,$Y6*10,0)","v":0},{"$f":"IF(AND($Y6>1,$Y6<=2),$Y6*10,0)","v":0},{"$f":"IF(AND($Y6>2,$Y6<=3),$Y6*10,0)","v":0},{"$f":"IF(AND($Y6>3,$Y6<=4),$Y6*10,0)","v":0},{"$f":"IF(AND($Y6>4,$Y6<=5),$Y6*10,0)","v":0},{"$f":"IF(AND($Y6>5,$Y6<=6),$Y6*10,0)","v":0},{"$f":"IF(AND($Y6>6,$Y6<=7),$Y6*10,0)","v":0},{"$f":"IF(AND($Y6>7,$Y6<=8),$Y6*10,0)","v":0},{"$f":"IF(AND($Y6>8,$Y6<=9),$Y6*10,0)","v":0},{"$f":"IF(AND($Y6>9,$Y6<=10),$Y6*10,0)","v":0},{"$f":"IF(AND($Y6>10,$Y6<=11),$Y6*10,0)","v":0},{"$f":"IF(AND($Y6>11,$Y6<=12),$Y6*10,0)","v":0},{"$f":"IF(AND($Y6>12,$Y6<=13),$Y6*10,0)","v":0},{"$f":"IF(AND($Y6>13,$Y6<=14),$Y6*10,0)","v":0},{"$f":"IF(AND($Y6>14,$Y6<=15),$Y6*10,0)","v":0},{"$f":"IF(AND($Y6>15,$Y6<=16),$Y6*10,0)","v":0},{"$f":"IF(AND($Y6>16,$Y6<=17),$Y6*10,0)","v":0},{"$f":"IF(AND($Y6>17,$Y6<=18),$Y6*10,0)","v":0},{"$f":"IF(AND($Y6>18,$Y6<=19),$Y6*10,0)","v":0},{"$f":"IF(AND($Y6>19,$Y6<=20),$Y6*10,0)","v":0},{"$f":"IF(AND($Y6>20,$Y6<=21),$Y6*10,0)","v":0},{"$f":"IF(AND($Y6>21,$Y6<=22),$Y6*10,0)","v":0},{"$f":"IF(AND($Y6>22,$Y6<=23),$Y6*10,0)","v":0},{"$f":"IF(AND($Y6>23,$Y6<=24),$Y6*10,0)","v":0},{"$f":"IF(AND($Y6>24,$Y6<=25),$Y6*10,0)","v":0},{"$f":"IF(AND($Y6>25,$Y6<=26),$Y6*10,0)","v":0},{"$f":"IF(AND($Y6>26,$Y6<=27),$Y6*10,0)","v":0},{"$f":"IF(AND($Y6>27,$Y6<=28),$Y6*10,0)","v":0},{"$f":"IF(AND($Y6>28,$Y6<=29),$Y6*10,0)","v":0},{"$f":"IF(AND($Y6>29,$Y6<=30),$Y6*10,0)","v":0},{"$f":"IF(AND($Y6>30,$Y6<=31),$Y6*10,0)","v":0},{"$f":"IF(AND($Y6>31,$Y6<=32),$Y6*10,0)","v":0},{"$f":"IF(AND($Y6>32,$Y6<=33),$Y6*10,0)","v":0},{"$f":"IF(AND($Y6>33,$Y6<=34),$Y6*10,0)","v":0},{"$f":"IF(AND($Y6>34,$Y6<=35),$Y6*10,0)","v":0},{"$f":"IF($Z6<=1,$Z6*10,0)","v":0},{"$f":"IF(AND($Z6>1,$Z6<=2),$Z6*10,0)","v":0},{"$f":"IF(AND($Z6>2,$Z6<=3),$Z6*10,0)","v":0},{"$f":"IF(AND($Z6>3,$Z6<=4),$Z6*10,0)","v":0},{"$f":"IF(AND($Z6>4,$Z6<=5),$Z6*10,0)","v":0},{"$f":"IF(AND($Z6>5,$Z6<=6),$Z6*10,0)","v":0},{"$f":"IF(AND($Z6>6,$Z6<=7),$Z6*10,0)","v":0},{"$f":"IF(AND($Z6>7,$Z6<=8),$Z6*10,0)","v":0},{"$f":"IF(AND($Z6>8,$Z6<=9),$Z6*10,0)","v":0},{"$f":"IF(AND($Z6>9,$Z6<=10),$Z6*10,0)","v":0},{"$f":"IF(AND($Z6>10,$Z6<=11),$Z6*10,0)","v":0},{"$f":"IF(AND($Z6>11,$Z6<=12),$Z6*10,0)","v":0},{"$f":"IF(AND($Z6>12,$Z6<=13),$Z6*10,0)","v":0},{"$f":"IF(AND($Z6>13,$Z6<=14),$Z6*10,0)","v":0},{"$f":"IF(AND($Z6>14,$Z6<=15),$Z6*10,0)","v":0},{"$f":"IF(AND($Z6>15,$Z6<=16),$Z6*10,0)","v":0},{"$f":"IF(AND($Z6>16,$Z6<=17),$Z6*10,0)","v":0},{"$f":"IF(AND($Z6>17,$Z6<=18),$Z6*10,0)","v":0},{"$f":"IF(AND($Z6>18,$Z6<=19),$Z6*10,0)","v":0},{"$f":"IF(AND($Z6>19,$Z6<=20),$Z6*10,0)","v":0},{"$f":"IF(AND($Z6>20,$Z6<=21),$Z6*10,0)","v":0},{"$f":"IF(AND($Z6>21,$Z6<=22),$Z6*10,0)","v":0},{"$f":"IF(AND($Z6>22,$Z6<=23),$Z6*10,0)","v":0},{"$f":"IF(AND($Z6>23,$Z6<=24),$Z6*10,0)","v":0},{"$f":"IF(AND($Z6>24,$Z6<=25),$Z6*10,0)","v":0},{"$f":"IF(AND($Z6>25,$Z6<=26),$Z6*10,0)","v":0},{"$f":"IF(AND($Z6>26,$Z6<=27),$Z6*10,0)","v":0},{"$f":"IF(AND($Z6>27,$Z6<=28),$Z6*10,0)","v":0},{"$f":"IF(AND($Z6>28,$Z6<=29),$Z6*10,0)","v":0},{"$f":"IF(AND($Z6>29,$Z6<=30),$Z6*10,0)","v":0},{"$f":"IF(AND($Z6>30,$Z6<=31),$Z6*10,0)","v":0},{"$f":"IF(AND($Z6>31,$Z6<=32),$Z6*10,0)","v":0},{"$f":"IF(AND($Z6>32,$Z6<=33),$Z6*10,0)","v":0},{"$f":"IF(AND($Z6>33,$Z6<=34),$Z6*10,0)","v":0},{"$f":"IF(AND($Z6>34,$Z6<=35),$Z6*10,0)","v":0},{"$f":"IF($AA6<=1,$AA6*10,0)","v":0},{"$f":"IF(AND($AA6>1,$AA6<=2),$AA6*10,0)","v":0},{"$f":"IF(AND($AA6>2,$AA6<=3),$AA6*10,0)","v":0},{"$f":"IF(AND($AA6>3,$AA6<=4),$AA6*10,0)","v":0},{"$f":"IF(AND($AA6>4,$AA6<=5),$AA6*10,0)","v":0},{"$f":"IF(AND($AA6>5,$AA6<=6),$AA6*10,0)","v":0},{"$f":"IF(AND($AA6>6,$AA6<=7),$AA6*10,0)","v":0},{"$f":"IF(AND($AA6>7,$AA6<=8),$AA6*10,0)","v":0},{"$f":"IF(AND($AA6>8,$AA6<=9),$AA6*10,0)","v":0},{"$f":"IF(AND($AA6>9,$AA6<=10),$AA6*10,0)","v":0},{"$f":"IF(AND($AA6>10,$AA6<=11),$AA6*10,0)","v":0},{"$f":"IF(AND($AA6>11,$AA6<=12),$AA6*10,0)","v":0},{"$f":"IF(AND($AA6>12,$AA6<=13),$AA6*10,0)","v":0},{"$f":"IF(AND($AA6>13,$AA6<=14),$AA6*10,0)","v":0},{"$f":"IF(AND($AA6>14,$AA6<=15),$AA6*10,0)","v":0},{"$f":"IF(AND($AA6>15,$AA6<=16),$AA6*10,0)","v":0},{"$f":"IF(AND($AA6>16,$AA6<=17),$AA6*10,0)","v":0},{"$f":"IF(AND($AA6>17,$AA6<=18),$AA6*10,0)","v":0},{"$f":"IF(AND($AA6>18,$AA6<=19),$AA6*10,0)","v":0},{"$f":"IF(AND($AA6>19,$AA6<=20),$AA6*10,0)","v":0},{"$f":"IF(AND($AA6>20,$AA6<=21),$AA6*10,0)","v":0},{"$f":"IF(AND($AA6>21,$AA6<=22),$AA6*10,0)","v":0},{"$f":"IF(AND($AA6>22,$AA6<=23),$AA6*10,0)","v":0},{"$f":"IF(AND($AA6>23,$AA6<=24),$AA6*10,0)","v":0},{"$f":"IF(AND($AA6>24,$AA6<=25),$AA6*10,0)","v":0},{"$f":"IF(AND($AA6>25,$AA6<=26),$AA6*10,0)","v":0},{"$f":"IF(AND($AA6>26,$AA6<=27),$AA6*10,0)","v":0},{"$f":"IF(AND($AA6>27,$AA6<=28),$AA6*10,0)","v":0},{"$f":"IF(AND($AA6>28,$AA6<=29),$AA6*10,0)","v":0},{"$f":"IF(AND($AA6>29,$AA6<=30),$AA6*10,0)","v":0},{"$f":"IF(AND($AA6>30,$AA6<=31),$AA6*10,0)","v":0},{"$f":"IF(AND($AA6>31,$AA6<=32),$AA6*10,0)","v":0},{"$f":"IF(AND($AA6>32,$AA6<=33),$AA6*10,0)","v":0},{"$f":"IF(AND($AA6>33,$AA6<=34),$AA6*10,0)","v":0},{"$f":"IF(AND($AA6>34,$AA6<=35),$AA6*10,0)","v":0},{"$f":"IF($AB6<=1,$AB6*10,0)","v":0},{"$f":"IF(AND($AB6>1,$AB6<=2),$AB6*10,0)","v":0},{"$f":"IF(AND($AB6>2,$AB6<=3),$AB6*10,0)","v":0},{"$f":"IF(AND($AB6>3,$AB6<=4),$AB6*10,0)","v":0},{"$f":"IF(AND($AB6>4,$AB6<=5),$AB6*10,0)","v":0},{"$f":"IF(AND($AB6>5,$AB6<=6),$AB6*10,0)","v":0},{"$f":"IF(AND($AB6>6,$AB6<=7),$AB6*10,0)","v":0},{"$f":"IF(AND($AB6>7,$AB6<=8),$AB6*10,0)","v":0},{"$f":"IF(AND($AB6>8,$AB6<=9),$AB6*10,0)","v":0},{"$f":"IF(AND($AB6>9,$AB6<=10),$AB6*10,0)","v":0},{"$f":"IF(AND($AB6>10,$AB6<=11),$AB6*10,0)","v":0},{"$f":"IF(AND($AB6>11,$AB6<=12),$AB6*10,0)","v":0},{"$f":"IF(AND($AB6>12,$AB6<=13),$AB6*10,0)","v":0},{"$f":"IF(AND($AB6>13,$AB6<=14),$AB6*10,0)","v":0},{"$f":"IF(AND($AB6>14,$AB6<=15),$AB6*10,0)","v":0},{"$f":"IF(AND($AB6>15,$AB6<=16),$AB6*10,0)","v":0},{"$f":"IF(AND($AB6>16,$AB6<=17),$AB6*10,0)","v":0},{"$f":"IF(AND($AB6>17,$AB6<=18),$AB6*10,0)","v":0},{"$f":"IF(AND($AB6>18,$AB6<=19),$AB6*10,0)","v":0},{"$f":"IF(AND($AB6>19,$AB6<=20),$AB6*10,0)","v":0},{"$f":"IF(AND($AB6>20,$AB6<=21),$AB6*10,0)","v":0},{"$f":"IF(AND($AB6>21,$AB6<=22),$AB6*10,0)","v":0},{"$f":"IF(AND($AB6>22,$AB6<=23),$AB6*10,0)","v":0},{"$f":"IF(AND($AB6>23,$AB6<=24),$AB6*10,0)","v":0},{"$f":"IF(AND($AB6>24,$AB6<=25),$AB6*10,0)","v":0},{"$f":"IF(AND($AB6>25,$AB6<=26),$AB6*10,0)","v":0},{"$f":"IF(AND($AB6>26,$AB6<=27),$AB6*10,0)","v":0},{"$f":"IF(AND($AB6>27,$AB6<=28),$AB6*10,0)","v":0},{"$f":"IF(AND($AB6>28,$AB6<=29),$AB6*10,0)","v":0},{"$f":"IF(AND($AB6>29,$AB6<=30),$AB6*10,0)","v":0},{"$f":"IF(AND($AB6>30,$AB6<=31),$AB6*10,0)","v":0},{"$f":"IF(AND($AB6>31,$AB6<=32),$AB6*10,0)","v":0},{"$f":"IF(AND($AB6>32,$AB6<=33),$AB6*10,0)","v":0},{"$f":"IF(AND($AB6>33,$AB6<=34),$AB6*10,0)","v":0},{"$f":"IF(AND($AB6>34,$AB6<=35),$AB6*10,0)","v":0},null,null,20,{"$f":"AE$1006+BI$1006","v":0},{"$f":"(UQ6/$UQ$35)*100","v":0},20,{"$f":"CM$1006+DQ$1006","v":0},{"$f":"(UT6/$UT$35)*100","v":0},20,{"$f":"KO$1006+LS$1006+MW$1006+OA$1006","v":0},{"$f":"(UW6/$UW$35)*100","v":0},20,{"$f":"EU$1006+FY$1006+HC$1006+IG$1006","v":0},{"$f":"(UZ6/$UZ$35)*100","v":0},20,{"$f":"PE$1006+QN$1006","v":0},{"$f":"(VC6/$VC$40)*100","v":0},20,{"$f":"RW$1006+TF$1006","v":0},{"$f":"(VF6/$VF$40)*100","v":0}]
[1,{"$f":"'8 Axle Loads Direction 1-SS'!B7","v":3},{"$f":"'8 Axle Loads Direction 1-SS'!C7","v":0},{"$f":"'8 Axle Loads Direction 1-SS'!D7","v":0},{"$f":"'8 Axle Loads Direction 1-SS'!E7","v":0},{"$f":"'8 Axle Loads Direction 1-SS'!F7","v":0},{"$f":"'8 Axle Loads Direction 1-SS'!G7","v":0},{"$f":"'8 Axle Loads Direction 1-SS'!H7","v":0},{"$f":"'8 Axle Loads Direction 1-SS'!I7","v":0},{"$f":"'8 Axle Loads Direction 1-SS'!J7","v":0},{"$f":"'8 Axle Loads Direction 1-SS'!K7","v":0},0,0,0,0,0,0,0,0,0,0,0,0,0,0,0,0,0,null,0,0,0,0,0,0,0,0,0,0,0,0,0,0,0,0,0,0,0,0,0,0,0,0,0,0,0,0,0,0,0,0,0,0,0,0,0,0,0,0,0,0,0,0,0,0,0,0,0,0,0,0,0,0,0,0,0,0,0,0,0,0,0,0,0,0,0,0,0,0,0,0,0,0,0,0,0,0,0,0,0,0,0,0,0,0,0,0,0,0,0,0,0,0,0,0,0,0,0,0,0,0,0,0,0,0,0,0,0,0,0,0,0,0,0,0,0,0,0,0,0,0,0,0,0,0,0,0,0,0,0,0,0,0,0,0,0,0,0,0,0,0,0,0,0,0,0,0,0,0,0,0,0,0,0,0,0,0,0,0,0,0,0,0,0,0,0,0,0,0,0,0,0,0,0,0,0,0,0,0,0,0,0,0,0,0,0,0,0,0,0,0,0,0,0,0,0,0,0,0,0,0,0,0,0,0,0,0,0,0,0,0,0,0,0,0,0,0,0,0,0,0,0,0,0,0,0,0,0,0,0,0,0,0,0,0,0,0,0,0,0,0,0,0,0,0,0,0,0,0,0,0,0,0,0,0,0,0,0,0,0,0,0,0,0,0,0,0,0,0,0,0,0,0,0,0,0,0,0,0,0,0,0,0,0,0,0,0,0,0,0,0,0,0,0,0,0,0,0,0,0,0,0,0,0,0,0,0,0,0,0,0,0,0,0,0,0,0,0,0,0,0,0,0,0,0,0,0,0,0,0,0,0,0,0,0,0,0,0,0,0,0,0,0,0,0,0,0,0,0,0,0,0,0,0,0,0,0,0,0,0,0,0,0,0,0,0,0,0,0,0,0,0,0,0,0,0,0,0,0,0,0,0,0,0,0,0,0,0,0,0,0,0,0,0,0,0,0,0,0,0,0,0,0,0,0,0,0,0,0,0,0,0,0,0,0,0,0,0,0,0,0,0,0,0,0,0,0,0,0,0,0,0,0,0,0,0,0,0,0,0,0,0,0,0,0,0,0,0,0,0,0,0,0,0,0,0,0,0,0,0,0,0,0,0,0,0,0,0,0,0,0,0,0,0,0,0,0,0,0,0,0,0,0,0,0,0,0,0,0,0,0,0,0,0,0,0,0,0,0,0,0,0,0,0,0,0,0,0,0,0,0,0,0,0,0,0,0,0,0,0,0,0,0,0,0,0,0,0,0,null,null,30,{"$f":"AF$1006+BJ$1006","v":0},0,30,{"$f":"CN$1006+DR$1006","v":0},0,30,{"$f":"KP$1006+LT$1006+MX$1006+OB$1006","v":0},0,30,{"$f":"EV$1006+FZ$1006+HD$1006+IH$1006","v":0},0,30,{"$f":"PF$1006+QO$1006","v":0},0,30,{"$f":"RX$1006+TG$1006","v":0},0]
[1,{"$f":"'8 Axle Loads Direction 1-SS'!B8","v":3},{"$f":"'8 Axle Loads Direction 1-SS'!C8","v":0},{"$f":"'8 Axle Loads Direction 1-SS'!D8","v":0},{"$f":"'8 Axle Loads Direction 1-SS'!E8","v":0},{"$f":"'8 Axle Loads Direction 1-SS'!F8","v":0},{"$f":"'8 Axle Loads Direction 1-SS'!G8","v":0},{"$f":"'8 Axle Loads Direction 1-SS'!H8","v":0},{"$f":"'8 Axle Loads Direction 1-SS'!I8","v":0},{"$f":"'8 Axle Loads Direction 1-SS'!J8","v":0},{"$f":"'8 Axle Loads Direction 1-SS'!K8","v":0},0,0,0,0,0,0,0,0,0,0,0,0,0,0,0,0,0,null,0,0,0,0,0,0,0,0,0,0,0,0,0,0,0,0,0,0,0,0,0,0,0,0,0,0,0,0,0,0,0,0,0,0,0,0,0,0,0,0,0,0,0,0,0,0,0,0,0,0,0,0,0,0,0,0,0,0,0,0,0,0,0,0,0,0,0,0,0,0,0,0,0,0,0,0,0,0,0,0,0,0,0,0,0,0,0,0,0,0,0,0,0,0,0,0,0,0,0,0,0,0,0,0,0,0,0,0,0,0,0,0,0,0,0,0,0,0,0,0,0,0,0,0,0,0,0,0,0,0,0,0,0,0,0,0,0,0,0,0,0,0,0,0,0,0,0,0,0,0,0,0,0,0,0,0,0,0,0,0,0,0,0,0,0,0,0,0,0,0,0,0,0,0,0,0,0,0,0,0,0,0,0,0,0,0,0,0,0,0,0,0,0,0,0,0,0,0,0,0,0,0,0,0,0,0,0,0,0,0,0,0,0,0,0,0,0,0,0,0,0,0,0,0,0,0,0,0,0,0,0,0,0,0,0,0,0,0,0,0,0,0,0,0,0,0,0,0,0,0,0,0,0,0,0,0,0,0,0,0,0,0,0,0,0,0,0,0,0,0,0,0,0,0,0,0,0,0,0,0,0,0,0,0,0,0,0,0,0,0,0,0,0,0,0,0,0,0,0,0,0,0,0,0,0,0,0,0,0,0,0,0,0,0,0,0,0,0,0,0,0,0,0,0,0,0,0,0,0,0,0,0,0,0,0,0,0,0,0,0,0,0,0,0,0,0,0,0,0,0,0,0,0,0,0,0,0,0,0,0,0,0,0,0,0,0,0,0,0,0,0,0,0,0,0,0,0,0,0,0,0,0,0,0,0,0,0,0,0,0,0,0,0,0,0,0,0,0,0,0,0,0,0,0,0,0,0,0,0,0,0,0,0,0,0,0,0,0,0,0,0,0,0,0,0,0,0,0,0,0,0,0,0,0,0,0,0,0,0,0,0,0,0,0,0,0,0,0,0,0,0,0,0,0,0,0,0,0,0,0,0,0,0,0,0,0,0,0,0,0,0,0,0,0,0,0,0,0,0,0,0,0,0,0,0,0,0,0,0,0,0,0,0,0,0,0,0,0,0,0,0,0,0,0,0,0,0,0,0,0,0,0,0,0,0,0,0,0,0,0,0,0,0,0,0,0,0,0,0,0,null,null,40,{"$f":"AG$1006+BK$1006","v":1600},38.369304556354919,40,{"$f":"CO$1006+DS$1006","v":0},0,40,{"$f":"KQ$1006+LU$1006+MY$1006+OC$1006","v":0},0,40,{"$f":"EW$1006+GA$1006+HE$1006+II$1006","v":0},0,40,{"$f":"PG$1006+QP$1006","v":0},0,40,{"$f":"RY$1006+TH$1006","v":0},0]
[1,{"$f":"'8 Axle Loads Direction 1-SS'!B9","v":3},{"$f":"'8 Axle Loads Direction 1-SS'!C9","v":0},{"$f":"'8 Axle Loads Direction 1-SS'!D9","v":0},{"$f":"'8 Axle Loads Direction 1-SS'!E9","v":0},{"$f":"'8 Axle Loads Direction 1-SS'!F9","v":0},{"$f":"'8 Axle Loads Direction 1-SS'!G9","v":0},{"$f":"'8 Axle Loads Direction 1-SS'!H9","v":0},{"$f":"'8 Axle Loads Direction 1-SS'!I9","v":0},{"$f":"'8 Axle Loads Direction 1-SS'!J9","v":0},{"$f":"'8 Axle Loads Direction 1-SS'!K9","v":0},0,0,0,0,0,0,0,0,0,0,0,0,0,0,0,0,0,null,0,0,0,0,0,0,0,0,0,0,0,0,0,0,0,0,0,0,0,0,0,0,0,0,0,0,0,0,0,0,0,0,0,0,0,0,0,0,0,0,0,0,0,0,0,0,0,0,0,0,0,0,0,0,0,0,0,0,0,0,0,0,0,0,0,0,0,0,0,0,0,0,0,0,0,0,0,0,0,0,0,0,0,0,0,0,0,0,0,0,0,0,0,0,0,0,0,0,0,0,0,0,0,0,0,0,0,0,0,0,0,0,0,0,0,0,0,0,0,0,0,0,0,0,0,0,0,0,0,0,0,0,0,0,0,0,0,0,0,0,0,0,0,0,0,0,0,0,0,0,0,0,0,0,0,0,0,0,0,0,0,0,0,0,0,0,0,0,0,0,0,0,0,0,0,0,0,0,0,0,0,0,0,0,0,0,0,0,0,0,0,0,0,0,0,0,0,0,0,0,0,0,0,0,0,0,0,0,0,0,0,0,0,0,0,0,0,0,0,0,0,0,0,0,0,0,0,0,0,0,0,0,0,0,0,0,0,0,0,0,0,0,0,0,0,0,0,0,0,0,0,0,0,0,0,0,0,0,0,0,0,0,0,0,0,0,0,0,0,0,0,0,0,0,0,0,0,0,0,0,0,0,0,0,0,0,0,0,0,0,0,0,0,0,0,0,0,0,0,0,0,0,0,0,0,0,0,0,0,0,0,0,0,0,0,0,0,0,0,0,0,0,0,0,0,0,0,0,0,0,0,0,0,0,0,0,0,0,0,0,0,0,0,0,0,0,0,0,0,0,0,0,0,0,0,0,0,0,0,0,0,0,0,0,0,0,0,0,0,0,0,0,0,0,0,0,0,0,0,0,0,0,0,0,0,0,0,0,0,0,0,0,0,0,0,0,0,0,0,0,0,0,0,0,0,0,0,0,0,0,0,0,0,0,0,0,0,0,0,0,0,0,0,0,0,0,0,0,0,0,0,0,0,0,0,0,0,0,0,0,0,0,0,0,0,0,0,0,0,0,0,0,0,0,0,0,0,0,0,0,0,0,0,0,0,0,0,0,0,0,0,0,0,0,0,0,0,0,0,0,0,0,0,0,0,0,0,0,0,0,0,0,0,0,0,0,0,0,0,0,0,0,0,0,0,0,0,0,0,0,0,0,0,0,0,0,0,0,0,0,0,0,0,0,0,0,0,0,0,0,null,null,50,{"$f":"AH$1006+BL$1006","v":700},16.786570743405278,50,{"$f":"CP$1006+DT$1006","v":0},0,50,{"$f":"KR$1006+LV$1006+MZ$1006+OD$1006","v":0},0,50,{"$f":"EX$1006+GB$1006+HF$1006+IJ$1006","v":0},0,50,{"$f":"PH$1006+QQ$1006","v":0},0,50,{"$f":"RZ$1006+TI$1006","v":0},0]
[1,{"$f":"'8 Axle Loads Direction 1-SS'!B10","v":3},{"$f":"'8 Axle Loads Direction 1-SS'!C10","v":0},{"$f":"'8 Axle Loads Direction 1-SS'!D10","v":0},{"$f":"'8 Axle Loads Direction 1-SS'!E10","v":0},{"$f":"'8 Axle Loads Direction 1-SS'!F10","v":0},{"$f":"'8 Axle Loads Direction 1-SS'!G10","v":0},{"$f":"'8 Axle Loads Direction 1-SS'!H10","v":0},{"$f":"'8 Axle Loads Direction 1-SS'!I10","v":0},{"$f":"'8 Axle Loads Direction 1-SS'!J10","v":0},{"$f":"'8 Axle Loads Direction 1-SS'!K10","v":0},0,0,0,0,0,0,0,0,0,0,0,0,0,0,0,0,0,null,0,0,0,0,0,0,0,0,0,0,0,0,0,0,0,0,0,0,0,0,0,0,0,0,0,0,0,0,0,0,0,0,0,0,0,0,0,0,0,0,0,0,0,0,0,0,0,0,0,0,0,0,0,0,0,0,0,0,0,0,0,0,0,0,0,0,0,0,0,0,0,0,0,0,0,0,0,0,0,0,0,0,0,0,0,0,0,0,0,0,0,0,0,0,0,0,0,0,0,0,0,0,0,0,0,0,0,0,0,0,0,0,0,0,0,0,0,0,0,0,0,0,0,0,0,0,0,0,0,0,0,0,0,0,0,0,0,0,0,0,0,0,0,0,0,0,0,0,0,0,0,0,0,0,0,0,0,0,0,0,0,0,0,0,0,0,0,0,0,0,0,0,0,0,0,0,0,0,0,0,0,0,0,0,0,0,0,0,0,0,0,0,0,0,0,0,0,0,0,0,0,0,0,0,0,0,0,0,0,0,0,0,0,0,0,0,0,0,0,0,0,0,0,0,0,0,0,0,0,0,0,0,0,0,0,0,0,0,0,0,0,0,0,0,0,0,0,0,0,0,0,0,0,0,0,0,0,0,0,0,0,0,0,0,0,0,0,0,0,0,0,0,0,0,0,0,0,0,0,0,0,0,0,0,0,0,0,0,0,0,0,0,0,0,0,0,0,0,0,0,0,0,0,0,0,0,0,0,0,0,0,0,0,0,0,0,0,0,0,0,0,0,0,0,0,0,0,0,0,0,0,0,0,0,0,0,0,0,0,0,0,0,0,0,0,0,0,0,0,0,0,0,0,0,0,0,0,0,0,0,0,0,0,0,0,0,0,0,0,0,0,0,0,0,0,0,0,0,0,0,0,0,0,0,0,0,0,0,0,0,0,0,0,0,0,0,0,0,0,0,0,0,0,0,0,0,0,0,0,0,0,0,0,0,0,0,0,0,0,0,0,0,0,0,0,0,0,0,0,0,0,0,0,0,0,0,0,0,0,0,0,0,0,0,0,0,0,0,0,0,0,0,0,0,0,0,0,0,0,0,0,0,0,0,0,0,0,0,0,0,0,0,0,0,0,0,0,0,0,0,0,0,0,0,0,0,0,0,0,0,0,0,0,0,0,0,0,0,0,0,0,0,0,0,0,0,0,0,0,0,0,0,0,0,0,0,0,0,0,0,0,0,0,0,0,0,0,0,0,0,null,null,60,{"$f":"AI$1006+BM$1006","v":1800},43.165467625899282,60,{"$f":"CQ$1006+DU$1006","v":0},0,60,{"$f":"KS$1006+LW$1006+NA$1006+OE$1006","v":0},0,60,{"$f":"EY$1006+GC$1006+HG$1006+IK$1006","v":0},0,60,{"$f":"PI$1006+QR$1006","v":0},0,60,{"$f":"SA$1006+TJ$1006","v":0},0]
[1,{"$f":"'8 Axle Loads Direction 1-SS'!B11","v":3},{"$f":"'8 Axle Loads Direction 1-SS'!C11","v":0},{"$f":"'8 Axle Loads Direction 1-SS'!D11","v":0},{"$f":"'8 Axle Loads Direction 1-SS'!E11","v":0},{"$f":"'8 Axle Loads Direction 1-SS'!F11","v":0},{"$f":"'8 Axle Loads Direction 1-SS'!G11","v":0},{"$f":"'8 Axle Loads Direction 1-SS'!H11","v":0},{"$f":"'8 Axle Loads Direction 1-SS'!I11","v":0},{"$f":"'8 Axle Loads Direction 1-SS'!J11","v":0},{"$f":"'8 Axle Loads Direction 1-SS'!K11","v":0},0,0,0,0,0,0,0,0,0,0,0,0,0,0,0,0,0,null,0,0,0,0,0,0,0,0,0,0,0,0,0,0,0,0,0,0,0,0,0,0,0,0,0,0,0,0,0,0,0,0,0,0,0,0,0,0,0,0,0,0,0,0,0,0,0,0,0,0,0,0,0,0,0,0,0,0,0,0,0,0,0,0,0,0,0,0,0,0,0,0,0,0,0,0,0,0,0,0,0,0,0,0,0,0,0,0,0,0,0,0,0,0,0,0,0,0,0,0,0,0,0,0,0,0,0,0,0,0,0,0,0,0,0,0,0,0,0,0,0,0,0,0,0,0,0,0,0,0,0,0,0,0,0,0,0,0,0,0,0,0,0,0,0,0,0,0,0,0,0,0,0,0,0,0,0,0,0,0,0,0,0,0,0,0,0,0,0,0,0,0,0,0,0,0,0,0,0,0,0,0,0,0,0,0,0,0,0,0,0,0,0,0,0,0,0,0,0,0,0,0,0,0,0,0,0,0,0,0,0,0,0,0,0,0,0,0,0,0,0,0,0,0,0,0,0,0,0,0,0,0,0,0,0,0,0,0,0,0,0,0,0,0,0,0,0,0,0,0,0,0,0,0,0,0,0,0,0,0,0,0,0,0,0,0,0,0,0,0,0,0,0,0,0,0,0,0,0,0,0,0,0,0,0,0,0,0,0,0,0,0,0,0,0,0,0,0,0,0,0,0,0,0,0,0,0,0,0,0,0,0,0,0,0,0,0,0,0,0,0,0,0,0,0,0,0,0,0,0,0,0,0,0,0,0,0,0,0,0,0,0,0,0,0,0,0,0,0,0,0,0,0,0,0,0,0,0,0,0,0,0,0,0,0,0,0,0,0,0,0,0,0,0,0,0,0,0,0,0,0,0,0,0,0,0,0,0,0,0,0,0,0,0,0,0,0,0,0,0,0,0,0,0,0,0,0,0,0,0,0,0,0,0,0,0,0,0,0,0,0,0,0,0,0,0,0,0,0,0,0,0,0,0,0,0,0,0,0,0,0,0,0,0,0,0,0,0,0,0,0,0,0,0,0,0,0,0,0,0,0,0,0,0,0,0,0,0,0,0,0,0,0,0,0,0,0,0,0,0,0,0,0,0,0,0,0,0,0,0,0,0,0,0,0,0,0,0,0,0,0,0,0,0,0,0,0,0,0,0,0,0,0,0,0,0,0,0,0,0,0,0,0,0,0,0,0,0,0,0,null,null,70,{"$f":"AJ$1006+BN$1006","v":70},1.6786570743405276,70,{"$f":"CR$1006+DV$1006","v":0},0,70,{"$f":"KT$1006+LX$1006+NB$1006+OF$1006","v":0},0,70,{"$f":"EZ$1006+GD$1006+HH$1006+IL$1006","v":0},0,70,{"$f":"PJ$1006+QS$1006","v":0},0,70,{"$f":"SB$1006+TK$1006","v":0},0]
[1,{"$f":"'8 Axle Loads Direction 1-SS'!B12","v":"3B"},{"$f":"'8 Axle Loads Direction 1-SS'!C12","v":6},{"$f":"'8 Axle Loads Direction 1-SS'!D12","v":10},{"$f":"'8 Axle Loads Direction 1-SS'!E12","v":8},{"$f":"'8 Axle Loads Direction 1-SS'!F12","v":0},{"$f":"'8 Axle Loads Direction 1-SS'!G12","v":0},{"$f":"'8 Axle Loads Direction 1-SS'!H12","v":0},{"$f":"'8 Axle Loads Direction 1-SS'!I12","v":0},{"$f":"'8 Axle Loads Direction 1-SS'!J12","v":0},{"$f":"'8 Axle Loads Direction 1-SS'!K12","v":0},6,0,10,8,0,0,0,0,0,0,0,0,0,0,0,0,0,null,0,0,0,0,0,60,0,0,0,0,0,0,0,0,0,0,0,0,0,0,0,0,0,0,0,0,0,0,0,0,0,0,0,0,0,0,0,0,0,0,0,0,0,0,0,0,0,0,0,0,0,0,0,0,0,0,0,0,0,0,0,0,0,0,0,0,0,0,0,100,0,0,0,0,0,0,0,0,0,0,0,0,0,0,0,0,0,0,0,0,0,0,0,0,0,0,0,80,0,0,0,0,0,0,0,0,0,0,0,0,0,0,0,0,0,0,0,0,0,0,0,0,0,0,0,0,0,0,0,0,0,0,0,0,0,0,0,0,0,0,0,0,0,0,0,0,0,0,0,0,0,0,0,0,0,0,0,0,0,0,0,0,0,0,0,0,0,0,0,0,0,0,0,0,0,0,0,0,0,0,0,0,0,0,0,0,0,0,0,0,0,0,0,0,0,0,0,0,0,0,0,0,0,0,0,0,0,0,0,0,0,0,0,0,0,0,0,0,0,0,0,0,0,0,0,0,0,0,0,0,0,0,0,0,0,0,0,0,0,0,0,0,0,0,0,0,0,0,0,0,0,0,0,0,0,0,0,0,0,0,0,0,0,0,0,0,0,0,0,0,0,0,0,0,0,0,0,0,0,0,0,0,0,0,0,0,0,0,0,0,0,0,0,0,0,0,0,0,0,0,0,0,0,0,0,0,0,0,0,0,0,0,0,0,0,0,0,0,0,0,0,0,0,0,0,0,0,0,0,0,0,0,0,0,0,0,0,0,0,0,0,0,0,0,0,0,0,0,0,0,0,0,0,0,0,0,0,0,0,0,0,0,0,0,0,0,0,0,0,0,0,0,0,0,0,0,0,0,0,0,0,0,0,0,0,0,0,0,0,0,0,0,0,0,0,0,0,0,0,0,0,0,0,0,0,0,0,0,0,0,0,0,0,0,0,0,0,0,0,0,0,0,0,0,0,0,0,0,0,0,0,0,0,0,0,0,0,0,0,0,0,0,0,0,0,0,0,0,0,0,0,0,0,0,0,0,0,0,0,0,0,0,0,0,0,0,0,0,0,0,0,0,0,0,0,0,0,0,0,0,0,0,0,0,0,0,0,0,0,0,0,0,0,0,0,0,0,0,0,0,0,0,0,0,0,0,0,0,0,0,0,0,0,0,0,0,0,0,0,0,0,0,0,0,0,0,0,0,0,0,null,null,80,{"$f":"AK$1006+BO$1006","v":0},0,80,{"$f":"CS$1006+DW$1006","v":960},61.53846153846154,80,{"$f":"KU$1006+LY$1006+NC$1006+OG$1006","v":0},0,80,{"$f":"FA$1006+GE$1006+HI$1006+IM$1006","v":0},0,80,{"$f":"PK$1006+QT$1006","v":0},0,80,{"$f":"SC$1006+TL$1006","v":0},0]
[1,{"$f":"'8 Axle Loads Direction 1-SS'!B13","v":3},{"$f":"'8 Axle Loads Direction 1-SS'!C13","v":0},{"$f":"'8 Axle Loads Direction 1-SS'!D13","v":0},{"$f":"'8 Axle Loads Direction 1-SS'!E13","v":0},{"$f":"'8 Axle Loads Direction 1-SS'!F13","v":0},{"$f":"'8 Axle Loads Direction 1-SS'!G13","v":0},{"$f":"'8 Axle Loads Direction 1-SS'!H13","v":0},{"$f":"'8 Axle Loads Direction 1-SS'!I13","v":0},{"$f":"'8 Axle Loads Direction 1-SS'!J13","v":0},{"$f":"'8 Axle Loads Direction 1-SS'!K13","v":0},0,0,0,0,0,0,0,0,0,0,0,0,0,0,0,0,0,null,0,0,0,0,0,0,0,0,0,0,0,0,0,0,0,0,0,0,0,0,0,0,0,0,0,0,0,0,0,0,0,0,0,0,0,0,0,0,0,0,0,0,0,0,0,0,0,0,0,0,0,0,0,0,0,0,0,0,0,0,0,0,0,0,0,0,0,0,0,0,0,0,0,0,0,0,0,0,0,0,0,0,0,0,0,0,0,0,0,0,0,0,0,0,0,0,0,0,0,0,0,0,0,0,0,0,0,0,0,0,0,0,0,0,0,0,0,0,0,0,0,0,0,0,0,0,0,0,0,0,0,0,0,0,0,0,0,0,0,0,0,0,0,0,0,0,0,0,0,0,0,0,0,0,0,0,0,0,0,0,0,0,0,0,0,0,0,0,0,0,0,0,0,0,0,0,0,0,0,0,0,0,0,0,0,0,0,0,0,0,0,0,0,0,0,0,0,0,0,0,0,0,0,0,0,0,0,0,0,0,0,0,0,0,0,0,0,0,0,0,0,0,0,0,0,0,0,0,0,0,0,0,0,0,0,0,0,0,0,0,0,0,0,0,0,0,0,0,0,0,0,0,0,0,0,0,0,0,0,0,0,0,0,0,0,0,0,0,0,0,0,0,0,0,0,0,0,0,0,0,0,0,0,0,0,0,0,0,0,0,0,0,0,0,0,0,0,0,0,0,0,0,0,0,0,0,0,0,0,0,0,0,0,0,0,0,0,0,0,0,0,0,0,0,0,0,0,0,0,0,0,0,0,0,0,0,0,0,0,0,0,0,0,0,0,0,0,0,0,0,0,0,0,0,0,0,0,0,0,0,0,0,0,0,0,0,0,0,0,0,0,0,0,0,0,0,0,0,0,0,0,0,0,0,0,0,0,0,0,0,0,0,0,0,0,0,0,0,0,0,0,0,0,0,0,0,0,0,0,0,0,0,0,0,0,0,0,0,0,0,0,0,0,0,0,0,0,0,0,0,0,0,0,0,0,0,0,0,0,0,0,0,0,0,0,0,0,0,0,0,0,0,0,0,0,0,0,0,0,0,0,0,0,0,0,0,0,0,0,0,0,0,0,0,0,0,0,0,0,0,0,0,0,0,0,0,0,0,0,0,0,0,0,0,0,0,0,0,0,0,0,0,0,0,0,0,0,0,0,0,0,0,0,0,0,0,0,0,0,0,0,0,0,0,0,0,0,0,0,0,null,null,90,{"$f":"AL$1006+BP$1006","v":0},0,90,{"$f":"CT$1006+DX$1006","v":0},0,90,{"$f":"KV$1006+LZ$1006+ND$1006+OH$1006","v":0},0,90,{"$f":"FB$1006+GF$1006+HJ$1006+IN$1006","v":0},0,90,{"$f":"PL$1006+QU$1006","v":0},0,90,{"$f":"SD$1006+TM$1006","v":0},0]
[1,{"$f":"'8 Axle Loads Direction 1-SS'!B14","v":3},{"$f":"'8 Axle Loads Direction 1-SS'!C14","v":0},{"$f":"'8 Axle Loads Direction 1-SS'!D14","v":0},{"$f":"'8 Axle Loads Direction 1-SS'!E14","v":0},{"$f":"'8 Axle Loads Direction 1-SS'!F14","v":0},{"$f":"'8 Axle Loads Direction 1-SS'!G14","v":0},{"$f":"'8 Axle Loads Direction 1-SS'!H14","v":0},{"$f":"'8 Axle Loads Direction 1-SS'!I14","v":0},{"$f":"'8 Axle Loads Direction 1-SS'!J14","v":0},{"$f":"'8 Axle Loads Direction 1-SS'!K14","v":0},0,0,0,0,0,0,0,0,0,0,0,0,0,0,0,0,0,null,0,0,0,0,0,0,0,0,0,0,0,0,0,0,0,0,0,0,0,0,0,0,0,0,0,0,0,0,0,0,0,0,0,0,0,0,0,0,0,0,0,0,0,0,0,0,0,0,0,0,0,0,0,0,0,0,0,0,0,0,0,0,0,0,0,0,0,0,0,0,0,0,0,0,0,0,0,0,0,0,0,0,0,0,0,0,0,0,0,0,0,0,0,0,0,0,0,0,0,0,0,0,0,0,0,0,0,0,0,0,0,0,0,0,0,0,0,0,0,0,0,0,0,0,0,0,0,0,0,0,0,0,0,0,0,0,0,0,0,0,0,0,0,0,0,0,0,0,0,0,0,0,0,0,0,0,0,0,0,0,0,0,0,0,0,0,0,0,0,0,0,0,0,0,0,0,0,0,0,0,0,0,0,0,0,0,0,0,0,0,0,0,0,0,0,0,0,0,0,0,0,0,0,0,0,0,0,0,0,0,0,0,0,0,0,0,0,0,0,0,0,0,0,0,0,0,0,0,0,0,0,0,0,0,0,0,0,0,0,0,0,0,0,0,0,0,0,0,0,0,0,0,0,0,0,0,0,0,0,0,0,0,0,0,0,0,0,0,0,0,0,0,0,0,0,0,0,0,0,0,0,0,0,0,0,0,0,0,0,0,0,0,0,0,0,0,0,0,0,0,0,0,0,0,0,0,0,0,0,0,0,0,0,0,0,0,0,0,0,0,0,0,0,0,0,0,0,0,0,0,0,0,0,0,0,0,0,0,0,0,0,0,0,0,0,0,0,0,0,0,0,0,0,0,0,0,0,0,0,0,0,0,0,0,0,0,0,0,0,0,0,0,0,0,0,0,0,0,0,0,0,0,0,0,0,0,0,0,0,0,0,0,0,0,0,0,0,0,0,0,0,0,0,0,0,0,0,0,0,0,0,0,0,0,0,0,0,0,0,0,0,0,0,0,0,0,0,0,0,0,0,0,0,0,0,0,0,0,0,0,0,0,0,0,0,0,0,0,0,0,0,0,0,0,0,0,0,0,0,0,0,0,0,0,0,0,0,0,0,0,0,0,0,0,0,0,0,0,0,0,0,0,0,0,0,0,0,0,0,0,0,0,0,0,0,0,0,0,0,0,0,0,0,0,0,0,0,0,0,0,0,0,0,0,0,0,0,0,0,0,0,0,0,0,0,0,0,0,0,0,null,null,100,{"$f":"AM$1006+BQ$1006","v":0},0,100,{"$f":"CU$1006+DY$1006","v":600},38.461538461538467,100,{"$f":"KW$1006+MA$1006+NE$1006+OI$1006","v":600},14.388489208633093,100,{"$f":"FC$1006+GG$1006+HK$1006+IO$1006","v":1400},12.37842617152962,100,{"$f":"PM$1006+QV$1006","v":0},0,100,{"$f":"SE$1006+TN$1006","v":0},0]
[1,{"$f":"'8 Axle Loads Direction 1-SS'!B15","v":3},{"$f":"'8 Axle Loads Direction 1-SS'!C15","v":0},{"$f":"'8 Axle Loads Direction 1-SS'!D15","v":0},{"$f":"'8 Axle Loads Direction 1-SS'!E15","v":0},{"$f":"'8 Axle Loads Direction 1-SS'!F15","v":0},{"$f":"'8 Axle Loads Direction 1-SS'!G15","v":0},{"$f":"'8 Axle Loads Direction 1-SS'!H15","v":0},{"$f":"'8 Axle Loads Direction 1-SS'!I15","v":0},{"$f":"'8 Axle Loads Direction 1-SS'!J15","v":0},{"$f":"'8 Axle Loads Direction 1-SS'!K15","v":0},0,0,0,0,0,0,0,0,0,0,0,0,0,0,0,0,0,null,0,0,0,0,0,0,0,0,0,0,0,0,0,0,0,0,0,0,0,0,0,0,0,0,0,0,0,0,0,0,0,0,0,0,0,0,0,0,0,0,0,0,0,0,0,0,0,0,0,0,0,0,0,0,0,0,0,0,0,0,0,0,0,0,0,0,0,0,0,0,0,0,0,0,0,0,0,0,0,0,0,0,0,0,0,0,0,0,0,0,0,0,0,0,0,0,0,0,0,0,0,0,0,0,0,0,0,0,0,0,0,0,0,0,0,0,0,0,0,0,0,0,0,0,0,0,0,0,0,0,0,0,0,0,0,0,0,0,0,0,0,0,0,0,0,0,0,0,0,0,0,0,0,0,0,0,0,0,0,0,0,0,0,0,0,0,0,0,0,0,0,0,0,0,0,0,0,0,0,0,0,0,0,0,0,0,0,0,0,0,0,0,0,0,0,0,0,0,0,0,0,0,0,0,0,0,0,0,0,0,0,0,0,0,0,0,0,0,0,0,0,0,0,0,0,0,0,0,0,0,0,0,0,0,0,0,0,0,0,0,0,0,0,0,0,0,0,0,0,0,0,0,0,0,0,0,0,0,0,0,0,0,0,0,0,0,0,0,0,0,0,0,0,0,0,0,0,0,0,0,0,0,0,0,0,0,0,0,0,0,0,0,0,0,0,0,0,0,0,0,0,0,0,0,0,0,0,0,0,0,0,0,0,0,0,0,0,0,0,0,0,0,0,0,0,0,0,0,0,0,0,0,0,0,0,0,0,0,0,0,0,0,0,0,0,0,0,0,0,0,0,0,0,0,0,0,0,0,0,0,0,0,0,0,0,0,0,0,0,0,0,0,0,0,0,0,0,0,0,0,0,0,0,0,0,0,0,0,0,0,0,0,0,0,0,0,0,0,0,0,0,0,0,0,0,0,0,0,0,0,0,0,0,0,0,0,0,0,0,0,0,0,0,0,0,0,0,0,0,0,0,0,0,0,0,0,0,0,0,0,0,0,0,0,0,0,0,0,0,0,0,0,0,0,0,0,0,0,0,0,0,0,0,0,0,0,0,0,0,0,0,0,0,0,0,0,0,0,0,0,0,0,0,0,0,0,0,0,0,0,0,0,0,0,0,0,0,0,0,0,0,0,0,0,0,0,0,0,0,0,0,0,0,0,0,0,0,0,0,0,0,0,0,0,0,0,0,0,0,0,null,null,110,{"$f":"AN$1006+BR$1006","v":0},0,110,{"$f":"CV$1006+DZ$1006","v":0},0,110,{"$f":"KX$1006+MB$1006+NF$1006+OJ$1006","v":0},0,110,{"$f":"FD$1006+GH$1006+HL$1006+IP$1006","v":0},0,110,{"$f":"PN$1006+QW$1006","v":0},0,110,{"$f":"SF$1006+TO$1006","v":0},0]
[1,{"$f":"'8 Axle Loads Direction 1-SS'!B16","v":3},{"$f":"'8 Axle Loads Direction 1-SS'!C16","v":0},{"$f":"'8 Axle Loads Direction 1-SS'!D16","v":0},{"$f":"'8 Axle Loads Direction 1-SS'!E16","v":0},{"$f":"'8 Axle Loads Direction 1-SS'!F16","v":0},{"$f":"'8 Axle Loads Direction 1-SS'!G16","v":0},{"$f":"'8 Axle Loads Direction 1-SS'!H16","v":0},{"$f":"'8 Axle Loads Direction 1-SS'!I16","v":0},{"$f":"'8 Axle Loads Direction 1-SS'!J16","v":0},{"$f":"'8 Axle Loads Direction 1-SS'!K16","v":0},0,0,0,0,0,0,0,0,0,0,0,0,0,0,0,0,0,null,0,0,0,0,0,0,0,0,0,0,0,0,0,0,0,0,0,0,0,0,0,0,0,0,0,0,0,0,0,0,0,0,0,0,0,0,0,0,0,0,0,0,0,0,0,0,0,0,0,0,0,0,0,0,0,0,0,0,0,0,0,0,0,0,0,0,0,0,0,0,0,0,0,0,0,0,0,0,0,0,0,0,0,0,0,0,0,0,0,0,0,0,0,0,0,0,0,0,0,0,0,0,0,0,0,0,0,0,0,0,0,0,0,0,0,0,0,0,0,0,0,0,0,0,0,0,0,0,0,0,0,0,0,0,0,0,0,0,0,0,0,0,0,0,0,0,0,0,0,0,0,0,0,0,0,0,0,0,0,0,0,0,0,0,0,0,0,0,0,0,0,0,0,0,0,0,0,0,0,0,0,0,0,0,0,0,0,0,0,0,0,0,0,0,0,0,0,0,0,0,0,0,0,0,0,0,0,0,0,0,0,0,0,0,0,0,0,0,0,0,0,0,0,0,0,0,0,0,0,0,0,0,0,0,0,0,0,0,0,0,0,0,0,0,0,0,0,0,0,0,0,0,0,0,0,0,0,0,0,0,0,0,0,0,0,0,0,0,0,0,0,0,0,0,0,0,0,0,0,0,0,0,0,0,0,0,0,0,0,0,0,0,0,0,0,0,0,0,0,0,0,0,0,0,0,0,0,0,0,0,0,0,0,0,0,0,0,0,0,0,0,0,0,0,0,0,0,0,0,0,0,0,0,0,0,0,0,0,0,0,0,0,0,0,0,0,0,0,0,0,0,0,0,0,0,0,0,0,0,0,0,0,0,0,0,0,0,0,0,0,0,0,0,0,0,0,0,0,0,0,0,0,0,0,0,0,0,0,0,0,0,0,0,0,0,0,0,0,0,0,0,0,0,0,0,0,0,0,0,0,0,0,0,0,0,0,0,0,0,0,0,0,0,0,0,0,0,0,0,0,0,0,0,0,0,0,0,0,0,0,0,0,0,0,0,0,0,0,0,0,0,0,0,0,0,0,0,0,0,0,0,0,0,0,0,0,0,0,0,0,0,0,0,0,0,0,0,0,0,0,0,0,0,0,0,0,0,0,0,0,0,0,0,0,0,0,0,0,0,0,0,0,0,0,0,0,0,0,0,0,0,0,0,0,0,0,0,0,0,0,0,0,0,0,0,0,0,0,0,0,null,null,120,{"$f":"AO$1006+BS$1006","v":0},0,120,{"$f":"CW$1006+EA$1006","v":0},0,120,{"$f":"KY$1006+MC$1006+NG$1006+OK$1006","v":0},0,120,{"$f":"FE$1006+GI$1006+HM$1006+IQ$1006","v":3360},29.708222811671085,120,{"$f":"PO$1006+QX$1006","v":0},0,120,{"$f":"SG$1006+TP$1006","v":0},0]
[1,{"$f":"'8 Axle Loads Direction 1-SS'!B17","v":3},{"$f":"'8 Axle Loads Direction 1-SS'!C17","v":0},{"$f":"'8 Axle Loads Direction 1-SS'!D17","v":0},{"$f":"'8 Axle Loads Direction 1-SS'!E17","v":0},{"$f":"'8 Axle Loads Direction 1-SS'!F17","v":0},{"$f":"'8 Axle Loads Direction 1-SS'!G17","v":0},{"$f":"'8 Axle Loads Direction 1-SS'!H17","v":0},{"$f":"'8 Axle Loads Direction 1-SS'!I17","v":0},{"$f":"'8 Axle Loads Direction 1-SS'!J17","v":0},{"$f":"'8 Axle Loads Direction 1-SS'!K17","v":0},0,0,0,0,0,0,0,0,0,0,0,0,0,0,0,0,0,null,0,0,0,0,0,0,0,0,0,0,0,0,0,0,0,0,0,0,0,0,0,0,0,0,0,0,0,0,0,0,0,0,0,0,0,0,0,0,0,0,0,0,0,0,0,0,0,0,0,0,0,0,0,0,0,0,0,0,0,0,0,0,0,0,0,0,0,0,0,0,0,0,0,0,0,0,0,0,0,0,0,0,0,0,0,0,0,0,0,0,0,0,0,0,0,0,0,0,0,0,0,0,0,0,0,0,0,0,0,0,0,0,0,0,0,0,0,0,0,0,0,0,0,0,0,0,0,0,0,0,0,0,0,0,0,0,0,0,0,0,0,0,0,0,0,0,0,0,0,0,0,0,0,0,0,0,0,0,0,0,0,0,0,0,0,0,0,0,0,0,0,0,0,0,0,0,0,0,0,0,0,0,0,0,0,0,0,0,0,0,0,0,0,0,0,0,0,0,0,0,0,0,0,0,0,0,0,0,0,0,0,0,0,0,0,0,0,0,0,0,0,0,0,0,0,0,0,0,0,0,0,0,0,0,0,0,0,0,0,0,0,0,0,0,0,0,0,0,0,0,0,0,0,0,0,0,0,0,0,0,0,0,0,0,0,0,0,0,0,0,0,0,0,0,0,0,0,0,0,0,0,0,0,0,0,0,0,0,0,0,0,0,0,0,0,0,0,0,0,0,0,0,0,0,0,0,0,0,0,0,0,0,0,0,0,0,0,0,0,0,0,0,0,0,0,0,0,0,0,0,0,0,0,0,0,0,0,0,0,0,0,0,0,0,0,0,0,0,0,0,0,0,0,0,0,0,0,0,0,0,0,0,0,0,0,0,0,0,0,0,0,0,0,0,0,0,0,0,0,0,0,0,0,0,0,0,0,0,0,0,0,0,0,0,0,0,0,0,0,0,0,0,0,0,0,0,0,0,0,0,0,0,0,0,0,0,0,0,0,0,0,0,0,0,0,0,0,0,0,0,0,0,0,0,0,0,0,0,0,0,0,0,0,0,0,0,0,0,0,0,0,0,0,0,0,0,0,0,0,0,0,0,0,0,0,0,0,0,0,0,0,0,0,0,0,0,0,0,0,0,0,0,0,0,0,0,0,0,0,0,0,0,0,0,0,0,0,0,0,0,0,0,0,0,0,0,0,0,0,0,0,0,0,0,0,0,0,0,0,0,0,0,0,0,0,0,0,0,0,0,null,null,130,{"$f":"AP$1006+BT$1006","v":0},0,130,{"$f":"CX$1006+EB$1006","v":0},0,130,{"$f":"KZ$1006+MD$1006+NH$1006+OL$1006","v":0},0,130,{"$f":"FF$1006+GJ$1006+HN$1006+IR$1006","v":910},8.0459770114942533,130,{"$f":"PP$1006+QY$1006","v":0},0,130,{"$f":"SH$1006+TQ$1006","v":0},0]
[1,{"$f":"'8 Axle Loads Direction 1-SS'!B18","v":3},{"$f":"'8 Axle Loads Direction 1-SS'!C18","v":0},{"$f":"'8 Axle Loads Direction 1-SS'!D18","v":0},{"$f":"'8 Axle Loads Direction 1-SS'!E18","v":0},{"$f":"'8 Axle Loads Direction 1-SS'!F18","v":0},{"$f":"'8 Axle Loads Direction 1-SS'!G18","v":0},{"$f":"'8 Axle Loads Direction 1-SS'!H18","v":0},{"$f":"'8 Axle Loads Direction 1-SS'!I18","v":0},{"$f":"'8 Axle Loads Direction 1-SS'!J18","v":0},{"$f":"'8 Axle Loads Direction 1-SS'!K18","v":0},0,0,0,0,0,0,0,0,0,0,0,0,0,0,0,0,0,null,0,0,0,0,0,0,0,0,0,0,0,0,0,0,0,0,0,0,0,0,0,0,0,0,0,0,0,0,0,0,0,0,0,0,0,0,0,0,0,0,0,0,0,0,0,0,0,0,0,0,0,0,0,0,0,0,0,0,0,0,0,0,0,0,0,0,0,0,0,0,0,0,0,0,0,0,0,0,0,0,0,0,0,0,0,0,0,0,0,0,0,0,0,0,0,0,0,0,0,0,0,0,0,0,0,0,0,0,0,0,0,0,0,0,0,0,0,0,0,0,0,0,0,0,0,0,0,0,0,0,0,0,0,0,0,0,0,0,0,0,0,0,0,0,0,0,0,0,0,0,0,0,0,0,0,0,0,0,0,0,0,0,0,0,0,0,0,0,0,0,0,0,0,0,0,0,0,0,0,0,0,0,0,0,0,0,0,0,0,0,0,0,0,0,0,0,0,0,0,0,0,0,0,0,0,0,0,0,0,0,0,0,0,0,0,0,0,0,0,0,0,0,0,0,0,0,0,0,0,0,0,0,0,0,0,0,0,0,0,0,0,0,0,0,0,0,0,0,0,0,0,0,0,0,0,0,0,0,0,0,0,0,0,0,0,0,0,0,0,0,0,0,0,0,0,0,0,0,0,0,0,0,0,0,0,0,0,0,0,0,0,0,0,0,0,0,0,0,0,0,0,0,0,0,0,0,0,0,0,0,0,0,0,0,0,0,0,0,0,0,0,0,0,0,0,0,0,0,0,0,0,0,0,0,0,0,0,0,0,0,0,0,0,0,0,0,0,0,0,0,0,0,0,0,0,0,0,0,0,0,0,0,0,0,0,0,0,0,0,0,0,0,0,0,0,0,0,0,0,0,0,0,0,0,0,0,0,0,0,0,0,0,0,0,0,0,0,0,0,0,0,0,0,0,0,0,0,0,0,0,0,0,0,0,0,0,0,0,0,0,0,0,0,0,0,0,0,0,0,0,0,0,0,0,0,0,0,0,0,0,0,0,0,0,0,0,0,0,0,0,0,0,0,0,0,0,0,0,0,0,0,0,0,0,0,0,0,0,0,0,0,0,0,0,0,0,0,0,0,0,0,0,0,0,0,0,0,0,0,0,0,0,0,0,0,0,0,0,0,0,0,0,0,0,0,0,0,0,0,0,0,0,0,0,0,0,0,0,0,0,0,0,0,0,0,0,0,0,0,0,null,null,140,{"$f":"AQ$1006+BU$1006","v":0},0,140,{"$f":"CY$1006+EC$1006","v":0},0,140,{"$f":"LA$1006+ME$1006+NI$1006+OM$1006","v":0},0,140,{"$f":"FG$1006+GK$1006+HO$1006+IS$1006","v":1960},17.329796640141467,140,{"$f":"PQ$1006+QZ$1006","v":0},0,140,{"$f":"SI$1006+TR$1006","v":0},0]
[1,{"$f":"'8 Axle Loads Direction 1-SS'!B19","v":3},{"$f":"'8 Axle Loads Direction 1-SS'!C19","v":0},{"$f":"'8 Axle Loads Direction 1-SS'!D19","v":0},{"$f":"'8 Axle Loads Direction 1-SS'!E19","v":0},{"$f":"'8 Axle Loads Direction 1-SS'!F19","v":0},{"$f":"'8 Axle Loads Direction 1-SS'!G19","v":0},{"$f":"'8 Axle Loads Direction 1-SS'!H19","v":0},{"$f":"'8 Axle Loads Direction 1-SS'!I19","v":0},{"$f":"'8 Axle Loads Direction 1-SS'!J19","v":0},{"$f":"'8 Axle Loads Direction 1-SS'!K19","v":0},0,0,0,0,0,0,0,0,0,0,0,0,0,0,0,0,0,null,0,0,0,0,0,0,0,0,0,0,0,0,0,0,0,0,0,0,0,0,0,0,0,0,0,0,0,0,0,0,0,0,0,0,0,0,0,0,0,0,0,0,0,0,0,0,0,0,0,0,0,0,0,0,0,0,0,0,0,0,0,0,0,0,0,0,0,0,0,0,0,0,0,0,0,0,0,0,0,0,0,0,0,0,0,0,0,0,0,0,0,0,0,0,0,0,0,0,0,0,0,0,0,0,0,0,0,0,0,0,0,0,0,0,0,0,0,0,0,0,0,0,0,0,0,0,0,0,0,0,0,0,0,0,0,0,0,0,0,0,0,0,0,0,0,0,0,0,0,0,0,0,0,0,0,0,0,0,0,0,0,0,0,0,0,0,0,0,0,0,0,0,0,0,0,0,0,0,0,0,0,0,0,0,0,0,0,0,0,0,0,0,0,0,0,0,0,0,0,0,0,0,0,0,0,0,0,0,0,0,0,0,0,0,0,0,0,0,0,0,0,0,0,0,0,0,0,0,0,0,0,0,0,0,0,0,0,0,0,0,0,0,0,0,0,0,0,0,0,0,0,0,0,0,0,0,0,0,0,0,0,0,0,0,0,0,0,0,0,0,0,0,0,0,0,0,0,0,0,0,0,0,0,0,0,0,0,0,0,0,0,0,0,0,0,0,0,0,0,0,0,0,0,0,0,0,0,0,0,0,0,0,0,0,0,0,0,0,0,0,0,0,0,0,0,0,0,0,0,0,0,0,0,0,0,0,0,0,0,0,0,0,0,0,0,0,0,0,0,0,0,0,0,0,0,0,0,0,0,0,0,0,0,0,0,0,0,0,0,0,0,0,0,0,0,0,0,0,0,0,0,0,0,0,0,0,0,0,0,0,0,0,0,0,0,0,0,0,0,0,0,0,0,0,0,0,0,0,0,0,0,0,0,0,0,0,0,0,0,0,0,0,0,0,0,0,0,0,0,0,0,0,0,0,0,0,0,0,0,0,0,0,0,0,0,0,0,0,0,0,0,0,0,0,0,0,0,0,0,0,0,0,0,0,0,0,0,0,0,0,0,0,0,0,0,0,0,0,0,0,0,0,0,0,0,0,0,0,0,0,0,0,0,0,0,0,0,0,0,0,0,0,0,0,0,0,0,0,0,0,0,0,0,0,0,0,0,0,0,0,0,0,0,0,0,0,0,0,0,0,null,null,150,{"$f":"AR$1006+BV$1006","v":0},0,150,{"$f":"CZ$1006+ED$1006","v":0},0,150,{"$f":"LB$1006+MF$1006+NJ$1006+ON$1006","v":1050},25.179856115107913,150,{"$f":"FH$1006+GL$1006+HP$1006+IT$1006","v":0},0,150,{"$f":"PR$1006+RA$1006","v":0},0,150,{"$f":"SJ$1006+TS$1006","v":0},0]
[1,{"$f":"'8 Axle Loads Direction 1-SS'!B20","v":3},{"$f":"'8 Axle Loads Direction 1-SS'!C20","v":0},{"$f":"'8 Axle Loads Direction 1-SS'!D20","v":0},{"$f":"'8 Axle Loads Direction 1-SS'!E20","v":0},{"$f":"'8 Axle Loads Direction 1-SS'!F20","v":0},{"$f":"'8 Axle Loads Direction 1-SS'!G20","v":0},{"$f":"'8 Axle Loads Direction 1-SS'!H20","v":0},{"$f":"'8 Axle Loads Direction 1-SS'!I20","v":0},{"$f":"'8 Axle Loads Direction 1-SS'!J20","v":0},{"$f":"'8 Axle Loads Direction 1-SS'!K20","v":0},0,0,0,0,0,0,0,0,0,0,0,0,0,0,0,0,0,null,0,0,0,0,0,0,0,0,0,0,0,0,0,0,0,0,0,0,0,0,0,0,0,0,0,0,0,0,0,0,0,0,0,0,0,0,0,0,0,0,0,0,0,0,0,0,0,0,0,0,0,0,0,0,0,0,0,0,0,0,0,0,0,0,0,0,0,0,0,0,0,0,0,0,0,0,0,0,0,0,0,0,0,0,0,0,0,0,0,0,0,0,0,0,0,0,0,0,0,0,0,0,0,0,0,0,0,0,0,0,0,0,0,0,0,0,0,0,0,0,0,0,0,0,0,0,0,0,0,0,0,0,0,0,0,0,0,0,0,0,0,0,0,0,0,0,0,0,0,0,0,0,0,0,0,0,0,0,0,0,0,0,0,0,0,0,0,0,0,0,0,0,0,0,0,0,0,0,0,0,0,0,0,0,0,0,0,0,0,0,0,0,0,0,0,0,0,0,0,0,0,0,0,0,0,0,0,0,0,0,0,0,0,0,0,0,0,0,0,0,0,0,0,0,0,0,0,0,0,0,0,0,0,0,0,0,0,0,0,0,0,0,0,0,0,0,0,0,0,0,0,0,0,0,0,0,0,0,0,0,0,0,0,0,0,0,0,0,0,0,0,0,0,0,0,0,0,0,0,0,0,0,0,0,0,0,0,0,0,0,0,0,0,0,0,0,0,0,0,0,0,0,0,0,0,0,0,0,0,0,0,0,0,0,0,0,0,0,0,0,0,0,0,0,0,0,0,0,0,0,0,0,0,0,0,0,0,0,0,0,0,0,0,0,0,0,0,0,0,0,0,0,0,0,0,0,0,0,0,0,0,0,0,0,0,0,0,0,0,0,0,0,0,0,0,0,0,0,0,0,0,0,0,0,0,0,0,0,0,0,0,0,0,0,0,0,0,0,0,0,0,0,0,0,0,0,0,0,0,0,0,0,0,0,0,0,0,0,0,0,0,0,0,0,0,0,0,0,0,0,0,0,0,0,0,0,0,0,0,0,0,0,0,0,0,0,0,0,0,0,0,0,0,0,0,0,0,0,0,0,0,0,0,0,0,0,0,0,0,0,0,0,0,0,0,0,0,0,0,0,0,0,0,0,0,0,0,0,0,0,0,0,0,0,0,0,0,0,0,0,0,0,0,0,0,0,0,0,0,0,0,0,0,0,0,0,0,0,0,0,0,0,0,0,0,0,0,0,0,0,null,null,160,{"$f":"AS$1006+BW$1006","v":0},0,160,{"$f":"DA$1006+EE$1006","v":0},0,160,{"$f":"LC$1006+MG$1006+NK$1006+OO$1006","v":0},0,160,{"$f":"FI$1006+GM$1006+HQ$1006+IU$1006","v":0},0,160,{"$f":"PS$1006+RB$1006","v":0},0,160,{"$f":"SK$1006+TT$1006","v":0},0]
[1,{"$f":"'8 Axle Loads Direction 1-SS'!B21","v":3},{"$f":"'8 Axle Loads Direction 1-SS'!C21","v":0},{"$f":"'8 Axle Loads Direction 1-SS'!D21","v":0},{"$f":"'8 Axle Loads Direction 1-SS'!E21","v":0},{"$f":"'8 Axle Loads Direction 1-SS'!F21","v":0},{"$f":"'8 Axle Loads Direction 1-SS'!G21","v":0},{"$f":"'8 Axle Loads Direction 1-SS'!H21","v":0},{"$f":"'8 Axle Loads Direction 1-SS'!I21","v":0},{"$f":"'8 Axle Loads Direction 1-SS'!J21","v":0},{"$f":"'8 Axle Loads Direction 1-SS'!K21","v":0},0,0,0,0,0,0,0,0,0,0,0,0,0,0,0,0,0,null,0,0,0,0,0,0,0,0,0,0,0,0,0,0,0,0,0,0,0,0,0,0,0,0,0,0,0,0,0,0,0,0,0,0,0,0,0,0,0,0,0,0,0,0,0,0,0,0,0,0,0,0,0,0,0,0,0,0,0,0,0,0,0,0,0,0,0,0,0,0,0,0,0,0,0,0,0,0,0,0,0,0,0,0,0,0,0,0,0,0,0,0,0,0,0,0,0,0,0,0,0,0,0,0,0,0,0,0,0,0,0,0,0,0,0,0,0,0,0,0,0,0,0,0,0,0,0,0,0,0,0,0,0,0,0,0,0,0,0,0,0,0,0,0,0,0,0,0,0,0,0,0,0,0,0,0,0,0,0,0,0,0,0,0,0,0,0,0,0,0,0,0,0,0,0,0,0,0,0,0,0,0,0,0,0,0,0,0,0,0,0,0,0,0,0,0,0,0,0,0,0,0,0,0,0,0,0,0,0,0,0,0,0,0,0,0,0,0,0,0,0,0,0,0,0,0,0,0,0,0,0,0,0,0,0,0,0,0,0,0,0,0,0,0,0,0,0,0,0,0,0,0,0,0,0,0,0,0,0,0,0,0,0,0,0,0,0,0,0,0,0,0,0,0,0,0,0,0,0,0,0,0,0,0,0,0,0,0,0,0,0,0,0,0,0,0,0,0,0,0,0,0,0,0,0,0,0,0,0,0,0,0,0,0,0,0,0,0,0,0,0,0,0,0,0,0,0,0,0,0,0,0,0,0,0,0,0,0,0,0,0,0,0,0,0,0,0,0,0,0,0,0,0,0,0,0,0,0,0,0,0,0,0,0,0,0,0,0,0,0,0,0,0,0,0,0,0,0,0,0,0,0,0,0,0,0,0,0,0,0,0,0,0,0,0,0,0,0,0,0,0,0,0,0,0,0,0,0,0,0,0,0,0,0,0,0,0,0,0,0,0,0,0,0,0,0,0,0,0,0,0,0,0,0,0,0,0,0,0,0,0,0,0,0,0,0,0,0,0,0,0,0,0,0,0,0,0,0,0,0,0,0,0,0,0,0,0,0,0,0,0,0,0,0,0,0,0,0,0,0,0,0,0,0,0,0,0,0,0,0,0,0,0,0,0,0,0,0,0,0,0,0,0,0,0,0,0,0,0,0,0,0,0,0,0,0,0,0,0,0,0,0,0,0,0,0,0,0,0,0,null,null,170,{"$f":"AT$1006+BX$1006","v":0},0,170,{"$f":"DB$1006+EF$1006","v":0},0,170,{"$f":"LD$1006+MH$1006+NL$1006+OP$1006","v":0},0,170,{"$f":"FJ$1006+GN$1006+HR$1006+IV$1006","v":1020},9.0185676392572933,170,{"$f":"PT$1006+RC$1006","v":0},0,170,{"$f":"SL$1006+TU$1006","v":0},0]
[1,{"$f":"'8 Axle Loads Direction 1-SS'!B22","v":"3C"},{"$f":"'8 Axle Loads Direction 1-SS'!C22","v":6},{"$f":"'8 Axle Loads Direction 1-SS'!D22","v":8},{"$f":"'8 Axle Loads Direction 1-SS'!E22","v":4},{"$f":"'8 Axle Loads Direction 1-SS'!F22","v":0},{"$f":"'8 Axle Loads Direction 1-SS'!G22","v":0},{"$f":"'8 Axle Loads Direction 1-SS'!H22","v":0},{"$f":"'8 Axle Loads Direction 1-SS'!I22","v":0},{"$f":"'8 Axle Loads Direction 1-SS'!J22","v":0},{"$f":"'8 Axle Loads Direction 1-SS'!K22","v":0},6,0,0,0,0,0,0,0,0,0,0,0,0,0,0,0,0,null,0,0,0,0,0,60,0,0,0,0,0,0,0,0,0,0,0,0,0,0,0,0,0,0,0,0,0,0,0,0,0,0,0,0,0,0,0,0,0,0,0,0,0,0,0,0,0,0,0,0,0,0,0,0,0,0,0,0,0,0,0,0,0,0,0,0,0,0,0,0,0,0,0,0,0,0,0,0,0,0,0,0,0,0,0,0,0,0,0,0,0,0,0,0,0,0,0,0,0,0,0,0,0,0,0,0,0,0,0,0,0,0,0,0,0,0,0,0,0,0,0,0,0,0,0,0,0,0,0,0,0,0,0,0,0,0,0,0,0,0,0,0,0,0,0,0,0,0,0,0,0,0,0,0,0,0,0,0,0,0,0,0,0,0,0,0,0,0,0,0,0,0,0,0,0,0,0,0,0,0,0,0,0,0,0,0,0,0,0,0,0,0,0,0,0,0,0,0,0,0,0,0,0,0,0,0,0,0,0,0,0,0,0,0,0,0,0,0,0,0,0,0,0,0,0,0,0,0,0,0,0,0,0,0,0,0,0,0,0,0,0,0,0,0,0,0,0,0,0,0,0,0,0,0,0,0,0,0,0,0,0,0,0,0,0,0,0,0,0,0,0,0,0,0,0,0,0,0,0,0,0,0,0,0,0,0,0,0,0,0,0,0,0,0,0,0,0,0,0,0,0,0,0,0,0,0,0,0,0,0,0,0,0,0,0,0,0,0,0,0,0,0,0,0,0,0,0,0,0,0,0,0,0,0,0,0,0,0,0,0,0,0,0,0,0,0,0,0,0,0,0,0,0,0,0,0,0,0,0,0,0,0,0,0,0,0,0,0,0,0,0,0,0,0,0,0,0,0,0,0,0,0,0,0,0,0,0,0,0,0,0,0,0,0,0,0,0,0,0,0,0,0,0,0,0,0,0,0,0,0,0,0,0,0,0,0,0,0,0,0,0,0,0,0,0,0,0,0,0,0,0,0,0,0,0,0,0,0,0,0,0,0,0,0,0,0,0,0,0,0,0,0,0,0,0,0,0,0,0,0,0,0,0,0,0,0,0,0,0,0,0,0,0,0,0,0,0,0,0,0,0,0,0,0,0,0,0,0,0,0,0,0,0,0,0,0,0,0,0,0,0,0,0,0,0,0,0,0,0,0,0,0,0,0,0,0,0,0,0,0,0,0,0,0,0,0,0,0,0,0,null,null,180,{"$f":"AU$1006+BY$1006","v":0},0,180,{"$f":"DC$1006+EG$1006","v":0},0,180,{"$f":"LE$1006+MI$1006+NM$1006+OQ$1006","v":2520},60.431654676258994,180,{"$f":"FK$1006+GO$1006+HS$1006+IW$1006","v":1260},11.140583554376658,180,{"$f":"PU$1006+RD$1006","v":0},0,180,{"$f":"SM$1006+TV$1006","v":0},0]
[1,{"$f":"'8 Axle Loads Direction 1-SS'!B23","v":3},{"$f":"'8 Axle Loads Direction 1-SS'!C23","v":0},{"$f":"'8 Axle Loads Direction 1-SS'!D23","v":0},{"$f":"'8 Axle Loads Direction 1-SS'!E23","v":0},{"$f":"'8 Axle Loads Direction 1-SS'!F23","v":0},{"$f":"'8 Axle Loads Direction 1-SS'!G23","v":0},{"$f":"'8 Axle Loads Direction 1-SS'!H23","v":0},{"$f":"'8 Axle Loads Direction 1-SS'!I23","v":0},{"$f":"'8 Axle Loads Direction 1-SS'!J23","v":0},{"$f":"'8 Axle Loads Direction 1-SS'!K23","v":0},0,0,0,0,0,0,0,0,0,0,0,0,0,0,0,0,0,null,0,0,0,0,0,0,0,0,0,0,0,0,0,0,0,0,0,0,0,0,0,0,0,0,0,0,0,0,0,0,0,0,0,0,0,0,0,0,0,0,0,0,0,0,0,0,0,0,0,0,0,0,0,0,0,0,0,0,0,0,0,0,0,0,0,0,0,0,0,0,0,0,0,0,0,0,0,0,0,0,0,0,0,0,0,0,0,0,0,0,0,0,0,0,0,0,0,0,0,0,0,0,0,0,0,0,0,0,0,0,0,0,0,0,0,0,0,0,0,0,0,0,0,0,0,0,0,0,0,0,0,0,0,0,0,0,0,0,0,0,0,0,0,0,0,0,0,0,0,0,0,0,0,0,0,0,0,0,0,0,0,0,0,0,0,0,0,0,0,0,0,0,0,0,0,0,0,0,0,0,0,0,0,0,0,0,0,0,0,0,0,0,0,0,0,0,0,0,0,0,0,0,0,0,0,0,0,0,0,0,0,0,0,0,0,0,0,0,0,0,0,0,0,0,0,0,0,0,0,0,0,0,0,0,0,0,0,0,0,0,0,0,0,0,0,0,0,0,0,0,0,0,0,0,0,0,0,0,0,0,0,0,0,0,0,0,0,0,0,0,0,0,0,0,0,0,0,0,0,0,0,0,0,0,0,0,0,0,0,0,0,0,0,0,0,0,0,0,0,0,0,0,0,0,0,0,0,0,0,0,0,0,0,0,0,0,0,0,0,0,0,0,0,0,0,0,0,0,0,0,0,0,0,0,0,0,0,0,0,0,0,0,0,0,0,0,0,0,0,0,0,0,0,0,0,0,0,0,0,0,0,0,0,0,0,0,0,0,0,0,0,0,0,0,0,0,0,0,0,0,0,0,0,0,0,0,0,0,0,0,0,0,0,0,0,0,0,0,0,0,0,0,0,0,0,0,0,0,0,0,0,0,0,0,0,0,0,0,0,0,0,0,0,0,0,0,0,0,0,0,0,0,0,0,0,0,0,0,0,0,0,0,0,0,0,0,0,0,0,0,0,0,0,0,0,0,0,0,0,0,0,0,0,0,0,0,0,0,0,0,0,0,0,0,0,0,0,0,0,0,0,0,0,0,0,0,0,0,0,0,0,0,0,0,0,0,0,0,0,0,0,0,0,0,0,0,0,0,0,0,0,0,0,0,0,0,0,0,0,0,0,0,0,0,0,0,0,0,0,0,null,null,190,{"$f":"AV$1006+BZ$1006","v":0},0,190,{"$f":"DD$1006+EH$1006","v":0},0,190,{"$f":"LF$1006+MJ$1006+NN$1006+OR$1006","v":0},0,190,{"$f":"FL$1006+GP$1006+HT$1006+IX$1006","v":0},0,190,{"$f":"PV$1006+RE$1006","v":0},0,190,{"$f":"SN$1006+TW$1006","v":0},0]
[1,{"$f":"'8 Axle Loads Direction 1-SS'!B24","v":3},{"$f":"'8 Axle Loads Direction 1-SS'!C24","v":0},{"$f":"'8 Axle Loads Direction 1-SS'!D24","v":0},{"$f":"'8 Axle Loads Direction 1-SS'!E24","v":0},{"$f":"'8 Axle Loads Direction 1-SS'!F24","v":0},{"$f":"'8 Axle Loads Direction 1-SS'!G24","v":0},{"$f":"'8 Axle Loads Direction 1-SS'!H24","v":0},{"$f":"'8 Axle Loads Direction 1-SS'!I24","v":0},{"$f":"'8 Axle Loads Direction 1-SS'!J24","v":0},{"$f":"'8 Axle Loads Direction 1-SS'!K24","v":0},0,0,0,0,0,0,0,0,0,0,0,0,0,0,0,0,0,null,0,0,0,0,0,0,0,0,0,0,0,0,0,0,0,0,0,0,0,0,0,0,0,0,0,0,0,0,0,0,0,0,0,0,0,0,0,0,0,0,0,0,0,0,0,0,0,0,0,0,0,0,0,0,0,0,0,0,0,0,0,0,0,0,0,0,0,0,0,0,0,0,0,0,0,0,0,0,0,0,0,0,0,0,0,0,0,0,0,0,0,0,0,0,0,0,0,0,0,0,0,0,0,0,0,0,0,0,0,0,0,0,0,0,0,0,0,0,0,0,0,0,0,0,0,0,0,0,0,0,0,0,0,0,0,0,0,0,0,0,0,0,0,0,0,0,0,0,0,0,0,0,0,0,0,0,0,0,0,0,0,0,0,0,0,0,0,0,0,0,0,0,0,0,0,0,0,0,0,0,0,0,0,0,0,0,0,0,0,0,0,0,0,0,0,0,0,0,0,0,0,0,0,0,0,0,0,0,0,0,0,0,0,0,0,0,0,0,0,0,0,0,0,0,0,0,0,0,0,0,0,0,0,0,0,0,0,0,0,0,0,0,0,0,0,0,0,0,0,0,0,0,0,0,0,0,0,0,0,0,0,0,0,0,0,0,0,0,0,0,0,0,0,0,0,0,0,0,0,0,0,0,0,0,0,0,0,0,0,0,0,0,0,0,0,0,0,0,0,0,0,0,0,0,0,0,0,0,0,0,0,0,0,0,0,0,0,0,0,0,0,0,0,0,0,0,0,0,0,0,0,0,0,0,0,0,0,0,0,0,0,0,0,0,0,0,0,0,0,0,0,0,0,0,0,0,0,0,0,0,0,0,0,0,0,0,0,0,0,0,0,0,0,0,0,0,0,0,0,0,0,0,0,0,0,0,0,0,0,0,0,0,0,0,0,0,0,0,0,0,0,0,0,0,0,0,0,0,0,0,0,0,0,0,0,0,0,0,0,0,0,0,0,0,0,0,0,0,0,0,0,0,0,0,0,0,0,0,0,0,0,0,0,0,0,0,0,0,0,0,0,0,0,0,0,0,0,0,0,0,0,0,0,0,0,0,0,0,0,0,0,0,0,0,0,0,0,0,0,0,0,0,0,0,0,0,0,0,0,0,0,0,0,0,0,0,0,0,0,0,0,0,0,0,0,0,0,0,0,0,0,0,0,0,0,0,0,0,0,0,0,0,0,0,0,0,0,0,0,0,null,null,200,{"$f":"AW$1006+CA$1006","v":0},0,200,{"$f":"DE$1006+EI$1006","v":0},0,200,{"$f":"LG$1006+MK$1006+NO$1006+OS$1006","v":0},0,200,{"$f":"FM$1006+GQ$1006+HU$1006+IY$1006","v":1400},12.37842617152962,200,{"$f":"PW$1006+RF$1006","v":0},0,200,{"$f":"SO$1006+TX$1006","v":0},0]
[1,{"$f":"'8 Axle Loads Direction 1-SS'!B25","v":3},{"$f":"'8 Axle Loads Direction 1-SS'!C25","v":0},{"$f":"'8 Axle Loads Direction 1-SS'!D25","v":0},{"$f":"'8 Axle Loads Direction 1-SS'!E25","v":0},{"$f":"'8 Axle Loads Direction 1-SS'!F25","v":0},{"$f":"'8 Axle Loads Direction 1-SS'!G25","v":0},{"$f":"'8 Axle Loads Direction 1-SS'!H25","v":0},{"$f":"'8 Axle Loads Direction 1-SS'!I25","v":0},{"$f":"'8 Axle Loads Direction 1-SS'!J25","v":0},{"$f":"'8 Axle Loads Direction 1-SS'!K25","v":0},0,0,0,0,0,0,0,0,0,0,0,0,0,0,0,0,0,null,0,0,0,0,0,0,0,0,0,0,0,0,0,0,0,0,0,0,0,0,0,0,0,0,0,0,0,0,0,0,0,0,0,0,0,0,0,0,0,0,0,0,0,0,0,0,0,0,0,0,0,0,0,0,0,0,0,0,0,0,0,0,0,0,0,0,0,0,0,0,0,0,0,0,0,0,0,0,0,0,0,0,0,0,0,0,0,0,0,0,0,0,0,0,0,0,0,0,0,0,0,0,0,0,0,0,0,0,0,0,0,0,0,0,0,0,0,0,0,0,0,0,0,0,0,0,0,0,0,0,0,0,0,0,0,0,0,0,0,0,0,0,0,0,0,0,0,0,0,0,0,0,0,0,0,0,0,0,0,0,0,0,0,0,0,0,0,0,0,0,0,0,0,0,0,0,0,0,0,0,0,0,0,0,0,0,0,0,0,0,0,0,0,0,0,0,0,0,0,0,0,0,0,0,0,0,0,0,0,0,0,0,0,0,0,0,0,0,0,0,0,0,0,0,0,0,0,0,0,0,0,0,0,0,0,0,0,0,0,0,0,0,0,0,0,0,0,0,0,0,0,0,0,0,0,0,0,0,0,0,0,0,0,0,0,0,0,0,0,0,0,0,0,0,0,0,0,0,0,0,0,0,0,0,0,0,0,0,0,0,0,0,0,0,0,0,0,0,0,0,0,0,0,0,0,0,0,0,0,0,0,0,0,0,0,0,0,0,0,0,0,0,0,0,0,0,0,0,0,0,0,0,0,0,0,0,0,0,0,0,0,0,0,0,0,0,0,0,0,0,0,0,0,0,0,0,0,0,0,0,0,0,0,0,0,0,0,0,0,0,0,0,0,0,0,0,0,0,0,0,0,0,0,0,0,0,0,0,0,0,0,0,0,0,0,0,0,0,0,0,0,0,0,0,0,0,0,0,0,0,0,0,0,0,0,0,0,0,0,0,0,0,0,0,0,0,0,0,0,0,0,0,0,0,0,0,0,0,0,0,0,0,0,0,0,0,0,0,0,0,0,0,0,0,0,0,0,0,0,0,0,0,0,0,0,0,0,0,0,0,0,0,0,0,0,0,0,0,0,0,0,0,0,0,0,0,0,0,0,0,0,0,0,0,0,0,0,0,0,0,0,0,0,0,0,0,0,0,0,0,0,0,0,0,0,0,0,0,0,0,0,0,0,0,0,0,0,0,0,0,null,null,210,{"$f":"AX$1006+CB$1006","v":0},0,210,{"$f":"DF$1006+EJ$1006","v":0},0,210,{"$f":"LH$1006+ML$1006+NP$1006+OT$1006","v":0},0,210,{"$f":"FN$1006+GR$1006+HV$1006+IZ$1006","v":0},0,210,{"$f":"PX$1006+RG$1006","v":0},0,210,{"$f":"SP$1006+TY$1006","v":0},0]
[1,{"$f":"'8 Axle Loads Direction 1-SS'!B26","v":3},{"$f":"'8 Axle Loads Direction 1-SS'!C26","v":0},{"$f":"'8 Axle Loads Direction 1-SS'!D26","v":0},{"$f":"'8 Axle Loads Direction 1-SS'!E26","v":0},{"$f":"'8 Axle Loads Direction 1-SS'!F26","v":0},{"$f":"'8 Axle Loads Direction 1-SS'!G26","v":0},{"$f":"'8 Axle Loads Direction 1-SS'!H26","v":0},{"$f":"'8 Axle Loads Direction 1-SS'!I26","v":0},{"$f":"'8 Axle Loads Direction 1-SS'!J26","v":0},{"$f":"'8 Axle Loads Direction 1-SS'!K26","v":0},0,0,0,0,0,0,0,0,0,0,0,0,0,0,0,0,0,null,0,0,0,0,0,0,0,0,0,0,0,0,0,0,0,0,0,0,0,0,0,0,0,0,0,0,0,0,0,0,0,0,0,0,0,0,0,0,0,0,0,0,0,0,0,0,0,0,0,0,0,0,0,0,0,0,0,0,0,0,0,0,0,0,0,0,0,0,0,0,0,0,0,0,0,0,0,0,0,0,0,0,0,0,0,0,0,0,0,0,0,0,0,0,0,0,0,0,0,0,0,0,0,0,0,0,0,0,0,0,0,0,0,0,0,0,0,0,0,0,0,0,0,0,0,0,0,0,0,0,0,0,0,0,0,0,0,0,0,0,0,0,0,0,0,0,0,0,0,0,0,0,0,0,0,0,0,0,0,0,0,0,0,0,0,0,0,0,0,0,0,0,0,0,0,0,0,0,0,0,0,0,0,0,0,0,0,0,0,0,0,0,0,0,0,0,0,0,0,0,0,0,0,0,0,0,0,0,0,0,0,0,0,0,0,0,0,0,0,0,0,0,0,0,0,0,0,0,0,0,0,0,0,0,0,0,0,0,0,0,0,0,0,0,0,0,0,0,0,0,0,0,0,0,0,0,0,0,0,0,0,0,0,0,0,0,0,0,0,0,0,0,0,0,0,0,0,0,0,0,0,0,0,0,0,0,0,0,0,0,0,0,0,0,0,0,0,0,0,0,0,0,0,0,0,0,0,0,0,0,0,0,0,0,0,0,0,0,0,0,0,0,0,0,0,0,0,0,0,0,0,0,0,0,0,0,0,0,0,0,0,0,0,0,0,0,0,0,0,0,0,0,0,0,0,0,0,0,0,0,0,0,0,0,0,0,0,0,0,0,0,0,0,0,0,0,0,0,0,0,0,0,0,0,0,0,0,0,0,0,0,0,0,0,0,0,0,0,0,0,0,0,0,0,0,0,0,0,0,0,0,0,0,0,0,0,0,0,0,0,0,0,0,0,0,0,0,0,0,0,0,0,0,0,0,0,0,0,0,0,0,0,0,0,0,0,0,0,0,0,0,0,0,0,0,0,0,0,0,0,0,0,0,0,0,0,0,0,0,0,0,0,0,0,0,0,0,0,0,0,0,0,0,0,0,0,0,0,0,0,0,0,0,0,0,0,0,0,0,0,0,0,0,0,0,0,0,0,0,0,0,0,0,0,0,0,0,0,0,0,0,0,0,0,0,0,0,0,0,0,null,null,220,{"$f":"AY$1006+CC$1006","v":0},0,220,{"$f":"DG$1006+EK$1006","v":0},0,220,{"$f":"LI$1006+MM$1006+NQ$1006+OU$1006","v":0},0,220,{"$f":"FO$1006+GS$1006+HW$1006+JA$1006","v":0},0,220,{"$f":"PY$1006+RH$1006","v":0},0,220,{"$f":"SQ$1006+TZ$1006","v":0},0]
[1,{"$f":"'8 Axle Loads Direction 1-SS'!B27","v":3},{"$f":"'8 Axle Loads Direction 1-SS'!C27","v":0},{"$f":"'8 Axle Loads Direction 1-SS'!D27","v":0},{"$f":"'8 Axle Loads Direction 1-SS'!E27","v":0},{"$f":"'8 Axle Loads Direction 1-SS'!F27","v":0},{"$f":"'8 Axle Loads Direction 1-SS'!G27","v":0},{"$f":"'8 Axle Loads Direction 1-SS'!H27","v":0},{"$f":"'8 Axle Loads Direction 1-SS'!I27","v":0},{"$f":"'8 Axle Loads Direction 1-SS'!J27","v":0},{"$f":"'8 Axle Loads Direction 1-SS'!K27","v":0},0,0,0,0,0,0,0,0,0,0,0,0,0,0,0,0,0,null,0,0,0,0,0,0,0,0,0,0,0,0,0,0,0,0,0,0,0,0,0,0,0,0,0,0,0,0,0,0,0,0,0,0,0,0,0,0,0,0,0,0,0,0,0,0,0,0,0,0,0,0,0,0,0,0,0,0,0,0,0,0,0,0,0,0,0,0,0,0,0,0,0,0,0,0,0,0,0,0,0,0,0,0,0,0,0,0,0,0,0,0,0,0,0,0,0,0,0,0,0,0,0,0,0,0,0,0,0,0,0,0,0,0,0,0,0,0,0,0,0,0,0,0,0,0,0,0,0,0,0,0,0,0,0,0,0,0,0,0,0,0,0,0,0,0,0,0,0,0,0,0,0,0,0,0,0,0,0,0,0,0,0,0,0,0,0,0,0,0,0,0,0,0,0,0,0,0,0,0,0,0,0,0,0,0,0,0,0,0,0,0,0,0,0,0,0,0,0,0,0,0,0,0,0,0,0,0,0,0,0,0,0,0,0,0,0,0,0,0,0,0,0,0,0,0,0,0,0,0,0,0,0,0,0,0,0,0,0,0,0,0,0,0,0,0,0,0,0,0,0,0,0,0,0,0,0,0,0,0,0,0,0,0,0,0,0,0,0,0,0,0,0,0,0,0,0,0,0,0,0,0,0,0,0,0,0,0,0,0,0,0,0,0,0,0,0,0,0,0,0,0,0,0,0,0,0,0,0,0,0,0,0,0,0,0,0,0,0,0,0,0,0,0,0,0,0,0,0,0,0,0,0,0,0,0,0,0,0,0,0,0,0,0,0,0,0,0,0,0,0,0,0,0,0,0,0,0,0,0,0,0,0,0,0,0,0,0,0,0,0,0,0,0,0,0,0,0,0,0,0,0,0,0,0,0,0,0,0,0,0,0,0,0,0,0,0,0,0,0,0,0,0,0,0,0,0,0,0,0,0,0,0,0,0,0,0,0,0,0,0,0,0,0,0,0,0,0,0,0,0,0,0,0,0,0,0,0,0,0,0,0,0,0,0,0,0,0,0,0,0,0,0,0,0,0,0,0,0,0,0,0,0,0,0,0,0,0,0,0,0,0,0,0,0,0,0,0,0,0,0,0,0,0,0,0,0,0,0,0,0,0,0,0,0,0,0,0,0,0,0,0,0,0,0,0,0,0,0,0,0,0,0,0,0,0,0,0,0,0,0,0,0,0,0,0,0,0,0,0,null,null,230,{"$f":"AZ$1006+CD$1006","v":0},0,230,{"$f":"DH$1006+EL$1006","v":0},0,230,{"$f":"LJ$1006+MN$1006+NR$1006+OV$1006","v":0},0,230,{"$f":"FP$1006+GT$1006+HX$1006+JB$1006","v":0},0,230,{"$f":"PZ$1006+RI$1006","v":0},0,230,{"$f":"SR$1006+UA$1006","v":0},0]
[1,{"$f":"'8 Axle Loads Direction 1-SS'!B28","v":3},{"$f":"'8 Axle Loads Direction 1-SS'!C28","v":0},{"$f":"'8 Axle Loads Direction 1-SS'!D28","v":0},{"$f":"'8 Axle Loads Direction 1-SS'!E28","v":0},{"$f":"'8 Axle Loads Direction 1-SS'!F28","v":0},{"$f":"'8 Axle Loads Direction 1-SS'!G28","v":0},{"$f":"'8 Axle Loads Direction 1-SS'!H28","v":0},{"$f":"'8 Axle Loads Direction 1-SS'!I28","v":0},{"$f":"'8 Axle Loads Direction 1-SS'!J28","v":0},{"$f":"'8 Axle Loads Direction 1-SS'!K28","v":0},0,0,0,0,0,0,0,0,0,0,0,0,0,0,0,0,0,null,0,0,0,0,0,0,0,0,0,0,0,0,0,0,0,0,0,0,0,0,0,0,0,0,0,0,0,0,0,0,0,0,0,0,0,0,0,0,0,0,0,0,0,0,0,0,0,0,0,0,0,0,0,0,0,0,0,0,0,0,0,0,0,0,0,0,0,0,0,0,0,0,0,0,0,0,0,0,0,0,0,0,0,0,0,0,0,0,0,0,0,0,0,0,0,0,0,0,0,0,0,0,0,0,0,0,0,0,0,0,0,0,0,0,0,0,0,0,0,0,0,0,0,0,0,0,0,0,0,0,0,0,0,0,0,0,0,0,0,0,0,0,0,0,0,0,0,0,0,0,0,0,0,0,0,0,0,0,0,0,0,0,0,0,0,0,0,0,0,0,0,0,0,0,0,0,0,0,0,0,0,0,0,0,0,0,0,0,0,0,0,0,0,0,0,0,0,0,0,0,0,0,0,0,0,0,0,0,0,0,0,0,0,0,0,0,0,0,0,0,0,0,0,0,0,0,0,0,0,0,0,0,0,0,0,0,0,0,0,0,0,0,0,0,0,0,0,0,0,0,0,0,0,0,0,0,0,0,0,0,0,0,0,0,0,0,0,0,0,0,0,0,0,0,0,0,0,0,0,0,0,0,0,0,0,0,0,0,0,0,0,0,0,0,0,0,0,0,0,0,0,0,0,0,0,0,0,0,0,0,0,0,0,0,0,0,0,0,0,0,0,0,0,0,0,0,0,0,0,0,0,0,0,0,0,0,0,0,0,0,0,0,0,0,0,0,0,0,0,0,0,0,0,0,0,0,0,0,0,0,0,0,0,0,0,0,0,0,0,0,0,0,0,0,0,0,0,0,0,0,0,0,0,0,0,0,0,0,0,0,0,0,0,0,0,0,0,0,0,0,0,0,0,0,0,0,0,0,0,0,0,0,0,0,0,0,0,0,0,0,0,0,0,0,0,0,0,0,0,0,0,0,0,0,0,0,0,0,0,0,0,0,0,0,0,0,0,0,0,0,0,0,0,0,0,0,0,0,0,0,0,0,0,0,0,0,0,0,0,0,0,0,0,0,0,0,0,0,0,0,0,0,0,0,0,0,0,0,0,0,0,0,0,0,0,0,0,0,0,0,0,0,0,0,0,0,0,0,0,0,0,0,0,0,0,0,0,0,0,0,0,0,0,0,0,0,0,0,0,0,null,null,240,{"$f":"BA$1006+CE$1006","v":0},0,240,{"$f":"DI$1006+EM$1006","v":0},0,240,{"$f":"LK$1006+MO$1006+NS$1006+OW$1006","v":0},0,240,{"$f":"FQ$1006+GU$1006+HY$1006+JC$1006","v":0},0,240,{"$f":"QA$1006+RJ$1006","v":0},0,240,{"$f":"SS$1006+UB$1006","v":0},0]
[1,{"$f":"'8 Axle Loads Direction 1-SS'!B29","v":3},{"$f":"'8 Axle Loads Direction 1-SS'!C29","v":0},{"$f":"'8 Axle Loads Direction 1-SS'!D29","v":0},{"$f":"'8 Axle Loads Direction 1-SS'!E29","v":0},{"$f":"'8 Axle Loads Direction 1-SS'!F29","v":0},{"$f":"'8 Axle Loads Direction 1-SS'!G29","v":0},{"$f":"'8 Axle Loads Direction 1-SS'!H29","v":0},{"$f":"'8 Axle Loads Direction 1-SS'!I29","v":0},{"$f":"'8 Axle Loads Direction 1-SS'!J29","v":0},{"$f":"'8 Axle Loads Direction 1-SS'!K29","v":0},0,0,0,0,0,0,0,0,0,0,0,0,0,0,0,0,0,null,0,0,0,0,0,0,0,0,0,0,0,0,0,0,0,0,0,0,0,0,0,0,0,0,0,0,0,0,0,0,0,0,0,0,0,0,0,0,0,0,0,0,0,0,0,0,0,0,0,0,0,0,0,0,0,0,0,0,0,0,0,0,0,0,0,0,0,0,0,0,0,0,0,0,0,0,0,0,0,0,0,0,0,0,0,0,0,0,0,0,0,0,0,0,0,0,0,0,0,0,0,0,0,0,0,0,0,0,0,0,0,0,0,0,0,0,0,0,0,0,0,0,0,0,0,0,0,0,0,0,0,0,0,0,0,0,0,0,0,0,0,0,0,0,0,0,0,0,0,0,0,0,0,0,0,0,0,0,0,0,0,0,0,0,0,0,0,0,0,0,0,0,0,0,0,0,0,0,0,0,0,0,0,0,0,0,0,0,0,0,0,0,0,0,0,0,0,0,0,0,0,0,0,0,0,0,0,0,0,0,0,0,0,0,0,0,0,0,0,0,0,0,0,0,0,0,0,0,0,0,0,0,0,0,0,0,0,0,0,0,0,0,0,0,0,0,0,0,0,0,0,0,0,0,0,0,0,0,0,0,0,0,0,0,0,0,0,0,0,0,0,0,0,0,0,0,0,0,0,0,0,0,0,0,0,0,0,0,0,0,0,0,0,0,0,0,0,0,0,0,0,0,0,0,0,0,0,0,0,0,0,0,0,0,0,0,0,0,0,0,0,0,0,0,0,0,0,0,0,0,0,0,0,0,0,0,0,0,0,0,0,0,0,0,0,0,0,0,0,0,0,0,0,0,0,0,0,0,0,0,0,0,0,0,0,0,0,0,0,0,0,0,0,0,0,0,0,0,0,0,0,0,0,0,0,0,0,0,0,0,0,0,0,0,0,0,0,0,0,0,0,0,0,0,0,0,0,0,0,0,0,0,0,0,0,0,0,0,0,0,0,0,0,0,0,0,0,0,0,0,0,0,0,0,0,0,0,0,0,0,0,0,0,0,0,0,0,0,0,0,0,0,0,0,0,0,0,0,0,0,0,0,0,0,0,0,0,0,0,0,0,0,0,0,0,0,0,0,0,0,0,0,0,0,0,0,0,0,0,0,0,0,0,0,0,0,0,0,0,0,0,0,0,0,0,0,0,0,0,0,0,0,0,0,0,0,0,0,0,0,0,0,0,0,0,0,0,0,0,0,null,null,250,{"$f":"BB$1006+CF$1006","v":0},0,250,{"$f":"DJ$1006+EN$1006","v":0},0,250,{"$f":"LL$1006+MP$1006+NT$1006+OX$1006","v":0},0,250,{"$f":"FR$1006+GV$1006+HZ$1006+JD$1006","v":0},0,250,{"$f":"QB$1006+RK$1006","v":0},0,250,{"$f":"ST$1006+UC$1006","v":0},0]
[1,{"$f":"'8 Axle Loads Direction 1-SS'!B30","v":4},{"$f":"'8 Axle Loads Direction 1-SS'!C30","v":6},{"$f":"'8 Axle Loads Direction 1-SS'!D30","v":6},{"$f":"'8 Axle Loads Direction 1-SS'!E30","v":8},{"$f":"'8 Axle Loads Direction 1-SS'!F30","v":9},{"$f":"'8 Axle Loads Direction 1-SS'!G30","v":0},{"$f":"'8 Axle Loads Direction 1-SS'!H30","v":0},{"$f":"'8 Axle Loads Direction 1-SS'!I30","v":0},{"$f":"'8 Axle Loads Direction 1-SS'!J30","v":0},{"$f":"'8 Axle Loads Direction 1-SS'!K30","v":0},6,6,0,0,0,17,0,0,0,0,0,0,0,0,0,0,0,null,0,0,0,0,0,60,0,0,0,0,0,0,0,0,0,0,0,0,0,0,0,0,0,0,0,0,0,0,0,0,0,0,0,0,0,60,0,0,0,0,0,0,0,0,0,0,0,0,0,0,0,0,0,0,0,0,0,0,0,0,0,0,0,0,0,0,0,0,0,0,0,0,0,0,0,0,0,0,0,0,0,0,0,0,0,0,0,0,0,0,0,0,0,0,0,0,0,0,0,0,0,0,0,0,0,0,0,0,0,0,0,0,0,0,0,0,0,0,0,0,0,0,0,0,0,0,0,0,0,0,0,0,0,0,0,0,0,0,0,0,0,0,0,0,0,0,0,0,0,0,0,0,0,0,0,0,0,0,0,0,0,0,0,0,0,0,170,0,0,0,0,0,0,0,0,0,0,0,0,0,0,0,0,0,0,0,0,0,0,0,0,0,0,0,0,0,0,0,0,0,0,0,0,0,0,0,0,0,0,0,0,0,0,0,0,0,0,0,0,0,0,0,0,0,0,0,0,0,0,0,0,0,0,0,0,0,0,0,0,0,0,0,0,0,0,0,0,0,0,0,0,0,0,0,0,0,0,0,0,0,0,0,0,0,0,0,0,0,0,0,0,0,0,0,0,0,0,0,0,0,0,0,0,0,0,0,0,0,0,0,0,0,0,0,0,0,0,0,0,0,0,0,0,0,0,0,0,0,0,0,0,0,0,0,0,0,0,0,0,0,0,0,0,0,0,0,0,0,0,0,0,0,0,0,0,0,0,0,0,0,0,0,0,0,0,0,0,0,0,0,0,0,0,0,0,0,0,0,0,0,0,0,0,0,0,0,0,0,0,0,0,0,0,0,0,0,0,0,0,0,0,0,0,0,0,0,0,0,0,0,0,0,0,0,0,0,0,0,0,0,0,0,0,0,0,0,0,0,0,0,0,0,0,0,0,0,0,0,0,0,0,0,0,0,0,0,0,0,0,0,0,0,0,0,0,0,0,0,0,0,0,0,0,0,0,0,0,0,0,0,0,0,0,0,0,0,0,0,0,0,0,0,0,0,0,0,0,0,0,0,0,0,0,0,0,0,0,0,0,0,0,0,0,0,0,0,0,0,0,0,0,0,0,0,0,0,0,0,0,0,0,0,0,0,0,0,0,0,0,0,0,0,0,0,0,0,0,0,0,0,0,0,0,0,0,0,0,0,0,0,null,null,260,{"$f":"BC$1006+CG$1006","v":0},0,260,{"$f":"DK$1006+EO$1006","v":0},0,260,{"$f":"LM$1006+MQ$1006+NU$1006+OY$1006","v":0},0,260,{"$f":"FS$1006+GW$1006+IA$1006+JE$1006","v":0},0,260,{"$f":"QC$1006+RL$1006","v":0},0,260,{"$f":"SU$1006+UD$1006","v":0},0]
[1,{"$f":"'8 Axle Loads Direction 1-SS'!B31","v":3},{"$f":"'8 Axle Loads Direction 1-SS'!C31","v":0},{"$f":"'8 Axle Loads Direction 1-SS'!D31","v":0},{"$f":"'8 Axle Loads Direction 1-SS'!E31","v":0},{"$f":"'8 Axle Loads Direction 1-SS'!F31","v":0},{"$f":"'8 Axle Loads Direction 1-SS'!G31","v":0},{"$f":"'8 Axle Loads Direction 1-SS'!H31","v":0},{"$f":"'8 Axle Loads Direction 1-SS'!I31","v":0},{"$f":"'8 Axle Loads Direction 1-SS'!J31","v":0},{"$f":"'8 Axle Loads Direction 1-SS'!K31","v":0},0,0,0,0,0,0,0,0,0,0,0,0,0,0,0,0,0,null,0,0,0,0,0,0,0,0,0,0,0,0,0,0,0,0,0,0,0,0,0,0,0,0,0,0,0,0,0,0,0,0,0,0,0,0,0,0,0,0,0,0,0,0,0,0,0,0,0,0,0,0,0,0,0,0,0,0,0,0,0,0,0,0,0,0,0,0,0,0,0,0,0,0,0,0,0,0,0,0,0,0,0,0,0,0,0,0,0,0,0,0,0,0,0,0,0,0,0,0,0,0,0,0,0,0,0,0,0,0,0,0,0,0,0,0,0,0,0,0,0,0,0,0,0,0,0,0,0,0,0,0,0,0,0,0,0,0,0,0,0,0,0,0,0,0,0,0,0,0,0,0,0,0,0,0,0,0,0,0,0,0,0,0,0,0,0,0,0,0,0,0,0,0,0,0,0,0,0,0,0,0,0,0,0,0,0,0,0,0,0,0,0,0,0,0,0,0,0,0,0,0,0,0,0,0,0,0,0,0,0,0,0,0,0,0,0,0,0,0,0,0,0,0,0,0,0,0,0,0,0,0,0,0,0,0,0,0,0,0,0,0,0,0,0,0,0,0,0,0,0,0,0,0,0,0,0,0,0,0,0,0,0,0,0,0,0,0,0,0,0,0,0,0,0,0,0,0,0,0,0,0,0,0,0,0,0,0,0,0,0,0,0,0,0,0,0,0,0,0,0,0,0,0,0,0,0,0,0,0,0,0,0,0,0,0,0,0,0,0,0,0,0,0,0,0,0,0,0,0,0,0,0,0,0,0,0,0,0,0,0,0,0,0,0,0,0,0,0,0,0,0,0,0,0,0,0,0,0,0,0,0,0,0,0,0,0,0,0,0,0,0,0,0,0,0,0,0,0,0,0,0,0,0,0,0,0,0,0,0,0,0,0,0,0,0,0,0,0,0,0,0,0,0,0,0,0,0,0,0,0,0,0,0,0,0,0,0,0,0,0,0,0,0,0,0,0,0,0,0,0,0,0,0,0,0,0,0,0,0,0,0,0,0,0,0,0,0,0,0,0,0,0,0,0,0,0,0,0,0,0,0,0,0,0,0,0,0,0,0,0,0,0,0,0,0,0,0,0,0,0,0,0,0,0,0,0,0,0,0,0,0,0,0,0,0,0,0,0,0,0,0,0,0,0,0,0,0,0,0,0,0,0,0,0,0,0,0,0,0,0,0,0,0,0,0,0,0,0,0,null,null,270,{"$f":"BD$1006+CH$1006","v":0},0,270,{"$f":"DL$1006+EP$1006","v":0},0,270,{"$f":"LN$1006+MR$1006+NV$1006+OZ$1006","v":0},0,270,{"$f":"FT$1006+GX$1006+IB$1006+JF$1006","v":0},0,270,{"$f":"QD$1006+RM$1006","v":1890},100,270,{"$f":"SV$1006+UE$1006","v":270},100]
[1,{"$f":"'8 Axle Loads Direction 1-SS'!B32","v":3},{"$f":"'8 Axle Loads Direction 1-SS'!C32","v":0},{"$f":"'8 Axle Loads Direction 1-SS'!D32","v":0},{"$f":"'8 Axle Loads Direction 1-SS'!E32","v":0},{"$f":"'8 Axle Loads Direction 1-SS'!F32","v":0},{"$f":"'8 Axle Loads Direction 1-SS'!G32","v":0},{"$f":"'8 Axle Loads Direction 1-SS'!H32","v":0},{"$f":"'8 Axle Loads Direction 1-SS'!I32","v":0},{"$f":"'8 Axle Loads Direction 1-SS'!J32","v":0},{"$f":"'8 Axle Loads Direction 1-SS'!K32","v":0},0,0,0,0,0,0,0,0,0,0,0,0,0,0,0,0,0,null,0,0,0,0,0,0,0,0,0,0,0,0,0,0,0,0,0,0,0,0,0,0,0,0,0,0,0,0,0,0,0,0,0,0,0,0,0,0,0,0,0,0,0,0,0,0,0,0,0,0,0,0,0,0,0,0,0,0,0,0,0,0,0,0,0,0,0,0,0,0,0,0,0,0,0,0,0,0,0,0,0,0,0,0,0,0,0,0,0,0,0,0,0,0,0,0,0,0,0,0,0,0,0,0,0,0,0,0,0,0,0,0,0,0,0,0,0,0,0,0,0,0,0,0,0,0,0,0,0,0,0,0,0,0,0,0,0,0,0,0,0,0,0,0,0,0,0,0,0,0,0,0,0,0,0,0,0,0,0,0,0,0,0,0,0,0,0,0,0,0,0,0,0,0,0,0,0,0,0,0,0,0,0,0,0,0,0,0,0,0,0,0,0,0,0,0,0,0,0,0,0,0,0,0,0,0,0,0,0,0,0,0,0,0,0,0,0,0,0,0,0,0,0,0,0,0,0,0,0,0,0,0,0,0,0,0,0,0,0,0,0,0,0,0,0,0,0,0,0,0,0,0,0,0,0,0,0,0,0,0,0,0,0,0,0,0,0,0,0,0,0,0,0,0,0,0,0,0,0,0,0,0,0,0,0,0,0,0,0,0,0,0,0,0,0,0,0,0,0,0,0,0,0,0,0,0,0,0,0,0,0,0,0,0,0,0,0,0,0,0,0,0,0,0,0,0,0,0,0,0,0,0,0,0,0,0,0,0,0,0,0,0,0,0,0,0,0,0,0,0,0,0,0,0,0,0,0,0,0,0,0,0,0,0,0,0,0,0,0,0,0,0,0,0,0,0,0,0,0,0,0,0,0,0,0,0,0,0,0,0,0,0,0,0,0,0,0,0,0,0,0,0,0,0,0,0,0,0,0,0,0,0,0,0,0,0,0,0,0,0,0,0,0,0,0,0,0,0,0,0,0,0,0,0,0,0,0,0,0,0,0,0,0,0,0,0,0,0,0,0,0,0,0,0,0,0,0,0,0,0,0,0,0,0,0,0,0,0,0,0,0,0,0,0,0,0,0,0,0,0,0,0,0,0,0,0,0,0,0,0,0,0,0,0,0,0,0,0,0,0,0,0,0,0,0,0,0,0,0,0,0,0,0,0,0,0,0,0,0,0,0,0,0,0,0,0,0,0,0,0,null,null,280,{"$f":"BE$1006+CI$1006","v":0},0,280,{"$f":"DM$1006+EQ$1006","v":0},0,280,{"$f":"LO$1006+MS$1006+NW$1006+PA$1006","v":0},0,280,{"$f":"FU$1006+GY$1006+IC$1006+JG$1006","v":0},0,280,{"$f":"QE$1006+RN$1006","v":0},0,280,{"$f":"SW$1006+UF$1006","v":0},0]
[1,{"$f":"'8 Axle Loads Direction 1-SS'!B33","v":3},{"$f":"'8 Axle Loads Direction 1-SS'!C33","v":0},{"$f":"'8 Axle Loads Direction 1-SS'!D33","v":0},{"$f":"'8 Axle Loads Direction 1-SS'!E33","v":0},{"$f":"'8 Axle Loads Direction 1-SS'!F33","v":0},{"$f":"'8 Axle Loads Direction 1-SS'!G33","v":0},{"$f":"'8 Axle Loads Direction 1-SS'!H33","v":0},{"$f":"'8 Axle Loads Direction 1-SS'!I33","v":0},{"$f":"'8 Axle Loads Direction 1-SS'!J33","v":0},{"$f":"'8 Axle Loads Direction 1-SS'!K33","v":0},0,0,0,0,0,0,0,0,0,0,0,0,0,0,0,0,0,null,0,0,0,0,0,0,0,0,0,0,0,0,0,0,0,0,0,0,0,0,0,0,0,0,0,0,0,0,0,0,0,0,0,0,0,0,0,0,0,0,0,0,0,0,0,0,0,0,0,0,0,0,0,0,0,0,0,0,0,0,0,0,0,0,0,0,0,0,0,0,0,0,0,0,0,0,0,0,0,0,0,0,0,0,0,0,0,0,0,0,0,0,0,0,0,0,0,0,0,0,0,0,0,0,0,0,0,0,0,0,0,0,0,0,0,0,0,0,0,0,0,0,0,0,0,0,0,0,0,0,0,0,0,0,0,0,0,0,0,0,0,0,0,0,0,0,0,0,0,0,0,0,0,0,0,0,0,0,0,0,0,0,0,0,0,0,0,0,0,0,0,0,0,0,0,0,0,0,0,0,0,0,0,0,0,0,0,0,0,0,0,0,0,0,0,0,0,0,0,0,0,0,0,0,0,0,0,0,0,0,0,0,0,0,0,0,0,0,0,0,0,0,0,0,0,0,0,0,0,0,0,0,0,0,0,0,0,0,0,0,0,0,0,0,0,0,0,0,0,0,0,0,0,0,0,0,0,0,0,0,0,0,0,0,0,0,0,0,0,0,0,0,0,0,0,0,0,0,0,0,0,0,0,0,0,0,0,0,0,0,0,0,0,0,0,0,0,0,0,0,0,0,0,0,0,0,0,0,0,0,0,0,0,0,0,0,0,0,0,0,0,0,0,0,0,0,0,0,0,0,0,0,0,0,0,0,0,0,0,0,0,0,0,0,0,0,0,0,0,0,0,0,0,0,0,0,0,0,0,0,0,0,0,0,0,0,0,0,0,0,0,0,0,0,0,0,0,0,0,0,0,0,0,0,0,0,0,0,0,0,0,0,0,0,0,0,0,0,0,0,0,0,0,0,0,0,0,0,0,0,0,0,0,0,0,0,0,0,0,0,0,0,0,0,0,0,0,0,0,0,0,0,0,0,0,0,0,0,0,0,0,0,0,0,0,0,0,0,0,0,0,0,0,0,0,0,0,0,0,0,0,0,0,0,0,0,0,0,0,0,0,0,0,0,0,0,0,0,0,0,0,0,0,0,0,0,0,0,0,0,0,0,0,0,0,0,0,0,0,0,0,0,0,0,0,0,0,0,0,0,0,0,0,0,0,0,0,0,0,0,0,0,0,0,0,0,0,0,0,0,null,null,290,{"$f":"BF$1006+CJ$1006","v":0},0,290,{"$f":"DN$1006+ER$1006","v":0},0,290,{"$f":"LP$1006+MT$1006+NX$1006+PB$1006","v":0},0,290,{"$f":"FV$1006+GZ$1006+ID$1006+JH$1006","v":0},0,290,{"$f":"QF$1006+RO$1006","v":0},0,290,{"$f":"SX$1006+UG$1006","v":0},0]
[1,{"$f":"'8 Axle Loads Direction 1-SS'!B34","v":3},{"$f":"'8 Axle Loads Direction 1-SS'!C34","v":0},{"$f":"'8 Axle Loads Direction 1-SS'!D34","v":0},{"$f":"'8 Axle Loads Direction 1-SS'!E34","v":0},{"$f":"'8 Axle Loads Direction 1-SS'!F34","v":0},{"$f":"'8 Axle Loads Direction 1-SS'!G34","v":0},{"$f":"'8 Axle Loads Direction 1-SS'!H34","v":0},{"$f":"'8 Axle Loads Direction 1-SS'!I34","v":0},{"$f":"'8 Axle Loads Direction 1-SS'!J34","v":0},{"$f":"'8 Axle Loads Direction 1-SS'!K34","v":0},0,0,0,0,0,0,0,0,0,0,0,0,0,0,0,0,0,null,0,0,0,0,0,0,0,0,0,0,0,0,0,0,0,0,0,0,0,0,0,0,0,0,0,0,0,0,0,0,0,0,0,0,0,0,0,0,0,0,0,0,0,0,0,0,0,0,0,0,0,0,0,0,0,0,0,0,0,0,0,0,0,0,0,0,0,0,0,0,0,0,0,0,0,0,0,0,0,0,0,0,0,0,0,0,0,0,0,0,0,0,0,0,0,0,0,0,0,0,0,0,0,0,0,0,0,0,0,0,0,0,0,0,0,0,0,0,0,0,0,0,0,0,0,0,0,0,0,0,0,0,0,0,0,0,0,0,0,0,0,0,0,0,0,0,0,0,0,0,0,0,0,0,0,0,0,0,0,0,0,0,0,0,0,0,0,0,0,0,0,0,0,0,0,0,0,0,0,0,0,0,0,0,0,0,0,0,0,0,0,0,0,0,0,0,0,0,0,0,0,0,0,0,0,0,0,0,0,0,0,0,0,0,0,0,0,0,0,0,0,0,0,0,0,0,0,0,0,0,0,0,0,0,0,0,0,0,0,0,0,0,0,0,0,0,0,0,0,0,0,0,0,0,0,0,0,0,0,0,0,0,0,0,0,0,0,0,0,0,0,0,0,0,0,0,0,0,0,0,0,0,0,0,0,0,0,0,0,0,0,0,0,0,0,0,0,0,0,0,0,0,0,0,0,0,0,0,0,0,0,0,0,0,0,0,0,0,0,0,0,0,0,0,0,0,0,0,0,0,0,0,0,0,0,0,0,0,0,0,0,0,0,0,0,0,0,0,0,0,0,0,0,0,0,0,0,0,0,0,0,0,0,0,0,0,0,0,0,0,0,0,0,0,0,0,0,0,0,0,0,0,0,0,0,0,0,0,0,0,0,0,0,0,0,0,0,0,0,0,0,0,0,0,0,0,0,0,0,0,0,0,0,0,0,0,0,0,0,0,0,0,0,0,0,0,0,0,0,0,0,0,0,0,0,0,0,0,0,0,0,0,0,0,0,0,0,0,0,0,0,0,0,0,0,0,0,0,0,0,0,0,0,0,0,0,0,0,0,0,0,0,0,0,0,0,0,0,0,0,0,0,0,0,0,0,0,0,0,0,0,0,0,0,0,0,0,0,0,0,0,0,0,0,0,0,0,0,0,0,0,0,0,0,0,0,0,0,0,0,0,0,0,0,0,0,0,0,0,0,null,null,300,{"$f":"BG$1006+CK$1006","v":0},0,300,{"$f":"DO$1006+ES$1006","v":0},0,300,{"$f":"LQ$1006+MU$1006+NY$1006+PC$1006","v":0},{"$f":"(UW34/$UW$35)*100","v":0},300,{"$f":"FW$1006+HA$1006+IE$1006+JI$1006","v":0},0,300,{"$f":"QG$1006+RP$1006","v":0},0,300,{"$f":"SY$1006+UH$1006","v":0},0]
[1,{"$f":"'8 Axle Loads Direction 1-SS'!B35","v":"4B"},{"$f":"'8 Axle Loads Direction 1-SS'!C35","v":6},{"$f":"'8 Axle Loads Direction 1-SS'!D35","v":6},{"$f":"'8 Axle Loads Direction 1-SS'!E35","v":10},{"$f":"'8 Axle Loads Direction 1-SS'!F35","v":10},{"$f":"'8 Axle Loads Direction 1-SS'!G35","v":0},{"$f":"'8 Axle Loads Direction 1-SS'!H35","v":0},{"$f":"'8 Axle Loads Direction 1-SS'!I35","v":0},{"$f":"'8 Axle Loads Direction 1-SS'!J35","v":0},{"$f":"'8 Axle Loads Direction 1-SS'!K35","v":0},6,0,0,0,0,0,0,0,0,0,10,0,0,0,0,0,0,null,0,0,0,0,0,60,0,0,0,0,0,0,0,0,0,0,0,0,0,0,0,0,0,0,0,0,0,0,0,0,0,0,0,0,0,0,0,0,0,0,0,0,0,0,0,0,0,0,0,0,0,0,0,0,0,0,0,0,0,0,0,0,0,0,0,0,0,0,0,0,0,0,0,0,0,0,0,0,0,0,0,0,0,0,0,0,0,0,0,0,0,0,0,0,0,0,0,0,0,0,0,0,0,0,0,0,0,0,0,0,0,0,0,0,0,0,0,0,0,0,0,0,0,0,0,0,0,0,0,0,0,0,0,0,0,0,0,0,0,0,0,0,0,0,0,0,0,0,0,0,0,0,0,0,0,0,0,0,0,0,0,0,0,0,0,0,0,0,0,0,0,0,0,0,0,0,0,0,0,0,0,0,0,0,0,0,0,0,0,0,0,0,0,0,0,0,0,0,0,0,0,0,0,0,0,0,0,0,0,0,0,0,0,0,0,0,0,0,0,0,0,0,0,0,0,0,0,0,0,0,0,0,0,0,0,0,0,0,0,0,0,0,0,0,0,0,0,0,0,0,0,0,0,0,0,0,0,0,0,0,0,0,0,0,0,0,0,0,0,0,0,0,0,0,0,0,0,0,0,0,0,0,0,0,0,0,0,0,0,0,0,0,0,0,0,0,0,0,0,0,0,0,0,0,0,0,0,0,0,100,0,0,0,0,0,0,0,0,0,0,0,0,0,0,0,0,0,0,0,0,0,0,0,0,0,0,0,0,0,0,0,0,0,0,0,0,0,0,0,0,0,0,0,0,0,0,0,0,0,0,0,0,0,0,0,0,0,0,0,0,0,0,0,0,0,0,0,0,0,0,0,0,0,0,0,0,0,0,0,0,0,0,0,0,0,0,0,0,0,0,0,0,0,0,0,0,0,0,0,0,0,0,0,0,0,0,0,0,0,0,0,0,0,0,0,0,0,0,0,0,0,0,0,0,0,0,0,0,0,0,0,0,0,0,0,0,0,0,0,0,0,0,0,0,0,0,0,0,0,0,0,0,0,0,0,0,0,0,0,0,0,0,0,0,0,0,0,0,0,0,0,0,0,0,0,0,0,0,0,0,0,0,0,0,0,0,0,0,0,0,0,0,0,0,0,0,0,0,0,0,0,0,0,0,0,0,0,0,0,0,0,0,0,0,0,0,0,0,0,0,null,null,"Sum",{"$f":"SUM(UQ5:UQ34)","v":4170},{"$f":"SUM(UR5:UR34)","v":100},null,{"$f":"SUM(UT5:UT34)","v":1560},{"$f":"SUM(UU5:UU34)","v":100},null,{"$f":"SUM(UW5:UW34)","v":4170},{"$f":"SUM(UX5:UX34)","v":100},null,{"$f":"SUM(UZ5:UZ34)","v":11310},{"$f":"SUM(VA5:VA34)","v":100.00000000000001},310,{"$f":"QH$1006+RQ$1006","v":0},0,310,{"$f":"SZ$1006+UI$1006","v":0},0]
[1,{"$f":"'8 Axle Loads Direction 1-SS'!B36","v":3},{"$f":"'8 Axle Loads Direction 1-SS'!C36","v":0},{"$f":"'8 Axle Loads Direction 1-SS'!D36","v":0},{"$f":"'8 Axle Loads Direction 1-SS'!E36","v":0},{"$f":"'8 Axle Loads Direction 1-SS'!F36","v":0},{"$f":"'8 Axle Loads Direction 1-SS'!G36","v":0},{"$f":"'8 Axle Loads Direction 1-SS'!H36","v":0},{"$f":"'8 Axle Loads Direction 1-SS'!I36","v":0},{"$f":"'8 Axle Loads Direction 1-SS'!J36","v":0},{"$f":"'8 Axle Loads Direction 1-SS'!K36","v":0},0,0,0,0,0,0,0,0,0,0,0,0,0,0,0,0,0,null,0,0,0,0,0,0,0,0,0,0,0,0,0,0,0,0,0,0,0,0,0,0,0,0,0,0,0,0,0,0,0,0,0,0,0,0,0,0,0,0,0,0,0,0,0,0,0,0,0,0,0,0,0,0,0,0,0,0,0,0,0,0,0,0,0,0,0,0,0,0,0,0,0,0,0,0,0,0,0,0,0,0,0,0,0,0,0,0,0,0,0,0,0,0,0,0,0,0,0,0,0,0,0,0,0,0,0,0,0,0,0,0,0,0,0,0,0,0,0,0,0,0,0,0,0,0,0,0,0,0,0,0,0,0,0,0,0,0,0,0,0,0,0,0,0,0,0,0,0,0,0,0,0,0,0,0,0,0,0,0,0,0,0,0,0,0,0,0,0,0,0,0,0,0,0,0,0,0,0,0,0,0,0,0,0,0,0,0,0,0,0,0,0,0,0,0,0,0,0,0,0,0,0,0,0,0,0,0,0,0,0,0,0,0,0,0,0,0,0,0,0,0,0,0,0,0,0,0,0,0,0,0,0,0,0,0,0,0,0,0,0,0,0,0,0,0,0,0,0,0,0,0,0,0,0,0,0,0,0,0,0,0,0,0,0,0,0,0,0,0,0,0,0,0,0,0,0,0,0,0,0,0,0,0,0,0,0,0,0,0,0,0,0,0,0,0,0,0,0,0,0,0,0,0,0,0,0,0,0,0,0,0,0,0,0,0,0,0,0,0,0,0,0,0,0,0,0,0,0,0,0,0,0,0,0,0,0,0,0,0,0,0,0,0,0,0,0,0,0,0,0,0,0,0,0,0,0,0,0,0,0,0,0,0,0,0,0,0,0,0,0,0,0,0,0,0,0,0,0,0,0,0,0,0,0,0,0,0,0,0,0,0,0,0,0,0,0,0,0,0,0,0,0,0,0,0,0,0,0,0,0,0,0,0,0,0,0,0,0,0,0,0,0,0,0,0,0,0,0,0,0,0,0,0,0,0,0,0,0,0,0,0,0,0,0,0,0,0,0,0,0,0,0,0,0,0,0,0,0,0,0,0,0,0,0,0,0,0,0,0,0,0,0,0,0,0,0,0,0,0,0,0,0,0,0,0,0,0,0,0,0,0,0,0,0,0,0,0,0,0,0,0,0,0,0,0,0,0,0,0,0,0,0,0,0,0,0,0,0,0,0,0,0,0,0,0,0,0,0,0,null,null,null,null,null,null,null,null,null,null,null,null,null,null,320,{"$f":"QI$1006+RR$1006","v":0},0,320,{"$f":"TA$1006+UJ$1006","v":0},0]
[1,{"$f":"'8 Axle Loads Direction 1-SS'!B37","v":3},{"$f":"'8 Axle Loads Direction 1-SS'!C37","v":0},{"$f":"'8 Axle Loads Direction 1-SS'!D37","v":0},{"$f":"'8 Axle Loads Direction 1-SS'!E37","v":0},{"$f":"'8 Axle Loads Direction 1-SS'!F37","v":0},{"$f":"'8 Axle Loads Direction 1-SS'!G37","v":0},{"$f":"'8 Axle Loads Direction 1-SS'!H37","v":0},{"$f":"'8 Axle Loads Direction 1-SS'!I37","v":0},{"$f":"'8 Axle Loads Direction 1-SS'!J37","v":0},{"$f":"'8 Axle Loads Direction 1-SS'!K37","v":0},0,0,0,0,0,0,0,0,0,0,0,0,0,0,0,0,0,null,0,0,0,0,0,0,0,0,0,0,0,0,0,0,0,0,0,0,0,0,0,0,0,0,0,0,0,0,0,0,0,0,0,0,0,0,0,0,0,0,0,0,0,0,0,0,0,0,0,0,0,0,0,0,0,0,0,0,0,0,0,0,0,0,0,0,0,0,0,0,0,0,0,0,0,0,0,0,0,0,0,0,0,0,0,0,0,0,0,0,0,0,0,0,0,0,0,0,0,0,0,0,0,0,0,0,0,0,0,0,0,0,0,0,0,0,0,0,0,0,0,0,0,0,0,0,0,0,0,0,0,0,0,0,0,0,0,0,0,0,0,0,0,0,0,0,0,0,0,0,0,0,0,0,0,0,0,0,0,0,0,0,0,0,0,0,0,0,0,0,0,0,0,0,0,0,0,0,0,0,0,0,0,0,0,0,0,0,0,0,0,0,0,0,0,0,0,0,0,0,0,0,0,0,0,0,0,0,0,0,0,0,0,0,0,0,0,0,0,0,0,0,0,0,0,0,0,0,0,0,0,0,0,0,0,0,0,0,0,0,0,0,0,0,0,0,0,0,0,0,0,0,0,0,0,0,0,0,0,0,0,0,0,0,0,0,0,0,0,0,0,0,0,0,0,0,0,0,0,0,0,0,0,0,0,0,0,0,0,0,0,0,0,0,0,0,0,0,0,0,0,0,0,0,0,0,0,0,0,0,0,0,0,0,0,0,0,0,0,0,0,0,0,0,0,0,0,0,0,0,0,0,0,0,0,0,0,0,0,0,0,0,0,0,0,0,0,0,0,0,0,0,0,0,0,0,0,0,0,0,0,0,0,0,0,0,0,0,0,0,0,0,0,0,0,0,0,0,0,0,0,0,0,0,0,0,0,0,0,0,0,0,0,0,0,0,0,0,0,0,0,0,0,0,0,0,0,0,0,0,0,0,0,0,0,0,0,0,0,0,0,0,0,0,0,0,0,0,0,0,0,0,0,0,0,0,0,0,0,0,0,0,0,0,0,0,0,0,0,0,0,0,0,0,0,0,0,0,0,0,0,0,0,0,0,0,0,0,0,0,0,0,0,0,0,0,0,0,0,0,0,0,0,0,0,0,0,0,0,0,0,0,0,0,0,0,0,0,0,0,0,0,0,0,0,0,0,0,0,0,0,0,0,0,0,0,0,0,0,0,0,0,0,0,0,0,0,0,0,0,null,null,null,null,null,null,null,null,null,null,null,null,null,null,330,{"$f":"QJ$1006+RS$1006","v":0},0,330,{"$f":"TB$1006+UK$1006","v":0},0]
[1,{"$f":"'8 Axle Loads Direction 1-SS'!B38","v":3},{"$f":"'8 Axle Loads Direction 1-SS'!C38","v":0},{"$f":"'8 Axle Loads Direction 1-SS'!D38","v":0},{"$f":"'8 Axle Loads Direction 1-SS'!E38","v":0},{"$f":"'8 Axle Loads Direction 1-SS'!F38","v":0},{"$f":"'8 Axle Loads Direction 1-SS'!G38","v":0},{"$f":"'8 Axle Loads Direction 1-SS'!H38","v":0},{"$f":"'8 Axle Loads Direction 1-SS'!I38","v":0},{"$f":"'8 Axle Loads Direction 1-SS'!J38","v":0},{"$f":"'8 Axle Loads Direction 1-SS'!K38","v":0},0,0,0,0,0,0,0,0,0,0,0,0,0,0,0,0,0,null,0,0,0,0,0,0,0,0,0,0,0,0,0,0,0,0,0,0,0,0,0,0,0,0,0,0,0,0,0,0,0,0,0,0,0,0,0,0,0,0,0,0,0,0,0,0,0,0,0,0,0,0,0,0,0,0,0,0,0,0,0,0,0,0,0,0,0,0,0,0,0,0,0,0,0,0,0,0,0,0,0,0,0,0,0,0,0,0,0,0,0,0,0,0,0,0,0,0,0,0,0,0,0,0,0,0,0,0,0,0,0,0,0,0,0,0,0,0,0,0,0,0,0,0,0,0,0,0,0,0,0,0,0,0,0,0,0,0,0,0,0,0,0,0,0,0,0,0,0,0,0,0,0,0,0,0,0,0,0,0,0,0,0,0,0,0,0,0,0,0,0,0,0,0,0,0,0,0,0,0,0,0,0,0,0,0,0,0,0,0,0,0,0,0,0,0,0,0,0,0,0,0,0,0,0,0,0,0,0,0,0,0,0,0,0,0,0,0,0,0,0,0,0,0,0,0,0,0,0,0,0,0,0,0,0,0,0,0,0,0,0,0,0,0,0,0,0,0,0,0,0,0,0,0,0,0,0,0,0,0,0,0,0,0,0,0,0,0,0,0,0,0,0,0,0,0,0,0,0,0,0,0,0,0,0,0,0,0,0,0,0,0,0,0,0,0,0,0,0,0,0,0,0,0,0,0,0,0,0,0,0,0,0,0,0,0,0,0,0,0,0,0,0,0,0,0,0,0,0,0,0,0,0,0,0,0,0,0,0,0,0,0,0,0,0,0,0,0,0,0,0,0,0,0,0,0,0,0,0,0,0,0,0,0,0,0,0,0,0,0,0,0,0,0,0,0,0,0,0,0,0,0,0,0,0,0,0,0,0,0,0,0,0,0,0,0,0,0,0,0,0,0,0,0,0,0,0,0,0,0,0,0,0,0,0,0,0,0,0,0,0,0,0,0,0,0,0,0,0,0,0,0,0,0,0,0,0,0,0,0,0,0,0,0,0,0,0,0,0,0,0,0,0,0,0,0,0,0,0,0,0,0,0,0,0,0,0,0,0,0,0,0,0,0,0,0,0,0,0,0,0,0,0,0,0,0,0,0,0,0,0,0,0,0,0,0,0,0,0,0,0,0,0,0,0,0,0,0,0,0,0,0,0,0,0,0,0,0,0,0,0,0,0,0,0,0,0,0,0,0,null,null,null,null,null,null,null,null,null,null,null,null,null,null,340,{"$f":"QK$1006+RT$1006","v":0},0,340,{"$f":"TC$1006+UL$1006","v":0},0]
[1,{"$f":"'8 Axle Loads Direction 1-SS'!B39","v":3},{"$f":"'8 Axle Loads Direction 1-SS'!C39","v":0},{"$f":"'8 Axle Loads Direction 1-SS'!D39","v":0},{"$f":"'8 Axle Loads Direction 1-SS'!E39","v":0},{"$f":"'8 Axle Loads Direction 1-SS'!F39","v":0},{"$f":"'8 Axle Loads Direction 1-SS'!G39","v":0},{"$f":"'8 Axle Loads Direction 1-SS'!H39","v":0},{"$f":"'8 Axle Loads Direction 1-SS'!I39","v":0},{"$f":"'8 Axle Loads Direction 1-SS'!J39","v":0},{"$f":"'8 Axle Loads Direction 1-SS'!K39","v":0},0,0,0,0,0,0,0,0,0,0,0,0,0,0,0,0,0,null,0,0,0,0,0,0,0,0,0,0,0,0,0,0,0,0,0,0,0,0,0,0,0,0,0,0,0,0,0,0,0,0,0,0,0,0,0,0,0,0,0,0,0,0,0,0,0,0,0,0,0,0,0,0,0,0,0,0,0,0,0,0,0,0,0,0,0,0,0,0,0,0,0,0,0,0,0,0,0,0,0,0,0,0,0,0,0,0,0,0,0,0,0,0,0,0,0,0,0,0,0,0,0,0,0,0,0,0,0,0,0,0,0,0,0,0,0,0,0,0,0,0,0,0,0,0,0,0,0,0,0,0,0,0,0,0,0,0,0,0,0,0,0,0,0,0,0,0,0,0,0,0,0,0,0,0,0,0,0,0,0,0,0,0,0,0,0,0,0,0,0,0,0,0,0,0,0,0,0,0,0,0,0,0,0,0,0,0,0,0,0,0,0,0,0,0,0,0,0,0,0,0,0,0,0,0,0,0,0,0,0,0,0,0,0,0,0,0,0,0,0,0,0,0,0,0,0,0,0,0,0,0,0,0,0,0,0,0,0,0,0,0,0,0,0,0,0,0,0,0,0,0,0,0,0,0,0,0,0,0,0,0,0,0,0,0,0,0,0,0,0,0,0,0,0,0,0,0,0,0,0,0,0,0,0,0,0,0,0,0,0,0,0,0,0,0,0,0,0,0,0,0,0,0,0,0,0,0,0,0,0,0,0,0,0,0,0,0,0,0,0,0,0,0,0,0,0,0,0,0,0,0,0,0,0,0,0,0,0,0,0,0,0,0,0,0,0,0,0,0,0,0,0,0,0,0,0,0,0,0,0,0,0,0,0,0,0,0,0,0,0,0,0,0,0,0,0,0,0,0,0,0,0,0,0,0,0,0,0,0,0,0,0,0,0,0,0,0,0,0,0,0,0,0,0,0,0,0,0,0,0,0,0,0,0,0,0,0,0,0,0,0,0,0,0,0,0,0,0,0,0,0,0,0,0,0,0,0,0,0,0,0,0,0,0,0,0,0,0,0,0,0,0,0,0,0,0,0,0,0,0,0,0,0,0,0,0,0,0,0,0,0,0,0,0,0,0,0,0,0,0,0,0,0,0,0,0,0,0,0,0,0,0,0,0,0,0,0,0,0,0,0,0,0,0,0,0,0,0,0,0,0,0,0,0,0,0,0,0,0,0,0,0,0,0,0,0,0,0,0,null,null,null,null,null,null,null,null,null,null,null,null,null,null,350,{"$f":"QL$1006+RU$1006","v":0},0,350,{"$f":"TD$1006+UM$1006","v":0},0]
[1,{"$f":"'8 Axle Loads Direction 1-SS'!B40","v":3},{"$f":"'8 Axle Loads Direction 1-SS'!C40","v":0},{"$f":"'8 Axle Loads Direction 1-SS'!D40","v":0},{"$f":"'8 Axle Loads Direction 1-SS'!E40","v":0},{"$f":"'8 Axle Loads Direction 1-SS'!F40","v":0},{"$f":"'8 Axle Loads Direction 1-SS'!G40","v":0},{"$f":"'8 Axle Loads Direction 1-SS'!H40","v":0},{"$f":"'8 Axle Loads Direction 1-SS'!I40","v":0},{"$f":"'8 Axle Loads Direction 1-SS'!J40","v":0},{"$f":"'8 Axle Loads Direction 1-SS'!K40","v":0},0,0,0,0,0,0,0,0,0,0,0,0,0,0,0,0,0,null,0,0,0,0,0,0,0,0,0,0,0,0,0,0,0,0,0,0,0,0,0,0,0,0,0,0,0,0,0,0,0,0,0,0,0,0,0,0,0,0,0,0,0,0,0,0,0,0,0,0,0,0,0,0,0,0,0,0,0,0,0,0,0,0,0,0,0,0,0,0,0,0,0,0,0,0,0,0,0,0,0,0,0,0,0,0,0,0,0,0,0,0,0,0,0,0,0,0,0,0,0,0,0,0,0,0,0,0,0,0,0,0,0,0,0,0,0,0,0,0,0,0,0,0,0,0,0,0,0,0,0,0,0,0,0,0,0,0,0,0,0,0,0,0,0,0,0,0,0,0,0,0,0,0,0,0,0,0,0,0,0,0,0,0,0,0,0,0,0,0,0,0,0,0,0,0,0,0,0,0,0,0,0,0,0,0,0,0,0,0,0,0,0,0,0,0,0,0,0,0,0,0,0,0,0,0,0,0,0,0,0,0,0,0,0,0,0,0,0,0,0,0,0,0,0,0,0,0,0,0,0,0,0,0,0,0,0,0,0,0,0,0,0,0,0,0,0,0,0,0,0,0,0,0,0,0,0,0,0,0,0,0,0,0,0,0,0,0,0,0,0,0,0,0,0,0,0,0,0,0,0,0,0,0,0,0,0,0,0,0,0,0,0,0,0,0,0,0,0,0,0,0,0,0,0,0,0,0,0,0,0,0,0,0,0,0,0,0,0,0,0,0,0,0,0,0,0,0,0,0,0,0,0,0,0,0,0,0,0,0,0,0,0,0,0,0,0,0,0,0,0,0,0,0,0,0,0,0,0,0,0,0,0,0,0,0,0,0,0,0,0,0,0,0,0,0,0,0,0,0,0,0,0,0,0,0,0,0,0,0,0,0,0,0,0,0,0,0,0,0,0,0,0,0,0,0,0,0,0,0,0,0,0,0,0,0,0,0,0,0,0,0,0,0,0,0,0,0,0,0,0,0,0,0,0,0,0,0,0,0,0,0,0,0,0,0,0,0,0,0,0,0,0,0,0,0,0,0,0,0,0,0,0,0,0,0,0,0,0,0,0,0,0,0,0,0,0,0,0,0,0,0,0,0,0,0,0,0,0,0,0,0,0,0,0,0,0,0,0,0,0,0,0,0,0,0,0,0,0,0,0,0,0,0,0,0,0,0,0,0,0,0,0,0,0,0,0,0,0,0,null,null,null,null,null,null,null,null,null,null,null,null,null,null,"Sum",{"$f":"SUM(VC5:VC39)","v":1890},{"$f":"SUM(VD5:VD39)","v":100},"Sum",{"$f":"SUM(VF5:VF39)","v":270},{"$f":"SUM(VG5:VG39)","v":100}]
[1,{"$f":"'8 Axle Loads Direction 1-SS'!B41","v":3},{"$f":"'8 Axle Loads Direction 1-SS'!C41","v":0},{"$f":"'8 Axle Loads Direction 1-SS'!D41","v":0},{"$f":"'8 Axle Loads Direction 1-SS'!E41","v":0},{"$f":"'8 Axle Loads Direction 1-SS'!F41","v":0},{"$f":"'8 Axle Loads Direction 1-SS'!G41","v":0},{"$f":"'8 Axle Loads Direction 1-SS'!H41","v":0},{"$f":"'8 Axle Loads Direction 1-SS'!I41","v":0},{"$f":"'8 Axle Loads Direction 1-SS'!J41","v":0},{"$f":"'8 Axle Loads Direction 1-SS'!K41","v":0},0,0,0,0,0,0,0,0,0,0,0,0,0,0,0,0,0,null,0,0,0,0,0,0,0,0,0,0,0,0,0,0,0,0,0,0,0,0,0,0,0,0,0,0,0,0,0,0,0,0,0,0,0,0,0,0,0,0,0,0,0,0,0,0,0,0,0,0,0,0,0,0,0,0,0,0,0,0,0,0,0,0,0,0,0,0,0,0,0,0,0,0,0,0,0,0,0,0,0,0,0,0,0,0,0,0,0,0,0,0,0,0,0,0,0,0,0,0,0,0,0,0,0,0,0,0,0,0,0,0,0,0,0,0,0,0,0,0,0,0,0,0,0,0,0,0,0,0,0,0,0,0,0,0,0,0,0,0,0,0,0,0,0,0,0,0,0,0,0,0,0,0,0,0,0,0,0,0,0,0,0,0,0,0,0,0,0,0,0,0,0,0,0,0,0,0,0,0,0,0,0,0,0,0,0,0,0,0,0,0,0,0,0,0,0,0,0,0,0,0,0,0,0,0,0,0,0,0,0,0,0,0,0,0,0,0,0,0,0,0,0,0,0,0,0,0,0,0,0,0,0,0,0,0,0,0,0,0,0,0,0,0,0,0,0,0,0,0,0,0,0,0,0,0,0,0,0,0,0,0,0,0,0,0,0,0,0,0,0,0,0,0,0,0,0,0,0,0,0,0,0,0,0,0,0,0,0,0,0,0,0,0,0,0,0,0,0,0,0,0,0,0,0,0,0,0,0,0,0,0,0,0,0,0,0,0,0,0,0,0,0,0,0,0,0,0,0,0,0,0,0,0,0,0,0,0,0,0,0,0,0,0,0,0,0,0,0,0,0,0,0,0,0,0,0,0,0,0,0,0,0,0,0,0,0,0,0,0,0,0,0,0,0,0,0,0,0,0,0,0,0,0,0,0,0,0,0,0,0,0,0,0,0,0,0,0,0,0,0,0,0,0,0,0,0,0,0,0,0,0,0,0,0,0,0,0,0,0,0,0,0,0,0,0,0,0,0,0,0,0,0,0,0,0,0,0,0,0,0,0,0,0,0,0,0,0,0,0,0,0,0,0,0,0,0,0,0,0,0,0,0,0,0,0,0,0,0,0,0,0,0,0,0,0,0,0,0,0,0,0,0,0,0,0,0,0,0,0,0,0,0,0,0,0,0,0,0,0,0,0,0,0,0,0,0,0,0,0,0,0,0,0,0,0,0,0,0,0,0,0,0,0,0,0,0,0,0,0,null,null,"Proportions  of Axle Load Groups"]
[1,{"$f":"'8 Axle Loads Direction 1-SS'!B42","v":3},{"$f":"'8 Axle Loads Direction 1-SS'!C42","v":0},{"$f":"'8 Axle Loads Direction 1-SS'!D42","v":0},{"$f":"'8 Axle Loads Direction 1-SS'!E42","v":0},{"$f":"'8 Axle Loads Direction 1-SS'!F42","v":0},{"$f":"'8 Axle Loads Direction 1-SS'!G42","v":0},{"$f":"'8 Axle Loads Direction 1-SS'!H42","v":0},{"$f":"'8 Axle Loads Direction 1-SS'!I42","v":0},{"$f":"'8 Axle Loads Direction 1-SS'!J42","v":0},{"$f":"'8 Axle Loads Direction 1-SS'!K42","v":0},0,0,0,0,0,0,0,0,0,0,0,0,0,0,0,0,0,null,0,0,0,0,0,0,0,0,0,0,0,0,0,0,0,0,0,0,0,0,0,0,0,0,0,0,0,0,0,0,0,0,0,0,0,0,0,0,0,0,0,0,0,0,0,0,0,0,0,0,0,0,0,0,0,0,0,0,0,0,0,0,0,0,0,0,0,0,0,0,0,0,0,0,0,0,0,0,0,0,0,0,0,0,0,0,0,0,0,0,0,0,0,0,0,0,0,0,0,0,0,0,0,0,0,0,0,0,0,0,0,0,0,0,0,0,0,0,0,0,0,0,0,0,0,0,0,0,0,0,0,0,0,0,0,0,0,0,0,0,0,0,0,0,0,0,0,0,0,0,0,0,0,0,0,0,0,0,0,0,0,0,0,0,0,0,0,0,0,0,0,0,0,0,0,0,0,0,0,0,0,0,0,0,0,0,0,0,0,0,0,0,0,0,0,0,0,0,0,0,0,0,0,0,0,0,0,0,0,0,0,0,0,0,0,0,0,0,0,0,0,0,0,0,0,0,0,0,0,0,0,0,0,0,0,0,0,0,0,0,0,0,0,0,0,0,0,0,0,0,0,0,0,0,0,0,0,0,0,0,0,0,0,0,0,0,0,0,0,0,0,0,0,0,0,0,0,0,0,0,0,0,0,0,0,0,0,0,0,0,0,0,0,0,0,0,0,0,0,0,0,0,0,0,0,0,0,0,0,0,0,0,0,0,0,0,0,0,0,0,0,0,0,0,0,0,0,0,0,0,0,0,0,0,0,0,0,0,0,0,0,0,0,0,0,0,0,0,0,0,0,0,0,0,0,0,0,0,0,0,0,0,0,0,0,0,0,0,0,0,0,0,0,0,0,0,0,0,0,0,0,0,0,0,0,0,0,0,0,0,0,0,0,0,0,0,0,0,0,0,0,0,0,0,0,0,0,0,0,0,0,0,0,0,0,0,0,0,0,0,0,0,0,0,0,0,0,0,0,0,0,0,0,0,0,0,0,0,0,0,0,0,0,0,0,0,0,0,0,0,0,0,0,0,0,0,0,0,0,0,0,0,0,0,0,0,0,0,0,0,0,0,0,0,0,0,0,0,0,0,0,0,0,0,0,0,0,0,0,0,0,0,0,0,0,0,0,0,0,0,0,0,0,0,0,0,0,0,0,0,0,0,0,0,0,0,0,0,0,0,0,0,0,0,0,0,0,0,0,0,null,null,"HVAG","Proportion","User estimate"]
[1,{"$f":"'8 Axle Loads Direction 1-SS'!B43","v":3},{"$f":"'8 Axle Loads Direction 1-SS'!C43","v":0},{"$f":"'8 Axle Loads Direction 1-SS'!D43","v":0},{"$f":"'8 Axle Loads Direction 1-SS'!E43","v":0},{"$f":"'8 Axle Loads Direction 1-SS'!F43","v":0},{"$f":"'8 Axle Loads Direction 1-SS'!G43","v":0},{"$f":"'8 Axle Loads Direction 1-SS'!H43","v":0},{"$f":"'8 Axle Loads Direction 1-SS'!I43","v":0},{"$f":"'8 Axle Loads Direction 1-SS'!J43","v":0},{"$f":"'8 Axle Loads Direction 1-SS'!K43","v":0},0,0,0,0,0,0,0,0,0,0,0,0,0,0,0,0,0,null,0,0,0,0,0,0,0,0,0,0,0,0,0,0,0,0,0,0,0,0,0,0,0,0,0,0,0,0,0,0,0,0,0,0,0,0,0,0,0,0,0,0,0,0,0,0,0,0,0,0,0,0,0,0,0,0,0,0,0,0,0,0,0,0,0,0,0,0,0,0,0,0,0,0,0,0,0,0,0,0,0,0,0,0,0,0,0,0,0,0,0,0,0,0,0,0,0,0,0,0,0,0,0,0,0,0,0,0,0,0,0,0,0,0,0,0,0,0,0,0,0,0,0,0,0,0,0,0,0,0,0,0,0,0,0,0,0,0,0,0,0,0,0,0,0,0,0,0,0,0,0,0,0,0,0,0,0,0,0,0,0,0,0,0,0,0,0,0,0,0,0,0,0,0,0,0,0,0,0,0,0,0,0,0,0,0,0,0,0,0,0,0,0,0,0,0,0,0,0,0,0,0,0,0,0,0,0,0,0,0,0,0,0,0,0,0,0,0,0,0,0,0,0,0,0,0,0,0,0,0,0,0,0,0,0,0,0,0,0,0,0,0,0,0,0,0,0,0,0,0,0,0,0,0,0,0,0,0,0,0,0,0,0,0,0,0,0,0,0,0,0,0,0,0,0,0,0,0,0,0,0,0,0,0,0,0,0,0,0,0,0,0,0,0,0,0,0,0,0,0,0,0,0,0,0,0,0,0,0,0,0,0,0,0,0,0,0,0,0,0,0,0,0,0,0,0,0,0,0,0,0,0,0,0,0,0,0,0,0,0,0,0,0,0,0,0,0,0,0,0,0,0,0,0,0,0,0,0,0,0,0,0,0,0,0,0,0,0,0,0,0,0,0,0,0,0,0,0,0,0,0,0,0,0,0,0,0,0,0,0,0,0,0,0,0,0,0,0,0,0,0,0,0,0,0,0,0,0,0,0,0,0,0,0,0,0,0,0,0,0,0,0,0,0,0,0,0,0,0,0,0,0,0,0,0,0,0,0,0,0,0,0,0,0,0,0,0,0,0,0,0,0,0,0,0,0,0,0,0,0,0,0,0,0,0,0,0,0,0,0,0,0,0,0,0,0,0,0,0,0,0,0,0,0,0,0,0,0,0,0,0,0,0,0,0,0,0,0,0,0,0,0,0,0,0,0,0,0,0,0,0,0,0,0,0,0,0,0,0,0,0,0,0,0,0,0,0,0,0,0,null,null,"SAST",{"$f":"(L$1007)/$AB$1008","v":0.36324786324786323},0.39300000000000002]
[1,{"$f":"'8 Axle Loads Direction 1-SS'!B44","v":3},{"$f":"'8 Axle Loads Direction 1-SS'!C44","v":0},{"$f":"'8 Axle Loads Direction 1-SS'!D44","v":0},{"$f":"'8 Axle Loads Direction 1-SS'!E44","v":0},{"$f":"'8 Axle Loads Direction 1-SS'!F44","v":0},{"$f":"'8 Axle Loads Direction 1-SS'!G44","v":0},{"$f":"'8 Axle Loads Direction 1-SS'!H44","v":0},{"$f":"'8 Axle Loads Direction 1-SS'!I44","v":0},{"$f":"'8 Axle Loads Direction 1-SS'!J44","v":0},{"$f":"'8 Axle Loads Direction 1-SS'!K44","v":0},0,0,0,0,0,0,0,0,0,0,0,0,0,0,0,0,0,null,0,0,0,0,0,0,0,0,0,0,0,0,0,0,0,0,0,0,0,0,0,0,0,0,0,0,0,0,0,0,0,0,0,0,0,0,0,0,0,0,0,0,0,0,0,0,0,0,0,0,0,0,0,0,0,0,0,0,0,0,0,0,0,0,0,0,0,0,0,0,0,0,0,0,0,0,0,0,0,0,0,0,0,0,0,0,0,0,0,0,0,0,0,0,0,0,0,0,0,0,0,0,0,0,0,0,0,0,0,0,0,0,0,0,0,0,0,0,0,0,0,0,0,0,0,0,0,0,0,0,0,0,0,0,0,0,0,0,0,0,0,0,0,0,0,0,0,0,0,0,0,0,0,0,0,0,0,0,0,0,0,0,0,0,0,0,0,0,0,0,0,0,0,0,0,0,0,0,0,0,0,0,0,0,0,0,0,0,0,0,0,0,0,0,0,0,0,0,0,0,0,0,0,0,0,0,0,0,0,0,0,0,0,0,0,0,0,0,0,0,0,0,0,0,0,0,0,0,0,0,0,0,0,0,0,0,0,0,0,0,0,0,0,0,0,0,0,0,0,0,0,0,0,0,0,0,0,0,0,0,0,0,0,0,0,0,0,0,0,0,0,0,0,0,0,0,0,0,0,0,0,0,0,0,0,0,0,0,0,0,0,0,0,0,0,0,0,0,0,0,0,0,0,0,0,0,0,0,0,0,0,0,0,0,0,0,0,0,0,0,0,0,0,0,0,0,0,0,0,0,0,0,0,0,0,0,0,0,0,0,0,0,0,0,0,0,0,0,0,0,0,0,0,0,0,0,0,0,0,0,0,0,0,0,0,0,0,0,0,0,0,0,0,0,0,0,0,0,0,0,0,0,0,0,0,0,0,0,0,0,0,0,0,0,0,0,0,0,0,0,0,0,0,0,0,0,0,0,0,0,0,0,0,0,0,0,0,0,0,0,0,0,0,0,0,0,0,0,0,0,0,0,0,0,0,0,0,0,0,0,0,0,0,0,0,0,0,0,0,0,0,0,0,0,0,0,0,0,0,0,0,0,0,0,0,0,0,0,0,0,0,0,0,0,0,0,0,0,0,0,0,0,0,0,0,0,0,0,0,0,0,0,0,0,0,0,0,0,0,0,0,0,0,0,0,0,0,0,0,0,0,0,0,0,0,0,0,0,0,0,0,0,0,0,0,0,0,0,0,0,null,null,"SADT",{"$f":"(N$1007)/$AB$1008","v":7.6923076923076927E-2},0.191]
[1,{"$f":"'8 Axle Loads Direction 1-SS'!B45","v":5},{"$f":"'8 Axle Loads Direction 1-SS'!C45","v":0},{"$f":"'8 Axle Loads Direction 1-SS'!D45","v":0},{"$f":"'8 Axle Loads Direction 1-SS'!E45","v":0},{"$f":"'8 Axle Loads Direction 1-SS'!F45","v":0},{"$f":"'8 Axle Loads Direction 1-SS'!G45","v":0},{"$f":"'8 Axle Loads Direction 1-SS'!H45","v":0},{"$f":"'8 Axle Loads Direction 1-SS'!I45","v":0},{"$f":"'8 Axle Loads Direction 1-SS'!J45","v":0},{"$f":"'8 Axle Loads Direction 1-SS'!K45","v":0},0,0,0,0,0,0,0,0,0,0,0,0,0,0,0,0,0,null,0,0,0,0,0,0,0,0,0,0,0,0,0,0,0,0,0,0,0,0,0,0,0,0,0,0,0,0,0,0,0,0,0,0,0,0,0,0,0,0,0,0,0,0,0,0,0,0,0,0,0,0,0,0,0,0,0,0,0,0,0,0,0,0,0,0,0,0,0,0,0,0,0,0,0,0,0,0,0,0,0,0,0,0,0,0,0,0,0,0,0,0,0,0,0,0,0,0,0,0,0,0,0,0,0,0,0,0,0,0,0,0,0,0,0,0,0,0,0,0,0,0,0,0,0,0,0,0,0,0,0,0,0,0,0,0,0,0,0,0,0,0,0,0,0,0,0,0,0,0,0,0,0,0,0,0,0,0,0,0,0,0,0,0,0,0,0,0,0,0,0,0,0,0,0,0,0,0,0,0,0,0,0,0,0,0,0,0,0,0,0,0,0,0,0,0,0,0,0,0,0,0,0,0,0,0,0,0,0,0,0,0,0,0,0,0,0,0,0,0,0,0,0,0,0,0,0,0,0,0,0,0,0,0,0,0,0,0,0,0,0,0,0,0,0,0,0,0,0,0,0,0,0,0,0,0,0,0,0,0,0,0,0,0,0,0,0,0,0,0,0,0,0,0,0,0,0,0,0,0,0,0,0,0,0,0,0,0,0,0,0,0,0,0,0,0,0,0,0,0,0,0,0,0,0,0,0,0,0,0,0,0,0,0,0,0,0,0,0,0,0,0,0,0,0,0,0,0,0,0,0,0,0,0,0,0,0,0,0,0,0,0,0,0,0,0,0,0,0,0,0,0,0,0,0,0,0,0,0,0,0,0,0,0,0,0,0,0,0,0,0,0,0,0,0,0,0,0,0,0,0,0,0,0,0,0,0,0,0,0,0,0,0,0,0,0,0,0,0,0,0,0,0,0,0,0,0,0,0,0,0,0,0,0,0,0,0,0,0,0,0,0,0,0,0,0,0,0,0,0,0,0,0,0,0,0,0,0,0,0,0,0,0,0,0,0,0,0,0,0,0,0,0,0,0,0,0,0,0,0,0,0,0,0,0,0,0,0,0,0,0,0,0,0,0,0,0,0,0,0,0,0,0,0,0,0,0,0,0,0,0,0,0,0,0,0,0,0,0,0,0,0,0,0,0,0,0,0,0,0,0,0,0,0,0,0,0,0,0,0,0,0,0,0,0,0,0,0,0,0,null,null,"TAST",{"$f":"(U$1007)/$AB$1008","v":0.11538461538461539},8.9999999999999993E-3]
[1,{"$f":"'8 Axle Loads Direction 1-SS'!B46","v":3},{"$f":"'8 Axle Loads Direction 1-SS'!C46","v":0},{"$f":"'8 Axle Loads Direction 1-SS'!D46","v":0},{"$f":"'8 Axle Loads Direction 1-SS'!E46","v":0},{"$f":"'8 Axle Loads Direction 1-SS'!F46","v":0},{"$f":"'8 Axle Loads Direction 1-SS'!G46","v":0},{"$f":"'8 Axle Loads Direction 1-SS'!H46","v":0},{"$f":"'8 Axle Loads Direction 1-SS'!I46","v":0},{"$f":"'8 Axle Loads Direction 1-SS'!J46","v":0},{"$f":"'8 Axle Loads Direction 1-SS'!K46","v":0},0,0,0,0,0,0,0,0,0,0,0,0,0,0,0,0,0,null,0,0,0,0,0,0,0,0,0,0,0,0,0,0,0,0,0,0,0,0,0,0,0,0,0,0,0,0,0,0,0,0,0,0,0,0,0,0,0,0,0,0,0,0,0,0,0,0,0,0,0,0,0,0,0,0,0,0,0,0,0,0,0,0,0,0,0,0,0,0,0,0,0,0,0,0,0,0,0,0,0,0,0,0,0,0,0,0,0,0,0,0,0,0,0,0,0,0,0,0,0,0,0,0,0,0,0,0,0,0,0,0,0,0,0,0,0,0,0,0,0,0,0,0,0,0,0,0,0,0,0,0,0,0,0,0,0,0,0,0,0,0,0,0,0,0,0,0,0,0,0,0,0,0,0,0,0,0,0,0,0,0,0,0,0,0,0,0,0,0,0,0,0,0,0,0,0,0,0,0,0,0,0,0,0,0,0,0,0,0,0,0,0,0,0,0,0,0,0,0,0,0,0,0,0,0,0,0,0,0,0,0,0,0,0,0,0,0,0,0,0,0,0,0,0,0,0,0,0,0,0,0,0,0,0,0,0,0,0,0,0,0,0,0,0,0,0,0,0,0,0,0,0,0,0,0,0,0,0,0,0,0,0,0,0,0,0,0,0,0,0,0,0,0,0,0,0,0,0,0,0,0,0,0,0,0,0,0,0,0,0,0,0,0,0,0,0,0,0,0,0,0,0,0,0,0,0,0,0,0,0,0,0,0,0,0,0,0,0,0,0,0,0,0,0,0,0,0,0,0,0,0,0,0,0,0,0,0,0,0,0,0,0,0,0,0,0,0,0,0,0,0,0,0,0,0,0,0,0,0,0,0,0,0,0,0,0,0,0,0,0,0,0,0,0,0,0,0,0,0,0,0,0,0,0,0,0,0,0,0,0,0,0,0,0,0,0,0,0,0,0,0,0,0,0,0,0,0,0,0,0,0,0,0,0,0,0,0,0,0,0,0,0,0,0,0,0,0,0,0,0,0,0,0,0,0,0,0,0,0,0,0,0,0,0,0,0,0,0,0,0,0,0,0,0,0,0,0,0,0,0,0,0,0,0,0,0,0,0,0,0,0,0,0,0,0,0,0,0,0,0,0,0,0,0,0,0,0,0,0,0,0,0,0,0,0,0,0,0,0,0,0,0,0,0,0,0,0,0,0,0,0,0,0,0,0,0,0,0,0,0,0,0,0,0,0,0,0,0,0,null,null,"TADT",{"$f":"(P$1007)/$AB$1008","v":0.38461538461538464},0.25900000000000001]
[1,{"$f":"'8 Axle Loads Direction 1-SS'!B47","v":3},{"$f":"'8 Axle Loads Direction 1-SS'!C47","v":0},{"$f":"'8 Axle Loads Direction 1-SS'!D47","v":0},{"$f":"'8 Axle Loads Direction 1-SS'!E47","v":0},{"$f":"'8 Axle Loads Direction 1-SS'!F47","v":0},{"$f":"'8 Axle Loads Direction 1-SS'!G47","v":0},{"$f":"'8 Axle Loads Direction 1-SS'!H47","v":0},{"$f":"'8 Axle Loads Direction 1-SS'!I47","v":0},{"$f":"'8 Axle Loads Direction 1-SS'!J47","v":0},{"$f":"'8 Axle Loads Direction 1-SS'!K47","v":0},0,0,0,0,0,0,0,0,0,0,0,0,0,0,0,0,0,null,0,0,0,0,0,0,0,0,0,0,0,0,0,0,0,0,0,0,0,0,0,0,0,0,0,0,0,0,0,0,0,0,0,0,0,0,0,0,0,0,0,0,0,0,0,0,0,0,0,0,0,0,0,0,0,0,0,0,0,0,0,0,0,0,0,0,0,0,0,0,0,0,0,0,0,0,0,0,0,0,0,0,0,0,0,0,0,0,0,0,0,0,0,0,0,0,0,0,0,0,0,0,0,0,0,0,0,0,0,0,0,0,0,0,0,0,0,0,0,0,0,0,0,0,0,0,0,0,0,0,0,0,0,0,0,0,0,0,0,0,0,0,0,0,0,0,0,0,0,0,0,0,0,0,0,0,0,0,0,0,0,0,0,0,0,0,0,0,0,0,0,0,0,0,0,0,0,0,0,0,0,0,0,0,0,0,0,0,0,0,0,0,0,0,0,0,0,0,0,0,0,0,0,0,0,0,0,0,0,0,0,0,0,0,0,0,0,0,0,0,0,0,0,0,0,0,0,0,0,0,0,0,0,0,0,0,0,0,0,0,0,0,0,0,0,0,0,0,0,0,0,0,0,0,0,0,0,0,0,0,0,0,0,0,0,0,0,0,0,0,0,0,0,0,0,0,0,0,0,0,0,0,0,0,0,0,0,0,0,0,0,0,0,0,0,0,0,0,0,0,0,0,0,0,0,0,0,0,0,0,0,0,0,0,0,0,0,0,0,0,0,0,0,0,0,0,0,0,0,0,0,0,0,0,0,0,0,0,0,0,0,0,0,0,0,0,0,0,0,0,0,0,0,0,0,0,0,0,0,0,0,0,0,0,0,0,0,0,0,0,0,0,0,0,0,0,0,0,0,0,0,0,0,0,0,0,0,0,0,0,0,0,0,0,0,0,0,0,0,0,0,0,0,0,0,0,0,0,0,0,0,0,0,0,0,0,0,0,0,0,0,0,0,0,0,0,0,0,0,0,0,0,0,0,0,0,0,0,0,0,0,0,0,0,0,0,0,0,0,0,0,0,0,0,0,0,0,0,0,0,0,0,0,0,0,0,0,0,0,0,0,0,0,0,0,0,0,0,0,0,0,0,0,0,0,0,0,0,0,0,0,0,0,0,0,0,0,0,0,0,0,0,0,0,0,0,0,0,0,0,0,0,0,0,0,0,0,0,0,0,0,0,0,0,0,0,0,0,0,0,null,null,"TRDT",{"$f":"(Y$1007)/$AB$1008","v":2.9914529914529916E-2},0.14799999999999999]
[1,{"$f":"'8 Axle Loads Direction 1-SS'!B48","v":3},{"$f":"'8 Axle Loads Direction 1-SS'!C48","v":0},{"$f":"'8 Axle Loads Direction 1-SS'!D48","v":0},{"$f":"'8 Axle Loads Direction 1-SS'!E48","v":0},{"$f":"'8 Axle Loads Direction 1-SS'!F48","v":0},{"$f":"'8 Axle Loads Direction 1-SS'!G48","v":0},{"$f":"'8 Axle Loads Direction 1-SS'!H48","v":0},{"$f":"'8 Axle Loads Direction 1-SS'!I48","v":0},{"$f":"'8 Axle Loads Direction 1-SS'!J48","v":0},{"$f":"'8 Axle Loads Direction 1-SS'!K48","v":0},0,0,0,0,0,0,0,0,0,0,0,0,0,0,0,0,0,null,0,0,0,0,0,0,0,0,0,0,0,0,0,0,0,0,0,0,0,0,0,0,0,0,0,0,0,0,0,0,0,0,0,0,0,0,0,0,0,0,0,0,0,0,0,0,0,0,0,0,0,0,0,0,0,0,0,0,0,0,0,0,0,0,0,0,0,0,0,0,0,0,0,0,0,0,0,0,0,0,0,0,0,0,0,0,0,0,0,0,0,0,0,0,0,0,0,0,0,0,0,0,0,0,0,0,0,0,0,0,0,0,0,0,0,0,0,0,0,0,0,0,0,0,0,0,0,0,0,0,0,0,0,0,0,0,0,0,0,0,0,0,0,0,0,0,0,0,0,0,0,0,0,0,0,0,0,0,0,0,0,0,0,0,0,0,0,0,0,0,0,0,0,0,0,0,0,0,0,0,0,0,0,0,0,0,0,0,0,0,0,0,0,0,0,0,0,0,0,0,0,0,0,0,0,0,0,0,0,0,0,0,0,0,0,0,0,0,0,0,0,0,0,0,0,0,0,0,0,0,0,0,0,0,0,0,0,0,0,0,0,0,0,0,0,0,0,0,0,0,0,0,0,0,0,0,0,0,0,0,0,0,0,0,0,0,0,0,0,0,0,0,0,0,0,0,0,0,0,0,0,0,0,0,0,0,0,0,0,0,0,0,0,0,0,0,0,0,0,0,0,0,0,0,0,0,0,0,0,0,0,0,0,0,0,0,0,0,0,0,0,0,0,0,0,0,0,0,0,0,0,0,0,0,0,0,0,0,0,0,0,0,0,0,0,0,0,0,0,0,0,0,0,0,0,0,0,0,0,0,0,0,0,0,0,0,0,0,0,0,0,0,0,0,0,0,0,0,0,0,0,0,0,0,0,0,0,0,0,0,0,0,0,0,0,0,0,0,0,0,0,0,0,0,0,0,0,0,0,0,0,0,0,0,0,0,0,0,0,0,0,0,0,0,0,0,0,0,0,0,0,0,0,0,0,0,0,0,0,0,0,0,0,0,0,0,0,0,0,0,0,0,0,0,0,0,0,0,0,0,0,0,0,0,0,0,0,0,0,0,0,0,0,0,0,0,0,0,0,0,0,0,0,0,0,0,0,0,0,0,0,0,0,0,0,0,0,0,0,0,0,0,0,0,0,0,0,0,0,0,0,0,0,0,0,0,0,0,0,0,0,0,0,0,0,0,0,0,0,0,null,null,"TRST",{"$f":"(AA$1007)/$AB$1008","v":2.9914529914529916E-2},0]
[1,{"$f":"'8 Axle Loads Direction 1-SS'!B49","v":3},{"$f":"'8 Axle Loads Direction 1-SS'!C49","v":0},{"$f":"'8 Axle Loads Direction 1-SS'!D49","v":0},{"$f":"'8 Axle Loads Direction 1-SS'!E49","v":0},{"$f":"'8 Axle Loads Direction 1-SS'!F49","v":0},{"$f":"'8 Axle Loads Direction 1-SS'!G49","v":0},{"$f":"'8 Axle Loads Direction 1-SS'!H49","v":0},{"$f":"'8 Axle Loads Direction 1-SS'!I49","v":0},{"$f":"'8 Axle Loads Direction 1-SS'!J49","v":0},{"$f":"'8 Axle Loads Direction 1-SS'!K49","v":0},0,0,0,0,0,0,0,0,0,0,0,0,0,0,0,0,0,null,0,0,0,0,0,0,0,0,0,0,0,0,0,0,0,0,0,0,0,0,0,0,0,0,0,0,0,0,0,0,0,0,0,0,0,0,0,0,0,0,0,0,0,0,0,0,0,0,0,0,0,0,0,0,0,0,0,0,0,0,0,0,0,0,0,0,0,0,0,0,0,0,0,0,0,0,0,0,0,0,0,0,0,0,0,0,0,0,0,0,0,0,0,0,0,0,0,0,0,0,0,0,0,0,0,0,0,0,0,0,0,0,0,0,0,0,0,0,0,0,0,0,0,0,0,0,0,0,0,0,0,0,0,0,0,0,0,0,0,0,0,0,0,0,0,0,0,0,0,0,0,0,0,0,0,0,0,0,0,0,0,0,0,0,0,0,0,0,0,0,0,0,0,0,0,0,0,0,0,0,0,0,0,0,0,0,0,0,0,0,0,0,0,0,0,0,0,0,0,0,0,0,0,0,0,0,0,0,0,0,0,0,0,0,0,0,0,0,0,0,0,0,0,0,0,0,0,0,0,0,0,0,0,0,0,0,0,0,0,0,0,0,0,0,0,0,0,0,0,0,0,0,0,0,0,0,0,0,0,0,0,0,0,0,0,0,0,0,0,0,0,0,0,0,0,0,0,0,0,0,0,0,0,0,0,0,0,0,0,0,0,0,0,0,0,0,0,0,0,0,0,0,0,0,0,0,0,0,0,0,0,0,0,0,0,0,0,0,0,0,0,0,0,0,0,0,0,0,0,0,0,0,0,0,0,0,0,0,0,0,0,0,0,0,0,0,0,0,0,0,0,0,0,0,0,0,0,0,0,0,0,0,0,0,0,0,0,0,0,0,0,0,0,0,0,0,0,0,0,0,0,0,0,0,0,0,0,0,0,0,0,0,0,0,0,0,0,0,0,0,0,0,0,0,0,0,0,0,0,0,0,0,0,0,0,0,0,0,0,0,0,0,0,0,0,0,0,0,0,0,0,0,0,0,0,0,0,0,0,0,0,0,0,0,0,0,0,0,0,0,0,0,0,0,0,0,0,0,0,0,0,0,0,0,0,0,0,0,0,0,0,0,0,0,0,0,0,0,0,0,0,0,0,0,0,0,0,0,0,0,0,0,0,0,0,0,0,0,0,0,0,0,0,0,0,0,0,0,0,0,0,0,0,0,0,0,0,0,0,0,0,0,0,0,0,0,0,0,0,0,null,null,"Sum",{"$f":"SUM(UQ43:UQ48)","v":1},{"$f":"SUM(UR43:UR48)","v":1}]
[1,{"$f":"'8 Axle Loads Direction 1-SS'!B50","v":3},{"$f":"'8 Axle Loads Direction 1-SS'!C50","v":0},{"$f":"'8 Axle Loads Direction 1-SS'!D50","v":0},{"$f":"'8 Axle Loads Direction 1-SS'!E50","v":0},{"$f":"'8 Axle Loads Direction 1-SS'!F50","v":0},{"$f":"'8 Axle Loads Direction 1-SS'!G50","v":0},{"$f":"'8 Axle Loads Direction 1-SS'!H50","v":0},{"$f":"'8 Axle Loads Direction 1-SS'!I50","v":0},{"$f":"'8 Axle Loads Direction 1-SS'!J50","v":0},{"$f":"'8 Axle Loads Direction 1-SS'!K50","v":0},0,0,0,0,0,0,0,0,0,0,0,0,0,0,0,0,0,null,0,0,0,0,0,0,0,0,0,0,0,0,0,0,0,0,0,0,0,0,0,0,0,0,0,0,0,0,0,0,0,0,0,0,0,0,0,0,0,0,0,0,0,0,0,0,0,0,0,0,0,0,0,0,0,0,0,0,0,0,0,0,0,0,0,0,0,0,0,0,0,0,0,0,0,0,0,0,0,0,0,0,0,0,0,0,0,0,0,0,0,0,0,0,0,0,0,0,0,0,0,0,0,0,0,0,0,0,0,0,0,0,0,0,0,0,0,0,0,0,0,0,0,0,0,0,0,0,0,0,0,0,0,0,0,0,0,0,0,0,0,0,0,0,0,0,0,0,0,0,0,0,0,0,0,0,0,0,0,0,0,0,0,0,0,0,0,0,0,0,0,0,0,0,0,0,0,0,0,0,0,0,0,0,0,0,0,0,0,0,0,0,0,0,0,0,0,0,0,0,0,0,0,0,0,0,0,0,0,0,0,0,0,0,0,0,0,0,0,0,0,0,0,0,0,0,0,0,0,0,0,0,0,0,0,0,0,0,0,0,0,0,0,0,0,0,0,0,0,0,0,0,0,0,0,0,0,0,0,0,0,0,0,0,0,0,0,0,0,0,0,0,0,0,0,0,0,0,0,0,0,0,0,0,0,0,0,0,0,0,0,0,0,0,0,0,0,0,0,0,0,0,0,0,0,0,0,0,0,0,0,0,0,0,0,0,0,0,0,0,0,0,0,0,0,0,0,0,0,0,0,0,0,0,0,0,0,0,0,0,0,0,0,0,0,0,0,0,0,0,0,0,0,0,0,0,0,0,0,0,0,0,0,0,0,0,0,0,0,0,0,0,0,0,0,0,0,0,0,0,0,0,0,0,0,0,0,0,0,0,0,0,0,0,0,0,0,0,0,0,0,0,0,0,0,0,0,0,0,0,0,0,0,0,0,0,0,0,0,0,0,0,0,0,0,0,0,0,0,0,0,0,0,0,0,0,0,0,0,0,0,0,0,0,0,0,0,0,0,0,0,0,0,0,0,0,0,0,0,0,0,0,0,0,0,0,0,0,0,0,0,0,0,0,0,0,0,0,0,0,0,0,0,0,0,0,0,0,0,0,0,0,0,0,0,0,0,0,0,0,0,0,0,0,0,0,0,0,0,0,0,0,0,0,0,0,0,0,0,0,0,0,0,0,0,0,0,0,0,0,null,null,"NHVAG",{"$f":"100/((UQ43)*100)","v":2.7529411764705882},{"$f":"100/((UR43)*100)","v":2.5445292620865136}]
[1,{"$f":"'8 Axle Loads Direction 1-SS'!B51","v":"5B"},{"$f":"'8 Axle Loads Direction 1-SS'!C51","v":4},{"$f":"'8 Axle Loads Direction 1-SS'!D51","v":6},{"$f":"'8 Axle Loads Direction 1-SS'!E51","v":6},{"$f":"'8 Axle Loads Direction 1-SS'!F51","v":9},{"$f":"'8 Axle Loads Direction 1-SS'!G51","v":9},{"$f":"'8 Axle Loads Direction 1-SS'!H51","v":0},{"$f":"'8 Axle Loads Direction 1-SS'!I51","v":0},{"$f":"'8 Axle Loads Direction 1-SS'!J51","v":0},{"$f":"'8 Axle Loads Direction 1-SS'!K51","v":0},4,0,0,0,12,0,0,0,0,0,0,0,0,0,0,0,0,null,0,0,0,40,0,0,0,0,0,0,0,0,0,0,0,0,0,0,0,0,0,0,0,0,0,0,0,0,0,0,0,0,0,0,0,0,0,0,0,0,0,0,0,0,0,0,0,0,0,0,0,0,0,0,0,0,0,0,0,0,0,0,0,0,0,0,0,0,0,0,0,0,0,0,0,0,0,0,0,0,0,0,0,0,0,0,0,0,0,0,0,0,0,0,0,0,0,0,0,0,0,0,0,0,0,0,0,0,0,0,0,0,0,0,0,0,0,0,0,0,0,0,0,0,0,0,0,0,0,0,0,120,0,0,0,0,0,0,0,0,0,0,0,0,0,0,0,0,0,0,0,0,0,0,0,0,0,0,0,0,0,0,0,0,0,0,0,0,0,0,0,0,0,0,0,0,0,0,0,0,0,0,0,0,0,0,0,0,0,0,0,0,0,0,0,0,0,0,0,0,0,0,0,0,0,0,0,0,0,0,0,0,0,0,0,0,0,0,0,0,0,0,0,0,0,0,0,0,0,0,0,0,0,0,0,0,0,0,0,0,0,0,0,0,0,0,0,0,0,0,0,0,0,0,0,0,0,0,0,0,0,0,0,0,0,0,0,0,0,0,0,0,0,0,0,0,0,0,0,0,0,0,0,0,0,0,0,0,0,0,0,0,0,0,0,0,0,0,0,0,0,0,0,0,0,0,0,0,0,0,0,0,0,0,0,0,0,0,0,0,0,0,0,0,0,0,0,0,0,0,0,0,0,0,0,0,0,0,0,0,0,0,0,0,0,0,0,0,0,0,0,0,0,0,0,0,0,0,0,0,0,0,0,0,0,0,0,0,0,0,0,0,0,0,0,0,0,0,0,0,0,0,0,0,0,0,0,0,0,0,0,0,0,0,0,0,0,0,0,0,0,0,0,0,0,0,0,0,0,0,0,0,0,0,0,0,0,0,0,0,0,0,0,0,0,0,0,0,0,0,0,0,0,0,0,0,0,0,0,0,0,0,0,0,0,0,0,0,0,0,0,0,0,0,0,0,0,0,0,0,0,0,0,0,0,0,0,0,0,0,0,0,0,0,0,0,0,0,0,0,0,0,0,0,0,0,0,0,0,0,0,0,0,0,0,0,0,0,0,0,0,0,0,0,0,0,0,0,0,0,0,0,0,0,0,0,0,0,0,0,0,0,0,0,0,0,0,0,0,0]
[1,{"$f":"'8 Axle Loads Direction 1-SS'!B52","v":3},{"$f":"'8 Axle Loads Direction 1-SS'!C52","v":0},{"$f":"'8 Axle Loads Direction 1-SS'!D52","v":0},{"$f":"'8 Axle Loads Direction 1-SS'!E52","v":0},{"$f":"'8 Axle Loads Direction 1-SS'!F52","v":0},{"$f":"'8 Axle Loads Direction 1-SS'!G52","v":0},{"$f":"'8 Axle Loads Direction 1-SS'!H52","v":0},{"$f":"'8 Axle Loads Direction 1-SS'!I52","v":0},{"$f":"'8 Axle Loads Direction 1-SS'!J52","v":0},{"$f":"'8 Axle Loads Direction 1-SS'!K52","v":0},0,0,0,0,0,0,0,0,0,0,0,0,0,0,0,0,0,null,0,0,0,0,0,0,0,0,0,0,0,0,0,0,0,0,0,0,0,0,0,0,0,0,0,0,0,0,0,0,0,0,0,0,0,0,0,0,0,0,0,0,0,0,0,0,0,0,0,0,0,0,0,0,0,0,0,0,0,0,0,0,0,0,0,0,0,0,0,0,0,0,0,0,0,0,0,0,0,0,0,0,0,0,0,0,0,0,0,0,0,0,0,0,0,0,0,0,0,0,0,0,0,0,0,0,0,0,0,0,0,0,0,0,0,0,0,0,0,0,0,0,0,0,0,0,0,0,0,0,0,0,0,0,0,0,0,0,0,0,0,0,0,0,0,0,0,0,0,0,0,0,0,0,0,0,0,0,0,0,0,0,0,0,0,0,0,0,0,0,0,0,0,0,0,0,0,0,0,0,0,0,0,0,0,0,0,0,0,0,0,0,0,0,0,0,0,0,0,0,0,0,0,0,0,0,0,0,0,0,0,0,0,0,0,0,0,0,0,0,0,0,0,0,0,0,0,0,0,0,0,0,0,0,0,0,0,0,0,0,0,0,0,0,0,0,0,0,0,0,0,0,0,0,0,0,0,0,0,0,0,0,0,0,0,0,0,0,0,0,0,0,0,0,0,0,0,0,0,0,0,0,0,0,0,0,0,0,0,0,0,0,0,0,0,0,0,0,0,0,0,0,0,0,0,0,0,0,0,0,0,0,0,0,0,0,0,0,0,0,0,0,0,0,0,0,0,0,0,0,0,0,0,0,0,0,0,0,0,0,0,0,0,0,0,0,0,0,0,0,0,0,0,0,0,0,0,0,0,0,0,0,0,0,0,0,0,0,0,0,0,0,0,0,0,0,0,0,0,0,0,0,0,0,0,0,0,0,0,0,0,0,0,0,0,0,0,0,0,0,0,0,0,0,0,0,0,0,0,0,0,0,0,0,0,0,0,0,0,0,0,0,0,0,0,0,0,0,0,0,0,0,0,0,0,0,0,0,0,0,0,0,0,0,0,0,0,0,0,0,0,0,0,0,0,0,0,0,0,0,0,0,0,0,0,0,0,0,0,0,0,0,0,0,0,0,0,0,0,0,0,0,0,0,0,0,0,0,0,0,0,0,0,0,0,0,0,0,0,0,0,0,0,0,0,0,0,0,0,0,0,0,0,0,0,0,0,0,0,0,0,0,0,0,0,0,0,0,0,0]
[1,{"$f":"'8 Axle Loads Direction 1-SS'!B53","v":3},{"$f":"'8 Axle Loads Direction 1-SS'!C53","v":0},{"$f":"'8 Axle Loads Direction 1-SS'!D53","v":0},{"$f":"'8 Axle Loads Direction 1-SS'!E53","v":0},{"$f":"'8 Axle Loads Direction 1-SS'!F53","v":0},{"$f":"'8 Axle Loads Direction 1-SS'!G53","v":0},{"$f":"'8 Axle Loads Direction 1-SS'!H53","v":0},{"$f":"'8 Axle Loads Direction 1-SS'!I53","v":0},{"$f":"'8 Axle Loads Direction 1-SS'!J53","v":0},{"$f":"'8 Axle Loads Direction 1-SS'!K53","v":0},0,0,0,0,0,0,0,0,0,0,0,0,0,0,0,0,0,null,0,0,0,0,0,0,0,0,0,0,0,0,0,0,0,0,0,0,0,0,0,0,0,0,0,0,0,0,0,0,0,0,0,0,0,0,0,0,0,0,0,0,0,0,0,0,0,0,0,0,0,0,0,0,0,0,0,0,0,0,0,0,0,0,0,0,0,0,0,0,0,0,0,0,0,0,0,0,0,0,0,0,0,0,0,0,0,0,0,0,0,0,0,0,0,0,0,0,0,0,0,0,0,0,0,0,0,0,0,0,0,0,0,0,0,0,0,0,0,0,0,0,0,0,0,0,0,0,0,0,0,0,0,0,0,0,0,0,0,0,0,0,0,0,0,0,0,0,0,0,0,0,0,0,0,0,0,0,0,0,0,0,0,0,0,0,0,0,0,0,0,0,0,0,0,0,0,0,0,0,0,0,0,0,0,0,0,0,0,0,0,0,0,0,0,0,0,0,0,0,0,0,0,0,0,0,0,0,0,0,0,0,0,0,0,0,0,0,0,0,0,0,0,0,0,0,0,0,0,0,0,0,0,0,0,0,0,0,0,0,0,0,0,0,0,0,0,0,0,0,0,0,0,0,0,0,0,0,0,0,0,0,0,0,0,0,0,0,0,0,0,0,0,0,0,0,0,0,0,0,0,0,0,0,0,0,0,0,0,0,0,0,0,0,0,0,0,0,0,0,0,0,0,0,0,0,0,0,0,0,0,0,0,0,0,0,0,0,0,0,0,0,0,0,0,0,0,0,0,0,0,0,0,0,0,0,0,0,0,0,0,0,0,0,0,0,0,0,0,0,0,0,0,0,0,0,0,0,0,0,0,0,0,0,0,0,0,0,0,0,0,0,0,0,0,0,0,0,0,0,0,0,0,0,0,0,0,0,0,0,0,0,0,0,0,0,0,0,0,0,0,0,0,0,0,0,0,0,0,0,0,0,0,0,0,0,0,0,0,0,0,0,0,0,0,0,0,0,0,0,0,0,0,0,0,0,0,0,0,0,0,0,0,0,0,0,0,0,0,0,0,0,0,0,0,0,0,0,0,0,0,0,0,0,0,0,0,0,0,0,0,0,0,0,0,0,0,0,0,0,0,0,0,0,0,0,0,0,0,0,0,0,0,0,0,0,0,0,0,0,0,0,0,0,0,0,0,0,0,0,0,0,0,0,0,0,0,0,0,0,0,0,0,0,0,0,0,0,0,0]
[1,{"$f":"'8 Axle Loads Direction 1-SS'!B54","v":3},{"$f":"'8 Axle Loads Direction 1-SS'!C54","v":0},{"$f":"'8 Axle Loads Direction 1-SS'!D54","v":0},{"$f":"'8 Axle Loads Direction 1-SS'!E54","v":0},{"$f":"'8 Axle Loads Direction 1-SS'!F54","v":0},{"$f":"'8 Axle Loads Direction 1-SS'!G54","v":0},{"$f":"'8 Axle Loads Direction 1-SS'!H54","v":0},{"$f":"'8 Axle Loads Direction 1-SS'!I54","v":0},{"$f":"'8 Axle Loads Direction 1-SS'!J54","v":0},{"$f":"'8 Axle Loads Direction 1-SS'!K54","v":0},0,0,0,0,0,0,0,0,0,0,0,0,0,0,0,0,0,null,0,0,0,0,0,0,0,0,0,0,0,0,0,0,0,0,0,0,0,0,0,0,0,0,0,0,0,0,0,0,0,0,0,0,0,0,0,0,0,0,0,0,0,0,0,0,0,0,0,0,0,0,0,0,0,0,0,0,0,0,0,0,0,0,0,0,0,0,0,0,0,0,0,0,0,0,0,0,0,0,0,0,0,0,0,0,0,0,0,0,0,0,0,0,0,0,0,0,0,0,0,0,0,0,0,0,0,0,0,0,0,0,0,0,0,0,0,0,0,0,0,0,0,0,0,0,0,0,0,0,0,0,0,0,0,0,0,0,0,0,0,0,0,0,0,0,0,0,0,0,0,0,0,0,0,0,0,0,0,0,0,0,0,0,0,0,0,0,0,0,0,0,0,0,0,0,0,0,0,0,0,0,0,0,0,0,0,0,0,0,0,0,0,0,0,0,0,0,0,0,0,0,0,0,0,0,0,0,0,0,0,0,0,0,0,0,0,0,0,0,0,0,0,0,0,0,0,0,0,0,0,0,0,0,0,0,0,0,0,0,0,0,0,0,0,0,0,0,0,0,0,0,0,0,0,0,0,0,0,0,0,0,0,0,0,0,0,0,0,0,0,0,0,0,0,0,0,0,0,0,0,0,0,0,0,0,0,0,0,0,0,0,0,0,0,0,0,0,0,0,0,0,0,0,0,0,0,0,0,0,0,0,0,0,0,0,0,0,0,0,0,0,0,0,0,0,0,0,0,0,0,0,0,0,0,0,0,0,0,0,0,0,0,0,0,0,0,0,0,0,0,0,0,0,0,0,0,0,0,0,0,0,0,0,0,0,0,0,0,0,0,0,0,0,0,0,0,0,0,0,0,0,0,0,0,0,0,0,0,0,0,0,0,0,0,0,0,0,0,0,0,0,0,0,0,0,0,0,0,0,0,0,0,0,0,0,0,0,0,0,0,0,0,0,0,0,0,0,0,0,0,0,0,0,0,0,0,0,0,0,0,0,0,0,0,0,0,0,0,0,0,0,0,0,0,0,0,0,0,0,0,0,0,0,0,0,0,0,0,0,0,0,0,0,0,0,0,0,0,0,0,0,0,0,0,0,0,0,0,0,0,0,0,0,0,0,0,0,0,0,0,0,0,0,0,0,0,0,0,0,0,0,0,0,0,0,0,0,0,0,0,0,0,0,0,0,0,0,0,0]
[1,{"$f":"'8 Axle Loads Direction 1-SS'!B55","v":3},{"$f":"'8 Axle Loads Direction 1-SS'!C55","v":0},{"$f":"'8 Axle Loads Direction 1-SS'!D55","v":0},{"$f":"'8 Axle Loads Direction 1-SS'!E55","v":0},{"$f":"'8 Axle Loads Direction 1-SS'!F55","v":0},{"$f":"'8 Axle Loads Direction 1-SS'!G55","v":0},{"$f":"'8 Axle Loads Direction 1-SS'!H55","v":0},{"$f":"'8 Axle Loads Direction 1-SS'!I55","v":0},{"$f":"'8 Axle Loads Direction 1-SS'!J55","v":0},{"$f":"'8 Axle Loads Direction 1-SS'!K55","v":0},0,0,0,0,0,0,0,0,0,0,0,0,0,0,0,0,0,null,0,0,0,0,0,0,0,0,0,0,0,0,0,0,0,0,0,0,0,0,0,0,0,0,0,0,0,0,0,0,0,0,0,0,0,0,0,0,0,0,0,0,0,0,0,0,0,0,0,0,0,0,0,0,0,0,0,0,0,0,0,0,0,0,0,0,0,0,0,0,0,0,0,0,0,0,0,0,0,0,0,0,0,0,0,0,0,0,0,0,0,0,0,0,0,0,0,0,0,0,0,0,0,0,0,0,0,0,0,0,0,0,0,0,0,0,0,0,0,0,0,0,0,0,0,0,0,0,0,0,0,0,0,0,0,0,0,0,0,0,0,0,0,0,0,0,0,0,0,0,0,0,0,0,0,0,0,0,0,0,0,0,0,0,0,0,0,0,0,0,0,0,0,0,0,0,0,0,0,0,0,0,0,0,0,0,0,0,0,0,0,0,0,0,0,0,0,0,0,0,0,0,0,0,0,0,0,0,0,0,0,0,0,0,0,0,0,0,0,0,0,0,0,0,0,0,0,0,0,0,0,0,0,0,0,0,0,0,0,0,0,0,0,0,0,0,0,0,0,0,0,0,0,0,0,0,0,0,0,0,0,0,0,0,0,0,0,0,0,0,0,0,0,0,0,0,0,0,0,0,0,0,0,0,0,0,0,0,0,0,0,0,0,0,0,0,0,0,0,0,0,0,0,0,0,0,0,0,0,0,0,0,0,0,0,0,0,0,0,0,0,0,0,0,0,0,0,0,0,0,0,0,0,0,0,0,0,0,0,0,0,0,0,0,0,0,0,0,0,0,0,0,0,0,0,0,0,0,0,0,0,0,0,0,0,0,0,0,0,0,0,0,0,0,0,0,0,0,0,0,0,0,0,0,0,0,0,0,0,0,0,0,0,0,0,0,0,0,0,0,0,0,0,0,0,0,0,0,0,0,0,0,0,0,0,0,0,0,0,0,0,0,0,0,0,0,0,0,0,0,0,0,0,0,0,0,0,0,0,0,0,0,0,0,0,0,0,0,0,0,0,0,0,0,0,0,0,0,0,0,0,0,0,0,0,0,0,0,0,0,0,0,0,0,0,0,0,0,0,0,0,0,0,0,0,0,0,0,0,0,0,0,0,0,0,0,0,0,0,0,0,0,0,0,0,0,0,0,0,0,0,0,0,0,0,0,0,0,0,0,0,0,0,0,0,0,0,0,0,0]
[1,{"$f":"'8 Axle Loads Direction 1-SS'!B56","v":3},{"$f":"'8 Axle Loads Direction 1-SS'!C56","v":0},{"$f":"'8 Axle Loads Direction 1-SS'!D56","v":0},{"$f":"'8 Axle Loads Direction 1-SS'!E56","v":0},{"$f":"'8 Axle Loads Direction 1-SS'!F56","v":0},{"$f":"'8 Axle Loads Direction 1-SS'!G56","v":0},{"$f":"'8 Axle Loads Direction 1-SS'!H56","v":0},{"$f":"'8 Axle Loads Direction 1-SS'!I56","v":0},{"$f":"'8 Axle Loads Direction 1-SS'!J56","v":0},{"$f":"'8 Axle Loads Direction 1-SS'!K56","v":0},0,0,0,0,0,0,0,0,0,0,0,0,0,0,0,0,0,null,0,0,0,0,0,0,0,0,0,0,0,0,0,0,0,0,0,0,0,0,0,0,0,0,0,0,0,0,0,0,0,0,0,0,0,0,0,0,0,0,0,0,0,0,0,0,0,0,0,0,0,0,0,0,0,0,0,0,0,0,0,0,0,0,0,0,0,0,0,0,0,0,0,0,0,0,0,0,0,0,0,0,0,0,0,0,0,0,0,0,0,0,0,0,0,0,0,0,0,0,0,0,0,0,0,0,0,0,0,0,0,0,0,0,0,0,0,0,0,0,0,0,0,0,0,0,0,0,0,0,0,0,0,0,0,0,0,0,0,0,0,0,0,0,0,0,0,0,0,0,0,0,0,0,0,0,0,0,0,0,0,0,0,0,0,0,0,0,0,0,0,0,0,0,0,0,0,0,0,0,0,0,0,0,0,0,0,0,0,0,0,0,0,0,0,0,0,0,0,0,0,0,0,0,0,0,0,0,0,0,0,0,0,0,0,0,0,0,0,0,0,0,0,0,0,0,0,0,0,0,0,0,0,0,0,0,0,0,0,0,0,0,0,0,0,0,0,0,0,0,0,0,0,0,0,0,0,0,0,0,0,0,0,0,0,0,0,0,0,0,0,0,0,0,0,0,0,0,0,0,0,0,0,0,0,0,0,0,0,0,0,0,0,0,0,0,0,0,0,0,0,0,0,0,0,0,0,0,0,0,0,0,0,0,0,0,0,0,0,0,0,0,0,0,0,0,0,0,0,0,0,0,0,0,0,0,0,0,0,0,0,0,0,0,0,0,0,0,0,0,0,0,0,0,0,0,0,0,0,0,0,0,0,0,0,0,0,0,0,0,0,0,0,0,0,0,0,0,0,0,0,0,0,0,0,0,0,0,0,0,0,0,0,0,0,0,0,0,0,0,0,0,0,0,0,0,0,0,0,0,0,0,0,0,0,0,0,0,0,0,0,0,0,0,0,0,0,0,0,0,0,0,0,0,0,0,0,0,0,0,0,0,0,0,0,0,0,0,0,0,0,0,0,0,0,0,0,0,0,0,0,0,0,0,0,0,0,0,0,0,0,0,0,0,0,0,0,0,0,0,0,0,0,0,0,0,0,0,0,0,0,0,0,0,0,0,0,0,0,0,0,0,0,0,0,0,0,0,0,0,0,0,0,0,0,0,0,0,0,0,0,0,0,0,0,0,0,0,0,0]
[1,{"$f":"'8 Axle Loads Direction 1-SS'!B57","v":3},{"$f":"'8 Axle Loads Direction 1-SS'!C57","v":0},{"$f":"'8 Axle Loads Direction 1-SS'!D57","v":0},{"$f":"'8 Axle Loads Direction 1-SS'!E57","v":0},{"$f":"'8 Axle Loads Direction 1-SS'!F57","v":0},{"$f":"'8 Axle Loads Direction 1-SS'!G57","v":0},{"$f":"'8 Axle Loads Direction 1-SS'!H57","v":0},{"$f":"'8 Axle Loads Direction 1-SS'!I57","v":0},{"$f":"'8 Axle Loads Direction 1-SS'!J57","v":0},{"$f":"'8 Axle Loads Direction 1-SS'!K57","v":0},0,0,0,0,0,0,0,0,0,0,0,0,0,0,0,0,0,null,0,0,0,0,0,0,0,0,0,0,0,0,0,0,0,0,0,0,0,0,0,0,0,0,0,0,0,0,0,0,0,0,0,0,0,0,0,0,0,0,0,0,0,0,0,0,0,0,0,0,0,0,0,0,0,0,0,0,0,0,0,0,0,0,0,0,0,0,0,0,0,0,0,0,0,0,0,0,0,0,0,0,0,0,0,0,0,0,0,0,0,0,0,0,0,0,0,0,0,0,0,0,0,0,0,0,0,0,0,0,0,0,0,0,0,0,0,0,0,0,0,0,0,0,0,0,0,0,0,0,0,0,0,0,0,0,0,0,0,0,0,0,0,0,0,0,0,0,0,0,0,0,0,0,0,0,0,0,0,0,0,0,0,0,0,0,0,0,0,0,0,0,0,0,0,0,0,0,0,0,0,0,0,0,0,0,0,0,0,0,0,0,0,0,0,0,0,0,0,0,0,0,0,0,0,0,0,0,0,0,0,0,0,0,0,0,0,0,0,0,0,0,0,0,0,0,0,0,0,0,0,0,0,0,0,0,0,0,0,0,0,0,0,0,0,0,0,0,0,0,0,0,0,0,0,0,0,0,0,0,0,0,0,0,0,0,0,0,0,0,0,0,0,0,0,0,0,0,0,0,0,0,0,0,0,0,0,0,0,0,0,0,0,0,0,0,0,0,0,0,0,0,0,0,0,0,0,0,0,0,0,0,0,0,0,0,0,0,0,0,0,0,0,0,0,0,0,0,0,0,0,0,0,0,0,0,0,0,0,0,0,0,0,0,0,0,0,0,0,0,0,0,0,0,0,0,0,0,0,0,0,0,0,0,0,0,0,0,0,0,0,0,0,0,0,0,0,0,0,0,0,0,0,0,0,0,0,0,0,0,0,0,0,0,0,0,0,0,0,0,0,0,0,0,0,0,0,0,0,0,0,0,0,0,0,0,0,0,0,0,0,0,0,0,0,0,0,0,0,0,0,0,0,0,0,0,0,0,0,0,0,0,0,0,0,0,0,0,0,0,0,0,0,0,0,0,0,0,0,0,0,0,0,0,0,0,0,0,0,0,0,0,0,0,0,0,0,0,0,0,0,0,0,0,0,0,0,0,0,0,0,0,0,0,0,0,0,0,0,0,0,0,0,0,0,0,0,0,0,0,0,0,0,0,0,0,0,0,0,0,0,0,0,0,0,0,0,0,0,0]
[1,{"$f":"'8 Axle Loads Direction 1-SS'!B58","v":6},{"$f":"'8 Axle Loads Direction 1-SS'!C58","v":5},{"$f":"'8 Axle Loads Direction 1-SS'!D58","v":6},{"$f":"'8 Axle Loads Direction 1-SS'!E58","v":6},{"$f":"'8 Axle Loads Direction 1-SS'!F58","v":9},{"$f":"'8 Axle Loads Direction 1-SS'!G58","v":9},{"$f":"'8 Axle Loads Direction 1-SS'!H58","v":9},{"$f":"'8 Axle Loads Direction 1-SS'!I58","v":0},{"$f":"'8 Axle Loads Direction 1-SS'!J58","v":0},{"$f":"'8 Axle Loads Direction 1-SS'!K58","v":0},5,0,0,0,12,0,0,0,0,0,0,0,0,0,27,0,0,null,0,0,0,0,50,0,0,0,0,0,0,0,0,0,0,0,0,0,0,0,0,0,0,0,0,0,0,0,0,0,0,0,0,0,0,0,0,0,0,0,0,0,0,0,0,0,0,0,0,0,0,0,0,0,0,0,0,0,0,0,0,0,0,0,0,0,0,0,0,0,0,0,0,0,0,0,0,0,0,0,0,0,0,0,0,0,0,0,0,0,0,0,0,0,0,0,0,0,0,0,0,0,0,0,0,0,0,0,0,0,0,0,0,0,0,0,0,0,0,0,0,0,0,0,0,0,0,0,0,0,0,120,0,0,0,0,0,0,0,0,0,0,0,0,0,0,0,0,0,0,0,0,0,0,0,0,0,0,0,0,0,0,0,0,0,0,0,0,0,0,0,0,0,0,0,0,0,0,0,0,0,0,0,0,0,0,0,0,0,0,0,0,0,0,0,0,0,0,0,0,0,0,0,0,0,0,0,0,0,0,0,0,0,0,0,0,0,0,0,0,0,0,0,0,0,0,0,0,0,0,0,0,0,0,0,0,0,0,0,0,0,0,0,0,0,0,0,0,0,0,0,0,0,0,0,0,0,0,0,0,0,0,0,0,0,0,0,0,0,0,0,0,0,0,0,0,0,0,0,0,0,0,0,0,0,0,0,0,0,0,0,0,0,0,0,0,0,0,0,0,0,0,0,0,0,0,0,0,0,0,0,0,0,0,0,0,0,0,0,0,0,0,0,0,0,0,0,0,0,0,0,0,0,0,0,0,0,0,0,0,0,0,0,0,0,0,0,0,0,0,0,0,0,0,0,0,0,0,0,0,0,0,0,0,0,0,0,0,0,0,0,0,0,0,0,0,0,0,0,0,0,0,0,0,0,0,0,0,0,0,0,0,0,0,0,0,0,0,0,0,0,0,0,0,0,0,0,0,0,0,0,0,0,0,0,0,0,0,0,0,0,0,0,0,0,0,0,0,0,0,0,0,0,0,0,0,0,0,0,0,0,0,0,0,0,0,0,0,0,0,0,270,0,0,0,0,0,0,0,0,0,0,0,0,0,0,0,0,0,0,0,0,0,0,0,0,0,0,0,0,0,0,0,0,0,0,0,0,0,0,0,0,0,0,0,0,0,0,0,0,0,0,0,0,0,0,0,0,0,0,0,0,0,0,0,0,0,0,0,0,0,0,0,0,0,0,0,0,0,0]
[1,{"$f":"'8 Axle Loads Direction 1-SS'!B59","v":3},{"$f":"'8 Axle Loads Direction 1-SS'!C59","v":0},{"$f":"'8 Axle Loads Direction 1-SS'!D59","v":0},{"$f":"'8 Axle Loads Direction 1-SS'!E59","v":0},{"$f":"'8 Axle Loads Direction 1-SS'!F59","v":0},{"$f":"'8 Axle Loads Direction 1-SS'!G59","v":0},{"$f":"'8 Axle Loads Direction 1-SS'!H59","v":0},{"$f":"'8 Axle Loads Direction 1-SS'!I59","v":0},{"$f":"'8 Axle Loads Direction 1-SS'!J59","v":0},{"$f":"'8 Axle Loads Direction 1-SS'!K59","v":0},0,0,0,0,0,0,0,0,0,0,0,0,0,0,0,0,0,null,0,0,0,0,0,0,0,0,0,0,0,0,0,0,0,0,0,0,0,0,0,0,0,0,0,0,0,0,0,0,0,0,0,0,0,0,0,0,0,0,0,0,0,0,0,0,0,0,0,0,0,0,0,0,0,0,0,0,0,0,0,0,0,0,0,0,0,0,0,0,0,0,0,0,0,0,0,0,0,0,0,0,0,0,0,0,0,0,0,0,0,0,0,0,0,0,0,0,0,0,0,0,0,0,0,0,0,0,0,0,0,0,0,0,0,0,0,0,0,0,0,0,0,0,0,0,0,0,0,0,0,0,0,0,0,0,0,0,0,0,0,0,0,0,0,0,0,0,0,0,0,0,0,0,0,0,0,0,0,0,0,0,0,0,0,0,0,0,0,0,0,0,0,0,0,0,0,0,0,0,0,0,0,0,0,0,0,0,0,0,0,0,0,0,0,0,0,0,0,0,0,0,0,0,0,0,0,0,0,0,0,0,0,0,0,0,0,0,0,0,0,0,0,0,0,0,0,0,0,0,0,0,0,0,0,0,0,0,0,0,0,0,0,0,0,0,0,0,0,0,0,0,0,0,0,0,0,0,0,0,0,0,0,0,0,0,0,0,0,0,0,0,0,0,0,0,0,0,0,0,0,0,0,0,0,0,0,0,0,0,0,0,0,0,0,0,0,0,0,0,0,0,0,0,0,0,0,0,0,0,0,0,0,0,0,0,0,0,0,0,0,0,0,0,0,0,0,0,0,0,0,0,0,0,0,0,0,0,0,0,0,0,0,0,0,0,0,0,0,0,0,0,0,0,0,0,0,0,0,0,0,0,0,0,0,0,0,0,0,0,0,0,0,0,0,0,0,0,0,0,0,0,0,0,0,0,0,0,0,0,0,0,0,0,0,0,0,0,0,0,0,0,0,0,0,0,0,0,0,0,0,0,0,0,0,0,0,0,0,0,0,0,0,0,0,0,0,0,0,0,0,0,0,0,0,0,0,0,0,0,0,0,0,0,0,0,0,0,0,0,0,0,0,0,0,0,0,0,0,0,0,0,0,0,0,0,0,0,0,0,0,0,0,0,0,0,0,0,0,0,0,0,0,0,0,0,0,0,0,0,0,0,0,0,0,0,0,0,0,0,0,0,0,0,0,0,0,0,0,0,0,0,0,0,0,0,0,0,0,0,0,0,0,0,0,0,0,0,0,0]
[1,{"$f":"'8 Axle Loads Direction 1-SS'!B60","v":3},{"$f":"'8 Axle Loads Direction 1-SS'!C60","v":0},{"$f":"'8 Axle Loads Direction 1-SS'!D60","v":0},{"$f":"'8 Axle Loads Direction 1-SS'!E60","v":0},{"$f":"'8 Axle Loads Direction 1-SS'!F60","v":0},{"$f":"'8 Axle Loads Direction 1-SS'!G60","v":0},{"$f":"'8 Axle Loads Direction 1-SS'!H60","v":0},{"$f":"'8 Axle Loads Direction 1-SS'!I60","v":0},{"$f":"'8 Axle Loads Direction 1-SS'!J60","v":0},{"$f":"'8 Axle Loads Direction 1-SS'!K60","v":0},0,0,0,0,0,0,0,0,0,0,0,0,0,0,0,0,0,null,0,0,0,0,0,0,0,0,0,0,0,0,0,0,0,0,0,0,0,0,0,0,0,0,0,0,0,0,0,0,0,0,0,0,0,0,0,0,0,0,0,0,0,0,0,0,0,0,0,0,0,0,0,0,0,0,0,0,0,0,0,0,0,0,0,0,0,0,0,0,0,0,0,0,0,0,0,0,0,0,0,0,0,0,0,0,0,0,0,0,0,0,0,0,0,0,0,0,0,0,0,0,0,0,0,0,0,0,0,0,0,0,0,0,0,0,0,0,0,0,0,0,0,0,0,0,0,0,0,0,0,0,0,0,0,0,0,0,0,0,0,0,0,0,0,0,0,0,0,0,0,0,0,0,0,0,0,0,0,0,0,0,0,0,0,0,0,0,0,0,0,0,0,0,0,0,0,0,0,0,0,0,0,0,0,0,0,0,0,0,0,0,0,0,0,0,0,0,0,0,0,0,0,0,0,0,0,0,0,0,0,0,0,0,0,0,0,0,0,0,0,0,0,0,0,0,0,0,0,0,0,0,0,0,0,0,0,0,0,0,0,0,0,0,0,0,0,0,0,0,0,0,0,0,0,0,0,0,0,0,0,0,0,0,0,0,0,0,0,0,0,0,0,0,0,0,0,0,0,0,0,0,0,0,0,0,0,0,0,0,0,0,0,0,0,0,0,0,0,0,0,0,0,0,0,0,0,0,0,0,0,0,0,0,0,0,0,0,0,0,0,0,0,0,0,0,0,0,0,0,0,0,0,0,0,0,0,0,0,0,0,0,0,0,0,0,0,0,0,0,0,0,0,0,0,0,0,0,0,0,0,0,0,0,0,0,0,0,0,0,0,0,0,0,0,0,0,0,0,0,0,0,0,0,0,0,0,0,0,0,0,0,0,0,0,0,0,0,0,0,0,0,0,0,0,0,0,0,0,0,0,0,0,0,0,0,0,0,0,0,0,0,0,0,0,0,0,0,0,0,0,0,0,0,0,0,0,0,0,0,0,0,0,0,0,0,0,0,0,0,0,0,0,0,0,0,0,0,0,0,0,0,0,0,0,0,0,0,0,0,0,0,0,0,0,0,0,0,0,0,0,0,0,0,0,0,0,0,0,0,0,0,0,0,0,0,0,0,0,0,0,0,0,0,0,0,0,0,0,0,0,0,0,0,0,0,0,0,0,0,0,0,0,0,0,0,0,0,0,0]
[1,{"$f":"'8 Axle Loads Direction 1-SS'!B61","v":3},{"$f":"'8 Axle Loads Direction 1-SS'!C61","v":0},{"$f":"'8 Axle Loads Direction 1-SS'!D61","v":0},{"$f":"'8 Axle Loads Direction 1-SS'!E61","v":0},{"$f":"'8 Axle Loads Direction 1-SS'!F61","v":0},{"$f":"'8 Axle Loads Direction 1-SS'!G61","v":0},{"$f":"'8 Axle Loads Direction 1-SS'!H61","v":0},{"$f":"'8 Axle Loads Direction 1-SS'!I61","v":0},{"$f":"'8 Axle Loads Direction 1-SS'!J61","v":0},{"$f":"'8 Axle Loads Direction 1-SS'!K61","v":0},0,0,0,0,0,0,0,0,0,0,0,0,0,0,0,0,0,null,0,0,0,0,0,0,0,0,0,0,0,0,0,0,0,0,0,0,0,0,0,0,0,0,0,0,0,0,0,0,0,0,0,0,0,0,0,0,0,0,0,0,0,0,0,0,0,0,0,0,0,0,0,0,0,0,0,0,0,0,0,0,0,0,0,0,0,0,0,0,0,0,0,0,0,0,0,0,0,0,0,0,0,0,0,0,0,0,0,0,0,0,0,0,0,0,0,0,0,0,0,0,0,0,0,0,0,0,0,0,0,0,0,0,0,0,0,0,0,0,0,0,0,0,0,0,0,0,0,0,0,0,0,0,0,0,0,0,0,0,0,0,0,0,0,0,0,0,0,0,0,0,0,0,0,0,0,0,0,0,0,0,0,0,0,0,0,0,0,0,0,0,0,0,0,0,0,0,0,0,0,0,0,0,0,0,0,0,0,0,0,0,0,0,0,0,0,0,0,0,0,0,0,0,0,0,0,0,0,0,0,0,0,0,0,0,0,0,0,0,0,0,0,0,0,0,0,0,0,0,0,0,0,0,0,0,0,0,0,0,0,0,0,0,0,0,0,0,0,0,0,0,0,0,0,0,0,0,0,0,0,0,0,0,0,0,0,0,0,0,0,0,0,0,0,0,0,0,0,0,0,0,0,0,0,0,0,0,0,0,0,0,0,0,0,0,0,0,0,0,0,0,0,0,0,0,0,0,0,0,0,0,0,0,0,0,0,0,0,0,0,0,0,0,0,0,0,0,0,0,0,0,0,0,0,0,0,0,0,0,0,0,0,0,0,0,0,0,0,0,0,0,0,0,0,0,0,0,0,0,0,0,0,0,0,0,0,0,0,0,0,0,0,0,0,0,0,0,0,0,0,0,0,0,0,0,0,0,0,0,0,0,0,0,0,0,0,0,0,0,0,0,0,0,0,0,0,0,0,0,0,0,0,0,0,0,0,0,0,0,0,0,0,0,0,0,0,0,0,0,0,0,0,0,0,0,0,0,0,0,0,0,0,0,0,0,0,0,0,0,0,0,0,0,0,0,0,0,0,0,0,0,0,0,0,0,0,0,0,0,0,0,0,0,0,0,0,0,0,0,0,0,0,0,0,0,0,0,0,0,0,0,0,0,0,0,0,0,0,0,0,0,0,0,0,0,0,0,0,0,0,0,0,0,0,0,0,0,0,0,0,0,0,0,0,0,0,0,0,0]
[1,{"$f":"'8 Axle Loads Direction 1-SS'!B62","v":3},{"$f":"'8 Axle Loads Direction 1-SS'!C62","v":0},{"$f":"'8 Axle Loads Direction 1-SS'!D62","v":0},{"$f":"'8 Axle Loads Direction 1-SS'!E62","v":0},{"$f":"'8 Axle Loads Direction 1-SS'!F62","v":0},{"$f":"'8 Axle Loads Direction 1-SS'!G62","v":0},{"$f":"'8 Axle Loads Direction 1-SS'!H62","v":0},{"$f":"'8 Axle Loads Direction 1-SS'!I62","v":0},{"$f":"'8 Axle Loads Direction 1-SS'!J62","v":0},{"$f":"'8 Axle Loads Direction 1-SS'!K62","v":0},0,0,0,0,0,0,0,0,0,0,0,0,0,0,0,0,0,null,0,0,0,0,0,0,0,0,0,0,0,0,0,0,0,0,0,0,0,0,0,0,0,0,0,0,0,0,0,0,0,0,0,0,0,0,0,0,0,0,0,0,0,0,0,0,0,0,0,0,0,0,0,0,0,0,0,0,0,0,0,0,0,0,0,0,0,0,0,0,0,0,0,0,0,0,0,0,0,0,0,0,0,0,0,0,0,0,0,0,0,0,0,0,0,0,0,0,0,0,0,0,0,0,0,0,0,0,0,0,0,0,0,0,0,0,0,0,0,0,0,0,0,0,0,0,0,0,0,0,0,0,0,0,0,0,0,0,0,0,0,0,0,0,0,0,0,0,0,0,0,0,0,0,0,0,0,0,0,0,0,0,0,0,0,0,0,0,0,0,0,0,0,0,0,0,0,0,0,0,0,0,0,0,0,0,0,0,0,0,0,0,0,0,0,0,0,0,0,0,0,0,0,0,0,0,0,0,0,0,0,0,0,0,0,0,0,0,0,0,0,0,0,0,0,0,0,0,0,0,0,0,0,0,0,0,0,0,0,0,0,0,0,0,0,0,0,0,0,0,0,0,0,0,0,0,0,0,0,0,0,0,0,0,0,0,0,0,0,0,0,0,0,0,0,0,0,0,0,0,0,0,0,0,0,0,0,0,0,0,0,0,0,0,0,0,0,0,0,0,0,0,0,0,0,0,0,0,0,0,0,0,0,0,0,0,0,0,0,0,0,0,0,0,0,0,0,0,0,0,0,0,0,0,0,0,0,0,0,0,0,0,0,0,0,0,0,0,0,0,0,0,0,0,0,0,0,0,0,0,0,0,0,0,0,0,0,0,0,0,0,0,0,0,0,0,0,0,0,0,0,0,0,0,0,0,0,0,0,0,0,0,0,0,0,0,0,0,0,0,0,0,0,0,0,0,0,0,0,0,0,0,0,0,0,0,0,0,0,0,0,0,0,0,0,0,0,0,0,0,0,0,0,0,0,0,0,0,0,0,0,0,0,0,0,0,0,0,0,0,0,0,0,0,0,0,0,0,0,0,0,0,0,0,0,0,0,0,0,0,0,0,0,0,0,0,0,0,0,0,0,0,0,0,0,0,0,0,0,0,0,0,0,0,0,0,0,0,0,0,0,0,0,0,0,0,0,0,0,0,0,0,0,0,0,0,0,0,0,0,0,0,0,0,0,0,0,0,0,0]
[1,{"$f":"'8 Axle Loads Direction 1-SS'!B63","v":"6B"},{"$f":"'8 Axle Loads Direction 1-SS'!C63","v":5},{"$f":"'8 Axle Loads Direction 1-SS'!D63","v":7},{"$f":"'8 Axle Loads Direction 1-SS'!E63","v":7},{"$f":"'8 Axle Loads Direction 1-SS'!F63","v":9},{"$f":"'8 Axle Loads Direction 1-SS'!G63","v":9},{"$f":"'8 Axle Loads Direction 1-SS'!H63","v":9},{"$f":"'8 Axle Loads Direction 1-SS'!I63","v":0},{"$f":"'8 Axle Loads Direction 1-SS'!J63","v":0},{"$f":"'8 Axle Loads Direction 1-SS'!K63","v":0},5,0,0,0,14,0,0,0,0,0,0,0,0,0,0,0,27,null,0,0,0,0,50,0,0,0,0,0,0,0,0,0,0,0,0,0,0,0,0,0,0,0,0,0,0,0,0,0,0,0,0,0,0,0,0,0,0,0,0,0,0,0,0,0,0,0,0,0,0,0,0,0,0,0,0,0,0,0,0,0,0,0,0,0,0,0,0,0,0,0,0,0,0,0,0,0,0,0,0,0,0,0,0,0,0,0,0,0,0,0,0,0,0,0,0,0,0,0,0,0,0,0,0,0,0,0,0,0,0,0,0,0,0,0,0,0,0,0,0,0,0,0,0,0,0,0,0,0,0,0,0,140,0,0,0,0,0,0,0,0,0,0,0,0,0,0,0,0,0,0,0,0,0,0,0,0,0,0,0,0,0,0,0,0,0,0,0,0,0,0,0,0,0,0,0,0,0,0,0,0,0,0,0,0,0,0,0,0,0,0,0,0,0,0,0,0,0,0,0,0,0,0,0,0,0,0,0,0,0,0,0,0,0,0,0,0,0,0,0,0,0,0,0,0,0,0,0,0,0,0,0,0,0,0,0,0,0,0,0,0,0,0,0,0,0,0,0,0,0,0,0,0,0,0,0,0,0,0,0,0,0,0,0,0,0,0,0,0,0,0,0,0,0,0,0,0,0,0,0,0,0,0,0,0,0,0,0,0,0,0,0,0,0,0,0,0,0,0,0,0,0,0,0,0,0,0,0,0,0,0,0,0,0,0,0,0,0,0,0,0,0,0,0,0,0,0,0,0,0,0,0,0,0,0,0,0,0,0,0,0,0,0,0,0,0,0,0,0,0,0,0,0,0,0,0,0,0,0,0,0,0,0,0,0,0,0,0,0,0,0,0,0,0,0,0,0,0,0,0,0,0,0,0,0,0,0,0,0,0,0,0,0,0,0,0,0,0,0,0,0,0,0,0,0,0,0,0,0,0,0,0,0,0,0,0,0,0,0,0,0,0,0,0,0,0,0,0,0,0,0,0,0,0,0,0,0,0,0,0,0,0,0,0,0,0,0,0,0,0,0,0,0,0,0,0,0,0,0,0,0,0,0,0,0,0,0,0,0,0,0,0,0,0,0,0,0,0,0,0,0,0,0,0,0,0,0,0,0,0,0,0,0,0,0,0,0,0,0,0,0,0,0,0,0,0,0,0,0,0,0,0,0,0,0,0,0,0,0,0,270,0,0,0,0,0,0,0,0]
[1,{"$f":"'8 Axle Loads Direction 1-SS'!B79","v":3},{"$f":"'8 Axle Loads Direction 1-SS'!C79","v":0},{"$f":"'8 Axle Loads Direction 1-SS'!D79","v":0},{"$f":"'8 Axle Loads Direction 1-SS'!E79","v":0},{"$f":"'8 Axle Loads Direction 1-SS'!F79","v":0},{"$f":"'8 Axle Loads Direction 1-SS'!G79","v":0},{"$f":"'8 Axle Loads Direction 1-SS'!H79","v":0},{"$f":"'8 Axle Loads Direction 1-SS'!I79","v":0},{"$f":"'8 Axle Loads Direction 1-SS'!J79","v":0},{"$f":"'8 Axle Loads Direction 1-SS'!K79","v":0},0,0,0,0,0,0,0,0,0,0,0,0,0,0,0,0,0,null,0,0,0,0,0,0,0,0,0,0,0,0,0,0,0,0,0,0,0,0,0,0,0,0,0,0,0,0,0,0,0,0,0,0,0,0,0,0,0,0,0,0,0,0,0,0,0,0,0,0,0,0,0,0,0,0,0,0,0,0,0,0,0,0,0,0,0,0,0,0,0,0,0,0,0,0,0,0,0,0,0,0,0,0,0,0,0,0,0,0,0,0,0,0,0,0,0,0,0,0,0,0,0,0,0,0,0,0,0,0,0,0,0,0,0,0,0,0,0,0,0,0,0,0,0,0,0,0,0,0,0,0,0,0,0,0,0,0,0,0,0,0,0,0,0,0,0,0,0,0,0,0,0,0,0,0,0,0,0,0,0,0,0,0,0,0,0,0,0,0,0,0,0,0,0,0,0,0,0,0,0,0,0,0,0,0,0,0,0,0,0,0,0,0,0,0,0,0,0,0,0,0,0,0,0,0,0,0,0,0,0,0,0,0,0,0,0,0,0,0,0,0,0,0,0,0,0,0,0,0,0,0,0,0,0,0,0,0,0,0,0,0,0,0,0,0,0,0,0,0,0,0,0,0,0,0,0,0,0,0,0,0,0,0,0,0,0,0,0,0,0,0,0,0,0,0,0,0,0,0,0,0,0,0,0,0,0,0,0,0,0,0,0,0,0,0,0,0,0,0,0,0,0,0,0,0,0,0,0,0,0,0,0,0,0,0,0,0,0,0,0,0,0,0,0,0,0,0,0,0,0,0,0,0,0,0,0,0,0,0,0,0,0,0,0,0,0,0,0,0,0,0,0,0,0,0,0,0,0,0,0,0,0,0,0,0,0,0,0,0,0,0,0,0,0,0,0,0,0,0,0,0,0,0,0,0,0,0,0,0,0,0,0,0,0,0,0,0,0,0,0,0,0,0,0,0,0,0,0,0,0,0,0,0,0,0,0,0,0,0,0,0,0,0,0,0,0,0,0,0,0,0,0,0,0,0,0,0,0,0,0,0,0,0,0,0,0,0,0,0,0,0,0,0,0,0,0,0,0,0,0,0,0,0,0,0,0,0,0,0,0,0,0,0,0,0,0,0,0,0,0,0,0,0,0,0,0,0,0,0,0,0,0,0,0,0,0,0,0,0,0,0,0,0,0,0,0,0,0,0,0,0,0,0,0,0,0,0,0,0,0,0,0,0,0,0,0,0,0,0]
[1,{"$f":"'8 Axle Loads Direction 1-SS'!B94","v":3},{"$f":"'8 Axle Loads Direction 1-SS'!C94","v":0},{"$f":"'8 Axle Loads Direction 1-SS'!D94","v":0},{"$f":"'8 Axle Loads Direction 1-SS'!E94","v":0},{"$f":"'8 Axle Loads Direction 1-SS'!F94","v":0},{"$f":"'8 Axle Loads Direction 1-SS'!G94","v":0},{"$f":"'8 Axle Loads Direction 1-SS'!H94","v":0},{"$f":"'8 Axle Loads Direction 1-SS'!I94","v":0},{"$f":"'8 Axle Loads Direction 1-SS'!J94","v":0},{"$f":"'8 Axle Loads Direction 1-SS'!K94","v":0},0,0,0,0,0,0,0,0,0,0,0,0,0,0,0,0,0,null,0,0,0,0,0,0,0,0,0,0,0,0,0,0,0,0,0,0,0,0,0,0,0,0,0,0,0,0,0,0,0,0,0,0,0,0,0,0,0,0,0,0,0,0,0,0,0,0,0,0,0,0,0,0,0,0,0,0,0,0,0,0,0,0,0,0,0,0,0,0,0,0,0,0,0,0,0,0,0,0,0,0,0,0,0,0,0,0,0,0,0,0,0,0,0,0,0,0,0,0,0,0,0,0,0,0,0,0,0,0,0,0,0,0,0,0,0,0,0,0,0,0,0,0,0,0,0,0,0,0,0,0,0,0,0,0,0,0,0,0,0,0,0,0,0,0,0,0,0,0,0,0,0,0,0,0,0,0,0,0,0,0,0,0,0,0,0,0,0,0,0,0,0,0,0,0,0,0,0,0,0,0,0,0,0,0,0,0,0,0,0,0,0,0,0,0,0,0,0,0,0,0,0,0,0,0,0,0,0,0,0,0,0,0,0,0,0,0,0,0,0,0,0,0,0,0,0,0,0,0,0,0,0,0,0,0,0,0,0,0,0,0,0,0,0,0,0,0,0,0,0,0,0,0,0,0,0,0,0,0,0,0,0,0,0,0,0,0,0,0,0,0,0,0,0,0,0,0,0,0,0,0,0,0,0,0,0,0,0,0,0,0,0,0,0,0,0,0,0,0,0,0,0,0,0,0,0,0,0,0,0,0,0,0,0,0,0,0,0,0,0,0,0,0,0,0,0,0,0,0,0,0,0,0,0,0,0,0,0,0,0,0,0,0,0,0,0,0,0,0,0,0,0,0,0,0,0,0,0,0,0,0,0,0,0,0,0,0,0,0,0,0,0,0,0,0,0,0,0,0,0,0,0,0,0,0,0,0,0,0,0,0,0,0,0,0,0,0,0,0,0,0,0,0,0,0,0,0,0,0,0,0,0,0,0,0,0,0,0,0,0,0,0,0,0,0,0,0,0,0,0,0,0,0,0,0,0,0,0,0,0,0,0,0,0,0,0,0,0,0,0,0,0,0,0,0,0,0,0,0,0,0,0,0,0,0,0,0,0,0,0,0,0,0,0,0,0,0,0,0,0,0,0,0,0,0,0,0,0,0,0,0,0,0,0,0,0,0,0,0,0,0,0,0,0,0,0,0,0,0,0,0,0,0,0,0,0,0,0,0,0,0,0,0,0,0,0,0,0,0]
[1,{"$f":"'8 Axle Loads Direction 1-SS'!B120","v":3},{"$f":"'8 Axle Loads Direction 1-SS'!C120","v":0},{"$f":"'8 Axle Loads Direction 1-SS'!D120","v":0},{"$f":"'8 Axle Loads Direction 1-SS'!E120","v":0},{"$f":"'8 Axle Loads Direction 1-SS'!F120","v":0},{"$f":"'8 Axle Loads Direction 1-SS'!G120","v":0},{"$f":"'8 Axle Loads Direction 1-SS'!H120","v":0},{"$f":"'8 Axle Loads Direction 1-SS'!I120","v":0},{"$f":"'8 Axle Loads Direction 1-SS'!J120","v":0},{"$f":"'8 Axle Loads Direction 1-SS'!K120","v":0},0,0,0,0,0,0,0,0,0,0,0,0,0,0,0,0,0,null,0,0,0,0,0,0,0,0,0,0,0,0,0,0,0,0,0,0,0,0,0,0,0,0,0,0,0,0,0,0,0,0,0,0,0,0,0,0,0,0,0,0,0,0,0,0,0,0,0,0,0,0,0,0,0,0,0,0,0,0,0,0,0,0,0,0,0,0,0,0,0,0,0,0,0,0,0,0,0,0,0,0,0,0,0,0,0,0,0,0,0,0,0,0,0,0,0,0,0,0,0,0,0,0,0,0,0,0,0,0,0,0,0,0,0,0,0,0,0,0,0,0,0,0,0,0,0,0,0,0,0,0,0,0,0,0,0,0,0,0,0,0,0,0,0,0,0,0,0,0,0,0,0,0,0,0,0,0,0,0,0,0,0,0,0,0,0,0,0,0,0,0,0,0,0,0,0,0,0,0,0,0,0,0,0,0,0,0,0,0,0,0,0,0,0,0,0,0,0,0,0,0,0,0,0,0,0,0,0,0,0,0,0,0,0,0,0,0,0,0,0,0,0,0,0,0,0,0,0,0,0,0,0,0,0,0,0,0,0,0,0,0,0,0,0,0,0,0,0,0,0,0,0,0,0,0,0,0,0,0,0,0,0,0,0,0,0,0,0,0,0,0,0,0,0,0,0,0,0,0,0,0,0,0,0,0,0,0,0,0,0,0,0,0,0,0,0,0,0,0,0,0,0,0,0,0,0,0,0,0,0,0,0,0,0,0,0,0,0,0,0,0,0,0,0,0,0,0,0,0,0,0,0,0,0,0,0,0,0,0,0,0,0,0,0,0,0,0,0,0,0,0,0,0,0,0,0,0,0,0,0,0,0,0,0,0,0,0,0,0,0,0,0,0,0,0,0,0,0,0,0,0,0,0,0,0,0,0,0,0,0,0,0,0,0,0,0,0,0,0,0,0,0,0,0,0,0,0,0,0,0,0,0,0,0,0,0,0,0,0,0,0,0,0,0,0,0,0,0,0,0,0,0,0,0,0,0,0,0,0,0,0,0,0,0,0,0,0,0,0,0,0,0,0,0,0,0,0,0,0,0,0,0,0,0,0,0,0,0,0,0,0,0,0,0,0,0,0,0,0,0,0,0,0,0,0,0,0,0,0,0,0,0,0,0,0,0,0,0,0,0,0,0,0,0,0,0,0,0,0,0,0,0,0,0,0,0,0,0,0,0,0,0,0,0,0,0,0,0,0]
[1,{"$f":"'8 Axle Loads Direction 1-SS'!B126","v":3},{"$f":"'8 Axle Loads Direction 1-SS'!C126","v":0},{"$f":"'8 Axle Loads Direction 1-SS'!D126","v":0},{"$f":"'8 Axle Loads Direction 1-SS'!E126","v":0},{"$f":"'8 Axle Loads Direction 1-SS'!F126","v":0},{"$f":"'8 Axle Loads Direction 1-SS'!G126","v":0},{"$f":"'8 Axle Loads Direction 1-SS'!H126","v":0},{"$f":"'8 Axle Loads Direction 1-SS'!I126","v":0},{"$f":"'8 Axle Loads Direction 1-SS'!J126","v":0},{"$f":"'8 Axle Loads Direction 1-SS'!K126","v":0},0,0,0,0,0,0,0,0,0,0,0,0,0,0,0,0,0,null,0,0,0,0,0,0,0,0,0,0,0,0,0,0,0,0,0,0,0,0,0,0,0,0,0,0,0,0,0,0,0,0,0,0,0,0,0,0,0,0,0,0,0,0,0,0,0,0,0,0,0,0,0,0,0,0,0,0,0,0,0,0,0,0,0,0,0,0,0,0,0,0,0,0,0,0,0,0,0,0,0,0,0,0,0,0,0,0,0,0,0,0,0,0,0,0,0,0,0,0,0,0,0,0,0,0,0,0,0,0,0,0,0,0,0,0,0,0,0,0,0,0,0,0,0,0,0,0,0,0,0,0,0,0,0,0,0,0,0,0,0,0,0,0,0,0,0,0,0,0,0,0,0,0,0,0,0,0,0,0,0,0,0,0,0,0,0,0,0,0,0,0,0,0,0,0,0,0,0,0,0,0,0,0,0,0,0,0,0,0,0,0,0,0,0,0,0,0,0,0,0,0,0,0,0,0,0,0,0,0,0,0,0,0,0,0,0,0,0,0,0,0,0,0,0,0,0,0,0,0,0,0,0,0,0,0,0,0,0,0,0,0,0,0,0,0,0,0,0,0,0,0,0,0,0,0,0,0,0,0,0,0,0,0,0,0,0,0,0,0,0,0,0,0,0,0,0,0,0,0,0,0,0,0,0,0,0,0,0,0,0,0,0,0,0,0,0,0,0,0,0,0,0,0,0,0,0,0,0,0,0,0,0,0,0,0,0,0,0,0,0,0,0,0,0,0,0,0,0,0,0,0,0,0,0,0,0,0,0,0,0,0,0,0,0,0,0,0,0,0,0,0,0,0,0,0,0,0,0,0,0,0,0,0,0,0,0,0,0,0,0,0,0,0,0,0,0,0,0,0,0,0,0,0,0,0,0,0,0,0,0,0,0,0,0,0,0,0,0,0,0,0,0,0,0,0,0,0,0,0,0,0,0,0,0,0,0,0,0,0,0,0,0,0,0,0,0,0,0,0,0,0,0,0,0,0,0,0,0,0,0,0,0,0,0,0,0,0,0,0,0,0,0,0,0,0,0,0,0,0,0,0,0,0,0,0,0,0,0,0,0,0,0,0,0,0,0,0,0,0,0,0,0,0,0,0,0,0,0,0,0,0,0,0,0,0,0,0,0,0,0,0,0,0,0,0,0,0,0,0,0,0,0,0,0,0,0,0,0,0,0,0,0,0,0,0,0,0,0,0]
[1,{"$f":"'8 Axle Loads Direction 1-SS'!B141","v":3},{"$f":"'8 Axle Loads Direction 1-SS'!C141","v":0},{"$f":"'8 Axle Loads Direction 1-SS'!D141","v":0},{"$f":"'8 Axle Loads Direction 1-SS'!E141","v":0},{"$f":"'8 Axle Loads Direction 1-SS'!F141","v":0},{"$f":"'8 Axle Loads Direction 1-SS'!G141","v":0},{"$f":"'8 Axle Loads Direction 1-SS'!H141","v":0},{"$f":"'8 Axle Loads Direction 1-SS'!I141","v":0},{"$f":"'8 Axle Loads Direction 1-SS'!J141","v":0},{"$f":"'8 Axle Loads Direction 1-SS'!K141","v":0},0,0,0,0,0,0,0,0,0,0,0,0,0,0,0,0,0,null,0,0,0,0,0,0,0,0,0,0,0,0,0,0,0,0,0,0,0,0,0,0,0,0,0,0,0,0,0,0,0,0,0,0,0,0,0,0,0,0,0,0,0,0,0,0,0,0,0,0,0,0,0,0,0,0,0,0,0,0,0,0,0,0,0,0,0,0,0,0,0,0,0,0,0,0,0,0,0,0,0,0,0,0,0,0,0,0,0,0,0,0,0,0,0,0,0,0,0,0,0,0,0,0,0,0,0,0,0,0,0,0,0,0,0,0,0,0,0,0,0,0,0,0,0,0,0,0,0,0,0,0,0,0,0,0,0,0,0,0,0,0,0,0,0,0,0,0,0,0,0,0,0,0,0,0,0,0,0,0,0,0,0,0,0,0,0,0,0,0,0,0,0,0,0,0,0,0,0,0,0,0,0,0,0,0,0,0,0,0,0,0,0,0,0,0,0,0,0,0,0,0,0,0,0,0,0,0,0,0,0,0,0,0,0,0,0,0,0,0,0,0,0,0,0,0,0,0,0,0,0,0,0,0,0,0,0,0,0,0,0,0,0,0,0,0,0,0,0,0,0,0,0,0,0,0,0,0,0,0,0,0,0,0,0,0,0,0,0,0,0,0,0,0,0,0,0,0,0,0,0,0,0,0,0,0,0,0,0,0,0,0,0,0,0,0,0,0,0,0,0,0,0,0,0,0,0,0,0,0,0,0,0,0,0,0,0,0,0,0,0,0,0,0,0,0,0,0,0,0,0,0,0,0,0,0,0,0,0,0,0,0,0,0,0,0,0,0,0,0,0,0,0,0,0,0,0,0,0,0,0,0,0,0,0,0,0,0,0,0,0,0,0,0,0,0,0,0,0,0,0,0,0,0,0,0,0,0,0,0,0,0,0,0,0,0,0,0,0,0,0,0,0,0,0,0,0,0,0,0,0,0,0,0,0,0,0,0,0,0,0,0,0,0,0,0,0,0,0,0,0,0,0,0,0,0,0,0,0,0,0,0,0,0,0,0,0,0,0,0,0,0,0,0,0,0,0,0,0,0,0,0,0,0,0,0,0,0,0,0,0,0,0,0,0,0,0,0,0,0,0,0,0,0,0,0,0,0,0,0,0,0,0,0,0,0,0,0,0,0,0,0,0,0,0,0,0,0,0,0,0,0,0,0,0,0,0,0,0,0,0,0,0,0,0,0,0,0,0,0]
[1,{"$f":"'8 Axle Loads Direction 1-SS'!B169","v":3},{"$f":"'8 Axle Loads Direction 1-SS'!C169","v":0},{"$f":"'8 Axle Loads Direction 1-SS'!D169","v":0},{"$f":"'8 Axle Loads Direction 1-SS'!E169","v":0},{"$f":"'8 Axle Loads Direction 1-SS'!F169","v":0},{"$f":"'8 Axle Loads Direction 1-SS'!G169","v":0},{"$f":"'8 Axle Loads Direction 1-SS'!H169","v":0},{"$f":"'8 Axle Loads Direction 1-SS'!I169","v":0},{"$f":"'8 Axle Loads Direction 1-SS'!J169","v":0},{"$f":"'8 Axle Loads Direction 1-SS'!K169","v":0},0,0,0,0,0,0,0,0,0,0,0,0,0,0,0,0,0,null,0,0,0,0,0,0,0,0,0,0,0,0,0,0,0,0,0,0,0,0,0,0,0,0,0,0,0,0,0,0,0,0,0,0,0,0,0,0,0,0,0,0,0,0,0,0,0,0,0,0,0,0,0,0,0,0,0,0,0,0,0,0,0,0,0,0,0,0,0,0,0,0,0,0,0,0,0,0,0,0,0,0,0,0,0,0,0,0,0,0,0,0,0,0,0,0,0,0,0,0,0,0,0,0,0,0,0,0,0,0,0,0,0,0,0,0,0,0,0,0,0,0,0,0,0,0,0,0,0,0,0,0,0,0,0,0,0,0,0,0,0,0,0,0,0,0,0,0,0,0,0,0,0,0,0,0,0,0,0,0,0,0,0,0,0,0,0,0,0,0,0,0,0,0,0,0,0,0,0,0,0,0,0,0,0,0,0,0,0,0,0,0,0,0,0,0,0,0,0,0,0,0,0,0,0,0,0,0,0,0,0,0,0,0,0,0,0,0,0,0,0,0,0,0,0,0,0,0,0,0,0,0,0,0,0,0,0,0,0,0,0,0,0,0,0,0,0,0,0,0,0,0,0,0,0,0,0,0,0,0,0,0,0,0,0,0,0,0,0,0,0,0,0,0,0,0,0,0,0,0,0,0,0,0,0,0,0,0,0,0,0,0,0,0,0,0,0,0,0,0,0,0,0,0,0,0,0,0,0,0,0,0,0,0,0,0,0,0,0,0,0,0,0,0,0,0,0,0,0,0,0,0,0,0,0,0,0,0,0,0,0,0,0,0,0,0,0,0,0,0,0,0,0,0,0,0,0,0,0,0,0,0,0,0,0,0,0,0,0,0,0,0,0,0,0,0,0,0,0,0,0,0,0,0,0,0,0,0,0,0,0,0,0,0,0,0,0,0,0,0,0,0,0,0,0,0,0,0,0,0,0,0,0,0,0,0,0,0,0,0,0,0,0,0,0,0,0,0,0,0,0,0,0,0,0,0,0,0,0,0,0,0,0,0,0,0,0,0,0,0,0,0,0,0,0,0,0,0,0,0,0,0,0,0,0,0,0,0,0,0,0,0,0,0,0,0,0,0,0,0,0,0,0,0,0,0,0,0,0,0,0,0,0,0,0,0,0,0,0,0,0,0,0,0,0,0,0,0,0,0,0,0,0,0,0,0,0,0,0,0,0,0,0,0,0,0,0,0,0,0]
[1,{"$f":"'8 Axle Loads Direction 1-SS'!B173","v":3},{"$f":"'8 Axle Loads Direction 1-SS'!C173","v":0},{"$f":"'8 Axle Loads Direction 1-SS'!D173","v":0},{"$f":"'8 Axle Loads Direction 1-SS'!E173","v":0},{"$f":"'8 Axle Loads Direction 1-SS'!F173","v":0},{"$f":"'8 Axle Loads Direction 1-SS'!G173","v":0},{"$f":"'8 Axle Loads Direction 1-SS'!H173","v":0},{"$f":"'8 Axle Loads Direction 1-SS'!I173","v":0},{"$f":"'8 Axle Loads Direction 1-SS'!J173","v":0},{"$f":"'8 Axle Loads Direction 1-SS'!K173","v":0},0,0,0,0,0,0,0,0,0,0,0,0,0,0,0,0,0,null,0,0,0,0,0,0,0,0,0,0,0,0,0,0,0,0,0,0,0,0,0,0,0,0,0,0,0,0,0,0,0,0,0,0,0,0,0,0,0,0,0,0,0,0,0,0,0,0,0,0,0,0,0,0,0,0,0,0,0,0,0,0,0,0,0,0,0,0,0,0,0,0,0,0,0,0,0,0,0,0,0,0,0,0,0,0,0,0,0,0,0,0,0,0,0,0,0,0,0,0,0,0,0,0,0,0,0,0,0,0,0,0,0,0,0,0,0,0,0,0,0,0,0,0,0,0,0,0,0,0,0,0,0,0,0,0,0,0,0,0,0,0,0,0,0,0,0,0,0,0,0,0,0,0,0,0,0,0,0,0,0,0,0,0,0,0,0,0,0,0,0,0,0,0,0,0,0,0,0,0,0,0,0,0,0,0,0,0,0,0,0,0,0,0,0,0,0,0,0,0,0,0,0,0,0,0,0,0,0,0,0,0,0,0,0,0,0,0,0,0,0,0,0,0,0,0,0,0,0,0,0,0,0,0,0,0,0,0,0,0,0,0,0,0,0,0,0,0,0,0,0,0,0,0,0,0,0,0,0,0,0,0,0,0,0,0,0,0,0,0,0,0,0,0,0,0,0,0,0,0,0,0,0,0,0,0,0,0,0,0,0,0,0,0,0,0,0,0,0,0,0,0,0,0,0,0,0,0,0,0,0,0,0,0,0,0,0,0,0,0,0,0,0,0,0,0,0,0,0,0,0,0,0,0,0,0,0,0,0,0,0,0,0,0,0,0,0,0,0,0,0,0,0,0,0,0,0,0,0,0,0,0,0,0,0,0,0,0,0,0,0,0,0,0,0,0,0,0,0,0,0,0,0,0,0,0,0,0,0,0,0,0,0,0,0,0,0,0,0,0,0,0,0,0,0,0,0,0,0,0,0,0,0,0,0,0,0,0,0,0,0,0,0,0,0,0,0,0,0,0,0,0,0,0,0,0,0,0,0,0,0,0,0,0,0,0,0,0,0,0,0,0,0,0,0,0,0,0,0,0,0,0,0,0,0,0,0,0,0,0,0,0,0,0,0,0,0,0,0,0,0,0,0,0,0,0,0,0,0,0,0,0,0,0,0,0,0,0,0,0,0,0,0,0,0,0,0,0,0,0,0,0,0,0,0,0,0,0,0,0,0,0,0,0,0,0,0,0,0,0]
[1,{"$f":"'8 Axle Loads Direction 1-SS'!B189","v":3},{"$f":"'8 Axle Loads Direction 1-SS'!C189","v":0},{"$f":"'8 Axle Loads Direction 1-SS'!D189","v":0},{"$f":"'8 Axle Loads Direction 1-SS'!E189","v":0},{"$f":"'8 Axle Loads Direction 1-SS'!F189","v":0},{"$f":"'8 Axle Loads Direction 1-SS'!G189","v":0},{"$f":"'8 Axle Loads Direction 1-SS'!H189","v":0},{"$f":"'8 Axle Loads Direction 1-SS'!I189","v":0},{"$f":"'8 Axle Loads Direction 1-SS'!J189","v":0},{"$f":"'8 Axle Loads Direction 1-SS'!K189","v":0},0,0,0,0,0,0,0,0,0,0,0,0,0,0,0,0,0,null,0,0,0,0,0,0,0,0,0,0,0,0,0,0,0,0,0,0,0,0,0,0,0,0,0,0,0,0,0,0,0,0,0,0,0,0,0,0,0,0,0,0,0,0,0,0,0,0,0,0,0,0,0,0,0,0,0,0,0,0,0,0,0,0,0,0,0,0,0,0,0,0,0,0,0,0,0,0,0,0,0,0,0,0,0,0,0,0,0,0,0,0,0,0,0,0,0,0,0,0,0,0,0,0,0,0,0,0,0,0,0,0,0,0,0,0,0,0,0,0,0,0,0,0,0,0,0,0,0,0,0,0,0,0,0,0,0,0,0,0,0,0,0,0,0,0,0,0,0,0,0,0,0,0,0,0,0,0,0,0,0,0,0,0,0,0,0,0,0,0,0,0,0,0,0,0,0,0,0,0,0,0,0,0,0,0,0,0,0,0,0,0,0,0,0,0,0,0,0,0,0,0,0,0,0,0,0,0,0,0,0,0,0,0,0,0,0,0,0,0,0,0,0,0,0,0,0,0,0,0,0,0,0,0,0,0,0,0,0,0,0,0,0,0,0,0,0,0,0,0,0,0,0,0,0,0,0,0,0,0,0,0,0,0,0,0,0,0,0,0,0,0,0,0,0,0,0,0,0,0,0,0,0,0,0,0,0,0,0,0,0,0,0,0,0,0,0,0,0,0,0,0,0,0,0,0,0,0,0,0,0,0,0,0,0,0,0,0,0,0,0,0,0,0,0,0,0,0,0,0,0,0,0,0,0,0,0,0,0,0,0,0,0,0,0,0,0,0,0,0,0,0,0,0,0,0,0,0,0,0,0,0,0,0,0,0,0,0,0,0,0,0,0,0,0,0,0,0,0,0,0,0,0,0,0,0,0,0,0,0,0,0,0,0,0,0,0,0,0,0,0,0,0,0,0,0,0,0,0,0,0,0,0,0,0,0,0,0,0,0,0,0,0,0,0,0,0,0,0,0,0,0,0,0,0,0,0,0,0,0,0,0,0,0,0,0,0,0,0,0,0,0,0,0,0,0,0,0,0,0,0,0,0,0,0,0,0,0,0,0,0,0,0,0,0,0,0,0,0,0,0,0,0,0,0,0,0,0,0,0,0,0,0,0,0,0,0,0,0,0,0,0,0,0,0,0,0,0,0,0,0,0,0,0,0,0,0,0,0,0,0,0,0,0,0,0,0,0,0,0]
[1,{"$f":"'8 Axle Loads Direction 1-SS'!B202","v":3},{"$f":"'8 Axle Loads Direction 1-SS'!C202","v":0},{"$f":"'8 Axle Loads Direction 1-SS'!D202","v":0},{"$f":"'8 Axle Loads Direction 1-SS'!E202","v":0},{"$f":"'8 Axle Loads Direction 1-SS'!F202","v":0},{"$f":"'8 Axle Loads Direction 1-SS'!G202","v":0},{"$f":"'8 Axle Loads Direction 1-SS'!H202","v":0},{"$f":"'8 Axle Loads Direction 1-SS'!I202","v":0},{"$f":"'8 Axle Loads Direction 1-SS'!J202","v":0},{"$f":"'8 Axle Loads Direction 1-SS'!K202","v":0},0,0,0,0,0,0,0,0,0,0,0,0,0,0,0,0,0,null,0,0,0,0,0,0,0,0,0,0,0,0,0,0,0,0,0,0,0,0,0,0,0,0,0,0,0,0,0,0,0,0,0,0,0,0,0,0,0,0,0,0,0,0,0,0,0,0,0,0,0,0,0,0,0,0,0,0,0,0,0,0,0,0,0,0,0,0,0,0,0,0,0,0,0,0,0,0,0,0,0,0,0,0,0,0,0,0,0,0,0,0,0,0,0,0,0,0,0,0,0,0,0,0,0,0,0,0,0,0,0,0,0,0,0,0,0,0,0,0,0,0,0,0,0,0,0,0,0,0,0,0,0,0,0,0,0,0,0,0,0,0,0,0,0,0,0,0,0,0,0,0,0,0,0,0,0,0,0,0,0,0,0,0,0,0,0,0,0,0,0,0,0,0,0,0,0,0,0,0,0,0,0,0,0,0,0,0,0,0,0,0,0,0,0,0,0,0,0,0,0,0,0,0,0,0,0,0,0,0,0,0,0,0,0,0,0,0,0,0,0,0,0,0,0,0,0,0,0,0,0,0,0,0,0,0,0,0,0,0,0,0,0,0,0,0,0,0,0,0,0,0,0,0,0,0,0,0,0,0,0,0,0,0,0,0,0,0,0,0,0,0,0,0,0,0,0,0,0,0,0,0,0,0,0,0,0,0,0,0,0,0,0,0,0,0,0,0,0,0,0,0,0,0,0,0,0,0,0,0,0,0,0,0,0,0,0,0,0,0,0,0,0,0,0,0,0,0,0,0,0,0,0,0,0,0,0,0,0,0,0,0,0,0,0,0,0,0,0,0,0,0,0,0,0,0,0,0,0,0,0,0,0,0,0,0,0,0,0,0,0,0,0,0,0,0,0,0,0,0,0,0,0,0,0,0,0,0,0,0,0,0,0,0,0,0,0,0,0,0,0,0,0,0,0,0,0,0,0,0,0,0,0,0,0,0,0,0,0,0,0,0,0,0,0,0,0,0,0,0,0,0,0,0,0,0,0,0,0,0,0,0,0,0,0,0,0,0,0,0,0,0,0,0,0,0,0,0,0,0,0,0,0,0,0,0,0,0,0,0,0,0,0,0,0,0,0,0,0,0,0,0,0,0,0,0,0,0,0,0,0,0,0,0,0,0,0,0,0,0,0,0,0,0,0,0,0,0,0,0,0,0,0,0,0,0,0,0,0,0,0,0,0,0,0,0,0,0,0,0]
[1,{"$f":"'8 Axle Loads Direction 1-SS'!B220","v":3},{"$f":"'8 Axle Loads Direction 1-SS'!C220","v":0},{"$f":"'8 Axle Loads Direction 1-SS'!D220","v":0},{"$f":"'8 Axle Loads Direction 1-SS'!E220","v":0},{"$f":"'8 Axle Loads Direction 1-SS'!F220","v":0},{"$f":"'8 Axle Loads Direction 1-SS'!G220","v":0},{"$f":"'8 Axle Loads Direction 1-SS'!H220","v":0},{"$f":"'8 Axle Loads Direction 1-SS'!I220","v":0},{"$f":"'8 Axle Loads Direction 1-SS'!J220","v":0},{"$f":"'8 Axle Loads Direction 1-SS'!K220","v":0},0,0,0,0,0,0,0,0,0,0,0,0,0,0,0,0,0,null,0,0,0,0,0,0,0,0,0,0,0,0,0,0,0,0,0,0,0,0,0,0,0,0,0,0,0,0,0,0,0,0,0,0,0,0,0,0,0,0,0,0,0,0,0,0,0,0,0,0,0,0,0,0,0,0,0,0,0,0,0,0,0,0,0,0,0,0,0,0,0,0,0,0,0,0,0,0,0,0,0,0,0,0,0,0,0,0,0,0,0,0,0,0,0,0,0,0,0,0,0,0,0,0,0,0,0,0,0,0,0,0,0,0,0,0,0,0,0,0,0,0,0,0,0,0,0,0,0,0,0,0,0,0,0,0,0,0,0,0,0,0,0,0,0,0,0,0,0,0,0,0,0,0,0,0,0,0,0,0,0,0,0,0,0,0,0,0,0,0,0,0,0,0,0,0,0,0,0,0,0,0,0,0,0,0,0,0,0,0,0,0,0,0,0,0,0,0,0,0,0,0,0,0,0,0,0,0,0,0,0,0,0,0,0,0,0,0,0,0,0,0,0,0,0,0,0,0,0,0,0,0,0,0,0,0,0,0,0,0,0,0,0,0,0,0,0,0,0,0,0,0,0,0,0,0,0,0,0,0,0,0,0,0,0,0,0,0,0,0,0,0,0,0,0,0,0,0,0,0,0,0,0,0,0,0,0,0,0,0,0,0,0,0,0,0,0,0,0,0,0,0,0,0,0,0,0,0,0,0,0,0,0,0,0,0,0,0,0,0,0,0,0,0,0,0,0,0,0,0,0,0,0,0,0,0,0,0,0,0,0,0,0,0,0,0,0,0,0,0,0,0,0,0,0,0,0,0,0,0,0,0,0,0,0,0,0,0,0,0,0,0,0,0,0,0,0,0,0,0,0,0,0,0,0,0,0,0,0,0,0,0,0,0,0,0,0,0,0,0,0,0,0,0,0,0,0,0,0,0,0,0,0,0,0,0,0,0,0,0,0,0,0,0,0,0,0,0,0,0,0,0,0,0,0,0,0,0,0,0,0,0,0,0,0,0,0,0,0,0,0,0,0,0,0,0,0,0,0,0,0,0,0,0,0,0,0,0,0,0,0,0,0,0,0,0,0,0,0,0,0,0,0,0,0,0,0,0,0,0,0,0,0,0,0,0,0,0,0,0,0,0,0,0,0,0,0,0,0,0,0,0,0,0,0,0,0,0,0,0,0,0,0,0,0,0,0,0,0,0]
[1,{"$f":"'8 Axle Loads Direction 1-SS'!B236","v":3},{"$f":"'8 Axle Loads Direction 1-SS'!C236","v":0},{"$f":"'8 Axle Loads Direction 1-SS'!D236","v":0},{"$f":"'8 Axle Loads Direction 1-SS'!E236","v":0},{"$f":"'8 Axle Loads Direction 1-SS'!F236","v":0},{"$f":"'8 Axle Loads Direction 1-SS'!G236","v":0},{"$f":"'8 Axle Loads Direction 1-SS'!H236","v":0},{"$f":"'8 Axle Loads Direction 1-SS'!I236","v":0},{"$f":"'8 Axle Loads Direction 1-SS'!J236","v":0},{"$f":"'8 Axle Loads Direction 1-SS'!K236","v":0},0,0,0,0,0,0,0,0,0,0,0,0,0,0,0,0,0,null,0,0,0,0,0,0,0,0,0,0,0,0,0,0,0,0,0,0,0,0,0,0,0,0,0,0,0,0,0,0,0,0,0,0,0,0,0,0,0,0,0,0,0,0,0,0,0,0,0,0,0,0,0,0,0,0,0,0,0,0,0,0,0,0,0,0,0,0,0,0,0,0,0,0,0,0,0,0,0,0,0,0,0,0,0,0,0,0,0,0,0,0,0,0,0,0,0,0,0,0,0,0,0,0,0,0,0,0,0,0,0,0,0,0,0,0,0,0,0,0,0,0,0,0,0,0,0,0,0,0,0,0,0,0,0,0,0,0,0,0,0,0,0,0,0,0,0,0,0,0,0,0,0,0,0,0,0,0,0,0,0,0,0,0,0,0,0,0,0,0,0,0,0,0,0,0,0,0,0,0,0,0,0,0,0,0,0,0,0,0,0,0,0,0,0,0,0,0,0,0,0,0,0,0,0,0,0,0,0,0,0,0,0,0,0,0,0,0,0,0,0,0,0,0,0,0,0,0,0,0,0,0,0,0,0,0,0,0,0,0,0,0,0,0,0,0,0,0,0,0,0,0,0,0,0,0,0,0,0,0,0,0,0,0,0,0,0,0,0,0,0,0,0,0,0,0,0,0,0,0,0,0,0,0,0,0,0,0,0,0,0,0,0,0,0,0,0,0,0,0,0,0,0,0,0,0,0,0,0,0,0,0,0,0,0,0,0,0,0,0,0,0,0,0,0,0,0,0,0,0,0,0,0,0,0,0,0,0,0,0,0,0,0,0,0,0,0,0,0,0,0,0,0,0,0,0,0,0,0,0,0,0,0,0,0,0,0,0,0,0,0,0,0,0,0,0,0,0,0,0,0,0,0,0,0,0,0,0,0,0,0,0,0,0,0,0,0,0,0,0,0,0,0,0,0,0,0,0,0,0,0,0,0,0,0,0,0,0,0,0,0,0,0,0,0,0,0,0,0,0,0,0,0,0,0,0,0,0,0,0,0,0,0,0,0,0,0,0,0,0,0,0,0,0,0,0,0,0,0,0,0,0,0,0,0,0,0,0,0,0,0,0,0,0,0,0,0,0,0,0,0,0,0,0,0,0,0,0,0,0,0,0,0,0,0,0,0,0,0,0,0,0,0,0,0,0,0,0,0,0,0,0,0,0,0,0,0,0,0,0,0,0,0,0,0,0,0,0,0,0]
[1,{"$f":"'8 Axle Loads Direction 1-SS'!B251","v":3},{"$f":"'8 Axle Loads Direction 1-SS'!C251","v":0},{"$f":"'8 Axle Loads Direction 1-SS'!D251","v":0},{"$f":"'8 Axle Loads Direction 1-SS'!E251","v":0},{"$f":"'8 Axle Loads Direction 1-SS'!F251","v":0},{"$f":"'8 Axle Loads Direction 1-SS'!G251","v":0},{"$f":"'8 Axle Loads Direction 1-SS'!H251","v":0},{"$f":"'8 Axle Loads Direction 1-SS'!I251","v":0},{"$f":"'8 Axle Loads Direction 1-SS'!J251","v":0},{"$f":"'8 Axle Loads Direction 1-SS'!K251","v":0},0,0,0,0,0,0,0,0,0,0,0,0,0,0,0,0,0,null,0,0,0,0,0,0,0,0,0,0,0,0,0,0,0,0,0,0,0,0,0,0,0,0,0,0,0,0,0,0,0,0,0,0,0,0,0,0,0,0,0,0,0,0,0,0,0,0,0,0,0,0,0,0,0,0,0,0,0,0,0,0,0,0,0,0,0,0,0,0,0,0,0,0,0,0,0,0,0,0,0,0,0,0,0,0,0,0,0,0,0,0,0,0,0,0,0,0,0,0,0,0,0,0,0,0,0,0,0,0,0,0,0,0,0,0,0,0,0,0,0,0,0,0,0,0,0,0,0,0,0,0,0,0,0,0,0,0,0,0,0,0,0,0,0,0,0,0,0,0,0,0,0,0,0,0,0,0,0,0,0,0,0,0,0,0,0,0,0,0,0,0,0,0,0,0,0,0,0,0,0,0,0,0,0,0,0,0,0,0,0,0,0,0,0,0,0,0,0,0,0,0,0,0,0,0,0,0,0,0,0,0,0,0,0,0,0,0,0,0,0,0,0,0,0,0,0,0,0,0,0,0,0,0,0,0,0,0,0,0,0,0,0,0,0,0,0,0,0,0,0,0,0,0,0,0,0,0,0,0,0,0,0,0,0,0,0,0,0,0,0,0,0,0,0,0,0,0,0,0,0,0,0,0,0,0,0,0,0,0,0,0,0,0,0,0,0,0,0,0,0,0,0,0,0,0,0,0,0,0,0,0,0,0,0,0,0,0,0,0,0,0,0,0,0,0,0,0,0,0,0,0,0,0,0,0,0,0,0,0,0,0,0,0,0,0,0,0,0,0,0,0,0,0,0,0,0,0,0,0,0,0,0,0,0,0,0,0,0,0,0,0,0,0,0,0,0,0,0,0,0,0,0,0,0,0,0,0,0,0,0,0,0,0,0,0,0,0,0,0,0,0,0,0,0,0,0,0,0,0,0,0,0,0,0,0,0,0,0,0,0,0,0,0,0,0,0,0,0,0,0,0,0,0,0,0,0,0,0,0,0,0,0,0,0,0,0,0,0,0,0,0,0,0,0,0,0,0,0,0,0,0,0,0,0,0,0,0,0,0,0,0,0,0,0,0,0,0,0,0,0,0,0,0,0,0,0,0,0,0,0,0,0,0,0,0,0,0,0,0,0,0,0,0,0,0,0,0,0,0,0,0,0,0,0,0,0,0,0,0,0,0,0,0,0,0,0,0,0,0]
[1,{"$f":"'8 Axle Loads Direction 1-SS'!B267","v":3},{"$f":"'8 Axle Loads Direction 1-SS'!C267","v":0},{"$f":"'8 Axle Loads Direction 1-SS'!D267","v":0},{"$f":"'8 Axle Loads Direction 1-SS'!E267","v":0},{"$f":"'8 Axle Loads Direction 1-SS'!F267","v":0},{"$f":"'8 Axle Loads Direction 1-SS'!G267","v":0},{"$f":"'8 Axle Loads Direction 1-SS'!H267","v":0},{"$f":"'8 Axle Loads Direction 1-SS'!I267","v":0},{"$f":"'8 Axle Loads Direction 1-SS'!J267","v":0},{"$f":"'8 Axle Loads Direction 1-SS'!K267","v":0},0,0,0,0,0,0,0,0,0,0,0,0,0,0,0,0,0,null,0,0,0,0,0,0,0,0,0,0,0,0,0,0,0,0,0,0,0,0,0,0,0,0,0,0,0,0,0,0,0,0,0,0,0,0,0,0,0,0,0,0,0,0,0,0,0,0,0,0,0,0,0,0,0,0,0,0,0,0,0,0,0,0,0,0,0,0,0,0,0,0,0,0,0,0,0,0,0,0,0,0,0,0,0,0,0,0,0,0,0,0,0,0,0,0,0,0,0,0,0,0,0,0,0,0,0,0,0,0,0,0,0,0,0,0,0,0,0,0,0,0,0,0,0,0,0,0,0,0,0,0,0,0,0,0,0,0,0,0,0,0,0,0,0,0,0,0,0,0,0,0,0,0,0,0,0,0,0,0,0,0,0,0,0,0,0,0,0,0,0,0,0,0,0,0,0,0,0,0,0,0,0,0,0,0,0,0,0,0,0,0,0,0,0,0,0,0,0,0,0,0,0,0,0,0,0,0,0,0,0,0,0,0,0,0,0,0,0,0,0,0,0,0,0,0,0,0,0,0,0,0,0,0,0,0,0,0,0,0,0,0,0,0,0,0,0,0,0,0,0,0,0,0,0,0,0,0,0,0,0,0,0,0,0,0,0,0,0,0,0,0,0,0,0,0,0,0,0,0,0,0,0,0,0,0,0,0,0,0,0,0,0,0,0,0,0,0,0,0,0,0,0,0,0,0,0,0,0,0,0,0,0,0,0,0,0,0,0,0,0,0,0,0,0,0,0,0,0,0,0,0,0,0,0,0,0,0,0,0,0,0,0,0,0,0,0,0,0,0,0,0,0,0,0,0,0,0,0,0,0,0,0,0,0,0,0,0,0,0,0,0,0,0,0,0,0,0,0,0,0,0,0,0,0,0,0,0,0,0,0,0,0,0,0,0,0,0,0,0,0,0,0,0,0,0,0,0,0,0,0,0,0,0,0,0,0,0,0,0,0,0,0,0,0,0,0,0,0,0,0,0,0,0,0,0,0,0,0,0,0,0,0,0,0,0,0,0,0,0,0,0,0,0,0,0,0,0,0,0,0,0,0,0,0,0,0,0,0,0,0,0,0,0,0,0,0,0,0,0,0,0,0,0,0,0,0,0,0,0,0,0,0,0,0,0,0,0,0,0,0,0,0,0,0,0,0,0,0,0,0,0,0,0,0,0,0,0,0,0,0,0,0,0,0,0,0,0,0,0]
[1,{"$f":"'8 Axle Loads Direction 1-SS'!B283","v":3},{"$f":"'8 Axle Loads Direction 1-SS'!C283","v":0},{"$f":"'8 Axle Loads Direction 1-SS'!D283","v":0},{"$f":"'8 Axle Loads Direction 1-SS'!E283","v":0},{"$f":"'8 Axle Loads Direction 1-SS'!F283","v":0},{"$f":"'8 Axle Loads Direction 1-SS'!G283","v":0},{"$f":"'8 Axle Loads Direction 1-SS'!H283","v":0},{"$f":"'8 Axle Loads Direction 1-SS'!I283","v":0},{"$f":"'8 Axle Loads Direction 1-SS'!J283","v":0},{"$f":"'8 Axle Loads Direction 1-SS'!K283","v":0},0,0,0,0,0,0,0,0,0,0,0,0,0,0,0,0,0,null,0,0,0,0,0,0,0,0,0,0,0,0,0,0,0,0,0,0,0,0,0,0,0,0,0,0,0,0,0,0,0,0,0,0,0,0,0,0,0,0,0,0,0,0,0,0,0,0,0,0,0,0,0,0,0,0,0,0,0,0,0,0,0,0,0,0,0,0,0,0,0,0,0,0,0,0,0,0,0,0,0,0,0,0,0,0,0,0,0,0,0,0,0,0,0,0,0,0,0,0,0,0,0,0,0,0,0,0,0,0,0,0,0,0,0,0,0,0,0,0,0,0,0,0,0,0,0,0,0,0,0,0,0,0,0,0,0,0,0,0,0,0,0,0,0,0,0,0,0,0,0,0,0,0,0,0,0,0,0,0,0,0,0,0,0,0,0,0,0,0,0,0,0,0,0,0,0,0,0,0,0,0,0,0,0,0,0,0,0,0,0,0,0,0,0,0,0,0,0,0,0,0,0,0,0,0,0,0,0,0,0,0,0,0,0,0,0,0,0,0,0,0,0,0,0,0,0,0,0,0,0,0,0,0,0,0,0,0,0,0,0,0,0,0,0,0,0,0,0,0,0,0,0,0,0,0,0,0,0,0,0,0,0,0,0,0,0,0,0,0,0,0,0,0,0,0,0,0,0,0,0,0,0,0,0,0,0,0,0,0,0,0,0,0,0,0,0,0,0,0,0,0,0,0,0,0,0,0,0,0,0,0,0,0,0,0,0,0,0,0,0,0,0,0,0,0,0,0,0,0,0,0,0,0,0,0,0,0,0,0,0,0,0,0,0,0,0,0,0,0,0,0,0,0,0,0,0,0,0,0,0,0,0,0,0,0,0,0,0,0,0,0,0,0,0,0,0,0,0,0,0,0,0,0,0,0,0,0,0,0,0,0,0,0,0,0,0,0,0,0,0,0,0,0,0,0,0,0,0,0,0,0,0,0,0,0,0,0,0,0,0,0,0,0,0,0,0,0,0,0,0,0,0,0,0,0,0,0,0,0,0,0,0,0,0,0,0,0,0,0,0,0,0,0,0,0,0,0,0,0,0,0,0,0,0,0,0,0,0,0,0,0,0,0,0,0,0,0,0,0,0,0,0,0,0,0,0,0,0,0,0,0,0,0,0,0,0,0,0,0,0,0,0,0,0,0,0,0,0,0,0,0,0,0,0,0,0,0,0,0,0,0,0,0,0,0,0,0,0,0]
[1,{"$f":"'8 Axle Loads Direction 1-SS'!B298","v":5},{"$f":"'8 Axle Loads Direction 1-SS'!C298","v":0},{"$f":"'8 Axle Loads Direction 1-SS'!D298","v":0},{"$f":"'8 Axle Loads Direction 1-SS'!E298","v":0},{"$f":"'8 Axle Loads Direction 1-SS'!F298","v":0},{"$f":"'8 Axle Loads Direction 1-SS'!G298","v":0},{"$f":"'8 Axle Loads Direction 1-SS'!H298","v":0},{"$f":"'8 Axle Loads Direction 1-SS'!I298","v":0},{"$f":"'8 Axle Loads Direction 1-SS'!J298","v":0},{"$f":"'8 Axle Loads Direction 1-SS'!K298","v":0},0,0,0,0,0,0,0,0,0,0,0,0,0,0,0,0,0,null,0,0,0,0,0,0,0,0,0,0,0,0,0,0,0,0,0,0,0,0,0,0,0,0,0,0,0,0,0,0,0,0,0,0,0,0,0,0,0,0,0,0,0,0,0,0,0,0,0,0,0,0,0,0,0,0,0,0,0,0,0,0,0,0,0,0,0,0,0,0,0,0,0,0,0,0,0,0,0,0,0,0,0,0,0,0,0,0,0,0,0,0,0,0,0,0,0,0,0,0,0,0,0,0,0,0,0,0,0,0,0,0,0,0,0,0,0,0,0,0,0,0,0,0,0,0,0,0,0,0,0,0,0,0,0,0,0,0,0,0,0,0,0,0,0,0,0,0,0,0,0,0,0,0,0,0,0,0,0,0,0,0,0,0,0,0,0,0,0,0,0,0,0,0,0,0,0,0,0,0,0,0,0,0,0,0,0,0,0,0,0,0,0,0,0,0,0,0,0,0,0,0,0,0,0,0,0,0,0,0,0,0,0,0,0,0,0,0,0,0,0,0,0,0,0,0,0,0,0,0,0,0,0,0,0,0,0,0,0,0,0,0,0,0,0,0,0,0,0,0,0,0,0,0,0,0,0,0,0,0,0,0,0,0,0,0,0,0,0,0,0,0,0,0,0,0,0,0,0,0,0,0,0,0,0,0,0,0,0,0,0,0,0,0,0,0,0,0,0,0,0,0,0,0,0,0,0,0,0,0,0,0,0,0,0,0,0,0,0,0,0,0,0,0,0,0,0,0,0,0,0,0,0,0,0,0,0,0,0,0,0,0,0,0,0,0,0,0,0,0,0,0,0,0,0,0,0,0,0,0,0,0,0,0,0,0,0,0,0,0,0,0,0,0,0,0,0,0,0,0,0,0,0,0,0,0,0,0,0,0,0,0,0,0,0,0,0,0,0,0,0,0,0,0,0,0,0,0,0,0,0,0,0,0,0,0,0,0,0,0,0,0,0,0,0,0,0,0,0,0,0,0,0,0,0,0,0,0,0,0,0,0,0,0,0,0,0,0,0,0,0,0,0,0,0,0,0,0,0,0,0,0,0,0,0,0,0,0,0,0,0,0,0,0,0,0,0,0,0,0,0,0,0,0,0,0,0,0,0,0,0,0,0,0,0,0,0,0,0,0,0,0,0,0,0,0,0,0,0,0,0,0,0,0,0,0,0,0,0,0,0,0,0,0,0,0,0,0,0,0]
[1,{"$f":"'8 Axle Loads Direction 1-SS'!B316","v":3},{"$f":"'8 Axle Loads Direction 1-SS'!C316","v":0},{"$f":"'8 Axle Loads Direction 1-SS'!D316","v":0},{"$f":"'8 Axle Loads Direction 1-SS'!E316","v":0},{"$f":"'8 Axle Loads Direction 1-SS'!F316","v":0},{"$f":"'8 Axle Loads Direction 1-SS'!G316","v":0},{"$f":"'8 Axle Loads Direction 1-SS'!H316","v":0},{"$f":"'8 Axle Loads Direction 1-SS'!I316","v":0},{"$f":"'8 Axle Loads Direction 1-SS'!J316","v":0},{"$f":"'8 Axle Loads Direction 1-SS'!K316","v":0},0,0,0,0,0,0,0,0,0,0,0,0,0,0,0,0,0,null,0,0,0,0,0,0,0,0,0,0,0,0,0,0,0,0,0,0,0,0,0,0,0,0,0,0,0,0,0,0,0,0,0,0,0,0,0,0,0,0,0,0,0,0,0,0,0,0,0,0,0,0,0,0,0,0,0,0,0,0,0,0,0,0,0,0,0,0,0,0,0,0,0,0,0,0,0,0,0,0,0,0,0,0,0,0,0,0,0,0,0,0,0,0,0,0,0,0,0,0,0,0,0,0,0,0,0,0,0,0,0,0,0,0,0,0,0,0,0,0,0,0,0,0,0,0,0,0,0,0,0,0,0,0,0,0,0,0,0,0,0,0,0,0,0,0,0,0,0,0,0,0,0,0,0,0,0,0,0,0,0,0,0,0,0,0,0,0,0,0,0,0,0,0,0,0,0,0,0,0,0,0,0,0,0,0,0,0,0,0,0,0,0,0,0,0,0,0,0,0,0,0,0,0,0,0,0,0,0,0,0,0,0,0,0,0,0,0,0,0,0,0,0,0,0,0,0,0,0,0,0,0,0,0,0,0,0,0,0,0,0,0,0,0,0,0,0,0,0,0,0,0,0,0,0,0,0,0,0,0,0,0,0,0,0,0,0,0,0,0,0,0,0,0,0,0,0,0,0,0,0,0,0,0,0,0,0,0,0,0,0,0,0,0,0,0,0,0,0,0,0,0,0,0,0,0,0,0,0,0,0,0,0,0,0,0,0,0,0,0,0,0,0,0,0,0,0,0,0,0,0,0,0,0,0,0,0,0,0,0,0,0,0,0,0,0,0,0,0,0,0,0,0,0,0,0,0,0,0,0,0,0,0,0,0,0,0,0,0,0,0,0,0,0,0,0,0,0,0,0,0,0,0,0,0,0,0,0,0,0,0,0,0,0,0,0,0,0,0,0,0,0,0,0,0,0,0,0,0,0,0,0,0,0,0,0,0,0,0,0,0,0,0,0,0,0,0,0,0,0,0,0,0,0,0,0,0,0,0,0,0,0,0,0,0,0,0,0,0,0,0,0,0,0,0,0,0,0,0,0,0,0,0,0,0,0,0,0,0,0,0,0,0,0,0,0,0,0,0,0,0,0,0,0,0,0,0,0,0,0,0,0,0,0,0,0,0,0,0,0,0,0,0,0,0,0,0,0,0,0,0,0,0,0,0,0,0,0,0,0,0,0,0,0,0,0,0,0,0,0]
[1,{"$f":"'8 Axle Loads Direction 1-SS'!B330","v":4},{"$f":"'8 Axle Loads Direction 1-SS'!C330","v":6},{"$f":"'8 Axle Loads Direction 1-SS'!D330","v":6},{"$f":"'8 Axle Loads Direction 1-SS'!E330","v":8},{"$f":"'8 Axle Loads Direction 1-SS'!F330","v":9},{"$f":"'8 Axle Loads Direction 1-SS'!G330","v":0},{"$f":"'8 Axle Loads Direction 1-SS'!H330","v":0},{"$f":"'8 Axle Loads Direction 1-SS'!I330","v":0},{"$f":"'8 Axle Loads Direction 1-SS'!J330","v":0},{"$f":"'8 Axle Loads Direction 1-SS'!K330","v":0},6,6,0,0,0,17,0,0,0,0,0,0,0,0,0,0,0,null,0,0,0,0,0,60,0,0,0,0,0,0,0,0,0,0,0,0,0,0,0,0,0,0,0,0,0,0,0,0,0,0,0,0,0,60,0,0,0,0,0,0,0,0,0,0,0,0,0,0,0,0,0,0,0,0,0,0,0,0,0,0,0,0,0,0,0,0,0,0,0,0,0,0,0,0,0,0,0,0,0,0,0,0,0,0,0,0,0,0,0,0,0,0,0,0,0,0,0,0,0,0,0,0,0,0,0,0,0,0,0,0,0,0,0,0,0,0,0,0,0,0,0,0,0,0,0,0,0,0,0,0,0,0,0,0,0,0,0,0,0,0,0,0,0,0,0,0,0,0,0,0,0,0,0,0,0,0,0,0,0,0,0,0,0,0,170,0,0,0,0,0,0,0,0,0,0,0,0,0,0,0,0,0,0,0,0,0,0,0,0,0,0,0,0,0,0,0,0,0,0,0,0,0,0,0,0,0,0,0,0,0,0,0,0,0,0,0,0,0,0,0,0,0,0,0,0,0,0,0,0,0,0,0,0,0,0,0,0,0,0,0,0,0,0,0,0,0,0,0,0,0,0,0,0,0,0,0,0,0,0,0,0,0,0,0,0,0,0,0,0,0,0,0,0,0,0,0,0,0,0,0,0,0,0,0,0,0,0,0,0,0,0,0,0,0,0,0,0,0,0,0,0,0,0,0,0,0,0,0,0,0,0,0,0,0,0,0,0,0,0,0,0,0,0,0,0,0,0,0,0,0,0,0,0,0,0,0,0,0,0,0,0,0,0,0,0,0,0,0,0,0,0,0,0,0,0,0,0,0,0,0,0,0,0,0,0,0,0,0,0,0,0,0,0,0,0,0,0,0,0,0,0,0,0,0,0,0,0,0,0,0,0,0,0,0,0,0,0,0,0,0,0,0,0,0,0,0,0,0,0,0,0,0,0,0,0,0,0,0,0,0,0,0,0,0,0,0,0,0,0,0,0,0,0,0,0,0,0,0,0,0,0,0,0,0,0,0,0,0,0,0,0,0,0,0,0,0,0,0,0,0,0,0,0,0,0,0,0,0,0,0,0,0,0,0,0,0,0,0,0,0,0,0,0,0,0,0,0,0,0,0,0,0,0,0,0,0,0,0,0,0,0,0,0,0,0,0,0,0,0,0,0,0,0,0,0,0,0,0,0,0,0,0,0,0,0,0,0,0]
[1,{"$f":"'8 Axle Loads Direction 1-SS'!B345","v":5},{"$f":"'8 Axle Loads Direction 1-SS'!C345","v":0},{"$f":"'8 Axle Loads Direction 1-SS'!D345","v":0},{"$f":"'8 Axle Loads Direction 1-SS'!E345","v":0},{"$f":"'8 Axle Loads Direction 1-SS'!F345","v":0},{"$f":"'8 Axle Loads Direction 1-SS'!G345","v":0},{"$f":"'8 Axle Loads Direction 1-SS'!H345","v":0},{"$f":"'8 Axle Loads Direction 1-SS'!I345","v":0},{"$f":"'8 Axle Loads Direction 1-SS'!J345","v":0},{"$f":"'8 Axle Loads Direction 1-SS'!K345","v":0},0,0,0,0,0,0,0,0,0,0,0,0,0,0,0,0,0,null,0,0,0,0,0,0,0,0,0,0,0,0,0,0,0,0,0,0,0,0,0,0,0,0,0,0,0,0,0,0,0,0,0,0,0,0,0,0,0,0,0,0,0,0,0,0,0,0,0,0,0,0,0,0,0,0,0,0,0,0,0,0,0,0,0,0,0,0,0,0,0,0,0,0,0,0,0,0,0,0,0,0,0,0,0,0,0,0,0,0,0,0,0,0,0,0,0,0,0,0,0,0,0,0,0,0,0,0,0,0,0,0,0,0,0,0,0,0,0,0,0,0,0,0,0,0,0,0,0,0,0,0,0,0,0,0,0,0,0,0,0,0,0,0,0,0,0,0,0,0,0,0,0,0,0,0,0,0,0,0,0,0,0,0,0,0,0,0,0,0,0,0,0,0,0,0,0,0,0,0,0,0,0,0,0,0,0,0,0,0,0,0,0,0,0,0,0,0,0,0,0,0,0,0,0,0,0,0,0,0,0,0,0,0,0,0,0,0,0,0,0,0,0,0,0,0,0,0,0,0,0,0,0,0,0,0,0,0,0,0,0,0,0,0,0,0,0,0,0,0,0,0,0,0,0,0,0,0,0,0,0,0,0,0,0,0,0,0,0,0,0,0,0,0,0,0,0,0,0,0,0,0,0,0,0,0,0,0,0,0,0,0,0,0,0,0,0,0,0,0,0,0,0,0,0,0,0,0,0,0,0,0,0,0,0,0,0,0,0,0,0,0,0,0,0,0,0,0,0,0,0,0,0,0,0,0,0,0,0,0,0,0,0,0,0,0,0,0,0,0,0,0,0,0,0,0,0,0,0,0,0,0,0,0,0,0,0,0,0,0,0,0,0,0,0,0,0,0,0,0,0,0,0,0,0,0,0,0,0,0,0,0,0,0,0,0,0,0,0,0,0,0,0,0,0,0,0,0,0,0,0,0,0,0,0,0,0,0,0,0,0,0,0,0,0,0,0,0,0,0,0,0,0,0,0,0,0,0,0,0,0,0,0,0,0,0,0,0,0,0,0,0,0,0,0,0,0,0,0,0,0,0,0,0,0,0,0,0,0,0,0,0,0,0,0,0,0,0,0,0,0,0,0,0,0,0,0,0,0,0,0,0,0,0,0,0,0,0,0,0,0,0,0,0,0,0,0,0,0,0,0,0,0,0,0,0,0,0,0,0,0,0,0,0,0,0,0,0,0,0]
[1,{"$f":"'8 Axle Loads Direction 1-SS'!B365","v":3},{"$f":"'8 Axle Loads Direction 1-SS'!C365","v":0},{"$f":"'8 Axle Loads Direction 1-SS'!D365","v":0},{"$f":"'8 Axle Loads Direction 1-SS'!E365","v":0},{"$f":"'8 Axle Loads Direction 1-SS'!F365","v":0},{"$f":"'8 Axle Loads Direction 1-SS'!G365","v":0},{"$f":"'8 Axle Loads Direction 1-SS'!H365","v":0},{"$f":"'8 Axle Loads Direction 1-SS'!I365","v":0},{"$f":"'8 Axle Loads Direction 1-SS'!J365","v":0},{"$f":"'8 Axle Loads Direction 1-SS'!K365","v":0},0,0,0,0,0,0,0,0,0,0,0,0,0,0,0,0,0,null,0,0,0,0,0,0,0,0,0,0,0,0,0,0,0,0,0,0,0,0,0,0,0,0,0,0,0,0,0,0,0,0,0,0,0,0,0,0,0,0,0,0,0,0,0,0,0,0,0,0,0,0,0,0,0,0,0,0,0,0,0,0,0,0,0,0,0,0,0,0,0,0,0,0,0,0,0,0,0,0,0,0,0,0,0,0,0,0,0,0,0,0,0,0,0,0,0,0,0,0,0,0,0,0,0,0,0,0,0,0,0,0,0,0,0,0,0,0,0,0,0,0,0,0,0,0,0,0,0,0,0,0,0,0,0,0,0,0,0,0,0,0,0,0,0,0,0,0,0,0,0,0,0,0,0,0,0,0,0,0,0,0,0,0,0,0,0,0,0,0,0,0,0,0,0,0,0,0,0,0,0,0,0,0,0,0,0,0,0,0,0,0,0,0,0,0,0,0,0,0,0,0,0,0,0,0,0,0,0,0,0,0,0,0,0,0,0,0,0,0,0,0,0,0,0,0,0,0,0,0,0,0,0,0,0,0,0,0,0,0,0,0,0,0,0,0,0,0,0,0,0,0,0,0,0,0,0,0,0,0,0,0,0,0,0,0,0,0,0,0,0,0,0,0,0,0,0,0,0,0,0,0,0,0,0,0,0,0,0,0,0,0,0,0,0,0,0,0,0,0,0,0,0,0,0,0,0,0,0,0,0,0,0,0,0,0,0,0,0,0,0,0,0,0,0,0,0,0,0,0,0,0,0,0,0,0,0,0,0,0,0,0,0,0,0,0,0,0,0,0,0,0,0,0,0,0,0,0,0,0,0,0,0,0,0,0,0,0,0,0,0,0,0,0,0,0,0,0,0,0,0,0,0,0,0,0,0,0,0,0,0,0,0,0,0,0,0,0,0,0,0,0,0,0,0,0,0,0,0,0,0,0,0,0,0,0,0,0,0,0,0,0,0,0,0,0,0,0,0,0,0,0,0,0,0,0,0,0,0,0,0,0,0,0,0,0,0,0,0,0,0,0,0,0,0,0,0,0,0,0,0,0,0,0,0,0,0,0,0,0,0,0,0,0,0,0,0,0,0,0,0,0,0,0,0,0,0,0,0,0,0,0,0,0,0,0,0,0,0,0,0,0,0,0,0,0,0,0,0,0,0,0,0,0,0,0,0,0,0,0,0,0,0,0,0,0,0,0,0,0]
[1,{"$f":"'8 Axle Loads Direction 1-SS'!B377","v":9},{"$f":"'8 Axle Loads Direction 1-SS'!C377","v":4},{"$f":"'8 Axle Loads Direction 1-SS'!D377","v":4},{"$f":"'8 Axle Loads Direction 1-SS'!E377","v":6},{"$f":"'8 Axle Loads Direction 1-SS'!F377","v":6},{"$f":"'8 Axle Loads Direction 1-SS'!G377","v":7},{"$f":"'8 Axle Loads Direction 1-SS'!H377","v":7},{"$f":"'8 Axle Loads Direction 1-SS'!I377","v":7},{"$f":"'8 Axle Loads Direction 1-SS'!J377","v":7},{"$f":"'8 Axle Loads Direction 1-SS'!K377","v":8},4,0,0,0,10,0,13,14,15,0,0,0,0,0,0,0,0,null,0,0,0,40,0,0,0,0,0,0,0,0,0,0,0,0,0,0,0,0,0,0,0,0,0,0,0,0,0,0,0,0,0,0,0,0,0,0,0,0,0,0,0,0,0,0,0,0,0,0,0,0,0,0,0,0,0,0,0,0,0,0,0,0,0,0,0,0,0,0,0,0,0,0,0,0,0,0,0,0,0,0,0,0,0,0,0,0,0,0,0,0,0,0,0,0,0,0,0,0,0,0,0,0,0,0,0,0,0,0,0,0,0,0,0,0,0,0,0,0,0,0,0,0,0,0,0,0,0,100,0,0,0,0,0,0,0,0,0,0,0,0,0,0,0,0,0,0,0,0,0,0,0,0,0,0,0,0,0,0,0,0,0,0,0,0,0,0,0,0,0,0,0,0,0,0,0,0,0,0,0,0,0,0,0,0,0,0,0,0,0,0,130,0,0,0,0,0,0,0,0,0,0,0,0,0,0,0,0,0,0,0,0,0,0,0,0,0,0,0,0,0,0,140,0,0,0,0,0,0,0,0,0,0,0,0,0,0,0,0,0,0,0,0,0,0,0,0,0,0,0,0,0,0,150,0,0,0,0,0,0,0,0,0,0,0,0,0,0,0,0,0,0,0,0,0,0,0,0,0,0,0,0,0,0,0,0,0,0,0,0,0,0,0,0,0,0,0,0,0,0,0,0,0,0,0,0,0,0,0,0,0,0,0,0,0,0,0,0,0,0,0,0,0,0,0,0,0,0,0,0,0,0,0,0,0,0,0,0,0,0,0,0,0,0,0,0,0,0,0,0,0,0,0,0,0,0,0,0,0,0,0,0,0,0,0,0,0,0,0,0,0,0,0,0,0,0,0,0,0,0,0,0,0,0,0,0,0,0,0,0,0,0,0,0,0,0,0,0,0,0,0,0,0,0,0,0,0,0,0,0,0,0,0,0,0,0,0,0,0,0,0,0,0,0,0,0,0,0,0,0,0,0,0,0,0,0,0,0,0,0,0,0,0,0,0,0,0,0,0,0,0,0,0,0,0,0,0,0,0,0,0,0,0,0,0,0,0,0,0,0,0,0,0,0,0,0,0,0,0,0,0,0,0,0,0,0,0,0,0,0,0,0,0,0,0,0,0,0,0,0,0,0,0,0,0,0,0,0,0,0,0,0,0,0,0,0,0,0,0,0,0,0,0,0,0,0,0,0,0]
[1,{"$f":"'8 Axle Loads Direction 1-SS'!B393","v":3},{"$f":"'8 Axle Loads Direction 1-SS'!C393","v":0},{"$f":"'8 Axle Loads Direction 1-SS'!D393","v":0},{"$f":"'8 Axle Loads Direction 1-SS'!E393","v":0},{"$f":"'8 Axle Loads Direction 1-SS'!F393","v":0},{"$f":"'8 Axle Loads Direction 1-SS'!G393","v":0},{"$f":"'8 Axle Loads Direction 1-SS'!H393","v":0},{"$f":"'8 Axle Loads Direction 1-SS'!I393","v":0},{"$f":"'8 Axle Loads Direction 1-SS'!J393","v":0},{"$f":"'8 Axle Loads Direction 1-SS'!K393","v":0},0,0,0,0,0,0,0,0,0,0,0,0,0,0,0,0,0,null,0,0,0,0,0,0,0,0,0,0,0,0,0,0,0,0,0,0,0,0,0,0,0,0,0,0,0,0,0,0,0,0,0,0,0,0,0,0,0,0,0,0,0,0,0,0,0,0,0,0,0,0,0,0,0,0,0,0,0,0,0,0,0,0,0,0,0,0,0,0,0,0,0,0,0,0,0,0,0,0,0,0,0,0,0,0,0,0,0,0,0,0,0,0,0,0,0,0,0,0,0,0,0,0,0,0,0,0,0,0,0,0,0,0,0,0,0,0,0,0,0,0,0,0,0,0,0,0,0,0,0,0,0,0,0,0,0,0,0,0,0,0,0,0,0,0,0,0,0,0,0,0,0,0,0,0,0,0,0,0,0,0,0,0,0,0,0,0,0,0,0,0,0,0,0,0,0,0,0,0,0,0,0,0,0,0,0,0,0,0,0,0,0,0,0,0,0,0,0,0,0,0,0,0,0,0,0,0,0,0,0,0,0,0,0,0,0,0,0,0,0,0,0,0,0,0,0,0,0,0,0,0,0,0,0,0,0,0,0,0,0,0,0,0,0,0,0,0,0,0,0,0,0,0,0,0,0,0,0,0,0,0,0,0,0,0,0,0,0,0,0,0,0,0,0,0,0,0,0,0,0,0,0,0,0,0,0,0,0,0,0,0,0,0,0,0,0,0,0,0,0,0,0,0,0,0,0,0,0,0,0,0,0,0,0,0,0,0,0,0,0,0,0,0,0,0,0,0,0,0,0,0,0,0,0,0,0,0,0,0,0,0,0,0,0,0,0,0,0,0,0,0,0,0,0,0,0,0,0,0,0,0,0,0,0,0,0,0,0,0,0,0,0,0,0,0,0,0,0,0,0,0,0,0,0,0,0,0,0,0,0,0,0,0,0,0,0,0,0,0,0,0,0,0,0,0,0,0,0,0,0,0,0,0,0,0,0,0,0,0,0,0,0,0,0,0,0,0,0,0,0,0,0,0,0,0,0,0,0,0,0,0,0,0,0,0,0,0,0,0,0,0,0,0,0,0,0,0,0,0,0,0,0,0,0,0,0,0,0,0,0,0,0,0,0,0,0,0,0,0,0,0,0,0,0,0,0,0,0,0,0,0,0,0,0,0,0,0,0,0,0,0,0,0,0,0,0,0,0,0,0,0,0,0,0,0,0,0,0,0,0,0,0,0,0,0,0,0,0,0]
[1,{"$f":"'8 Axle Loads Direction 1-SS'!B414","v":3},{"$f":"'8 Axle Loads Direction 1-SS'!C414","v":0},{"$f":"'8 Axle Loads Direction 1-SS'!D414","v":0},{"$f":"'8 Axle Loads Direction 1-SS'!E414","v":0},{"$f":"'8 Axle Loads Direction 1-SS'!F414","v":0},{"$f":"'8 Axle Loads Direction 1-SS'!G414","v":0},{"$f":"'8 Axle Loads Direction 1-SS'!H414","v":0},{"$f":"'8 Axle Loads Direction 1-SS'!I414","v":0},{"$f":"'8 Axle Loads Direction 1-SS'!J414","v":0},{"$f":"'8 Axle Loads Direction 1-SS'!K414","v":0},0,0,0,0,0,0,0,0,0,0,0,0,0,0,0,0,0,null,0,0,0,0,0,0,0,0,0,0,0,0,0,0,0,0,0,0,0,0,0,0,0,0,0,0,0,0,0,0,0,0,0,0,0,0,0,0,0,0,0,0,0,0,0,0,0,0,0,0,0,0,0,0,0,0,0,0,0,0,0,0,0,0,0,0,0,0,0,0,0,0,0,0,0,0,0,0,0,0,0,0,0,0,0,0,0,0,0,0,0,0,0,0,0,0,0,0,0,0,0,0,0,0,0,0,0,0,0,0,0,0,0,0,0,0,0,0,0,0,0,0,0,0,0,0,0,0,0,0,0,0,0,0,0,0,0,0,0,0,0,0,0,0,0,0,0,0,0,0,0,0,0,0,0,0,0,0,0,0,0,0,0,0,0,0,0,0,0,0,0,0,0,0,0,0,0,0,0,0,0,0,0,0,0,0,0,0,0,0,0,0,0,0,0,0,0,0,0,0,0,0,0,0,0,0,0,0,0,0,0,0,0,0,0,0,0,0,0,0,0,0,0,0,0,0,0,0,0,0,0,0,0,0,0,0,0,0,0,0,0,0,0,0,0,0,0,0,0,0,0,0,0,0,0,0,0,0,0,0,0,0,0,0,0,0,0,0,0,0,0,0,0,0,0,0,0,0,0,0,0,0,0,0,0,0,0,0,0,0,0,0,0,0,0,0,0,0,0,0,0,0,0,0,0,0,0,0,0,0,0,0,0,0,0,0,0,0,0,0,0,0,0,0,0,0,0,0,0,0,0,0,0,0,0,0,0,0,0,0,0,0,0,0,0,0,0,0,0,0,0,0,0,0,0,0,0,0,0,0,0,0,0,0,0,0,0,0,0,0,0,0,0,0,0,0,0,0,0,0,0,0,0,0,0,0,0,0,0,0,0,0,0,0,0,0,0,0,0,0,0,0,0,0,0,0,0,0,0,0,0,0,0,0,0,0,0,0,0,0,0,0,0,0,0,0,0,0,0,0,0,0,0,0,0,0,0,0,0,0,0,0,0,0,0,0,0,0,0,0,0,0,0,0,0,0,0,0,0,0,0,0,0,0,0,0,0,0,0,0,0,0,0,0,0,0,0,0,0,0,0,0,0,0,0,0,0,0,0,0,0,0,0,0,0,0,0,0,0,0,0,0,0,0,0,0,0,0,0,0,0,0,0,0,0,0,0,0,0,0,0,0,0,0,0,0,0,0,0,0]
[1,{"$f":"'8 Axle Loads Direction 1-SS'!B424","v":3},{"$f":"'8 Axle Loads Direction 1-SS'!C424","v":0},{"$f":"'8 Axle Loads Direction 1-SS'!D424","v":0},{"$f":"'8 Axle Loads Direction 1-SS'!E424","v":0},{"$f":"'8 Axle Loads Direction 1-SS'!F424","v":0},{"$f":"'8 Axle Loads Direction 1-SS'!G424","v":0},{"$f":"'8 Axle Loads Direction 1-SS'!H424","v":0},{"$f":"'8 Axle Loads Direction 1-SS'!I424","v":0},{"$f":"'8 Axle Loads Direction 1-SS'!J424","v":0},{"$f":"'8 Axle Loads Direction 1-SS'!K424","v":0},0,0,0,0,0,0,0,0,0,0,0,0,0,0,0,0,0,null,0,0,0,0,0,0,0,0,0,0,0,0,0,0,0,0,0,0,0,0,0,0,0,0,0,0,0,0,0,0,0,0,0,0,0,0,0,0,0,0,0,0,0,0,0,0,0,0,0,0,0,0,0,0,0,0,0,0,0,0,0,0,0,0,0,0,0,0,0,0,0,0,0,0,0,0,0,0,0,0,0,0,0,0,0,0,0,0,0,0,0,0,0,0,0,0,0,0,0,0,0,0,0,0,0,0,0,0,0,0,0,0,0,0,0,0,0,0,0,0,0,0,0,0,0,0,0,0,0,0,0,0,0,0,0,0,0,0,0,0,0,0,0,0,0,0,0,0,0,0,0,0,0,0,0,0,0,0,0,0,0,0,0,0,0,0,0,0,0,0,0,0,0,0,0,0,0,0,0,0,0,0,0,0,0,0,0,0,0,0,0,0,0,0,0,0,0,0,0,0,0,0,0,0,0,0,0,0,0,0,0,0,0,0,0,0,0,0,0,0,0,0,0,0,0,0,0,0,0,0,0,0,0,0,0,0,0,0,0,0,0,0,0,0,0,0,0,0,0,0,0,0,0,0,0,0,0,0,0,0,0,0,0,0,0,0,0,0,0,0,0,0,0,0,0,0,0,0,0,0,0,0,0,0,0,0,0,0,0,0,0,0,0,0,0,0,0,0,0,0,0,0,0,0,0,0,0,0,0,0,0,0,0,0,0,0,0,0,0,0,0,0,0,0,0,0,0,0,0,0,0,0,0,0,0,0,0,0,0,0,0,0,0,0,0,0,0,0,0,0,0,0,0,0,0,0,0,0,0,0,0,0,0,0,0,0,0,0,0,0,0,0,0,0,0,0,0,0,0,0,0,0,0,0,0,0,0,0,0,0,0,0,0,0,0,0,0,0,0,0,0,0,0,0,0,0,0,0,0,0,0,0,0,0,0,0,0,0,0,0,0,0,0,0,0,0,0,0,0,0,0,0,0,0,0,0,0,0,0,0,0,0,0,0,0,0,0,0,0,0,0,0,0,0,0,0,0,0,0,0,0,0,0,0,0,0,0,0,0,0,0,0,0,0,0,0,0,0,0,0,0,0,0,0,0,0,0,0,0,0,0,0,0,0,0,0,0,0,0,0,0,0,0,0,0,0,0,0,0,0,0,0,0,0,0,0,0,0,0,0,0,0,0,0,0,0,0,0,0,0]
[1,{"$f":"'8 Axle Loads Direction 1-SS'!B440","v":3},{"$f":"'8 Axle Loads Direction 1-SS'!C440","v":0},{"$f":"'8 Axle Loads Direction 1-SS'!D440","v":0},{"$f":"'8 Axle Loads Direction 1-SS'!E440","v":0},{"$f":"'8 Axle Loads Direction 1-SS'!F440","v":0},{"$f":"'8 Axle Loads Direction 1-SS'!G440","v":0},{"$f":"'8 Axle Loads Direction 1-SS'!H440","v":0},{"$f":"'8 Axle Loads Direction 1-SS'!I440","v":0},{"$f":"'8 Axle Loads Direction 1-SS'!J440","v":0},{"$f":"'8 Axle Loads Direction 1-SS'!K440","v":0},0,0,0,0,0,0,0,0,0,0,0,0,0,0,0,0,0,null,0,0,0,0,0,0,0,0,0,0,0,0,0,0,0,0,0,0,0,0,0,0,0,0,0,0,0,0,0,0,0,0,0,0,0,0,0,0,0,0,0,0,0,0,0,0,0,0,0,0,0,0,0,0,0,0,0,0,0,0,0,0,0,0,0,0,0,0,0,0,0,0,0,0,0,0,0,0,0,0,0,0,0,0,0,0,0,0,0,0,0,0,0,0,0,0,0,0,0,0,0,0,0,0,0,0,0,0,0,0,0,0,0,0,0,0,0,0,0,0,0,0,0,0,0,0,0,0,0,0,0,0,0,0,0,0,0,0,0,0,0,0,0,0,0,0,0,0,0,0,0,0,0,0,0,0,0,0,0,0,0,0,0,0,0,0,0,0,0,0,0,0,0,0,0,0,0,0,0,0,0,0,0,0,0,0,0,0,0,0,0,0,0,0,0,0,0,0,0,0,0,0,0,0,0,0,0,0,0,0,0,0,0,0,0,0,0,0,0,0,0,0,0,0,0,0,0,0,0,0,0,0,0,0,0,0,0,0,0,0,0,0,0,0,0,0,0,0,0,0,0,0,0,0,0,0,0,0,0,0,0,0,0,0,0,0,0,0,0,0,0,0,0,0,0,0,0,0,0,0,0,0,0,0,0,0,0,0,0,0,0,0,0,0,0,0,0,0,0,0,0,0,0,0,0,0,0,0,0,0,0,0,0,0,0,0,0,0,0,0,0,0,0,0,0,0,0,0,0,0,0,0,0,0,0,0,0,0,0,0,0,0,0,0,0,0,0,0,0,0,0,0,0,0,0,0,0,0,0,0,0,0,0,0,0,0,0,0,0,0,0,0,0,0,0,0,0,0,0,0,0,0,0,0,0,0,0,0,0,0,0,0,0,0,0,0,0,0,0,0,0,0,0,0,0,0,0,0,0,0,0,0,0,0,0,0,0,0,0,0,0,0,0,0,0,0,0,0,0,0,0,0,0,0,0,0,0,0,0,0,0,0,0,0,0,0,0,0,0,0,0,0,0,0,0,0,0,0,0,0,0,0,0,0,0,0,0,0,0,0,0,0,0,0,0,0,0,0,0,0,0,0,0,0,0,0,0,0,0,0,0,0,0,0,0,0,0,0,0,0,0,0,0,0,0,0,0,0,0,0,0,0,0,0,0,0,0,0,0,0,0,0,0,0,0,0,0,0,0,0]
[1,{"$f":"'8 Axle Loads Direction 1-SS'!B455","v":"9B"},{"$f":"'8 Axle Loads Direction 1-SS'!C455","v":0},{"$f":"'8 Axle Loads Direction 1-SS'!D455","v":0},{"$f":"'8 Axle Loads Direction 1-SS'!E455","v":0},{"$f":"'8 Axle Loads Direction 1-SS'!F455","v":0},{"$f":"'8 Axle Loads Direction 1-SS'!G455","v":0},{"$f":"'8 Axle Loads Direction 1-SS'!H455","v":0},{"$f":"'8 Axle Loads Direction 1-SS'!I455","v":0},{"$f":"'8 Axle Loads Direction 1-SS'!J455","v":0},{"$f":"'8 Axle Loads Direction 1-SS'!K455","v":0},0,0,0,0,0,0,0,0,0,0,0,0,0,0,0,0,0,null,0,0,0,0,0,0,0,0,0,0,0,0,0,0,0,0,0,0,0,0,0,0,0,0,0,0,0,0,0,0,0,0,0,0,0,0,0,0,0,0,0,0,0,0,0,0,0,0,0,0,0,0,0,0,0,0,0,0,0,0,0,0,0,0,0,0,0,0,0,0,0,0,0,0,0,0,0,0,0,0,0,0,0,0,0,0,0,0,0,0,0,0,0,0,0,0,0,0,0,0,0,0,0,0,0,0,0,0,0,0,0,0,0,0,0,0,0,0,0,0,0,0,0,0,0,0,0,0,0,0,0,0,0,0,0,0,0,0,0,0,0,0,0,0,0,0,0,0,0,0,0,0,0,0,0,0,0,0,0,0,0,0,0,0,0,0,0,0,0,0,0,0,0,0,0,0,0,0,0,0,0,0,0,0,0,0,0,0,0,0,0,0,0,0,0,0,0,0,0,0,0,0,0,0,0,0,0,0,0,0,0,0,0,0,0,0,0,0,0,0,0,0,0,0,0,0,0,0,0,0,0,0,0,0,0,0,0,0,0,0,0,0,0,0,0,0,0,0,0,0,0,0,0,0,0,0,0,0,0,0,0,0,0,0,0,0,0,0,0,0,0,0,0,0,0,0,0,0,0,0,0,0,0,0,0,0,0,0,0,0,0,0,0,0,0,0,0,0,0,0,0,0,0,0,0,0,0,0,0,0,0,0,0,0,0,0,0,0,0,0,0,0,0,0,0,0,0,0,0,0,0,0,0,0,0,0,0,0,0,0,0,0,0,0,0,0,0,0,0,0,0,0,0,0,0,0,0,0,0,0,0,0,0,0,0,0,0,0,0,0,0,0,0,0,0,0,0,0,0,0,0,0,0,0,0,0,0,0,0,0,0,0,0,0,0,0,0,0,0,0,0,0,0,0,0,0,0,0,0,0,0,0,0,0,0,0,0,0,0,0,0,0,0,0,0,0,0,0,0,0,0,0,0,0,0,0,0,0,0,0,0,0,0,0,0,0,0,0,0,0,0,0,0,0,0,0,0,0,0,0,0,0,0,0,0,0,0,0,0,0,0,0,0,0,0,0,0,0,0,0,0,0,0,0,0,0,0,0,0,0,0,0,0,0,0,0,0,0,0,0,0,0,0,0,0,0,0,0,0,0,0,0,0,0,0,0,0,0,0,0,0,0,0,0,0,0,0,0,0,0]
[1,{"$f":"'8 Axle Loads Direction 1-SS'!B463","v":3},{"$f":"'8 Axle Loads Direction 1-SS'!C463","v":0},{"$f":"'8 Axle Loads Direction 1-SS'!D463","v":0},{"$f":"'8 Axle Loads Direction 1-SS'!E463","v":0},{"$f":"'8 Axle Loads Direction 1-SS'!F463","v":0},{"$f":"'8 Axle Loads Direction 1-SS'!G463","v":0},{"$f":"'8 Axle Loads Direction 1-SS'!H463","v":0},{"$f":"'8 Axle Loads Direction 1-SS'!I463","v":0},{"$f":"'8 Axle Loads Direction 1-SS'!J463","v":0},{"$f":"'8 Axle Loads Direction 1-SS'!K463","v":0},0,0,0,0,0,0,0,0,0,0,0,0,0,0,0,0,0,null,0,0,0,0,0,0,0,0,0,0,0,0,0,0,0,0,0,0,0,0,0,0,0,0,0,0,0,0,0,0,0,0,0,0,0,0,0,0,0,0,0,0,0,0,0,0,0,0,0,0,0,0,0,0,0,0,0,0,0,0,0,0,0,0,0,0,0,0,0,0,0,0,0,0,0,0,0,0,0,0,0,0,0,0,0,0,0,0,0,0,0,0,0,0,0,0,0,0,0,0,0,0,0,0,0,0,0,0,0,0,0,0,0,0,0,0,0,0,0,0,0,0,0,0,0,0,0,0,0,0,0,0,0,0,0,0,0,0,0,0,0,0,0,0,0,0,0,0,0,0,0,0,0,0,0,0,0,0,0,0,0,0,0,0,0,0,0,0,0,0,0,0,0,0,0,0,0,0,0,0,0,0,0,0,0,0,0,0,0,0,0,0,0,0,0,0,0,0,0,0,0,0,0,0,0,0,0,0,0,0,0,0,0,0,0,0,0,0,0,0,0,0,0,0,0,0,0,0,0,0,0,0,0,0,0,0,0,0,0,0,0,0,0,0,0,0,0,0,0,0,0,0,0,0,0,0,0,0,0,0,0,0,0,0,0,0,0,0,0,0,0,0,0,0,0,0,0,0,0,0,0,0,0,0,0,0,0,0,0,0,0,0,0,0,0,0,0,0,0,0,0,0,0,0,0,0,0,0,0,0,0,0,0,0,0,0,0,0,0,0,0,0,0,0,0,0,0,0,0,0,0,0,0,0,0,0,0,0,0,0,0,0,0,0,0,0,0,0,0,0,0,0,0,0,0,0,0,0,0,0,0,0,0,0,0,0,0,0,0,0,0,0,0,0,0,0,0,0,0,0,0,0,0,0,0,0,0,0,0,0,0,0,0,0,0,0,0,0,0,0,0,0,0,0,0,0,0,0,0,0,0,0,0,0,0,0,0,0,0,0,0,0,0,0,0,0,0,0,0,0,0,0,0,0,0,0,0,0,0,0,0,0,0,0,0,0,0,0,0,0,0,0,0,0,0,0,0,0,0,0,0,0,0,0,0,0,0,0,0,0,0,0,0,0,0,0,0,0,0,0,0,0,0,0,0,0,0,0,0,0,0,0,0,0,0,0,0,0,0,0,0,0,0,0,0,0,0,0,0,0,0,0,0,0,0,0,0,0,0,0,0,0,0,0,0,0,0,0,0,0]
[1,{"$f":"'8 Axle Loads Direction 1-SS'!B487","v":3},{"$f":"'8 Axle Loads Direction 1-SS'!C487","v":0},{"$f":"'8 Axle Loads Direction 1-SS'!D487","v":0},{"$f":"'8 Axle Loads Direction 1-SS'!E487","v":0},{"$f":"'8 Axle Loads Direction 1-SS'!F487","v":0},{"$f":"'8 Axle Loads Direction 1-SS'!G487","v":0},{"$f":"'8 Axle Loads Direction 1-SS'!H487","v":0},{"$f":"'8 Axle Loads Direction 1-SS'!I487","v":0},{"$f":"'8 Axle Loads Direction 1-SS'!J487","v":0},{"$f":"'8 Axle Loads Direction 1-SS'!K487","v":0},0,0,0,0,0,0,0,0,0,0,0,0,0,0,0,0,0,null,0,0,0,0,0,0,0,0,0,0,0,0,0,0,0,0,0,0,0,0,0,0,0,0,0,0,0,0,0,0,0,0,0,0,0,0,0,0,0,0,0,0,0,0,0,0,0,0,0,0,0,0,0,0,0,0,0,0,0,0,0,0,0,0,0,0,0,0,0,0,0,0,0,0,0,0,0,0,0,0,0,0,0,0,0,0,0,0,0,0,0,0,0,0,0,0,0,0,0,0,0,0,0,0,0,0,0,0,0,0,0,0,0,0,0,0,0,0,0,0,0,0,0,0,0,0,0,0,0,0,0,0,0,0,0,0,0,0,0,0,0,0,0,0,0,0,0,0,0,0,0,0,0,0,0,0,0,0,0,0,0,0,0,0,0,0,0,0,0,0,0,0,0,0,0,0,0,0,0,0,0,0,0,0,0,0,0,0,0,0,0,0,0,0,0,0,0,0,0,0,0,0,0,0,0,0,0,0,0,0,0,0,0,0,0,0,0,0,0,0,0,0,0,0,0,0,0,0,0,0,0,0,0,0,0,0,0,0,0,0,0,0,0,0,0,0,0,0,0,0,0,0,0,0,0,0,0,0,0,0,0,0,0,0,0,0,0,0,0,0,0,0,0,0,0,0,0,0,0,0,0,0,0,0,0,0,0,0,0,0,0,0,0,0,0,0,0,0,0,0,0,0,0,0,0,0,0,0,0,0,0,0,0,0,0,0,0,0,0,0,0,0,0,0,0,0,0,0,0,0,0,0,0,0,0,0,0,0,0,0,0,0,0,0,0,0,0,0,0,0,0,0,0,0,0,0,0,0,0,0,0,0,0,0,0,0,0,0,0,0,0,0,0,0,0,0,0,0,0,0,0,0,0,0,0,0,0,0,0,0,0,0,0,0,0,0,0,0,0,0,0,0,0,0,0,0,0,0,0,0,0,0,0,0,0,0,0,0,0,0,0,0,0,0,0,0,0,0,0,0,0,0,0,0,0,0,0,0,0,0,0,0,0,0,0,0,0,0,0,0,0,0,0,0,0,0,0,0,0,0,0,0,0,0,0,0,0,0,0,0,0,0,0,0,0,0,0,0,0,0,0,0,0,0,0,0,0,0,0,0,0,0,0,0,0,0,0,0,0,0,0,0,0,0,0,0,0,0,0,0,0,0,0,0,0,0,0,0,0,0,0,0,0,0,0,0,0,0,0,0]
[1,{"$f":"'8 Axle Loads Direction 1-SS'!B502","v":3},{"$f":"'8 Axle Loads Direction 1-SS'!C502","v":0},{"$f":"'8 Axle Loads Direction 1-SS'!D502","v":0},{"$f":"'8 Axle Loads Direction 1-SS'!E502","v":0},{"$f":"'8 Axle Loads Direction 1-SS'!F502","v":0},{"$f":"'8 Axle Loads Direction 1-SS'!G502","v":0},{"$f":"'8 Axle Loads Direction 1-SS'!H502","v":0},{"$f":"'8 Axle Loads Direction 1-SS'!I502","v":0},{"$f":"'8 Axle Loads Direction 1-SS'!J502","v":0},{"$f":"'8 Axle Loads Direction 1-SS'!K502","v":0},0,0,0,0,0,0,0,0,0,0,0,0,0,0,0,0,0,null,0,0,0,0,0,0,0,0,0,0,0,0,0,0,0,0,0,0,0,0,0,0,0,0,0,0,0,0,0,0,0,0,0,0,0,0,0,0,0,0,0,0,0,0,0,0,0,0,0,0,0,0,0,0,0,0,0,0,0,0,0,0,0,0,0,0,0,0,0,0,0,0,0,0,0,0,0,0,0,0,0,0,0,0,0,0,0,0,0,0,0,0,0,0,0,0,0,0,0,0,0,0,0,0,0,0,0,0,0,0,0,0,0,0,0,0,0,0,0,0,0,0,0,0,0,0,0,0,0,0,0,0,0,0,0,0,0,0,0,0,0,0,0,0,0,0,0,0,0,0,0,0,0,0,0,0,0,0,0,0,0,0,0,0,0,0,0,0,0,0,0,0,0,0,0,0,0,0,0,0,0,0,0,0,0,0,0,0,0,0,0,0,0,0,0,0,0,0,0,0,0,0,0,0,0,0,0,0,0,0,0,0,0,0,0,0,0,0,0,0,0,0,0,0,0,0,0,0,0,0,0,0,0,0,0,0,0,0,0,0,0,0,0,0,0,0,0,0,0,0,0,0,0,0,0,0,0,0,0,0,0,0,0,0,0,0,0,0,0,0,0,0,0,0,0,0,0,0,0,0,0,0,0,0,0,0,0,0,0,0,0,0,0,0,0,0,0,0,0,0,0,0,0,0,0,0,0,0,0,0,0,0,0,0,0,0,0,0,0,0,0,0,0,0,0,0,0,0,0,0,0,0,0,0,0,0,0,0,0,0,0,0,0,0,0,0,0,0,0,0,0,0,0,0,0,0,0,0,0,0,0,0,0,0,0,0,0,0,0,0,0,0,0,0,0,0,0,0,0,0,0,0,0,0,0,0,0,0,0,0,0,0,0,0,0,0,0,0,0,0,0,0,0,0,0,0,0,0,0,0,0,0,0,0,0,0,0,0,0,0,0,0,0,0,0,0,0,0,0,0,0,0,0,0,0,0,0,0,0,0,0,0,0,0,0,0,0,0,0,0,0,0,0,0,0,0,0,0,0,0,0,0,0,0,0,0,0,0,0,0,0,0,0,0,0,0,0,0,0,0,0,0,0,0,0,0,0,0,0,0,0,0,0,0,0,0,0,0,0,0,0,0,0,0,0,0,0,0,0,0,0,0,0,0,0,0,0,0,0,0,0,0,0,0,0,0,0,0,0,0]
[1,{"$f":"'8 Axle Loads Direction 1-SS'!B512","v":3},{"$f":"'8 Axle Loads Direction 1-SS'!C512","v":0},{"$f":"'8 Axle Loads Direction 1-SS'!D512","v":0},{"$f":"'8 Axle Loads Direction 1-SS'!E512","v":0},{"$f":"'8 Axle Loads Direction 1-SS'!F512","v":0},{"$f":"'8 Axle Loads Direction 1-SS'!G512","v":0},{"$f":"'8 Axle Loads Direction 1-SS'!H512","v":0},{"$f":"'8 Axle Loads Direction 1-SS'!I512","v":0},{"$f":"'8 Axle Loads Direction 1-SS'!J512","v":0},{"$f":"'8 Axle Loads Direction 1-SS'!K512","v":0},0,0,0,0,0,0,0,0,0,0,0,0,0,0,0,0,0,null,0,0,0,0,0,0,0,0,0,0,0,0,0,0,0,0,0,0,0,0,0,0,0,0,0,0,0,0,0,0,0,0,0,0,0,0,0,0,0,0,0,0,0,0,0,0,0,0,0,0,0,0,0,0,0,0,0,0,0,0,0,0,0,0,0,0,0,0,0,0,0,0,0,0,0,0,0,0,0,0,0,0,0,0,0,0,0,0,0,0,0,0,0,0,0,0,0,0,0,0,0,0,0,0,0,0,0,0,0,0,0,0,0,0,0,0,0,0,0,0,0,0,0,0,0,0,0,0,0,0,0,0,0,0,0,0,0,0,0,0,0,0,0,0,0,0,0,0,0,0,0,0,0,0,0,0,0,0,0,0,0,0,0,0,0,0,0,0,0,0,0,0,0,0,0,0,0,0,0,0,0,0,0,0,0,0,0,0,0,0,0,0,0,0,0,0,0,0,0,0,0,0,0,0,0,0,0,0,0,0,0,0,0,0,0,0,0,0,0,0,0,0,0,0,0,0,0,0,0,0,0,0,0,0,0,0,0,0,0,0,0,0,0,0,0,0,0,0,0,0,0,0,0,0,0,0,0,0,0,0,0,0,0,0,0,0,0,0,0,0,0,0,0,0,0,0,0,0,0,0,0,0,0,0,0,0,0,0,0,0,0,0,0,0,0,0,0,0,0,0,0,0,0,0,0,0,0,0,0,0,0,0,0,0,0,0,0,0,0,0,0,0,0,0,0,0,0,0,0,0,0,0,0,0,0,0,0,0,0,0,0,0,0,0,0,0,0,0,0,0,0,0,0,0,0,0,0,0,0,0,0,0,0,0,0,0,0,0,0,0,0,0,0,0,0,0,0,0,0,0,0,0,0,0,0,0,0,0,0,0,0,0,0,0,0,0,0,0,0,0,0,0,0,0,0,0,0,0,0,0,0,0,0,0,0,0,0,0,0,0,0,0,0,0,0,0,0,0,0,0,0,0,0,0,0,0,0,0,0,0,0,0,0,0,0,0,0,0,0,0,0,0,0,0,0,0,0,0,0,0,0,0,0,0,0,0,0,0,0,0,0,0,0,0,0,0,0,0,0,0,0,0,0,0,0,0,0,0,0,0,0,0,0,0,0,0,0,0,0,0,0,0,0,0,0,0,0,0,0,0,0,0,0,0,0,0,0,0,0,0,0,0,0,0,0,0,0,0,0,0]
[1,{"$f":"'8 Axle Loads Direction 1-SS'!B534","v":3},{"$f":"'8 Axle Loads Direction 1-SS'!C534","v":0},{"$f":"'8 Axle Loads Direction 1-SS'!D534","v":0},{"$f":"'8 Axle Loads Direction 1-SS'!E534","v":0},{"$f":"'8 Axle Loads Direction 1-SS'!F534","v":0},{"$f":"'8 Axle Loads Direction 1-SS'!G534","v":0},{"$f":"'8 Axle Loads Direction 1-SS'!H534","v":0},{"$f":"'8 Axle Loads Direction 1-SS'!I534","v":0},{"$f":"'8 Axle Loads Direction 1-SS'!J534","v":0},{"$f":"'8 Axle Loads Direction 1-SS'!K534","v":0},0,0,0,0,0,0,0,0,0,0,0,0,0,0,0,0,0,null,0,0,0,0,0,0,0,0,0,0,0,0,0,0,0,0,0,0,0,0,0,0,0,0,0,0,0,0,0,0,0,0,0,0,0,0,0,0,0,0,0,0,0,0,0,0,0,0,0,0,0,0,0,0,0,0,0,0,0,0,0,0,0,0,0,0,0,0,0,0,0,0,0,0,0,0,0,0,0,0,0,0,0,0,0,0,0,0,0,0,0,0,0,0,0,0,0,0,0,0,0,0,0,0,0,0,0,0,0,0,0,0,0,0,0,0,0,0,0,0,0,0,0,0,0,0,0,0,0,0,0,0,0,0,0,0,0,0,0,0,0,0,0,0,0,0,0,0,0,0,0,0,0,0,0,0,0,0,0,0,0,0,0,0,0,0,0,0,0,0,0,0,0,0,0,0,0,0,0,0,0,0,0,0,0,0,0,0,0,0,0,0,0,0,0,0,0,0,0,0,0,0,0,0,0,0,0,0,0,0,0,0,0,0,0,0,0,0,0,0,0,0,0,0,0,0,0,0,0,0,0,0,0,0,0,0,0,0,0,0,0,0,0,0,0,0,0,0,0,0,0,0,0,0,0,0,0,0,0,0,0,0,0,0,0,0,0,0,0,0,0,0,0,0,0,0,0,0,0,0,0,0,0,0,0,0,0,0,0,0,0,0,0,0,0,0,0,0,0,0,0,0,0,0,0,0,0,0,0,0,0,0,0,0,0,0,0,0,0,0,0,0,0,0,0,0,0,0,0,0,0,0,0,0,0,0,0,0,0,0,0,0,0,0,0,0,0,0,0,0,0,0,0,0,0,0,0,0,0,0,0,0,0,0,0,0,0,0,0,0,0,0,0,0,0,0,0,0,0,0,0,0,0,0,0,0,0,0,0,0,0,0,0,0,0,0,0,0,0,0,0,0,0,0,0,0,0,0,0,0,0,0,0,0,0,0,0,0,0,0,0,0,0,0,0,0,0,0,0,0,0,0,0,0,0,0,0,0,0,0,0,0,0,0,0,0,0,0,0,0,0,0,0,0,0,0,0,0,0,0,0,0,0,0,0,0,0,0,0,0,0,0,0,0,0,0,0,0,0,0,0,0,0,0,0,0,0,0,0,0,0,0,0,0,0,0,0,0,0,0,0,0,0,0,0,0,0,0,0,0,0,0,0,0,0,0,0,0,0,0,0,0,0,0,0,0,0,0,0,0]
[1,{"$f":"'8 Axle Loads Direction 1-SS'!B549","v":3},{"$f":"'8 Axle Loads Direction 1-SS'!C549","v":0},{"$f":"'8 Axle Loads Direction 1-SS'!D549","v":0},{"$f":"'8 Axle Loads Direction 1-SS'!E549","v":0},{"$f":"'8 Axle Loads Direction 1-SS'!F549","v":0},{"$f":"'8 Axle Loads Direction 1-SS'!G549","v":0},{"$f":"'8 Axle Loads Direction 1-SS'!H549","v":0},{"$f":"'8 Axle Loads Direction 1-SS'!I549","v":0},{"$f":"'8 Axle Loads Direction 1-SS'!J549","v":0},{"$f":"'8 Axle Loads Direction 1-SS'!K549","v":0},0,0,0,0,0,0,0,0,0,0,0,0,0,0,0,0,0,null,0,0,0,0,0,0,0,0,0,0,0,0,0,0,0,0,0,0,0,0,0,0,0,0,0,0,0,0,0,0,0,0,0,0,0,0,0,0,0,0,0,0,0,0,0,0,0,0,0,0,0,0,0,0,0,0,0,0,0,0,0,0,0,0,0,0,0,0,0,0,0,0,0,0,0,0,0,0,0,0,0,0,0,0,0,0,0,0,0,0,0,0,0,0,0,0,0,0,0,0,0,0,0,0,0,0,0,0,0,0,0,0,0,0,0,0,0,0,0,0,0,0,0,0,0,0,0,0,0,0,0,0,0,0,0,0,0,0,0,0,0,0,0,0,0,0,0,0,0,0,0,0,0,0,0,0,0,0,0,0,0,0,0,0,0,0,0,0,0,0,0,0,0,0,0,0,0,0,0,0,0,0,0,0,0,0,0,0,0,0,0,0,0,0,0,0,0,0,0,0,0,0,0,0,0,0,0,0,0,0,0,0,0,0,0,0,0,0,0,0,0,0,0,0,0,0,0,0,0,0,0,0,0,0,0,0,0,0,0,0,0,0,0,0,0,0,0,0,0,0,0,0,0,0,0,0,0,0,0,0,0,0,0,0,0,0,0,0,0,0,0,0,0,0,0,0,0,0,0,0,0,0,0,0,0,0,0,0,0,0,0,0,0,0,0,0,0,0,0,0,0,0,0,0,0,0,0,0,0,0,0,0,0,0,0,0,0,0,0,0,0,0,0,0,0,0,0,0,0,0,0,0,0,0,0,0,0,0,0,0,0,0,0,0,0,0,0,0,0,0,0,0,0,0,0,0,0,0,0,0,0,0,0,0,0,0,0,0,0,0,0,0,0,0,0,0,0,0,0,0,0,0,0,0,0,0,0,0,0,0,0,0,0,0,0,0,0,0,0,0,0,0,0,0,0,0,0,0,0,0,0,0,0,0,0,0,0,0,0,0,0,0,0,0,0,0,0,0,0,0,0,0,0,0,0,0,0,0,0,0,0,0,0,0,0,0,0,0,0,0,0,0,0,0,0,0,0,0,0,0,0,0,0,0,0,0,0,0,0,0,0,0,0,0,0,0,0,0,0,0,0,0,0,0,0,0,0,0,0,0,0,0,0,0,0,0,0,0,0,0,0,0,0,0,0,0,0,0,0,0,0,0,0,0,0,0,0,0,0,0,0,0,0,0,0,0,0,0,0,0]
[1,{"$f":"'8 Axle Loads Direction 1-SS'!B561","v":3},{"$f":"'8 Axle Loads Direction 1-SS'!C561","v":0},{"$f":"'8 Axle Loads Direction 1-SS'!D561","v":0},{"$f":"'8 Axle Loads Direction 1-SS'!E561","v":0},{"$f":"'8 Axle Loads Direction 1-SS'!F561","v":0},{"$f":"'8 Axle Loads Direction 1-SS'!G561","v":0},{"$f":"'8 Axle Loads Direction 1-SS'!H561","v":0},{"$f":"'8 Axle Loads Direction 1-SS'!I561","v":0},{"$f":"'8 Axle Loads Direction 1-SS'!J561","v":0},{"$f":"'8 Axle Loads Direction 1-SS'!K561","v":0},0,0,0,0,0,0,0,0,0,0,0,0,0,0,0,0,0,null,0,0,0,0,0,0,0,0,0,0,0,0,0,0,0,0,0,0,0,0,0,0,0,0,0,0,0,0,0,0,0,0,0,0,0,0,0,0,0,0,0,0,0,0,0,0,0,0,0,0,0,0,0,0,0,0,0,0,0,0,0,0,0,0,0,0,0,0,0,0,0,0,0,0,0,0,0,0,0,0,0,0,0,0,0,0,0,0,0,0,0,0,0,0,0,0,0,0,0,0,0,0,0,0,0,0,0,0,0,0,0,0,0,0,0,0,0,0,0,0,0,0,0,0,0,0,0,0,0,0,0,0,0,0,0,0,0,0,0,0,0,0,0,0,0,0,0,0,0,0,0,0,0,0,0,0,0,0,0,0,0,0,0,0,0,0,0,0,0,0,0,0,0,0,0,0,0,0,0,0,0,0,0,0,0,0,0,0,0,0,0,0,0,0,0,0,0,0,0,0,0,0,0,0,0,0,0,0,0,0,0,0,0,0,0,0,0,0,0,0,0,0,0,0,0,0,0,0,0,0,0,0,0,0,0,0,0,0,0,0,0,0,0,0,0,0,0,0,0,0,0,0,0,0,0,0,0,0,0,0,0,0,0,0,0,0,0,0,0,0,0,0,0,0,0,0,0,0,0,0,0,0,0,0,0,0,0,0,0,0,0,0,0,0,0,0,0,0,0,0,0,0,0,0,0,0,0,0,0,0,0,0,0,0,0,0,0,0,0,0,0,0,0,0,0,0,0,0,0,0,0,0,0,0,0,0,0,0,0,0,0,0,0,0,0,0,0,0,0,0,0,0,0,0,0,0,0,0,0,0,0,0,0,0,0,0,0,0,0,0,0,0,0,0,0,0,0,0,0,0,0,0,0,0,0,0,0,0,0,0,0,0,0,0,0,0,0,0,0,0,0,0,0,0,0,0,0,0,0,0,0,0,0,0,0,0,0,0,0,0,0,0,0,0,0,0,0,0,0,0,0,0,0,0,0,0,0,0,0,0,0,0,0,0,0,0,0,0,0,0,0,0,0,0,0,0,0,0,0,0,0,0,0,0,0,0,0,0,0,0,0,0,0,0,0,0,0,0,0,0,0,0,0,0,0,0,0,0,0,0,0,0,0,0,0,0,0,0,0,0,0,0,0,0,0,0,0,0,0,0,0,0,0,0,0,0,0,0,0,0,0,0,0,0,0,0,0,0,0,0]
[1,{"$f":"'8 Axle Loads Direction 1-SS'!B581","v":3},{"$f":"'8 Axle Loads Direction 1-SS'!C581","v":0},{"$f":"'8 Axle Loads Direction 1-SS'!D581","v":0},{"$f":"'8 Axle Loads Direction 1-SS'!E581","v":0},{"$f":"'8 Axle Loads Direction 1-SS'!F581","v":0},{"$f":"'8 Axle Loads Direction 1-SS'!G581","v":0},{"$f":"'8 Axle Loads Direction 1-SS'!H581","v":0},{"$f":"'8 Axle Loads Direction 1-SS'!I581","v":0},{"$f":"'8 Axle Loads Direction 1-SS'!J581","v":0},{"$f":"'8 Axle Loads Direction 1-SS'!K581","v":0},{"$f":"C581","v":0},{"$f":"IF(B581=4,D581,0)","v":0},{"$f":"IF(OR(B581=2,B581=\"3B\",B581=\"5C\",B581=\"5D\"),D581,0)","v":0},{"$f":"IF(B581=\"3B\",E581,0)","v":0},{"$f":"IF(OR(B581=3,B581=5,B581=\"5B\",B581=6,B581=\"6B\",B581=7,B581=\"7B\",B581=9,B581=\"9B\"),D581+E581,0)","v":0},{"$f":"IF(B581=4,E581+F581,0)","v":0},{"$f":"IF(OR(B581=5,B581=7,B581=9),F581+G581,0)","v":0},{"$f":"IF(OR(B581=7,B581=9),H581+I581,0)","v":0},{"$f":"IF(B581=9,J581+K581,0)","v":0},{"$f":"IF(OR(B581=\"6C\",B581=\"7C\"),D581+E581,0)","v":0},{"$f":"IF(B581=\"4B\",F581+G581,0)","v":0},{"$f":"IF(OR(B581=\"7B\",B581=\"7C\",B581=\"9B\"),H581+I581,0)","v":0},{"$f":"IF(OR(B581=\"9B\"),J581+K581,0)","v":0},{"$f":"IF((B581=\"5C\"),E581+F581+G581,0)","v":0},{"$f":"IF(B581=6,F581+G581+H581,0)","v":0},{"$f":"IF((B581=\"5D\"),E581+F581+G581,0)","v":0},{"$f":"IF(OR(B581=\"6B\",B581=\"6C\"),F581+G581+H581,0)","v":0},null,{"$f":"IF($L581<=1,$L581*10,0)","v":0},{"$f":"IF(AND($L581>1,$L581<=2),$L581*10,0)","v":0},{"$f":"IF(AND($L581>2,$L581<=3),$L581*10,0)","v":0},{"$f":"IF(AND($L581>3,$L581<=4),$L581*10,0)","v":0},{"$f":"IF(AND($L581>4,$L581<=5),$L581*10,0)","v":0},{"$f":"IF(AND($L581>5,$L581<=6),$L581*10,0)","v":0},{"$f":"IF(AND($L581>6,$L581<=7),$L581*10,0)","v":0},{"$f":"IF(AND($L581>7,$L581<=8),$L581*10,0)","v":0},{"$f":"IF(AND($L581>8,$L581<=9),$L581*10,0)","v":0},{"$f":"IF(AND($L581>9,$L581<=10),$L581*10,0)","v":0},{"$f":"IF(AND($L581>10,$L581<=11),$L581*10,0)","v":0},{"$f":"IF(AND($L581>11,$L581<=12),$L581*10,0)","v":0},{"$f":"IF(AND($L581>12,$L581<=13),$L581*10,0)","v":0},{"$f":"IF(AND($L581>13,$L581<=14),$L581*10,0)","v":0},{"$f":"IF(AND($L581>14,$L581<=15),$L581*10,0)","v":0},{"$f":"IF(AND($L581>15,$L581<=16),$L581*10,0)","v":0},{"$f":"IF(AND($L581>16,$L581<=17),$L581*10,0)","v":0},{"$f":"IF(AND($L581>17,$L581<=18),$L581*10,0)","v":0},{"$f":"IF(AND($L581>18,$L581<=19),$L581*10,0)","v":0},{"$f":"IF(AND($L581>19,$L581<=20),$L581*10,0)","v":0},{"$f":"IF(AND($L581>20,$L581<=21),$L581*10,0)","v":0},{"$f":"IF(AND($L581>21,$L581<=22),$L581*10,0)","v":0},{"$f":"IF(AND($L581>22,$L581<=23),$L581*10,0)","v":0},{"$f":"IF(AND($L581>23,$L581<=24),$L581*10,0)","v":0},{"$f":"IF(AND($L581>24,$L581<=25),$L581*10,0)","v":0},{"$f":"IF(AND($L581>25,$L581<=26),$L581*10,0)","v":0},{"$f":"IF(AND($L581>26,$L581<=27),$L581*10,0)","v":0},{"$f":"IF(AND($L581>27,$L581<=28),$L581*10,0)","v":0},{"$f":"IF(AND($L581>28,$L581<=29),$L581*10,0)","v":0},{"$f":"IF(AND($L581>29,$L581<=30),$L581*10,0)","v":0},{"$f":"IF($M581<=1,$M581*10,0)","v":0},{"$f":"IF(AND($M581>1,$M581<=2),$M581*10,0)","v":0},{"$f":"IF(AND($M581>2,$M581<=3),$M581*10,0)","v":0},{"$f":"IF(AND($M581>3,$M581<=4),$M581*10,0)","v":0},{"$f":"IF(AND($M581>4,$M581<=5),$M581*10,0)","v":0},{"$f":"IF(AND($M581>5,$M581<=6),$M581*10,0)","v":0},{"$f":"IF(AND($M581>6,$M581<=7),$M581*10,0)","v":0},{"$f":"IF(AND($M581>7,$M581<=8),$M581*10,0)","v":0},{"$f":"IF(AND($M581>8,$M581<=9),$M581*10,0)","v":0},{"$f":"IF(AND($M581>9,$M581<=10),$M581*10,0)","v":0},{"$f":"IF(AND($M581>10,$M581<=11),$M581*10,0)","v":0},{"$f":"IF(AND($M581>11,$M581<=12),$M581*10,0)","v":0},{"$f":"IF(AND($M581>12,$M581<=13),$M581*10,0)","v":0},{"$f":"IF(AND($M581>13,$M581<=14),$M581*10,0)","v":0},{"$f":"IF(AND($M581>14,$M581<=15),$M581*10,0)","v":0},{"$f":"IF(AND($M581>15,$M581<=16),$M581*10,0)","v":0},{"$f":"IF(AND($M581>16,$M581<=17),$M581*10,0)","v":0},{"$f":"IF(AND($M581>17,$M581<=18),$M581*10,0)","v":0},{"$f":"IF(AND($M581>18,$M581<=19),$M581*10,0)","v":0},{"$f":"IF(AND($M581>19,$M581<=20),$M581*10,0)","v":0},{"$f":"IF(AND($M581>20,$M581<=21),$M581*10,0)","v":0},{"$f":"IF(AND($M581>21,$M581<=22),$M581*10,0)","v":0},{"$f":"IF(AND($M581>22,$M581<=23),$M581*10,0)","v":0},{"$f":"IF(AND($M581>23,$M581<=24),$M581*10,0)","v":0},{"$f":"IF(AND($M581>24,$M581<=25),$M581*10,0)","v":0},{"$f":"IF(AND($M581>25,$M581<=26),$M581*10,0)","v":0},{"$f":"IF(AND($M581>26,$M581<=27),$M581*10,0)","v":0},{"$f":"IF(AND($M581>27,$M581<=28),$M581*10,0)","v":0},{"$f":"IF(AND($M581>28,$M581<=29),$M581*10,0)","v":0},{"$f":"IF(AND($M581>29,$M581<=30),$M581*10,0)","v":0},{"$f":"IF($N581<=1,$N581*10,0)","v":0},{"$f":"IF(AND($N581>1,$N581<=2),$N581*10,0)","v":0},{"$f":"IF(AND($N581>2,$N581<=3),$N581*10,0)","v":0},{"$f":"IF(AND($N581>3,$N581<=4),$N581*10,0)","v":0},{"$f":"IF(AND($N581>4,$N581<=5),$N581*10,0)","v":0},{"$f":"IF(AND($N581>5,$N581<=6),$N581*10,0)","v":0},{"$f":"IF(AND($N581>6,$N581<=7),$N581*10,0)","v":0},{"$f":"IF(AND($N581>7,$N581<=8),$N581*10,0)","v":0},{"$f":"IF(AND($N581>8,$N581<=9),$N581*10,0)","v":0},{"$f":"IF(AND($N581>9,$N581<=10),$N581*10,0)","v":0},{"$f":"IF(AND($N581>10,$N581<=11),$N581*10,0)","v":0},{"$f":"IF(AND($N581>11,$N581<=12),$N581*10,0)","v":0},{"$f":"IF(AND($N581>12,$N581<=13),$N581*10,0)","v":0},{"$f":"IF(AND($N581>13,$N581<=14),$N581*10,0)","v":0},{"$f":"IF(AND($N581>14,$N581<=15),$N581*10,0)","v":0},{"$f":"IF(AND($N581>15,$N581<=16),$N581*10,0)","v":0},{"$f":"IF(AND($N581>16,$N581<=17),$N581*10,0)","v":0},{"$f":"IF(AND($N581>17,$N581<=18),$N581*10,0)","v":0},{"$f":"IF(AND($N581>18,$N581<=19),$N581*10,0)","v":0},{"$f":"IF(AND($N581>19,$N581<=20),$N581*10,0)","v":0},{"$f":"IF(AND($N581>20,$N581<=21),$N581*10,0)","v":0},{"$f":"IF(AND($N581>21,$N581<=22),$N581*10,0)","v":0},{"$f":"IF(AND($N581>22,$N581<=23),$N581*10,0)","v":0},{"$f":"IF(AND($N581>23,$N581<=24),$N581*10,0)","v":0},{"$f":"IF(AND($N581>24,$N581<=25),$N581*10,0)","v":0},{"$f":"IF(AND($N581>25,$N581<=26),$N581*10,0)","v":0},{"$f":"IF(AND($N581>26,$N581<=27),$N581*10,0)","v":0},{"$f":"IF(AND($N581>27,$N581<=28),$N581*10,0)","v":0},{"$f":"IF(AND($N581>28,$N581<=29),$N581*10,0)","v":0},{"$f":"IF(AND($N581>29,$N581<=30),$N581*10,0)","v":0},{"$f":"IF($O581<=1,$O581*10,0)","v":0},{"$f":"IF(AND($O581>1,$O581<=2),$O581*10,0)","v":0},{"$f":"IF(AND($O581>2,$O581<=3),$O581*10,0)","v":0},{"$f":"IF(AND($O581>3,$O581<=4),$O581*10,0)","v":0},{"$f":"IF(AND($O581>4,$O581<=5),$O581*10,0)","v":0},{"$f":"IF(AND($O581>5,$O581<=6),$O581*10,0)","v":0},{"$f":"IF(AND($O581>6,$O581<=7),$O581*10,0)","v":0},{"$f":"IF(AND($O581>7,$O581<=8),$O581*10,0)","v":0},{"$f":"IF(AND($O581>8,$O581<=9),$O581*10,0)","v":0},{"$f":"IF(AND($O581>9,$O581<=10),$O581*10,0)","v":0},{"$f":"IF(AND($O581>10,$O581<=11),$O581*10,0)","v":0},{"$f":"IF(AND($O581>11,$O581<=12),$O581*10,0)","v":0},{"$f":"IF(AND($O581>12,$O581<=13),$O581*10,0)","v":0},{"$f":"IF(AND($O581>13,$O581<=14),$O581*10,0)","v":0},{"$f":"IF(AND($O581>14,$O581<=15),$O581*10,0)","v":0},{"$f":"IF(AND($O581>15,$O581<=16),$O581*10,0)","v":0},{"$f":"IF(AND($O581>16,$O581<=17),$O581*10,0)","v":0},{"$f":"IF(AND($O581>17,$O581<=18),$O581*10,0)","v":0},{"$f":"IF(AND($O581>18,$O581<=19),$O581*10,0)","v":0},{"$f":"IF(AND($O581>19,$O581<=20),$O581*10,0)","v":0},{"$f":"IF(AND($O581>20,$O581<=21),$O581*10,0)","v":0},{"$f":"IF(AND($O581>21,$O581<=22),$O581*10,0)","v":0},{"$f":"IF(AND($O581>22,$O581<=23),$O581*10,0)","v":0},{"$f":"IF(AND($O581>23,$O581<=24),$O581*10,0)","v":0},{"$f":"IF(AND($O581>24,$O581<=25),$O581*10,0)","v":0},{"$f":"IF(AND($O581>25,$O581<=26),$O581*10,0)","v":0},{"$f":"IF(AND($O581>26,$O581<=27),$O581*10,0)","v":0},{"$f":"IF(AND($O581>27,$O581<=28),$O581*10,0)","v":0},{"$f":"IF(AND($O581>28,$O581<=29),$O581*10,0)","v":0},{"$f":"IF(AND($O581>29,$O581<=30),$O581*10,0)","v":0},{"$f":"IF($P581<=1,$P581*10,0)","v":0},{"$f":"IF(AND($P581>1,$P581<=2),$P581*10,0)","v":0},{"$f":"IF(AND($P581>2,$P581<=3),$P581*10,0)","v":0},{"$f":"IF(AND($P581>3,$P581<=4),$P581*10,0)","v":0},{"$f":"IF(AND($P581>4,$P581<=5),$P581*10,0)","v":0},{"$f":"IF(AND($P581>5,$P581<=6),$P581*10,0)","v":0},{"$f":"IF(AND($P581>6,$P581<=7),$P581*10,0)","v":0},{"$f":"IF(AND($P581>7,$P581<=8),$P581*10,0)","v":0},{"$f":"IF(AND($P581>8,$P581<=9),$P581*10,0)","v":0},{"$f":"IF(AND($P581>9,$P581<=10),$P581*10,0)","v":0},{"$f":"IF(AND($P581>10,$P581<=11),$P581*10,0)","v":0},{"$f":"IF(AND($P581>11,$P581<=12),$P581*10,0)","v":0},{"$f":"IF(AND($P581>12,$P581<=13),$P581*10,0)","v":0},{"$f":"IF(AND($P581>13,$P581<=14),$P581*10,0)","v":0},{"$f":"IF(AND($P581>14,$P581<=15),$P581*10,0)","v":0},{"$f":"IF(AND($P581>15,$P581<=16),$P581*10,0)","v":0},{"$f":"IF(AND($P581>16,$P581<=17),$P581*10,0)","v":0},{"$f":"IF(AND($P581>17,$P581<=18),$P581*10,0)","v":0},{"$f":"IF(AND($P581>18,$P581<=19),$P581*10,0)","v":0},{"$f":"IF(AND($P581>19,$P581<=20),$P581*10,0)","v":0},{"$f":"IF(AND($P581>20,$P581<=21),$P581*10,0)","v":0},{"$f":"IF(AND($P581>21,$P581<=22),$P581*10,0)","v":0},{"$f":"IF(AND($P581>22,$P581<=23),$P581*10,0)","v":0},{"$f":"IF(AND($P581>23,$P581<=24),$P581*10,0)","v":0},{"$f":"IF(AND($P581>24,$P581<=25),$P581*10,0)","v":0},{"$f":"IF(AND($P581>25,$P581<=26),$P581*10,0)","v":0},{"$f":"IF(AND($P581>26,$P581<=27),$P581*10,0)","v":0},{"$f":"IF(AND($P581>27,$P581<=28),$P581*10,0)","v":0},{"$f":"IF(AND($P581>28,$P581<=29),$P581*10,0)","v":0},{"$f":"IF(AND($P581>29,$P581<=30),$P581*10,0)","v":0},{"$f":"IF($Q581<=1,$Q581*10,0)","v":0},{"$f":"IF(AND($Q581>1,$Q581<=2),$Q581*10,0)","v":0},{"$f":"IF(AND($Q581>2,$Q581<=3),$Q581*10,0)","v":0},{"$f":"IF(AND($Q581>3,$Q581<=4),$Q581*10,0)","v":0},{"$f":"IF(AND($Q581>4,$Q581<=5),$Q581*10,0)","v":0},{"$f":"IF(AND($Q581>5,$Q581<=6),$Q581*10,0)","v":0},{"$f":"IF(AND($Q581>6,$Q581<=7),$Q581*10,0)","v":0},{"$f":"IF(AND($Q581>7,$Q581<=8),$Q581*10,0)","v":0},{"$f":"IF(AND($Q581>8,$Q581<=9),$Q581*10,0)","v":0},{"$f":"IF(AND($Q581>9,$Q581<=10),$Q581*10,0)","v":0},{"$f":"IF(AND($Q581>10,$Q581<=11),$Q581*10,0)","v":0},{"$f":"IF(AND($Q581>11,$Q581<=12),$Q581*10,0)","v":0},{"$f":"IF(AND($Q581>12,$Q581<=13),$Q581*10,0)","v":0},{"$f":"IF(AND($Q581>13,$Q581<=14),$Q581*10,0)","v":0},{"$f":"IF(AND($Q581>14,$Q581<=15),$Q581*10,0)","v":0},{"$f":"IF(AND($Q581>15,$Q581<=16),$Q581*10,0)","v":0},{"$f":"IF(AND($Q581>16,$Q581<=17),$Q581*10,0)","v":0},{"$f":"IF(AND($Q581>17,$Q581<=18),$Q581*10,0)","v":0},{"$f":"IF(AND($Q581>18,$Q581<=19),$Q581*10,0)","v":0},{"$f":"IF(AND($Q581>19,$Q581<=20),$Q581*10,0)","v":0},{"$f":"IF(AND($Q581>20,$Q581<=21),$Q581*10,0)","v":0},{"$f":"IF(AND($Q581>21,$Q581<=22),$Q581*10,0)","v":0},{"$f":"IF(AND($Q581>22,$Q581<=23),$Q581*10,0)","v":0},{"$f":"IF(AND($Q581>23,$Q581<=24),$Q581*10,0)","v":0},{"$f":"IF(AND($Q581>24,$Q581<=25),$Q581*10,0)","v":0},{"$f":"IF(AND($Q581>25,$Q581<=26),$Q581*10,0)","v":0},{"$f":"IF(AND($Q581>26,$Q581<=27),$Q581*10,0)","v":0},{"$f":"IF(AND($Q581>27,$Q581<=28),$Q581*10,0)","v":0},{"$f":"IF(AND($Q581>28,$Q581<=29),$Q581*10,0)","v":0},{"$f":"IF(AND($Q581>29,$Q581<=30),$Q581*10,0)","v":0},{"$f":"IF($R581<=1,$R581*10,0)","v":0},{"$f":"IF(AND($R581>1,$R581<=2),$R581*10,0)","v":0},{"$f":"IF(AND($R581>2,$R581<=3),$R581*10,0)","v":0},{"$f":"IF(AND($R581>3,$R581<=4),$R581*10,0)","v":0},{"$f":"IF(AND($R581>4,$R581<=5),$R581*10,0)","v":0},{"$f":"IF(AND($R581>5,$R581<=6),$R581*10,0)","v":0},{"$f":"IF(AND($R581>6,$R581<=7),$R581*10,0)","v":0},{"$f":"IF(AND($R581>7,$R581<=8),$R581*10,0)","v":0},{"$f":"IF(AND($R581>8,$R581<=9),$R581*10,0)","v":0},{"$f":"IF(AND($R581>9,$R581<=10),$R581*10,0)","v":0},{"$f":"IF(AND($R581>10,$R581<=11),$R581*10,0)","v":0},{"$f":"IF(AND($R581>11,$R581<=12),$R581*10,0)","v":0},{"$f":"IF(AND($R581>12,$R581<=13),$R581*10,0)","v":0},{"$f":"IF(AND($R581>13,$R581<=14),$R581*10,0)","v":0},{"$f":"IF(AND($R581>14,$R581<=15),$R581*10,0)","v":0},{"$f":"IF(AND($R581>15,$R581<=16),$R581*10,0)","v":0},{"$f":"IF(AND($R581>16,$R581<=17),$R581*10,0)","v":0},{"$f":"IF(AND($R581>17,$R581<=18),$R581*10,0)","v":0},{"$f":"IF(AND($R581>18,$R581<=19),$R581*10,0)","v":0},{"$f":"IF(AND($R581>19,$R581<=20),$R581*10,0)","v":0},{"$f":"IF(AND($R581>20,$R581<=21),$R581*10,0)","v":0},{"$f":"IF(AND($R581>21,$R581<=22),$R581*10,0)","v":0},{"$f":"IF(AND($R581>22,$R581<=23),$R581*10,0)","v":0},{"$f":"IF(AND($R581>23,$R581<=24),$R581*10,0)","v":0},{"$f":"IF(AND($R581>24,$R581<=25),$R581*10,0)","v":0},{"$f":"IF(AND($R581>25,$R581<=26),$R581*10,0)","v":0},{"$f":"IF(AND($R581>26,$R581<=27),$R581*10,0)","v":0},{"$f":"IF(AND($R581>27,$R581<=28),$R581*10,0)","v":0},{"$f":"IF(AND($R581>28,$R581<=29),$R581*10,0)","v":0},{"$f":"IF(AND($R581>29,$R581<=30),$R581*10,0)","v":0},{"$f":"IF($S581<=1,$S581*10,0)","v":0},{"$f":"IF(AND($S581>1,$S581<=2),$S581*10,0)","v":0},{"$f":"IF(AND($S581>2,$S581<=3),$S581*10,0)","v":0},{"$f":"IF(AND($S581>3,$S581<=4),$S581*10,0)","v":0},{"$f":"IF(AND($S581>4,$S581<=5),$S581*10,0)","v":0},{"$f":"IF(AND($S581>5,$S581<=6),$S581*10,0)","v":0},{"$f":"IF(AND($S581>6,$S581<=7),$S581*10,0)","v":0},{"$f":"IF(AND($S581>7,$S581<=8),$S581*10,0)","v":0},{"$f":"IF(AND($S581>8,$S581<=9),$S581*10,0)","v":0},{"$f":"IF(AND($S581>9,$S581<=10),$S581*10,0)","v":0},{"$f":"IF(AND($S581>10,$S581<=11),$S581*10,0)","v":0},{"$f":"IF(AND($S581>11,$S581<=12),$S581*10,0)","v":0},{"$f":"IF(AND($S581>12,$S581<=13),$S581*10,0)","v":0},{"$f":"IF(AND($S581>13,$S581<=14),$S581*10,0)","v":0},{"$f":"IF(AND($S581>14,$S581<=15),$S581*10,0)","v":0},{"$f":"IF(AND($S581>15,$S581<=16),$S581*10,0)","v":0},{"$f":"IF(AND($S581>16,$S581<=17),$S581*10,0)","v":0},{"$f":"IF(AND($S581>17,$S581<=18),$S581*10,0)","v":0},{"$f":"IF(AND($S581>18,$S581<=19),$S581*10,0)","v":0},{"$f":"IF(AND($S581>19,$S581<=20),$S581*10,0)","v":0},{"$f":"IF(AND($S581>20,$S581<=21),$S581*10,0)","v":0},{"$f":"IF(AND($S581>21,$S581<=22),$S581*10,0)","v":0},{"$f":"IF(AND($S581>22,$S581<=23),$S581*10,0)","v":0},{"$f":"IF(AND($S581>23,$S581<=24),$S581*10,0)","v":0},{"$f":"IF(AND($S581>24,$S581<=25),$S581*10,0)","v":0},{"$f":"IF(AND($S581>25,$S581<=26),$S581*10,0)","v":0},{"$f":"IF(AND($S581>26,$S581<=27),$S581*10,0)","v":0},{"$f":"IF(AND($S581>27,$S581<=28),$S581*10,0)","v":0},{"$f":"IF(AND($S581>28,$S581<=29),$S581*10,0)","v":0},{"$f":"IF(AND($S581>29,$S581<=30),$S581*10,0)","v":0},{"$f":"IF($T581<=1,$T581*10,0)","v":0},{"$f":"IF(AND($T581>1,$T581<=2),$T581*10,0)","v":0},{"$f":"IF(AND($T581>2,$T581<=3),$T581*10,0)","v":0},{"$f":"IF(AND($T581>3,$T581<=4),$T581*10,0)","v":0},{"$f":"IF(AND($T581>4,$T581<=5),$T581*10,0)","v":0},{"$f":"IF(AND($T581>5,$T581<=6),$T581*10,0)","v":0},{"$f":"IF(AND($T581>6,$T581<=7),$T581*10,0)","v":0},{"$f":"IF(AND($T581>7,$T581<=8),$T581*10,0)","v":0},{"$f":"IF(AND($T581>8,$T581<=9),$T581*10,0)","v":0},{"$f":"IF(AND($T581>9,$T581<=10),$T581*10,0)","v":0},{"$f":"IF(AND($T581>10,$T581<=11),$T581*10,0)","v":0},{"$f":"IF(AND($T581>11,$T581<=12),$T581*10,0)","v":0},{"$f":"IF(AND($T581>12,$T581<=13),$T581*10,0)","v":0},{"$f":"IF(AND($T581>13,$T581<=14),$T581*10,0)","v":0},{"$f":"IF(AND($T581>14,$T581<=15),$T581*10,0)","v":0},{"$f":"IF(AND($T581>15,$T581<=16),$T581*10,0)","v":0},{"$f":"IF(AND($T581>16,$T581<=17),$T581*10,0)","v":0},{"$f":"IF(AND($T581>17,$T581<=18),$T581*10,0)","v":0},{"$f":"IF(AND($T581>18,$T581<=19),$T581*10,0)","v":0},{"$f":"IF(AND($T581>19,$T581<=20),$T581*10,0)","v":0},{"$f":"IF(AND($T581>20,$T581<=21),$T581*10,0)","v":0},{"$f":"IF(AND($T581>21,$T581<=22),$T581*10,0)","v":0},{"$f":"IF(AND($T581>22,$T581<=23),$T581*10,0)","v":0},{"$f":"IF(AND($T581>23,$T581<=24),$T581*10,0)","v":0},{"$f":"IF(AND($T581>24,$T581<=25),$T581*10,0)","v":0},{"$f":"IF(AND($T581>25,$T581<=26),$T581*10,0)","v":0},{"$f":"IF(AND($T581>26,$T581<=27),$T581*10,0)","v":0},{"$f":"IF(AND($T581>27,$T581<=28),$T581*10,0)","v":0},{"$f":"IF(AND($T581>28,$T581<=29),$T581*10,0)","v":0},{"$f":"IF(AND($T581>29,$T581<=30),$T581*10,0)","v":0},{"$f":"IF($U581<=1,$U581*10,0)","v":0},{"$f":"IF(AND($U581>1,$U581<=2),$U581*10,0)","v":0},{"$f":"IF(AND($U581>2,$U581<=3),$U581*10,0)","v":0},{"$f":"IF(AND($U581>3,$U581<=4),$U581*10,0)","v":0},{"$f":"IF(AND($U581>4,$U581<=5),$U581*10,0)","v":0},{"$f":"IF(AND($U581>5,$U581<=6),$U581*10,0)","v":0},{"$f":"IF(AND($U581>6,$U581<=7),$U581*10,0)","v":0},{"$f":"IF(AND($U581>7,$U581<=8),$U581*10,0)","v":0},{"$f":"IF(AND($U581>8,$U581<=9),$U581*10,0)","v":0},{"$f":"IF(AND($U581>9,$U581<=10),$U581*10,0)","v":0},{"$f":"IF(AND($U581>10,$U581<=11),$U581*10,0)","v":0},{"$f":"IF(AND($U581>11,$U581<=12),$U581*10,0)","v":0},{"$f":"IF(AND($U581>12,$U581<=13),$U581*10,0)","v":0},{"$f":"IF(AND($U581>13,$U581<=14),$U581*10,0)","v":0},{"$f":"IF(AND($U581>14,$U581<=15),$U581*10,0)","v":0},{"$f":"IF(AND($U581>15,$U581<=16),$U581*10,0)","v":0},{"$f":"IF(AND($U581>16,$U581<=17),$U581*10,0)","v":0},{"$f":"IF(AND($U581>17,$U581<=18),$U581*10,0)","v":0},{"$f":"IF(AND($U581>18,$U581<=19),$U581*10,0)","v":0},{"$f":"IF(AND($U581>19,$U581<=20),$U581*10,0)","v":0},{"$f":"IF(AND($U581>20,$U581<=21),$U581*10,0)","v":0},{"$f":"IF(AND($U581>21,$U581<=22),$U581*10,0)","v":0},{"$f":"IF(AND($U581>22,$U581<=23),$U581*10,0)","v":0},{"$f":"IF(AND($U581>23,$U581<=24),$U581*10,0)","v":0},{"$f":"IF(AND($U581>24,$U581<=25),$U581*10,0)","v":0},{"$f":"IF(AND($U581>25,$U581<=26),$U581*10,0)","v":0},{"$f":"IF(AND($U581>26,$U581<=27),$U581*10,0)","v":0},{"$f":"IF(AND($U581>27,$U581<=28),$U581*10,0)","v":0},{"$f":"IF(AND($U581>28,$U581<=29),$U581*10,0)","v":0},{"$f":"IF(AND($U581>29,$U581<=30),$U581*10,0)","v":0},{"$f":"IF($V581<=1,$V581*10,0)","v":0},{"$f":"IF(AND($V581>1,$V581<=2),$V581*10,0)","v":0},{"$f":"IF(AND($V581>2,$V581<=3),$V581*10,0)","v":0},{"$f":"IF(AND($V581>3,$V581<=4),$V581*10,0)","v":0},{"$f":"IF(AND($V581>4,$V581<=5),$V581*10,0)","v":0},{"$f":"IF(AND($V581>5,$V581<=6),$V581*10,0)","v":0},{"$f":"IF(AND($V581>6,$V581<=7),$V581*10,0)","v":0},{"$f":"IF(AND($V581>7,$V581<=8),$V581*10,0)","v":0},{"$f":"IF(AND($V581>8,$V581<=9),$V581*10,0)","v":0},{"$f":"IF(AND($V581>9,$V581<=10),$V581*10,0)","v":0},{"$f":"IF(AND($V581>10,$V581<=11),$V581*10,0)","v":0},{"$f":"IF(AND($V581>11,$V581<=12),$V581*10,0)","v":0},{"$f":"IF(AND($V581>12,$V581<=13),$V581*10,0)","v":0},{"$f":"IF(AND($V581>13,$V581<=14),$V581*10,0)","v":0},{"$f":"IF(AND($V581>14,$V581<=15),$V581*10,0)","v":0},{"$f":"IF(AND($V581>15,$V581<=16),$V581*10,0)","v":0},{"$f":"IF(AND($V581>16,$V581<=17),$V581*10,0)","v":0},{"$f":"IF(AND($V581>17,$V581<=18),$V581*10,0)","v":0},{"$f":"IF(AND($V581>18,$V581<=19),$V581*10,0)","v":0},{"$f":"IF(AND($V581>19,$V581<=20),$V581*10,0)","v":0},{"$f":"IF(AND($V581>20,$V581<=21),$V581*10,0)","v":0},{"$f":"IF(AND($V581>21,$V581<=22),$V581*10,0)","v":0},{"$f":"IF(AND($V581>22,$V581<=23),$V581*10,0)","v":0},{"$f":"IF(AND($V581>23,$V581<=24),$V581*10,0)","v":0},{"$f":"IF(AND($V581>24,$V581<=25),$V581*10,0)","v":0},{"$f":"IF(AND($V581>25,$V581<=26),$V581*10,0)","v":0},{"$f":"IF(AND($V581>26,$V581<=27),$V581*10,0)","v":0},{"$f":"IF(AND($V581>27,$V581<=28),$V581*10,0)","v":0},{"$f":"IF(AND($V581>28,$V581<=29),$V581*10,0)","v":0},{"$f":"IF(AND($V581>29,$V581<=30),$V581*10,0)","v":0},{"$f":"IF($W581<=1,$W581*10,0)","v":0},{"$f":"IF(AND($W581>1,$W581<=2),$W581*10,0)","v":0},{"$f":"IF(AND($W581>2,$W581<=3),$W581*10,0)","v":0},{"$f":"IF(AND($W581>3,$W581<=4),$W581*10,0)","v":0},{"$f":"IF(AND($W581>4,$W581<=5),$W581*10,0)","v":0},{"$f":"IF(AND($W581>5,$W581<=6),$W581*10,0)","v":0},{"$f":"IF(AND($W581>6,$W581<=7),$W581*10,0)","v":0},{"$f":"IF(AND($W581>7,$W581<=8),$W581*10,0)","v":0},{"$f":"IF(AND($W581>8,$W581<=9),$W581*10,0)","v":0},{"$f":"IF(AND($W581>9,$W581<=10),$W581*10,0)","v":0},{"$f":"IF(AND($W581>10,$W581<=11),$W581*10,0)","v":0},{"$f":"IF(AND($W581>11,$W581<=12),$W581*10,0)","v":0},{"$f":"IF(AND($W581>12,$W581<=13),$W581*10,0)","v":0},{"$f":"IF(AND($W581>13,$W581<=14),$W581*10,0)","v":0},{"$f":"IF(AND($W581>14,$W581<=15),$W581*10,0)","v":0},{"$f":"IF(AND($W581>15,$W581<=16),$W581*10,0)","v":0},{"$f":"IF(AND($W581>16,$W581<=17),$W581*10,0)","v":0},{"$f":"IF(AND($W581>17,$W581<=18),$W581*10,0)","v":0},{"$f":"IF(AND($W581>18,$W581<=19),$W581*10,0)","v":0},{"$f":"IF(AND($W581>19,$W581<=20),$W581*10,0)","v":0},{"$f":"IF(AND($W581>20,$W581<=21),$W581*10,0)","v":0},{"$f":"IF(AND($W581>21,$W581<=22),$W581*10,0)","v":0},{"$f":"IF(AND($W581>22,$W581<=23),$W581*10,0)","v":0},{"$f":"IF(AND($W581>23,$W581<=24),$W581*10,0)","v":0},{"$f":"IF(AND($W581>24,$W581<=25),$W581*10,0)","v":0},{"$f":"IF(AND($W581>25,$W581<=26),$W581*10,0)","v":0},{"$f":"IF(AND($W581>26,$W581<=27),$W581*10,0)","v":0},{"$f":"IF(AND($W581>27,$W581<=28),$W581*10,0)","v":0},{"$f":"IF(AND($W581>28,$W581<=29),$W581*10,0)","v":0},{"$f":"IF(AND($W581>29,$W581<=30),$W581*10,0)","v":0},0,0,0,0,0,0,0,0,0,0,0,0,0,0,0,0,0,0,0,0,0,0,0,0,0,0,0,0,0,0,0,0,0,0,0,0,0,0,0,0,0,0,0,0,0,0,0,0,0,0,0,0,0,0,0,0,0,0,0,0,0,0,0,0,0,0,0,0,0,0,0,0,0,0,0,0,0,0,0,0,0,0,0,0,0,0,0,0,0,0,0,0,0,0,0,0,0,0,0,0,0,0,0,0,0,0,0,0,0,0,0,0,0,0,0,0,0,0,0,0,0,0,0,0,0,0,0,0,0,0,0,0,0,0,0,0,0,0,0,0,0,0,0,0,0,0,0,0,0,0,0,0,0,0,0,0,0,0,0,0,0,0,0,0,0,0,0,0,0,0]
[1,{"$f":"'8 Axle Loads Direction 1-SS'!B596","v":4},{"$f":"'8 Axle Loads Direction 1-SS'!C596","v":0},{"$f":"'8 Axle Loads Direction 1-SS'!D596","v":0},{"$f":"'8 Axle Loads Direction 1-SS'!E596","v":0},{"$f":"'8 Axle Loads Direction 1-SS'!F596","v":0},{"$f":"'8 Axle Loads Direction 1-SS'!G596","v":0},{"$f":"'8 Axle Loads Direction 1-SS'!H596","v":0},{"$f":"'8 Axle Loads Direction 1-SS'!I596","v":0},{"$f":"'8 Axle Loads Direction 1-SS'!J596","v":0},{"$f":"'8 Axle Loads Direction 1-SS'!K596","v":0},0,0,0,0,0,0,0,0,0,0,0,0,0,0,0,0,0,null,0,0,0,0,0,0,0,0,0,0,0,0,0,0,0,0,0,0,0,0,0,0,0,0,0,0,0,0,0,0,0,0,0,0,0,0,0,0,0,0,0,0,0,0,0,0,0,0,0,0,0,0,0,0,0,0,0,0,0,0,0,0,0,0,0,0,0,0,0,0,0,0,0,0,0,0,0,0,0,0,0,0,0,0,0,0,0,0,0,0,0,0,0,0,0,0,0,0,0,0,0,0,0,0,0,0,0,0,0,0,0,0,0,0,0,0,0,0,0,0,0,0,0,0,0,0,0,0,0,0,0,0,0,0,0,0,0,0,0,0,0,0,0,0,0,0,0,0,0,0,0,0,0,0,0,0,0,0,0,0,0,0,0,0,0,0,0,0,0,0,0,0,0,0,0,0,0,0,0,0,0,0,0,0,0,0,0,0,0,0,0,0,0,0,0,0,0,0,0,0,0,0,0,0,0,0,0,0,0,0,0,0,0,0,0,0,0,0,0,0,0,0,0,0,0,0,0,0,0,0,0,0,0,0,0,0,0,0,0,0,0,0,0,0,0,0,0,0,0,0,0,0,0,0,0,0,0,0,0,0,0,0,0,0,0,0,0,0,0,0,0,0,0,0,0,0,0,0,0,0,0,0,0,0,0,0,0,0,0,0,0,0,0,0,0,0,0,0,0,0,0,0,0,0,0,0,0,0,0,0,0,0,0,0,0,0,0,0,0,0,0,0,0,0,0,0,0,0,0,0,0,0,0,0,0,0,0,0,0,0,0,0,0,0,0,0,0,0,0,0,0,0,0,0,0,0,0,0,0,0,0,0,0,0,0,0,0,0,0,0,0,0,0,0,0,0,0,0,0,0,0,0,0,0,0,0,0,0,0,0,0,0,0,0,0,0,0,0,0,0,0,0,0,0,0,0,0,0,0,0,0,0,0,0,0,0,0,0,0,0,0,0,0,0,0,0,0,0,0,0,0,0,0,0,0,0,0,0,0,0,0,0,0,0,0,0,0,0,0,0,0,0,0,0,0,0,0,0,0,0,0,0,0,0,0,0,0,0,0,0,0,0,0,0,0,0,0,0,0,0,0,0,0,0,0,0,0,0,0,0,0,0,0,0,0,0,0,0,0,0,0,0,0,0,0,0,0,0,0,0,0,0,0,0,0,0,0,0,0,0,0,0,0,0,0,0,0,0,0,0]
[1,{"$f":"'8 Axle Loads Direction 1-SS'!B610","v":3},{"$f":"'8 Axle Loads Direction 1-SS'!C610","v":0},{"$f":"'8 Axle Loads Direction 1-SS'!D610","v":0},{"$f":"'8 Axle Loads Direction 1-SS'!E610","v":0},{"$f":"'8 Axle Loads Direction 1-SS'!F610","v":0},{"$f":"'8 Axle Loads Direction 1-SS'!G610","v":0},{"$f":"'8 Axle Loads Direction 1-SS'!H610","v":0},{"$f":"'8 Axle Loads Direction 1-SS'!I610","v":0},{"$f":"'8 Axle Loads Direction 1-SS'!J610","v":0},{"$f":"'8 Axle Loads Direction 1-SS'!K610","v":0},0,0,0,0,0,0,0,0,0,0,0,0,0,0,0,0,0,null,0,0,0,0,0,0,0,0,0,0,0,0,0,0,0,0,0,0,0,0,0,0,0,0,0,0,0,0,0,0,0,0,0,0,0,0,0,0,0,0,0,0,0,0,0,0,0,0,0,0,0,0,0,0,0,0,0,0,0,0,0,0,0,0,0,0,0,0,0,0,0,0,0,0,0,0,0,0,0,0,0,0,0,0,0,0,0,0,0,0,0,0,0,0,0,0,0,0,0,0,0,0,0,0,0,0,0,0,0,0,0,0,0,0,0,0,0,0,0,0,0,0,0,0,0,0,0,0,0,0,0,0,0,0,0,0,0,0,0,0,0,0,0,0,0,0,0,0,0,0,0,0,0,0,0,0,0,0,0,0,0,0,0,0,0,0,0,0,0,0,0,0,0,0,0,0,0,0,0,0,0,0,0,0,0,0,0,0,0,0,0,0,0,0,0,0,0,0,0,0,0,0,0,0,0,0,0,0,0,0,0,0,0,0,0,0,0,0,0,0,0,0,0,0,0,0,0,0,0,0,0,0,0,0,0,0,0,0,0,0,0,0,0,0,0,0,0,0,0,0,0,0,0,0,0,0,0,0,0,0,0,0,0,0,0,0,0,0,0,0,0,0,0,0,0,0,0,0,0,0,0,0,0,0,0,0,0,0,0,0,0,0,0,0,0,0,0,0,0,0,0,0,0,0,0,0,0,0,0,0,0,0,0,0,0,0,0,0,0,0,0,0,0,0,0,0,0,0,0,0,0,0,0,0,0,0,0,0,0,0,0,0,0,0,0,0,0,0,0,0,0,0,0,0,0,0,0,0,0,0,0,0,0,0,0,0,0,0,0,0,0,0,0,0,0,0,0,0,0,0,0,0,0,0,0,0,0,0,0,0,0,0,0,0,0,0,0,0,0,0,0,0,0,0,0,0,0,0,0,0,0,0,0,0,0,0,0,0,0,0,0,0,0,0,0,0,0,0,0,0,0,0,0,0,0,0,0,0,0,0,0,0,0,0,0,0,0,0,0,0,0,0,0,0,0,0,0,0,0,0,0,0,0,0,0,0,0,0,0,0,0,0,0,0,0,0,0,0,0,0,0,0,0,0,0,0,0,0,0,0,0,0,0,0,0,0,0,0,0,0,0,0,0,0,0,0,0,0,0,0,0,0,0,0,0,0,0,0,0,0,0,0,0,0,0,0,0,0,0,0]
[1,{"$f":"'8 Axle Loads Direction 1-SS'!B628","v":3},{"$f":"'8 Axle Loads Direction 1-SS'!C628","v":0},{"$f":"'8 Axle Loads Direction 1-SS'!D628","v":0},{"$f":"'8 Axle Loads Direction 1-SS'!E628","v":0},{"$f":"'8 Axle Loads Direction 1-SS'!F628","v":0},{"$f":"'8 Axle Loads Direction 1-SS'!G628","v":0},{"$f":"'8 Axle Loads Direction 1-SS'!H628","v":0},{"$f":"'8 Axle Loads Direction 1-SS'!I628","v":0},{"$f":"'8 Axle Loads Direction 1-SS'!J628","v":0},{"$f":"'8 Axle Loads Direction 1-SS'!K628","v":0},0,0,0,0,0,0,0,0,0,0,0,0,0,0,0,0,0,null,0,0,0,0,0,0,0,0,0,0,0,0,0,0,0,0,0,0,0,0,0,0,0,0,0,0,0,0,0,0,0,0,0,0,0,0,0,0,0,0,0,0,0,0,0,0,0,0,0,0,0,0,0,0,0,0,0,0,0,0,0,0,0,0,0,0,0,0,0,0,0,0,0,0,0,0,0,0,0,0,0,0,0,0,0,0,0,0,0,0,0,0,0,0,0,0,0,0,0,0,0,0,0,0,0,0,0,0,0,0,0,0,0,0,0,0,0,0,0,0,0,0,0,0,0,0,0,0,0,0,0,0,0,0,0,0,0,0,0,0,0,0,0,0,0,0,0,0,0,0,0,0,0,0,0,0,0,0,0,0,0,0,0,0,0,0,0,0,0,0,0,0,0,0,0,0,0,0,0,0,0,0,0,0,0,0,0,0,0,0,0,0,0,0,0,0,0,0,0,0,0,0,0,0,0,0,0,0,0,0,0,0,0,0,0,0,0,0,0,0,0,0,0,0,0,0,0,0,0,0,0,0,0,0,0,0,0,0,0,0,0,0,0,0,0,0,0,0,0,0,0,0,0,0,0,0,0,0,0,0,0,0,0,0,0,0,0,0,0,0,0,0,0,0,0,0,0,0,0,0,0,0,0,0,0,0,0,0,0,0,0,0,0,0,0,0,0,0,0,0,0,0,0,0,0,0,0,0,0,0,0,0,0,0,0,0,0,0,0,0,0,0,0,0,0,0,0,0,0,0,0,0,0,0,0,0,0,0,0,0,0,0,0,0,0,0,0,0,0,0,0,0,0,0,0,0,0,0,0,0,0,0,0,0,0,0,0,0,0,0,0,0,0,0,0,0,0,0,0,0,0,0,0,0,0,0,0,0,0,0,0,0,0,0,0,0,0,0,0,0,0,0,0,0,0,0,0,0,0,0,0,0,0,0,0,0,0,0,0,0,0,0,0,0,0,0,0,0,0,0,0,0,0,0,0,0,0,0,0,0,0,0,0,0,0,0,0,0,0,0,0,0,0,0,0,0,0,0,0,0,0,0,0,0,0,0,0,0,0,0,0,0,0,0,0,0,0,0,0,0,0,0,0,0,0,0,0,0,0,0,0,0,0,0,0,0,0,0,0,0,0,0,0,0,0,0,0,0,0,0,0,0,0,0,0,0,0,0,0,0,0,0,0,0,0,0,0,0,0,0]
[1,{"$f":"'8 Axle Loads Direction 1-SS'!B629","v":3},{"$f":"'8 Axle Loads Direction 1-SS'!C629","v":0},{"$f":"'8 Axle Loads Direction 1-SS'!D629","v":0},{"$f":"'8 Axle Loads Direction 1-SS'!E629","v":0},{"$f":"'8 Axle Loads Direction 1-SS'!F629","v":0},{"$f":"'8 Axle Loads Direction 1-SS'!G629","v":0},{"$f":"'8 Axle Loads Direction 1-SS'!H629","v":0},{"$f":"'8 Axle Loads Direction 1-SS'!I629","v":0},{"$f":"'8 Axle Loads Direction 1-SS'!J629","v":0},{"$f":"'8 Axle Loads Direction 1-SS'!K629","v":0},0,0,0,0,0,0,0,0,0,0,0,0,0,0,0,0,0,null,0,0,0,0,0,0,0,0,0,0,0,0,0,0,0,0,0,0,0,0,0,0,0,0,0,0,0,0,0,0,0,0,0,0,0,0,0,0,0,0,0,0,0,0,0,0,0,0,0,0,0,0,0,0,0,0,0,0,0,0,0,0,0,0,0,0,0,0,0,0,0,0,0,0,0,0,0,0,0,0,0,0,0,0,0,0,0,0,0,0,0,0,0,0,0,0,0,0,0,0,0,0,0,0,0,0,0,0,0,0,0,0,0,0,0,0,0,0,0,0,0,0,0,0,0,0,0,0,0,0,0,0,0,0,0,0,0,0,0,0,0,0,0,0,0,0,0,0,0,0,0,0,0,0,0,0,0,0,0,0,0,0,0,0,0,0,0,0,0,0,0,0,0,0,0,0,0,0,0,0,0,0,0,0,0,0,0,0,0,0,0,0,0,0,0,0,0,0,0,0,0,0,0,0,0,0,0,0,0,0,0,0,0,0,0,0,0,0,0,0,0,0,0,0,0,0,0,0,0,0,0,0,0,0,0,0,0,0,0,0,0,0,0,0,0,0,0,0,0,0,0,0,0,0,0,0,0,0,0,0,0,0,0,0,0,0,0,0,0,0,0,0,0,0,0,0,0,0,0,0,0,0,0,0,0,0,0,0,0,0,0,0,0,0,0,0,0,0,0,0,0,0,0,0,0,0,0,0,0,0,0,0,0,0,0,0,0,0,0,0,0,0,0,0,0,0,0,0,0,0,0,0,0,0,0,0,0,0,0,0,0,0,0,0,0,0,0,0,0,0,0,0,0,0,0,0,0,0,0,0,0,0,0,0,0,0,0,0,0,0,0,0,0,0,0,0,0,0,0,0,0,0,0,0,0,0,0,0,0,0,0,0,0,0,0,0,0,0,0,0,0,0,0,0,0,0,0,0,0,0,0,0,0,0,0,0,0,0,0,0,0,0,0,0,0,0,0,0,0,0,0,0,0,0,0,0,0,0,0,0,0,0,0,0,0,0,0,0,0,0,0,0,0,0,0,0,0,0,0,0,0,0,0,0,0,0,0,0,0,0,0,0,0,0,0,0,0,0,0,0,0,0,0,0,0,0,0,0,0,0,0,0,0,0,0,0,0,0,0,0,0,0,0,0,0,0,0,0,0,0,0,0,0,0,0,0,0,0,0,0,0,0,0,0,0,0,0,0,0,0]
[1,{"$f":"'8 Axle Loads Direction 1-SS'!B644","v":3},{"$f":"'8 Axle Loads Direction 1-SS'!C644","v":0},{"$f":"'8 Axle Loads Direction 1-SS'!D644","v":0},{"$f":"'8 Axle Loads Direction 1-SS'!E644","v":0},{"$f":"'8 Axle Loads Direction 1-SS'!F644","v":0},{"$f":"'8 Axle Loads Direction 1-SS'!G644","v":0},{"$f":"'8 Axle Loads Direction 1-SS'!H644","v":0},{"$f":"'8 Axle Loads Direction 1-SS'!I644","v":0},{"$f":"'8 Axle Loads Direction 1-SS'!J644","v":0},{"$f":"'8 Axle Loads Direction 1-SS'!K644","v":0},0,0,0,0,0,0,0,0,0,0,0,0,0,0,0,0,0,null,0,0,0,0,0,0,0,0,0,0,0,0,0,0,0,0,0,0,0,0,0,0,0,0,0,0,0,0,0,0,0,0,0,0,0,0,0,0,0,0,0,0,0,0,0,0,0,0,0,0,0,0,0,0,0,0,0,0,0,0,0,0,0,0,0,0,0,0,0,0,0,0,0,0,0,0,0,0,0,0,0,0,0,0,0,0,0,0,0,0,0,0,0,0,0,0,0,0,0,0,0,0,0,0,0,0,0,0,0,0,0,0,0,0,0,0,0,0,0,0,0,0,0,0,0,0,0,0,0,0,0,0,0,0,0,0,0,0,0,0,0,0,0,0,0,0,0,0,0,0,0,0,0,0,0,0,0,0,0,0,0,0,0,0,0,0,0,0,0,0,0,0,0,0,0,0,0,0,0,0,0,0,0,0,0,0,0,0,0,0,0,0,0,0,0,0,0,0,0,0,0,0,0,0,0,0,0,0,0,0,0,0,0,0,0,0,0,0,0,0,0,0,0,0,0,0,0,0,0,0,0,0,0,0,0,0,0,0,0,0,0,0,0,0,0,0,0,0,0,0,0,0,0,0,0,0,0,0,0,0,0,0,0,0,0,0,0,0,0,0,0,0,0,0,0,0,0,0,0,0,0,0,0,0,0,0,0,0,0,0,0,0,0,0,0,0,0,0,0,0,0,0,0,0,0,0,0,0,0,0,0,0,0,0,0,0,0,0,0,0,0,0,0,0,0,0,0,0,0,0,0,0,0,0,0,0,0,0,0,0,0,0,0,0,0,0,0,0,0,0,0,0,0,0,0,0,0,0,0,0,0,0,0,0,0,0,0,0,0,0,0,0,0,0,0,0,0,0,0,0,0,0,0,0,0,0,0,0,0,0,0,0,0,0,0,0,0,0,0,0,0,0,0,0,0,0,0,0,0,0,0,0,0,0,0,0,0,0,0,0,0,0,0,0,0,0,0,0,0,0,0,0,0,0,0,0,0,0,0,0,0,0,0,0,0,0,0,0,0,0,0,0,0,0,0,0,0,0,0,0,0,0,0,0,0,0,0,0,0,0,0,0,0,0,0,0,0,0,0,0,0,0,0,0,0,0,0,0,0,0,0,0,0,0,0,0,0,0,0,0,0,0,0,0,0,0,0,0,0,0,0,0,0,0,0,0,0,0,0,0,0,0,0,0,0,0,0,0,0,0]
[1,{"$f":"'8 Axle Loads Direction 1-SS'!B659","v":3},{"$f":"'8 Axle Loads Direction 1-SS'!C659","v":0},{"$f":"'8 Axle Loads Direction 1-SS'!D659","v":0},{"$f":"'8 Axle Loads Direction 1-SS'!E659","v":0},{"$f":"'8 Axle Loads Direction 1-SS'!F659","v":0},{"$f":"'8 Axle Loads Direction 1-SS'!G659","v":0},{"$f":"'8 Axle Loads Direction 1-SS'!H659","v":0},{"$f":"'8 Axle Loads Direction 1-SS'!I659","v":0},{"$f":"'8 Axle Loads Direction 1-SS'!J659","v":0},{"$f":"'8 Axle Loads Direction 1-SS'!K659","v":0},0,0,0,0,0,0,0,0,0,0,0,0,0,0,0,0,0,null,0,0,0,0,0,0,0,0,0,0,0,0,0,0,0,0,0,0,0,0,0,0,0,0,0,0,0,0,0,0,0,0,0,0,0,0,0,0,0,0,0,0,0,0,0,0,0,0,0,0,0,0,0,0,0,0,0,0,0,0,0,0,0,0,0,0,0,0,0,0,0,0,0,0,0,0,0,0,0,0,0,0,0,0,0,0,0,0,0,0,0,0,0,0,0,0,0,0,0,0,0,0,0,0,0,0,0,0,0,0,0,0,0,0,0,0,0,0,0,0,0,0,0,0,0,0,0,0,0,0,0,0,0,0,0,0,0,0,0,0,0,0,0,0,0,0,0,0,0,0,0,0,0,0,0,0,0,0,0,0,0,0,0,0,0,0,0,0,0,0,0,0,0,0,0,0,0,0,0,0,0,0,0,0,0,0,0,0,0,0,0,0,0,0,0,0,0,0,0,0,0,0,0,0,0,0,0,0,0,0,0,0,0,0,0,0,0,0,0,0,0,0,0,0,0,0,0,0,0,0,0,0,0,0,0,0,0,0,0,0,0,0,0,0,0,0,0,0,0,0,0,0,0,0,0,0,0,0,0,0,0,0,0,0,0,0,0,0,0,0,0,0,0,0,0,0,0,0,0,0,0,0,0,0,0,0,0,0,0,0,0,0,0,0,0,0,0,0,0,0,0,0,0,0,0,0,0,0,0,0,0,0,0,0,0,0,0,0,0,0,0,0,0,0,0,0,0,0,0,0,0,0,0,0,0,0,0,0,0,0,0,0,0,0,0,0,0,0,0,0,0,0,0,0,0,0,0,0,0,0,0,0,0,0,0,0,0,0,0,0,0,0,0,0,0,0,0,0,0,0,0,0,0,0,0,0,0,0,0,0,0,0,0,0,0,0,0,0,0,0,0,0,0,0,0,0,0,0,0,0,0,0,0,0,0,0,0,0,0,0,0,0,0,0,0,0,0,0,0,0,0,0,0,0,0,0,0,0,0,0,0,0,0,0,0,0,0,0,0,0,0,0,0,0,0,0,0,0,0,0,0,0,0,0,0,0,0,0,0,0,0,0,0,0,0,0,0,0,0,0,0,0,0,0,0,0,0,0,0,0,0,0,0,0,0,0,0,0,0,0,0,0,0,0,0,0,0,0,0,0,0,0,0,0,0,0,0,0,0,0,0,0,0,0,0,0,0,0,0,0]
[1,{"$f":"'8 Axle Loads Direction 1-SS'!B676","v":3},{"$f":"'8 Axle Loads Direction 1-SS'!C676","v":0},{"$f":"'8 Axle Loads Direction 1-SS'!D676","v":0},{"$f":"'8 Axle Loads Direction 1-SS'!E676","v":0},{"$f":"'8 Axle Loads Direction 1-SS'!F676","v":0},{"$f":"'8 Axle Loads Direction 1-SS'!G676","v":0},{"$f":"'8 Axle Loads Direction 1-SS'!H676","v":0},{"$f":"'8 Axle Loads Direction 1-SS'!I676","v":0},{"$f":"'8 Axle Loads Direction 1-SS'!J676","v":0},{"$f":"'8 Axle Loads Direction 1-SS'!K676","v":0},0,0,0,0,0,0,0,0,0,0,0,0,0,0,0,0,0,null,0,0,0,0,0,0,0,0,0,0,0,0,0,0,0,0,0,0,0,0,0,0,0,0,0,0,0,0,0,0,0,0,0,0,0,0,0,0,0,0,0,0,0,0,0,0,0,0,0,0,0,0,0,0,0,0,0,0,0,0,0,0,0,0,0,0,0,0,0,0,0,0,0,0,0,0,0,0,0,0,0,0,0,0,0,0,0,0,0,0,0,0,0,0,0,0,0,0,0,0,0,0,0,0,0,0,0,0,0,0,0,0,0,0,0,0,0,0,0,0,0,0,0,0,0,0,0,0,0,0,0,0,0,0,0,0,0,0,0,0,0,0,0,0,0,0,0,0,0,0,0,0,0,0,0,0,0,0,0,0,0,0,0,0,0,0,0,0,0,0,0,0,0,0,0,0,0,0,0,0,0,0,0,0,0,0,0,0,0,0,0,0,0,0,0,0,0,0,0,0,0,0,0,0,0,0,0,0,0,0,0,0,0,0,0,0,0,0,0,0,0,0,0,0,0,0,0,0,0,0,0,0,0,0,0,0,0,0,0,0,0,0,0,0,0,0,0,0,0,0,0,0,0,0,0,0,0,0,0,0,0,0,0,0,0,0,0,0,0,0,0,0,0,0,0,0,0,0,0,0,0,0,0,0,0,0,0,0,0,0,0,0,0,0,0,0,0,0,0,0,0,0,0,0,0,0,0,0,0,0,0,0,0,0,0,0,0,0,0,0,0,0,0,0,0,0,0,0,0,0,0,0,0,0,0,0,0,0,0,0,0,0,0,0,0,0,0,0,0,0,0,0,0,0,0,0,0,0,0,0,0,0,0,0,0,0,0,0,0,0,0,0,0,0,0,0,0,0,0,0,0,0,0,0,0,0,0,0,0,0,0,0,0,0,0,0,0,0,0,0,0,0,0,0,0,0,0,0,0,0,0,0,0,0,0,0,0,0,0,0,0,0,0,0,0,0,0,0,0,0,0,0,0,0,0,0,0,0,0,0,0,0,0,0,0,0,0,0,0,0,0,0,0,0,0,0,0,0,0,0,0,0,0,0,0,0,0,0,0,0,0,0,0,0,0,0,0,0,0,0,0,0,0,0,0,0,0,0,0,0,0,0,0,0,0,0,0,0,0,0,0,0,0,0,0,0,0,0,0,0,0,0,0,0,0,0,0,0,0,0,0,0,0,0,0,0,0,0,0,0]
[1,{"$f":"'8 Axle Loads Direction 1-SS'!B691","v":3},{"$f":"'8 Axle Loads Direction 1-SS'!C691","v":0},{"$f":"'8 Axle Loads Direction 1-SS'!D691","v":0},{"$f":"'8 Axle Loads Direction 1-SS'!E691","v":0},{"$f":"'8 Axle Loads Direction 1-SS'!F691","v":0},{"$f":"'8 Axle Loads Direction 1-SS'!G691","v":0},{"$f":"'8 Axle Loads Direction 1-SS'!H691","v":0},{"$f":"'8 Axle Loads Direction 1-SS'!I691","v":0},{"$f":"'8 Axle Loads Direction 1-SS'!J691","v":0},{"$f":"'8 Axle Loads Direction 1-SS'!K691","v":0},0,0,0,0,0,0,0,0,0,0,0,0,0,0,0,0,0,null,0,0,0,0,0,0,0,0,0,0,0,0,0,0,0,0,0,0,0,0,0,0,0,0,0,0,0,0,0,0,0,0,0,0,0,0,0,0,0,0,0,0,0,0,0,0,0,0,0,0,0,0,0,0,0,0,0,0,0,0,0,0,0,0,0,0,0,0,0,0,0,0,0,0,0,0,0,0,0,0,0,0,0,0,0,0,0,0,0,0,0,0,0,0,0,0,0,0,0,0,0,0,0,0,0,0,0,0,0,0,0,0,0,0,0,0,0,0,0,0,0,0,0,0,0,0,0,0,0,0,0,0,0,0,0,0,0,0,0,0,0,0,0,0,0,0,0,0,0,0,0,0,0,0,0,0,0,0,0,0,0,0,0,0,0,0,0,0,0,0,0,0,0,0,0,0,0,0,0,0,0,0,0,0,0,0,0,0,0,0,0,0,0,0,0,0,0,0,0,0,0,0,0,0,0,0,0,0,0,0,0,0,0,0,0,0,0,0,0,0,0,0,0,0,0,0,0,0,0,0,0,0,0,0,0,0,0,0,0,0,0,0,0,0,0,0,0,0,0,0,0,0,0,0,0,0,0,0,0,0,0,0,0,0,0,0,0,0,0,0,0,0,0,0,0,0,0,0,0,0,0,0,0,0,0,0,0,0,0,0,0,0,0,0,0,0,0,0,0,0,0,0,0,0,0,0,0,0,0,0,0,0,0,0,0,0,0,0,0,0,0,0,0,0,0,0,0,0,0,0,0,0,0,0,0,0,0,0,0,0,0,0,0,0,0,0,0,0,0,0,0,0,0,0,0,0,0,0,0,0,0,0,0,0,0,0,0,0,0,0,0,0,0,0,0,0,0,0,0,0,0,0,0,0,0,0,0,0,0,0,0,0,0,0,0,0,0,0,0,0,0,0,0,0,0,0,0,0,0,0,0,0,0,0,0,0,0,0,0,0,0,0,0,0,0,0,0,0,0,0,0,0,0,0,0,0,0,0,0,0,0,0,0,0,0,0,0,0,0,0,0,0,0,0,0,0,0,0,0,0,0,0,0,0,0,0,0,0,0,0,0,0,0,0,0,0,0,0,0,0,0,0,0,0,0,0,0,0,0,0,0,0,0,0,0,0,0,0,0,0,0,0,0,0,0,0,0,0,0,0,0,0,0,0,0,0,0,0,0,0,0,0,0,0,0,0,0,0,0,0]
[1,{"$f":"'8 Axle Loads Direction 1-SS'!B708","v":3},{"$f":"'8 Axle Loads Direction 1-SS'!C708","v":0},{"$f":"'8 Axle Loads Direction 1-SS'!D708","v":0},{"$f":"'8 Axle Loads Direction 1-SS'!E708","v":0},{"$f":"'8 Axle Loads Direction 1-SS'!F708","v":0},{"$f":"'8 Axle Loads Direction 1-SS'!G708","v":0},{"$f":"'8 Axle Loads Direction 1-SS'!H708","v":0},{"$f":"'8 Axle Loads Direction 1-SS'!I708","v":0},{"$f":"'8 Axle Loads Direction 1-SS'!J708","v":0},{"$f":"'8 Axle Loads Direction 1-SS'!K708","v":0},0,0,0,0,0,0,0,0,0,0,0,0,0,0,0,0,0,null,0,0,0,0,0,0,0,0,0,0,0,0,0,0,0,0,0,0,0,0,0,0,0,0,0,0,0,0,0,0,0,0,0,0,0,0,0,0,0,0,0,0,0,0,0,0,0,0,0,0,0,0,0,0,0,0,0,0,0,0,0,0,0,0,0,0,0,0,0,0,0,0,0,0,0,0,0,0,0,0,0,0,0,0,0,0,0,0,0,0,0,0,0,0,0,0,0,0,0,0,0,0,0,0,0,0,0,0,0,0,0,0,0,0,0,0,0,0,0,0,0,0,0,0,0,0,0,0,0,0,0,0,0,0,0,0,0,0,0,0,0,0,0,0,0,0,0,0,0,0,0,0,0,0,0,0,0,0,0,0,0,0,0,0,0,0,0,0,0,0,0,0,0,0,0,0,0,0,0,0,0,0,0,0,0,0,0,0,0,0,0,0,0,0,0,0,0,0,0,0,0,0,0,0,0,0,0,0,0,0,0,0,0,0,0,0,0,0,0,0,0,0,0,0,0,0,0,0,0,0,0,0,0,0,0,0,0,0,0,0,0,0,0,0,0,0,0,0,0,0,0,0,0,0,0,0,0,0,0,0,0,0,0,0,0,0,0,0,0,0,0,0,0,0,0,0,0,0,0,0,0,0,0,0,0,0,0,0,0,0,0,0,0,0,0,0,0,0,0,0,0,0,0,0,0,0,0,0,0,0,0,0,0,0,0,0,0,0,0,0,0,0,0,0,0,0,0,0,0,0,0,0,0,0,0,0,0,0,0,0,0,0,0,0,0,0,0,0,0,0,0,0,0,0,0,0,0,0,0,0,0,0,0,0,0,0,0,0,0,0,0,0,0,0,0,0,0,0,0,0,0,0,0,0,0,0,0,0,0,0,0,0,0,0,0,0,0,0,0,0,0,0,0,0,0,0,0,0,0,0,0,0,0,0,0,0,0,0,0,0,0,0,0,0,0,0,0,0,0,0,0,0,0,0,0,0,0,0,0,0,0,0,0,0,0,0,0,0,0,0,0,0,0,0,0,0,0,0,0,0,0,0,0,0,0,0,0,0,0,0,0,0,0,0,0,0,0,0,0,0,0,0,0,0,0,0,0,0,0,0,0,0,0,0,0,0,0,0,0,0,0,0,0,0,0,0,0,0,0,0,0,0,0,0,0,0,0,0,0,0,0,0,0,0,0,0,0,0,0,0]
[1,{"$f":"'8 Axle Loads Direction 1-SS'!B723","v":3},{"$f":"'8 Axle Loads Direction 1-SS'!C723","v":0},{"$f":"'8 Axle Loads Direction 1-SS'!D723","v":0},{"$f":"'8 Axle Loads Direction 1-SS'!E723","v":0},{"$f":"'8 Axle Loads Direction 1-SS'!F723","v":0},{"$f":"'8 Axle Loads Direction 1-SS'!G723","v":0},{"$f":"'8 Axle Loads Direction 1-SS'!H723","v":0},{"$f":"'8 Axle Loads Direction 1-SS'!I723","v":0},{"$f":"'8 Axle Loads Direction 1-SS'!J723","v":0},{"$f":"'8 Axle Loads Direction 1-SS'!K723","v":0},0,0,0,0,0,0,0,0,0,0,0,0,0,0,0,0,0,null,0,0,0,0,0,0,0,0,0,0,0,0,0,0,0,0,0,0,0,0,0,0,0,0,0,0,0,0,0,0,0,0,0,0,0,0,0,0,0,0,0,0,0,0,0,0,0,0,0,0,0,0,0,0,0,0,0,0,0,0,0,0,0,0,0,0,0,0,0,0,0,0,0,0,0,0,0,0,0,0,0,0,0,0,0,0,0,0,0,0,0,0,0,0,0,0,0,0,0,0,0,0,0,0,0,0,0,0,0,0,0,0,0,0,0,0,0,0,0,0,0,0,0,0,0,0,0,0,0,0,0,0,0,0,0,0,0,0,0,0,0,0,0,0,0,0,0,0,0,0,0,0,0,0,0,0,0,0,0,0,0,0,0,0,0,0,0,0,0,0,0,0,0,0,0,0,0,0,0,0,0,0,0,0,0,0,0,0,0,0,0,0,0,0,0,0,0,0,0,0,0,0,0,0,0,0,0,0,0,0,0,0,0,0,0,0,0,0,0,0,0,0,0,0,0,0,0,0,0,0,0,0,0,0,0,0,0,0,0,0,0,0,0,0,0,0,0,0,0,0,0,0,0,0,0,0,0,0,0,0,0,0,0,0,0,0,0,0,0,0,0,0,0,0,0,0,0,0,0,0,0,0,0,0,0,0,0,0,0,0,0,0,0,0,0,0,0,0,0,0,0,0,0,0,0,0,0,0,0,0,0,0,0,0,0,0,0,0,0,0,0,0,0,0,0,0,0,0,0,0,0,0,0,0,0,0,0,0,0,0,0,0,0,0,0,0,0,0,0,0,0,0,0,0,0,0,0,0,0,0,0,0,0,0,0,0,0,0,0,0,0,0,0,0,0,0,0,0,0,0,0,0,0,0,0,0,0,0,0,0,0,0,0,0,0,0,0,0,0,0,0,0,0,0,0,0,0,0,0,0,0,0,0,0,0,0,0,0,0,0,0,0,0,0,0,0,0,0,0,0,0,0,0,0,0,0,0,0,0,0,0,0,0,0,0,0,0,0,0,0,0,0,0,0,0,0,0,0,0,0,0,0,0,0,0,0,0,0,0,0,0,0,0,0,0,0,0,0,0,0,0,0,0,0,0,0,0,0,0,0,0,0,0,0,0,0,0,0,0,0,0,0,0,0,0,0,0,0,0,0,0,0,0,0,0,0,0,0,0,0,0,0,0,0,0,0,0,0,0,0]
[1,{"$f":"'8 Axle Loads Direction 1-SS'!B738","v":3},{"$f":"'8 Axle Loads Direction 1-SS'!C738","v":0},{"$f":"'8 Axle Loads Direction 1-SS'!D738","v":0},{"$f":"'8 Axle Loads Direction 1-SS'!E738","v":0},{"$f":"'8 Axle Loads Direction 1-SS'!F738","v":0},{"$f":"'8 Axle Loads Direction 1-SS'!G738","v":0},{"$f":"'8 Axle Loads Direction 1-SS'!H738","v":0},{"$f":"'8 Axle Loads Direction 1-SS'!I738","v":0},{"$f":"'8 Axle Loads Direction 1-SS'!J738","v":0},{"$f":"'8 Axle Loads Direction 1-SS'!K738","v":0},0,0,0,0,0,0,0,0,0,0,0,0,0,0,0,0,0,null,0,0,0,0,0,0,0,0,0,0,0,0,0,0,0,0,0,0,0,0,0,0,0,0,0,0,0,0,0,0,0,0,0,0,0,0,0,0,0,0,0,0,0,0,0,0,0,0,0,0,0,0,0,0,0,0,0,0,0,0,0,0,0,0,0,0,0,0,0,0,0,0,0,0,0,0,0,0,0,0,0,0,0,0,0,0,0,0,0,0,0,0,0,0,0,0,0,0,0,0,0,0,0,0,0,0,0,0,0,0,0,0,0,0,0,0,0,0,0,0,0,0,0,0,0,0,0,0,0,0,0,0,0,0,0,0,0,0,0,0,0,0,0,0,0,0,0,0,0,0,0,0,0,0,0,0,0,0,0,0,0,0,0,0,0,0,0,0,0,0,0,0,0,0,0,0,0,0,0,0,0,0,0,0,0,0,0,0,0,0,0,0,0,0,0,0,0,0,0,0,0,0,0,0,0,0,0,0,0,0,0,0,0,0,0,0,0,0,0,0,0,0,0,0,0,0,0,0,0,0,0,0,0,0,0,0,0,0,0,0,0,0,0,0,0,0,0,0,0,0,0,0,0,0,0,0,0,0,0,0,0,0,0,0,0,0,0,0,0,0,0,0,0,0,0,0,0,0,0,0,0,0,0,0,0,0,0,0,0,0,0,0,0,0,0,0,0,0,0,0,0,0,0,0,0,0,0,0,0,0,0,0,0,0,0,0,0,0,0,0,0,0,0,0,0,0,0,0,0,0,0,0,0,0,0,0,0,0,0,0,0,0,0,0,0,0,0,0,0,0,0,0,0,0,0,0,0,0,0,0,0,0,0,0,0,0,0,0,0,0,0,0,0,0,0,0,0,0,0,0,0,0,0,0,0,0,0,0,0,0,0,0,0,0,0,0,0,0,0,0,0,0,0,0,0,0,0,0,0,0,0,0,0,0,0,0,0,0,0,0,0,0,0,0,0,0,0,0,0,0,0,0,0,0,0,0,0,0,0,0,0,0,0,0,0,0,0,0,0,0,0,0,0,0,0,0,0,0,0,0,0,0,0,0,0,0,0,0,0,0,0,0,0,0,0,0,0,0,0,0,0,0,0,0,0,0,0,0,0,0,0,0,0,0,0,0,0,0,0,0,0,0,0,0,0,0,0,0,0,0,0,0,0,0,0,0,0,0,0,0,0,0,0,0,0,0,0,0,0,0]
[1,{"$f":"'8 Axle Loads Direction 1-SS'!B757","v":3},{"$f":"'8 Axle Loads Direction 1-SS'!C757","v":0},{"$f":"'8 Axle Loads Direction 1-SS'!D757","v":0},{"$f":"'8 Axle Loads Direction 1-SS'!E757","v":0},{"$f":"'8 Axle Loads Direction 1-SS'!F757","v":0},{"$f":"'8 Axle Loads Direction 1-SS'!G757","v":0},{"$f":"'8 Axle Loads Direction 1-SS'!H757","v":0},{"$f":"'8 Axle Loads Direction 1-SS'!I757","v":0},{"$f":"'8 Axle Loads Direction 1-SS'!J757","v":0},{"$f":"'8 Axle Loads Direction 1-SS'!K757","v":0},0,0,0,0,0,0,0,0,0,0,0,0,0,0,0,0,0,null,0,0,0,0,0,0,0,0,0,0,0,0,0,0,0,0,0,0,0,0,0,0,0,0,0,0,0,0,0,0,0,0,0,0,0,0,0,0,0,0,0,0,0,0,0,0,0,0,0,0,0,0,0,0,0,0,0,0,0,0,0,0,0,0,0,0,0,0,0,0,0,0,0,0,0,0,0,0,0,0,0,0,0,0,0,0,0,0,0,0,0,0,0,0,0,0,0,0,0,0,0,0,0,0,0,0,0,0,0,0,0,0,0,0,0,0,0,0,0,0,0,0,0,0,0,0,0,0,0,0,0,0,0,0,0,0,0,0,0,0,0,0,0,0,0,0,0,0,0,0,0,0,0,0,0,0,0,0,0,0,0,0,0,0,0,0,0,0,0,0,0,0,0,0,0,0,0,0,0,0,0,0,0,0,0,0,0,0,0,0,0,0,0,0,0,0,0,0,0,0,0,0,0,0,0,0,0,0,0,0,0,0,0,0,0,0,0,0,0,0,0,0,0,0,0,0,0,0,0,0,0,0,0,0,0,0,0,0,0,0,0,0,0,0,0,0,0,0,0,0,0,0,0,0,0,0,0,0,0,0,0,0,0,0,0,0,0,0,0,0,0,0,0,0,0,0,0,0,0,0,0,0,0,0,0,0,0,0,0,0,0,0,0,0,0,0,0,0,0,0,0,0,0,0,0,0,0,0,0,0,0,0,0,0,0,0,0,0,0,0,0,0,0,0,0,0,0,0,0,0,0,0,0,0,0,0,0,0,0,0,0,0,0,0,0,0,0,0,0,0,0,0,0,0,0,0,0,0,0,0,0,0,0,0,0,0,0,0,0,0,0,0,0,0,0,0,0,0,0,0,0,0,0,0,0,0,0,0,0,0,0,0,0,0,0,0,0,0,0,0,0,0,0,0,0,0,0,0,0,0,0,0,0,0,0,0,0,0,0,0,0,0,0,0,0,0,0,0,0,0,0,0,0,0,0,0,0,0,0,0,0,0,0,0,0,0,0,0,0,0,0,0,0,0,0,0,0,0,0,0,0,0,0,0,0,0,0,0,0,0,0,0,0,0,0,0,0,0,0,0,0,0,0,0,0,0,0,0,0,0,0,0,0,0,0,0,0,0,0,0,0,0,0,0,0,0,0,0,0,0,0,0,0,0,0,0,0,0,0,0,0,0,0,0,0,0,0,0,0,0]
[1,{"$f":"'8 Axle Loads Direction 1-SS'!B770","v":3},{"$f":"'8 Axle Loads Direction 1-SS'!C770","v":0},{"$f":"'8 Axle Loads Direction 1-SS'!D770","v":0},{"$f":"'8 Axle Loads Direction 1-SS'!E770","v":0},{"$f":"'8 Axle Loads Direction 1-SS'!F770","v":0},{"$f":"'8 Axle Loads Direction 1-SS'!G770","v":0},{"$f":"'8 Axle Loads Direction 1-SS'!H770","v":0},{"$f":"'8 Axle Loads Direction 1-SS'!I770","v":0},{"$f":"'8 Axle Loads Direction 1-SS'!J770","v":0},{"$f":"'8 Axle Loads Direction 1-SS'!K770","v":0},0,0,0,0,0,0,0,0,0,0,0,0,0,0,0,0,0,null,0,0,0,0,0,0,0,0,0,0,0,0,0,0,0,0,0,0,0,0,0,0,0,0,0,0,0,0,0,0,0,0,0,0,0,0,0,0,0,0,0,0,0,0,0,0,0,0,0,0,0,0,0,0,0,0,0,0,0,0,0,0,0,0,0,0,0,0,0,0,0,0,0,0,0,0,0,0,0,0,0,0,0,0,0,0,0,0,0,0,0,0,0,0,0,0,0,0,0,0,0,0,0,0,0,0,0,0,0,0,0,0,0,0,0,0,0,0,0,0,0,0,0,0,0,0,0,0,0,0,0,0,0,0,0,0,0,0,0,0,0,0,0,0,0,0,0,0,0,0,0,0,0,0,0,0,0,0,0,0,0,0,0,0,0,0,0,0,0,0,0,0,0,0,0,0,0,0,0,0,0,0,0,0,0,0,0,0,0,0,0,0,0,0,0,0,0,0,0,0,0,0,0,0,0,0,0,0,0,0,0,0,0,0,0,0,0,0,0,0,0,0,0,0,0,0,0,0,0,0,0,0,0,0,0,0,0,0,0,0,0,0,0,0,0,0,0,0,0,0,0,0,0,0,0,0,0,0,0,0,0,0,0,0,0,0,0,0,0,0,0,0,0,0,0,0,0,0,0,0,0,0,0,0,0,0,0,0,0,0,0,0,0,0,0,0,0,0,0,0,0,0,0,0,0,0,0,0,0,0,0,0,0,0,0,0,0,0,0,0,0,0,0,0,0,0,0,0,0,0,0,0,0,0,0,0,0,0,0,0,0,0,0,0,0,0,0,0,0,0,0,0,0,0,0,0,0,0,0,0,0,0,0,0,0,0,0,0,0,0,0,0,0,0,0,0,0,0,0,0,0,0,0,0,0,0,0,0,0,0,0,0,0,0,0,0,0,0,0,0,0,0,0,0,0,0,0,0,0,0,0,0,0,0,0,0,0,0,0,0,0,0,0,0,0,0,0,0,0,0,0,0,0,0,0,0,0,0,0,0,0,0,0,0,0,0,0,0,0,0,0,0,0,0,0,0,0,0,0,0,0,0,0,0,0,0,0,0,0,0,0,0,0,0,0,0,0,0,0,0,0,0,0,0,0,0,0,0,0,0,0,0,0,0,0,0,0,0,0,0,0,0,0,0,0,0,0,0,0,0,0,0,0,0,0,0,0,0,0,0,0,0,0,0,0,0,0,0,0,0]
[1,{"$f":"'8 Axle Loads Direction 1-SS'!B785","v":"4B"},{"$f":"'8 Axle Loads Direction 1-SS'!C785","v":6},{"$f":"'8 Axle Loads Direction 1-SS'!D785","v":6},{"$f":"'8 Axle Loads Direction 1-SS'!E785","v":10},{"$f":"'8 Axle Loads Direction 1-SS'!F785","v":10},{"$f":"'8 Axle Loads Direction 1-SS'!G785","v":0},{"$f":"'8 Axle Loads Direction 1-SS'!H785","v":0},{"$f":"'8 Axle Loads Direction 1-SS'!I785","v":0},{"$f":"'8 Axle Loads Direction 1-SS'!J785","v":0},{"$f":"'8 Axle Loads Direction 1-SS'!K785","v":0},6,0,0,0,0,0,0,0,0,0,10,0,0,0,0,0,0,null,0,0,0,0,0,60,0,0,0,0,0,0,0,0,0,0,0,0,0,0,0,0,0,0,0,0,0,0,0,0,0,0,0,0,0,0,0,0,0,0,0,0,0,0,0,0,0,0,0,0,0,0,0,0,0,0,0,0,0,0,0,0,0,0,0,0,0,0,0,0,0,0,0,0,0,0,0,0,0,0,0,0,0,0,0,0,0,0,0,0,0,0,0,0,0,0,0,0,0,0,0,0,0,0,0,0,0,0,0,0,0,0,0,0,0,0,0,0,0,0,0,0,0,0,0,0,0,0,0,0,0,0,0,0,0,0,0,0,0,0,0,0,0,0,0,0,0,0,0,0,0,0,0,0,0,0,0,0,0,0,0,0,0,0,0,0,0,0,0,0,0,0,0,0,0,0,0,0,0,0,0,0,0,0,0,0,0,0,0,0,0,0,0,0,0,0,0,0,0,0,0,0,0,0,0,0,0,0,0,0,0,0,0,0,0,0,0,0,0,0,0,0,0,0,0,0,0,0,0,0,0,0,0,0,0,0,0,0,0,0,0,0,0,0,0,0,0,0,0,0,0,0,0,0,0,0,0,0,0,0,0,0,0,0,0,0,0,0,0,0,0,0,0,0,0,0,0,0,0,0,0,0,0,0,0,0,0,0,0,0,0,0,0,0,0,0,0,0,0,0,0,0,0,0,0,0,0,0,0,100,0,0,0,0,0,0,0,0,0,0,0,0,0,0,0,0,0,0,0,0,0,0,0,0,0,0,0,0,0,0,0,0,0,0,0,0,0,0,0,0,0,0,0,0,0,0,0,0,0,0,0,0,0,0,0,0,0,0,0,0,0,0,0,0,0,0,0,0,0,0,0,0,0,0,0,0,0,0,0,0,0,0,0,0,0,0,0,0,0,0,0,0,0,0,0,0,0,0,0,0,0,0,0,0,0,0,0,0,0,0,0,0,0,0,0,0,0,0,0,0,0,0,0,0,0,0,0,0,0,0,0,0,0,0,0,0,0,0,0,0,0,0,0,0,0,0,0,0,0,0,0,0,0,0,0,0,0,0,0,0,0,0,0,0,0,0,0,0,0,0,0,0,0,0,0,0,0,0,0,0,0,0,0,0,0,0,0,0,0,0,0,0,0,0,0,0,0,0,0,0,0,0,0,0,0,0,0,0,0,0,0,0,0,0,0,0,0,0,0,0]
[1,{"$f":"'8 Axle Loads Direction 1-SS'!B806","v":3},{"$f":"'8 Axle Loads Direction 1-SS'!C806","v":0},{"$f":"'8 Axle Loads Direction 1-SS'!D806","v":0},{"$f":"'8 Axle Loads Direction 1-SS'!E806","v":0},{"$f":"'8 Axle Loads Direction 1-SS'!F806","v":0},{"$f":"'8 Axle Loads Direction 1-SS'!G806","v":0},{"$f":"'8 Axle Loads Direction 1-SS'!H806","v":0},{"$f":"'8 Axle Loads Direction 1-SS'!I806","v":0},{"$f":"'8 Axle Loads Direction 1-SS'!J806","v":0},{"$f":"'8 Axle Loads Direction 1-SS'!K806","v":0},0,0,0,0,0,0,0,0,0,0,0,0,0,0,0,0,0,null,0,0,0,0,0,0,0,0,0,0,0,0,0,0,0,0,0,0,0,0,0,0,0,0,0,0,0,0,0,0,0,0,0,0,0,0,0,0,0,0,0,0,0,0,0,0,0,0,0,0,0,0,0,0,0,0,0,0,0,0,0,0,0,0,0,0,0,0,0,0,0,0,0,0,0,0,0,0,0,0,0,0,0,0,0,0,0,0,0,0,0,0,0,0,0,0,0,0,0,0,0,0,0,0,0,0,0,0,0,0,0,0,0,0,0,0,0,0,0,0,0,0,0,0,0,0,0,0,0,0,0,0,0,0,0,0,0,0,0,0,0,0,0,0,0,0,0,0,0,0,0,0,0,0,0,0,0,0,0,0,0,0,0,0,0,0,0,0,0,0,0,0,0,0,0,0,0,0,0,0,0,0,0,0,0,0,0,0,0,0,0,0,0,0,0,0,0,0,0,0,0,0,0,0,0,0,0,0,0,0,0,0,0,0,0,0,0,0,0,0,0,0,0,0,0,0,0,0,0,0,0,0,0,0,0,0,0,0,0,0,0,0,0,0,0,0,0,0,0,0,0,0,0,0,0,0,0,0,0,0,0,0,0,0,0,0,0,0,0,0,0,0,0,0,0,0,0,0,0,0,0,0,0,0,0,0,0,0,0,0,0,0,0,0,0,0,0,0,0,0,0,0,0,0,0,0,0,0,0,0,0,0,0,0,0,0,0,0,0,0,0,0,0,0,0,0,0,0,0,0,0,0,0,0,0,0,0,0,0,0,0,0,0,0,0,0,0,0,0,0,0,0,0,0,0,0,0,0,0,0,0,0,0,0,0,0,0,0,0,0,0,0,0,0,0,0,0,0,0,0,0,0,0,0,0,0,0,0,0,0,0,0,0,0,0,0,0,0,0,0,0,0,0,0,0,0,0,0,0,0,0,0,0,0,0,0,0,0,0,0,0,0,0,0,0,0,0,0,0,0,0,0,0,0,0,0,0,0,0,0,0,0,0,0,0,0,0,0,0,0,0,0,0,0,0,0,0,0,0,0,0,0,0,0,0,0,0,0,0,0,0,0,0,0,0,0,0,0,0,0,0,0,0,0,0,0,0,0,0,0,0,0,0,0,0,0,0,0,0,0,0,0,0,0,0,0,0,0,0,0,0,0,0,0,0,0,0,0,0,0,0,0,0,0,0,0,0,0,0,0]
[1,{"$f":"'8 Axle Loads Direction 1-SS'!B817","v":3},{"$f":"'8 Axle Loads Direction 1-SS'!C817","v":0},{"$f":"'8 Axle Loads Direction 1-SS'!D817","v":0},{"$f":"'8 Axle Loads Direction 1-SS'!E817","v":0},{"$f":"'8 Axle Loads Direction 1-SS'!F817","v":0},{"$f":"'8 Axle Loads Direction 1-SS'!G817","v":0},{"$f":"'8 Axle Loads Direction 1-SS'!H817","v":0},{"$f":"'8 Axle Loads Direction 1-SS'!I817","v":0},{"$f":"'8 Axle Loads Direction 1-SS'!J817","v":0},{"$f":"'8 Axle Loads Direction 1-SS'!K817","v":0},0,0,0,0,0,0,0,0,0,0,0,0,0,0,0,0,0,null,0,0,0,0,0,0,0,0,0,0,0,0,0,0,0,0,0,0,0,0,0,0,0,0,0,0,0,0,0,0,0,0,0,0,0,0,0,0,0,0,0,0,0,0,0,0,0,0,0,0,0,0,0,0,0,0,0,0,0,0,0,0,0,0,0,0,0,0,0,0,0,0,0,0,0,0,0,0,0,0,0,0,0,0,0,0,0,0,0,0,0,0,0,0,0,0,0,0,0,0,0,0,0,0,0,0,0,0,0,0,0,0,0,0,0,0,0,0,0,0,0,0,0,0,0,0,0,0,0,0,0,0,0,0,0,0,0,0,0,0,0,0,0,0,0,0,0,0,0,0,0,0,0,0,0,0,0,0,0,0,0,0,0,0,0,0,0,0,0,0,0,0,0,0,0,0,0,0,0,0,0,0,0,0,0,0,0,0,0,0,0,0,0,0,0,0,0,0,0,0,0,0,0,0,0,0,0,0,0,0,0,0,0,0,0,0,0,0,0,0,0,0,0,0,0,0,0,0,0,0,0,0,0,0,0,0,0,0,0,0,0,0,0,0,0,0,0,0,0,0,0,0,0,0,0,0,0,0,0,0,0,0,0,0,0,0,0,0,0,0,0,0,0,0,0,0,0,0,0,0,0,0,0,0,0,0,0,0,0,0,0,0,0,0,0,0,0,0,0,0,0,0,0,0,0,0,0,0,0,0,0,0,0,0,0,0,0,0,0,0,0,0,0,0,0,0,0,0,0,0,0,0,0,0,0,0,0,0,0,0,0,0,0,0,0,0,0,0,0,0,0,0,0,0,0,0,0,0,0,0,0,0,0,0,0,0,0,0,0,0,0,0,0,0,0,0,0,0,0,0,0,0,0,0,0,0,0,0,0,0,0,0,0,0,0,0,0,0,0,0,0,0,0,0,0,0,0,0,0,0,0,0,0,0,0,0,0,0,0,0,0,0,0,0,0,0,0,0,0,0,0,0,0,0,0,0,0,0,0,0,0,0,0,0,0,0,0,0,0,0,0,0,0,0,0,0,0,0,0,0,0,0,0,0,0,0,0,0,0,0,0,0,0,0,0,0,0,0,0,0,0,0,0,0,0,0,0,0,0,0,0,0,0,0,0,0,0,0,0,0,0,0,0,0,0,0,0,0,0,0,0,0,0,0,0,0,0,0,0,0,0,0,0,0,0,0,0,0,0,0]
[1,{"$f":"'8 Axle Loads Direction 1-SS'!B833","v":"9B"},{"$f":"'8 Axle Loads Direction 1-SS'!C833","v":4},{"$f":"'8 Axle Loads Direction 1-SS'!D833","v":4},{"$f":"'8 Axle Loads Direction 1-SS'!E833","v":6},{"$f":"'8 Axle Loads Direction 1-SS'!F833","v":6},{"$f":"'8 Axle Loads Direction 1-SS'!G833","v":7},{"$f":"'8 Axle Loads Direction 1-SS'!H833","v":9},{"$f":"'8 Axle Loads Direction 1-SS'!I833","v":9},{"$f":"'8 Axle Loads Direction 1-SS'!J833","v":7},{"$f":"'8 Axle Loads Direction 1-SS'!K833","v":8},4,0,0,0,10,0,0,0,0,0,0,18,15,0,0,0,0,null,0,0,0,40,0,0,0,0,0,0,0,0,0,0,0,0,0,0,0,0,0,0,0,0,0,0,0,0,0,0,0,0,0,0,0,0,0,0,0,0,0,0,0,0,0,0,0,0,0,0,0,0,0,0,0,0,0,0,0,0,0,0,0,0,0,0,0,0,0,0,0,0,0,0,0,0,0,0,0,0,0,0,0,0,0,0,0,0,0,0,0,0,0,0,0,0,0,0,0,0,0,0,0,0,0,0,0,0,0,0,0,0,0,0,0,0,0,0,0,0,0,0,0,0,0,0,0,0,0,100,0,0,0,0,0,0,0,0,0,0,0,0,0,0,0,0,0,0,0,0,0,0,0,0,0,0,0,0,0,0,0,0,0,0,0,0,0,0,0,0,0,0,0,0,0,0,0,0,0,0,0,0,0,0,0,0,0,0,0,0,0,0,0,0,0,0,0,0,0,0,0,0,0,0,0,0,0,0,0,0,0,0,0,0,0,0,0,0,0,0,0,0,0,0,0,0,0,0,0,0,0,0,0,0,0,0,0,0,0,0,0,0,0,0,0,0,0,0,0,0,0,0,0,0,0,0,0,0,0,0,0,0,0,0,0,0,0,0,0,0,0,0,0,0,0,0,0,0,0,0,0,0,0,0,0,0,0,0,0,0,0,0,0,0,0,0,0,0,0,0,0,0,0,0,0,0,0,0,0,0,0,0,0,0,0,0,0,0,0,0,0,0,0,0,0,0,0,0,0,0,0,0,0,0,0,0,0,0,0,0,0,0,0,0,0,0,0,180,0,0,0,0,0,0,0,0,0,0,0,0,0,0,0,0,0,0,0,0,0,0,0,0,0,0,150,0,0,0,0,0,0,0,0,0,0,0,0,0,0,0,0,0,0,0,0,0,0,0,0,0,0,0,0,0,0,0,0,0,0,0,0,0,0,0,0,0,0,0,0,0,0,0,0,0,0,0,0,0,0,0,0,0,0,0,0,0,0,0,0,0,0,0,0,0,0,0,0,0,0,0,0,0,0,0,0,0,0,0,0,0,0,0,0,0,0,0,0,0,0,0,0,0,0,0,0,0,0,0,0,0,0,0,0,0,0,0,0,0,0,0,0,0,0,0,0,0,0,0,0,0,0,0,0,0,0,0,0,0,0,0,0,0,0,0,0,0,0,0,0,0,0,0,0,0,0,0,0,0,0,0]
[1,{"$f":"'8 Axle Loads Direction 1-SS'!B848","v":3},{"$f":"'8 Axle Loads Direction 1-SS'!C848","v":0},{"$f":"'8 Axle Loads Direction 1-SS'!D848","v":0},{"$f":"'8 Axle Loads Direction 1-SS'!E848","v":0},{"$f":"'8 Axle Loads Direction 1-SS'!F848","v":0},{"$f":"'8 Axle Loads Direction 1-SS'!G848","v":0},{"$f":"'8 Axle Loads Direction 1-SS'!H848","v":0},{"$f":"'8 Axle Loads Direction 1-SS'!I848","v":0},{"$f":"'8 Axle Loads Direction 1-SS'!J848","v":0},{"$f":"'8 Axle Loads Direction 1-SS'!K848","v":0},0,0,0,0,0,0,0,0,0,0,0,0,0,0,0,0,0,null,0,0,0,0,0,0,0,0,0,0,0,0,0,0,0,0,0,0,0,0,0,0,0,0,0,0,0,0,0,0,0,0,0,0,0,0,0,0,0,0,0,0,0,0,0,0,0,0,0,0,0,0,0,0,0,0,0,0,0,0,0,0,0,0,0,0,0,0,0,0,0,0,0,0,0,0,0,0,0,0,0,0,0,0,0,0,0,0,0,0,0,0,0,0,0,0,0,0,0,0,0,0,0,0,0,0,0,0,0,0,0,0,0,0,0,0,0,0,0,0,0,0,0,0,0,0,0,0,0,0,0,0,0,0,0,0,0,0,0,0,0,0,0,0,0,0,0,0,0,0,0,0,0,0,0,0,0,0,0,0,0,0,0,0,0,0,0,0,0,0,0,0,0,0,0,0,0,0,0,0,0,0,0,0,0,0,0,0,0,0,0,0,0,0,0,0,0,0,0,0,0,0,0,0,0,0,0,0,0,0,0,0,0,0,0,0,0,0,0,0,0,0,0,0,0,0,0,0,0,0,0,0,0,0,0,0,0,0,0,0,0,0,0,0,0,0,0,0,0,0,0,0,0,0,0,0,0,0,0,0,0,0,0,0,0,0,0,0,0,0,0,0,0,0,0,0,0,0,0,0,0,0,0,0,0,0,0,0,0,0,0,0,0,0,0,0,0,0,0,0,0,0,0,0,0,0,0,0,0,0,0,0,0,0,0,0,0,0,0,0,0,0,0,0,0,0,0,0,0,0,0,0,0,0,0,0,0,0,0,0,0,0,0,0,0,0,0,0,0,0,0,0,0,0,0,0,0,0,0,0,0,0,0,0,0,0,0,0,0,0,0,0,0,0,0,0,0,0,0,0,0,0,0,0,0,0,0,0,0,0,0,0,0,0,0,0,0,0,0,0,0,0,0,0,0,0,0,0,0,0,0,0,0,0,0,0,0,0,0,0,0,0,0,0,0,0,0,0,0,0,0,0,0,0,0,0,0,0,0,0,0,0,0,0,0,0,0,0,0,0,0,0,0,0,0,0,0,0,0,0,0,0,0,0,0,0,0,0,0,0,0,0,0,0,0,0,0,0,0,0,0,0,0,0,0,0,0,0,0,0,0,0,0,0,0,0,0,0,0,0,0,0,0,0,0,0,0,0,0,0,0,0,0,0,0,0,0,0,0,0,0,0,0,0,0,0,0,0,0,0]
[1,{"$f":"'8 Axle Loads Direction 1-SS'!B871","v":3},{"$f":"'8 Axle Loads Direction 1-SS'!C871","v":0},{"$f":"'8 Axle Loads Direction 1-SS'!D871","v":0},{"$f":"'8 Axle Loads Direction 1-SS'!E871","v":0},{"$f":"'8 Axle Loads Direction 1-SS'!F871","v":0},{"$f":"'8 Axle Loads Direction 1-SS'!G871","v":0},{"$f":"'8 Axle Loads Direction 1-SS'!H871","v":0},{"$f":"'8 Axle Loads Direction 1-SS'!I871","v":0},{"$f":"'8 Axle Loads Direction 1-SS'!J871","v":0},{"$f":"'8 Axle Loads Direction 1-SS'!K871","v":0},0,0,0,0,0,0,0,0,0,0,0,0,0,0,0,0,0,null,0,0,0,0,0,0,0,0,0,0,0,0,0,0,0,0,0,0,0,0,0,0,0,0,0,0,0,0,0,0,0,0,0,0,0,0,0,0,0,0,0,0,0,0,0,0,0,0,0,0,0,0,0,0,0,0,0,0,0,0,0,0,0,0,0,0,0,0,0,0,0,0,0,0,0,0,0,0,0,0,0,0,0,0,0,0,0,0,0,0,0,0,0,0,0,0,0,0,0,0,0,0,0,0,0,0,0,0,0,0,0,0,0,0,0,0,0,0,0,0,0,0,0,0,0,0,0,0,0,0,0,0,0,0,0,0,0,0,0,0,0,0,0,0,0,0,0,0,0,0,0,0,0,0,0,0,0,0,0,0,0,0,0,0,0,0,0,0,0,0,0,0,0,0,0,0,0,0,0,0,0,0,0,0,0,0,0,0,0,0,0,0,0,0,0,0,0,0,0,0,0,0,0,0,0,0,0,0,0,0,0,0,0,0,0,0,0,0,0,0,0,0,0,0,0,0,0,0,0,0,0,0,0,0,0,0,0,0,0,0,0,0,0,0,0,0,0,0,0,0,0,0,0,0,0,0,0,0,0,0,0,0,0,0,0,0,0,0,0,0,0,0,0,0,0,0,0,0,0,0,0,0,0,0,0,0,0,0,0,0,0,0,0,0,0,0,0,0,0,0,0,0,0,0,0,0,0,0,0,0,0,0,0,0,0,0,0,0,0,0,0,0,0,0,0,0,0,0,0,0,0,0,0,0,0,0,0,0,0,0,0,0,0,0,0,0,0,0,0,0,0,0,0,0,0,0,0,0,0,0,0,0,0,0,0,0,0,0,0,0,0,0,0,0,0,0,0,0,0,0,0,0,0,0,0,0,0,0,0,0,0,0,0,0,0,0,0,0,0,0,0,0,0,0,0,0,0,0,0,0,0,0,0,0,0,0,0,0,0,0,0,0,0,0,0,0,0,0,0,0,0,0,0,0,0,0,0,0,0,0,0,0,0,0,0,0,0,0,0,0,0,0,0,0,0,0,0,0,0,0,0,0,0,0,0,0,0,0,0,0,0,0,0,0,0,0,0,0,0,0,0,0,0,0,0,0,0,0,0,0,0,0,0,0,0,0,0,0,0,0,0,0,0,0,0,0,0,0,0,0,0,0,0,0,0,0,0,0,0,0,0,0,0,0,0,0,0,0,0,0]
[1,{"$f":"'8 Axle Loads Direction 1-SS'!B880","v":3},{"$f":"'8 Axle Loads Direction 1-SS'!C880","v":0},{"$f":"'8 Axle Loads Direction 1-SS'!D880","v":0},{"$f":"'8 Axle Loads Direction 1-SS'!E880","v":0},{"$f":"'8 Axle Loads Direction 1-SS'!F880","v":0},{"$f":"'8 Axle Loads Direction 1-SS'!G880","v":0},{"$f":"'8 Axle Loads Direction 1-SS'!H880","v":0},{"$f":"'8 Axle Loads Direction 1-SS'!I880","v":0},{"$f":"'8 Axle Loads Direction 1-SS'!J880","v":0},{"$f":"'8 Axle Loads Direction 1-SS'!K880","v":0},0,0,0,0,0,0,0,0,0,0,0,0,0,0,0,0,0,null,0,0,0,0,0,0,0,0,0,0,0,0,0,0,0,0,0,0,0,0,0,0,0,0,0,0,0,0,0,0,0,0,0,0,0,0,0,0,0,0,0,0,0,0,0,0,0,0,0,0,0,0,0,0,0,0,0,0,0,0,0,0,0,0,0,0,0,0,0,0,0,0,0,0,0,0,0,0,0,0,0,0,0,0,0,0,0,0,0,0,0,0,0,0,0,0,0,0,0,0,0,0,0,0,0,0,0,0,0,0,0,0,0,0,0,0,0,0,0,0,0,0,0,0,0,0,0,0,0,0,0,0,0,0,0,0,0,0,0,0,0,0,0,0,0,0,0,0,0,0,0,0,0,0,0,0,0,0,0,0,0,0,0,0,0,0,0,0,0,0,0,0,0,0,0,0,0,0,0,0,0,0,0,0,0,0,0,0,0,0,0,0,0,0,0,0,0,0,0,0,0,0,0,0,0,0,0,0,0,0,0,0,0,0,0,0,0,0,0,0,0,0,0,0,0,0,0,0,0,0,0,0,0,0,0,0,0,0,0,0,0,0,0,0,0,0,0,0,0,0,0,0,0,0,0,0,0,0,0,0,0,0,0,0,0,0,0,0,0,0,0,0,0,0,0,0,0,0,0,0,0,0,0,0,0,0,0,0,0,0,0,0,0,0,0,0,0,0,0,0,0,0,0,0,0,0,0,0,0,0,0,0,0,0,0,0,0,0,0,0,0,0,0,0,0,0,0,0,0,0,0,0,0,0,0,0,0,0,0,0,0,0,0,0,0,0,0,0,0,0,0,0,0,0,0,0,0,0,0,0,0,0,0,0,0,0,0,0,0,0,0,0,0,0,0,0,0,0,0,0,0,0,0,0,0,0,0,0,0,0,0,0,0,0,0,0,0,0,0,0,0,0,0,0,0,0,0,0,0,0,0,0,0,0,0,0,0,0,0,0,0,0,0,0,0,0,0,0,0,0,0,0,0,0,0,0,0,0,0,0,0,0,0,0,0,0,0,0,0,0,0,0,0,0,0,0,0,0,0,0,0,0,0,0,0,0,0,0,0,0,0,0,0,0,0,0,0,0,0,0,0,0,0,0,0,0,0,0,0,0,0,0,0,0,0,0,0,0,0,0,0,0,0,0,0,0,0,0,0,0,0,0,0,0,0,0,0,0,0,0,0,0,0,0,0,0,0,0,0,0]
[1,{"$f":"'8 Axle Loads Direction 1-SS'!B895","v":"3C"},{"$f":"'8 Axle Loads Direction 1-SS'!C895","v":0},{"$f":"'8 Axle Loads Direction 1-SS'!D895","v":0},{"$f":"'8 Axle Loads Direction 1-SS'!E895","v":0},{"$f":"'8 Axle Loads Direction 1-SS'!F895","v":0},{"$f":"'8 Axle Loads Direction 1-SS'!G895","v":0},{"$f":"'8 Axle Loads Direction 1-SS'!H895","v":0},{"$f":"'8 Axle Loads Direction 1-SS'!I895","v":0},{"$f":"'8 Axle Loads Direction 1-SS'!J895","v":0},{"$f":"'8 Axle Loads Direction 1-SS'!K895","v":0},0,0,0,0,0,0,0,0,0,0,0,0,0,0,0,0,0,null,0,0,0,0,0,0,0,0,0,0,0,0,0,0,0,0,0,0,0,0,0,0,0,0,0,0,0,0,0,0,0,0,0,0,0,0,0,0,0,0,0,0,0,0,0,0,0,0,0,0,0,0,0,0,0,0,0,0,0,0,0,0,0,0,0,0,0,0,0,0,0,0,0,0,0,0,0,0,0,0,0,0,0,0,0,0,0,0,0,0,0,0,0,0,0,0,0,0,0,0,0,0,0,0,0,0,0,0,0,0,0,0,0,0,0,0,0,0,0,0,0,0,0,0,0,0,0,0,0,0,0,0,0,0,0,0,0,0,0,0,0,0,0,0,0,0,0,0,0,0,0,0,0,0,0,0,0,0,0,0,0,0,0,0,0,0,0,0,0,0,0,0,0,0,0,0,0,0,0,0,0,0,0,0,0,0,0,0,0,0,0,0,0,0,0,0,0,0,0,0,0,0,0,0,0,0,0,0,0,0,0,0,0,0,0,0,0,0,0,0,0,0,0,0,0,0,0,0,0,0,0,0,0,0,0,0,0,0,0,0,0,0,0,0,0,0,0,0,0,0,0,0,0,0,0,0,0,0,0,0,0,0,0,0,0,0,0,0,0,0,0,0,0,0,0,0,0,0,0,0,0,0,0,0,0,0,0,0,0,0,0,0,0,0,0,0,0,0,0,0,0,0,0,0,0,0,0,0,0,0,0,0,0,0,0,0,0,0,0,0,0,0,0,0,0,0,0,0,0,0,0,0,0,0,0,0,0,0,0,0,0,0,0,0,0,0,0,0,0,0,0,0,0,0,0,0,0,0,0,0,0,0,0,0,0,0,0,0,0,0,0,0,0,0,0,0,0,0,0,0,0,0,0,0,0,0,0,0,0,0,0,0,0,0,0,0,0,0,0,0,0,0,0,0,0,0,0,0,0,0,0,0,0,0,0,0,0,0,0,0,0,0,0,0,0,0,0,0,0,0,0,0,0,0,0,0,0,0,0,0,0,0,0,0,0,0,0,0,0,0,0,0,0,0,0,0,0,0,0,0,0,0,0,0,0,0,0,0,0,0,0,0,0,0,0,0,0,0,0,0,0,0,0,0,0,0,0,0,0,0,0,0,0,0,0,0,0,0,0,0,0,0,0,0,0,0,0,0,0,0,0,0,0,0,0,0,0,0,0,0,0,0,0,0,0,0,0,0,0,0]
[1,{"$f":"'8 Axle Loads Direction 1-SS'!B904","v":9},{"$f":"'8 Axle Loads Direction 1-SS'!C904","v":0},{"$f":"'8 Axle Loads Direction 1-SS'!D904","v":0},{"$f":"'8 Axle Loads Direction 1-SS'!E904","v":0},{"$f":"'8 Axle Loads Direction 1-SS'!F904","v":0},{"$f":"'8 Axle Loads Direction 1-SS'!G904","v":0},{"$f":"'8 Axle Loads Direction 1-SS'!H904","v":0},{"$f":"'8 Axle Loads Direction 1-SS'!I904","v":0},{"$f":"'8 Axle Loads Direction 1-SS'!J904","v":0},{"$f":"'8 Axle Loads Direction 1-SS'!K904","v":0},0,0,0,0,0,0,0,0,0,0,0,0,0,0,0,0,0,null,0,0,0,0,0,0,0,0,0,0,0,0,0,0,0,0,0,0,0,0,0,0,0,0,0,0,0,0,0,0,0,0,0,0,0,0,0,0,0,0,0,0,0,0,0,0,0,0,0,0,0,0,0,0,0,0,0,0,0,0,0,0,0,0,0,0,0,0,0,0,0,0,0,0,0,0,0,0,0,0,0,0,0,0,0,0,0,0,0,0,0,0,0,0,0,0,0,0,0,0,0,0,0,0,0,0,0,0,0,0,0,0,0,0,0,0,0,0,0,0,0,0,0,0,0,0,0,0,0,0,0,0,0,0,0,0,0,0,0,0,0,0,0,0,0,0,0,0,0,0,0,0,0,0,0,0,0,0,0,0,0,0,0,0,0,0,0,0,0,0,0,0,0,0,0,0,0,0,0,0,0,0,0,0,0,0,0,0,0,0,0,0,0,0,0,0,0,0,0,0,0,0,0,0,0,0,0,0,0,0,0,0,0,0,0,0,0,0,0,0,0,0,0,0,0,0,0,0,0,0,0,0,0,0,0,0,0,0,0,0,0,0,0,0,0,0,0,0,0,0,0,0,0,0,0,0,0,0,0,0,0,0,0,0,0,0,0,0,0,0,0,0,0,0,0,0,0,0,0,0,0,0,0,0,0,0,0,0,0,0,0,0,0,0,0,0,0,0,0,0,0,0,0,0,0,0,0,0,0,0,0,0,0,0,0,0,0,0,0,0,0,0,0,0,0,0,0,0,0,0,0,0,0,0,0,0,0,0,0,0,0,0,0,0,0,0,0,0,0,0,0,0,0,0,0,0,0,0,0,0,0,0,0,0,0,0,0,0,0,0,0,0,0,0,0,0,0,0,0,0,0,0,0,0,0,0,0,0,0,0,0,0,0,0,0,0,0,0,0,0,0,0,0,0,0,0,0,0,0,0,0,0,0,0,0,0,0,0,0,0,0,0,0,0,0,0,0,0,0,0,0,0,0,0,0,0,0,0,0,0,0,0,0,0,0,0,0,0,0,0,0,0,0,0,0,0,0,0,0,0,0,0,0,0,0,0,0,0,0,0,0,0,0,0,0,0,0,0,0,0,0,0,0,0,0,0,0,0,0,0,0,0,0,0,0,0,0,0,0,0,0,0,0,0,0,0,0,0,0,0,0,0,0,0,0,0,0,0,0,0,0,0,0,0,0,0,0,0,0,0]
[1,{"$f":"'8 Axle Loads Direction 1-SS'!B927","v":9},{"$f":"'8 Axle Loads Direction 1-SS'!C927","v":4},{"$f":"'8 Axle Loads Direction 1-SS'!D927","v":4},{"$f":"'8 Axle Loads Direction 1-SS'!E927","v":6},{"$f":"'8 Axle Loads Direction 1-SS'!F927","v":6},{"$f":"'8 Axle Loads Direction 1-SS'!G927","v":7},{"$f":"'8 Axle Loads Direction 1-SS'!H927","v":7},{"$f":"'8 Axle Loads Direction 1-SS'!I927","v":7},{"$f":"'8 Axle Loads Direction 1-SS'!J927","v":7},{"$f":"'8 Axle Loads Direction 1-SS'!K927","v":8},4,0,0,0,10,0,13,14,15,0,0,0,0,0,0,0,0,null,0,0,0,40,0,0,0,0,0,0,0,0,0,0,0,0,0,0,0,0,0,0,0,0,0,0,0,0,0,0,0,0,0,0,0,0,0,0,0,0,0,0,0,0,0,0,0,0,0,0,0,0,0,0,0,0,0,0,0,0,0,0,0,0,0,0,0,0,0,0,0,0,0,0,0,0,0,0,0,0,0,0,0,0,0,0,0,0,0,0,0,0,0,0,0,0,0,0,0,0,0,0,0,0,0,0,0,0,0,0,0,0,0,0,0,0,0,0,0,0,0,0,0,0,0,0,0,0,0,100,0,0,0,0,0,0,0,0,0,0,0,0,0,0,0,0,0,0,0,0,0,0,0,0,0,0,0,0,0,0,0,0,0,0,0,0,0,0,0,0,0,0,0,0,0,0,0,0,0,0,0,0,0,0,0,0,0,0,0,0,0,0,130,0,0,0,0,0,0,0,0,0,0,0,0,0,0,0,0,0,0,0,0,0,0,0,0,0,0,0,0,0,0,140,0,0,0,0,0,0,0,0,0,0,0,0,0,0,0,0,0,0,0,0,0,0,0,0,0,0,0,0,0,0,150,0,0,0,0,0,0,0,0,0,0,0,0,0,0,0,0,0,0,0,0,0,0,0,0,0,0,0,0,0,0,0,0,0,0,0,0,0,0,0,0,0,0,0,0,0,0,0,0,0,0,0,0,0,0,0,0,0,0,0,0,0,0,0,0,0,0,0,0,0,0,0,0,0,0,0,0,0,0,0,0,0,0,0,0,0,0,0,0,0,0,0,0,0,0,0,0,0,0,0,0,0,0,0,0,0,0,0,0,0,0,0,0,0,0,0,0,0,0,0,0,0,0,0,0,0,0,0,0,0,0,0,0,0,0,0,0,0,0,0,0,0,0,0,0,0,0,0,0,0,0,0,0,0,0,0,0,0,0,0,0,0,0,0,0,0,0,0,0,0,0,0,0,0,0,0,0,0,0,0,0,0,0,0,0,0,0,0,0,0,0,0,0,0,0,0,0,0,0,0,0,0,0,0,0,0,0,0,0,0,0,0,0,0,0,0,0,0,0,0,0,0,0,0,0,0,0,0,0,0,0,0,0,0,0,0,0,0,0,0,0,0,0,0,0,0,0,0,0,0,0,0,0,0,0,0,0,0,0,0,0,0,0,0,0,0,0,0,0,0,0,0,0,0,0,0]
[1,{"$f":"'8 Axle Loads Direction 1-SS'!B942","v":3},{"$f":"'8 Axle Loads Direction 1-SS'!C942","v":0},{"$f":"'8 Axle Loads Direction 1-SS'!D942","v":0},{"$f":"'8 Axle Loads Direction 1-SS'!E942","v":0},{"$f":"'8 Axle Loads Direction 1-SS'!F942","v":0},{"$f":"'8 Axle Loads Direction 1-SS'!G942","v":0},{"$f":"'8 Axle Loads Direction 1-SS'!H942","v":0},{"$f":"'8 Axle Loads Direction 1-SS'!I942","v":0},{"$f":"'8 Axle Loads Direction 1-SS'!J942","v":0},{"$f":"'8 Axle Loads Direction 1-SS'!K942","v":0},0,0,0,0,0,0,0,0,0,0,0,0,0,0,0,0,0,null,0,0,0,0,0,0,0,0,0,0,0,0,0,0,0,0,0,0,0,0,0,0,0,0,0,0,0,0,0,0,0,0,0,0,0,0,0,0,0,0,0,0,0,0,0,0,0,0,0,0,0,0,0,0,0,0,0,0,0,0,0,0,0,0,0,0,0,0,0,0,0,0,0,0,0,0,0,0,0,0,0,0,0,0,0,0,0,0,0,0,0,0,0,0,0,0,0,0,0,0,0,0,0,0,0,0,0,0,0,0,0,0,0,0,0,0,0,0,0,0,0,0,0,0,0,0,0,0,0,0,0,0,0,0,0,0,0,0,0,0,0,0,0,0,0,0,0,0,0,0,0,0,0,0,0,0,0,0,0,0,0,0,0,0,0,0,0,0,0,0,0,0,0,0,0,0,0,0,0,0,0,0,0,0,0,0,0,0,0,0,0,0,0,0,0,0,0,0,0,0,0,0,0,0,0,0,0,0,0,0,0,0,0,0,0,0,0,0,0,0,0,0,0,0,0,0,0,0,0,0,0,0,0,0,0,0,0,0,0,0,0,0,0,0,0,0,0,0,0,0,0,0,0,0,0,0,0,0,0,0,0,0,0,0,0,0,0,0,0,0,0,0,0,0,0,0,0,0,0,0,0,0,0,0,0,0,0,0,0,0,0,0,0,0,0,0,0,0,0,0,0,0,0,0,0,0,0,0,0,0,0,0,0,0,0,0,0,0,0,0,0,0,0,0,0,0,0,0,0,0,0,0,0,0,0,0,0,0,0,0,0,0,0,0,0,0,0,0,0,0,0,0,0,0,0,0,0,0,0,0,0,0,0,0,0,0,0,0,0,0,0,0,0,0,0,0,0,0,0,0,0,0,0,0,0,0,0,0,0,0,0,0,0,0,0,0,0,0,0,0,0,0,0,0,0,0,0,0,0,0,0,0,0,0,0,0,0,0,0,0,0,0,0,0,0,0,0,0,0,0,0,0,0,0,0,0,0,0,0,0,0,0,0,0,0,0,0,0,0,0,0,0,0,0,0,0,0,0,0,0,0,0,0,0,0,0,0,0,0,0,0,0,0,0,0,0,0,0,0,0,0,0,0,0,0,0,0,0,0,0,0,0,0,0,0,0,0,0,0,0,0,0,0,0,0,0,0,0,0,0,0,0,0,0,0,0,0,0,0,0,0,0,0,0,0,0,0,0,0,0]
[1,{"$f":"'8 Axle Loads Direction 1-SS'!B953","v":3},{"$f":"'8 Axle Loads Direction 1-SS'!C953","v":0},{"$f":"'8 Axle Loads Direction 1-SS'!D953","v":0},{"$f":"'8 Axle Loads Direction 1-SS'!E953","v":0},{"$f":"'8 Axle Loads Direction 1-SS'!F953","v":0},{"$f":"'8 Axle Loads Direction 1-SS'!G953","v":0},{"$f":"'8 Axle Loads Direction 1-SS'!H953","v":0},{"$f":"'8 Axle Loads Direction 1-SS'!I953","v":0},{"$f":"'8 Axle Loads Direction 1-SS'!J953","v":0},{"$f":"'8 Axle Loads Direction 1-SS'!K953","v":0},0,0,0,0,0,0,0,0,0,0,0,0,0,0,0,0,0,null,0,0,0,0,0,0,0,0,0,0,0,0,0,0,0,0,0,0,0,0,0,0,0,0,0,0,0,0,0,0,0,0,0,0,0,0,0,0,0,0,0,0,0,0,0,0,0,0,0,0,0,0,0,0,0,0,0,0,0,0,0,0,0,0,0,0,0,0,0,0,0,0,0,0,0,0,0,0,0,0,0,0,0,0,0,0,0,0,0,0,0,0,0,0,0,0,0,0,0,0,0,0,0,0,0,0,0,0,0,0,0,0,0,0,0,0,0,0,0,0,0,0,0,0,0,0,0,0,0,0,0,0,0,0,0,0,0,0,0,0,0,0,0,0,0,0,0,0,0,0,0,0,0,0,0,0,0,0,0,0,0,0,0,0,0,0,0,0,0,0,0,0,0,0,0,0,0,0,0,0,0,0,0,0,0,0,0,0,0,0,0,0,0,0,0,0,0,0,0,0,0,0,0,0,0,0,0,0,0,0,0,0,0,0,0,0,0,0,0,0,0,0,0,0,0,0,0,0,0,0,0,0,0,0,0,0,0,0,0,0,0,0,0,0,0,0,0,0,0,0,0,0,0,0,0,0,0,0,0,0,0,0,0,0,0,0,0,0,0,0,0,0,0,0,0,0,0,0,0,0,0,0,0,0,0,0,0,0,0,0,0,0,0,0,0,0,0,0,0,0,0,0,0,0,0,0,0,0,0,0,0,0,0,0,0,0,0,0,0,0,0,0,0,0,0,0,0,0,0,0,0,0,0,0,0,0,0,0,0,0,0,0,0,0,0,0,0,0,0,0,0,0,0,0,0,0,0,0,0,0,0,0,0,0,0,0,0,0,0,0,0,0,0,0,0,0,0,0,0,0,0,0,0,0,0,0,0,0,0,0,0,0,0,0,0,0,0,0,0,0,0,0,0,0,0,0,0,0,0,0,0,0,0,0,0,0,0,0,0,0,0,0,0,0,0,0,0,0,0,0,0,0,0,0,0,0,0,0,0,0,0,0,0,0,0,0,0,0,0,0,0,0,0,0,0,0,0,0,0,0,0,0,0,0,0,0,0,0,0,0,0,0,0,0,0,0,0,0,0,0,0,0,0,0,0,0,0,0,0,0,0,0,0,0,0,0,0,0,0,0,0,0,0,0,0,0,0,0,0,0,0,0,0,0,0,0,0,0,0,0,0,0,0,0,0,0,0,0,0,0]
[1,{"$f":"'8 Axle Loads Direction 1-SS'!B974","v":3},{"$f":"'8 Axle Loads Direction 1-SS'!C974","v":0},{"$f":"'8 Axle Loads Direction 1-SS'!D974","v":0},{"$f":"'8 Axle Loads Direction 1-SS'!E974","v":0},{"$f":"'8 Axle Loads Direction 1-SS'!F974","v":0},{"$f":"'8 Axle Loads Direction 1-SS'!G974","v":0},{"$f":"'8 Axle Loads Direction 1-SS'!H974","v":0},{"$f":"'8 Axle Loads Direction 1-SS'!I974","v":0},{"$f":"'8 Axle Loads Direction 1-SS'!J974","v":0},{"$f":"'8 Axle Loads Direction 1-SS'!K974","v":0},0,0,0,0,0,0,0,0,0,0,0,0,0,0,0,0,0,null,0,0,0,0,0,0,0,0,0,0,0,0,0,0,0,0,0,0,0,0,0,0,0,0,0,0,0,0,0,0,0,0,0,0,0,0,0,0,0,0,0,0,0,0,0,0,0,0,0,0,0,0,0,0,0,0,0,0,0,0,0,0,0,0,0,0,0,0,0,0,0,0,0,0,0,0,0,0,0,0,0,0,0,0,0,0,0,0,0,0,0,0,0,0,0,0,0,0,0,0,0,0,0,0,0,0,0,0,0,0,0,0,0,0,0,0,0,0,0,0,0,0,0,0,0,0,0,0,0,0,0,0,0,0,0,0,0,0,0,0,0,0,0,0,0,0,0,0,0,0,0,0,0,0,0,0,0,0,0,0,0,0,0,0,0,0,0,0,0,0,0,0,0,0,0,0,0,0,0,0,0,0,0,0,0,0,0,0,0,0,0,0,0,0,0,0,0,0,0,0,0,0,0,0,0,0,0,0,0,0,0,0,0,0,0,0,0,0,0,0,0,0,0,0,0,0,0,0,0,0,0,0,0,0,0,0,0,0,0,0,0,0,0,0,0,0,0,0,0,0,0,0,0,0,0,0,0,0,0,0,0,0,0,0,0,0,0,0,0,0,0,0,0,0,0,0,0,0,0,0,0,0,0,0,0,0,0,0,0,0,0,0,0,0,0,0,0,0,0,0,0,0,0,0,0,0,0,0,0,0,0,0,0,0,0,0,0,0,0,0,0,0,0,0,0,0,0,0,0,0,0,0,0,0,0,0,0,0,0,0,0,0,0,0,0,0,0,0,0,0,0,0,0,0,0,0,0,0,0,0,0,0,0,0,0,0,0,0,0,0,0,0,0,0,0,0,0,0,0,0,0,0,0,0,0,0,0,0,0,0,0,0,0,0,0,0,0,0,0,0,0,0,0,0,0,0,0,0,0,0,0,0,0,0,0,0,0,0,0,0,0,0,0,0,0,0,0,0,0,0,0,0,0,0,0,0,0,0,0,0,0,0,0,0,0,0,0,0,0,0,0,0,0,0,0,0,0,0,0,0,0,0,0,0,0,0,0,0,0,0,0,0,0,0,0,0,0,0,0,0,0,0,0,0,0,0,0,0,0,0,0,0,0,0,0,0,0,0,0,0,0,0,0,0,0,0,0,0,0,0,0,0,0,0,0,0,0,0,0,0,0,0,0,0,0,0,0,0,0,0]
[1,{"$f":"'8 Axle Loads Direction 1-SS'!B989","v":3},{"$f":"'8 Axle Loads Direction 1-SS'!C989","v":0},{"$f":"'8 Axle Loads Direction 1-SS'!D989","v":0},{"$f":"'8 Axle Loads Direction 1-SS'!E989","v":0},{"$f":"'8 Axle Loads Direction 1-SS'!F989","v":0},{"$f":"'8 Axle Loads Direction 1-SS'!G989","v":0},{"$f":"'8 Axle Loads Direction 1-SS'!H989","v":0},{"$f":"'8 Axle Loads Direction 1-SS'!I989","v":0},{"$f":"'8 Axle Loads Direction 1-SS'!J989","v":0},{"$f":"'8 Axle Loads Direction 1-SS'!K989","v":0},0,0,0,0,0,0,0,0,0,0,0,0,0,0,0,0,0,null,0,0,0,0,0,0,0,0,0,0,0,0,0,0,0,0,0,0,0,0,0,0,0,0,0,0,0,0,0,0,0,0,0,0,0,0,0,0,0,0,0,0,0,0,0,0,0,0,0,0,0,0,0,0,0,0,0,0,0,0,0,0,0,0,0,0,0,0,0,0,0,0,0,0,0,0,0,0,0,0,0,0,0,0,0,0,0,0,0,0,0,0,0,0,0,0,0,0,0,0,0,0,0,0,0,0,0,0,0,0,0,0,0,0,0,0,0,0,0,0,0,0,0,0,0,0,0,0,0,0,0,0,0,0,0,0,0,0,0,0,0,0,0,0,0,0,0,0,0,0,0,0,0,0,0,0,0,0,0,0,0,0,0,0,0,0,0,0,0,0,0,0,0,0,0,0,0,0,0,0,0,0,0,0,0,0,0,0,0,0,0,0,0,0,0,0,0,0,0,0,0,0,0,0,0,0,0,0,0,0,0,0,0,0,0,0,0,0,0,0,0,0,0,0,0,0,0,0,0,0,0,0,0,0,0,0,0,0,0,0,0,0,0,0,0,0,0,0,0,0,0,0,0,0,0,0,0,0,0,0,0,0,0,0,0,0,0,0,0,0,0,0,0,0,0,0,0,0,0,0,0,0,0,0,0,0,0,0,0,0,0,0,0,0,0,0,0,0,0,0,0,0,0,0,0,0,0,0,0,0,0,0,0,0,0,0,0,0,0,0,0,0,0,0,0,0,0,0,0,0,0,0,0,0,0,0,0,0,0,0,0,0,0,0,0,0,0,0,0,0,0,0,0,0,0,0,0,0,0,0,0,0,0,0,0,0,0,0,0,0,0,0,0,0,0,0,0,0,0,0,0,0,0,0,0,0,0,0,0,0,0,0,0,0,0,0,0,0,0,0,0,0,0,0,0,0,0,0,0,0,0,0,0,0,0,0,0,0,0,0,0,0,0,0,0,0,0,0,0,0,0,0,0,0,0,0,0,0,0,0,0,0,0,0,0,0,0,0,0,0,0,0,0,0,0,0,0,0,0,0,0,0,0,0,0,0,0,0,0,0,0,0,0,0,0,0,0,0,0,0,0,0,0,0,0,0,0,0,0,0,0,0,0,0,0,0,0,0,0,0,0,0,0,0,0,0,0,0,0,0,0,0,0,0,0,0,0,0,0,0,0,0,0,0,0,0,0,0,0,0]
[1,{"$f":"'8 Axle Loads Direction 1-SS'!B1002","v":7},{"$f":"'8 Axle Loads Direction 1-SS'!C1002","v":0},{"$f":"'8 Axle Loads Direction 1-SS'!D1002","v":0},{"$f":"'8 Axle Loads Direction 1-SS'!E1002","v":0},{"$f":"'8 Axle Loads Direction 1-SS'!F1002","v":0},{"$f":"'8 Axle Loads Direction 1-SS'!G1002","v":0},{"$f":"'8 Axle Loads Direction 1-SS'!H1002","v":0},{"$f":"'8 Axle Loads Direction 1-SS'!I1002","v":0},{"$f":"'8 Axle Loads Direction 1-SS'!J1002","v":0},{"$f":"'8 Axle Loads Direction 1-SS'!K1002","v":0},0,0,0,0,0,0,0,0,0,0,0,0,0,0,0,0,0,null,0,0,0,0,0,0,0,0,0,0,0,0,0,0,0,0,0,0,0,0,0,0,0,0,0,0,0,0,0,0,0,0,0,0,0,0,0,0,0,0,0,0,0,0,0,0,0,0,0,0,0,0,0,0,0,0,0,0,0,0,0,0,0,0,0,0,0,0,0,0,0,0,0,0,0,0,0,0,0,0,0,0,0,0,0,0,0,0,0,0,0,0,0,0,0,0,0,0,0,0,0,0,0,0,0,0,0,0,0,0,0,0,0,0,0,0,0,0,0,0,0,0,0,0,0,0,0,0,0,0,0,0,0,0,0,0,0,0,0,0,0,0,0,0,0,0,0,0,0,0,0,0,0,0,0,0,0,0,0,0,0,0,0,0,0,0,0,0,0,0,0,0,0,0,0,0,0,0,0,0,0,0,0,0,0,0,0,0,0,0,0,0,0,0,0,0,0,0,0,0,0,0,0,0,0,0,0,0,0,0,0,0,0,0,0,0,0,0,0,0,0,0,0,0,0,0,0,0,0,0,0,0,0,0,0,0,0,0,0,0,0,0,0,0,0,0,0,0,0,0,0,0,0,0,0,0,0,0,0,0,0,0,0,0,0,0,0,0,0,0,0,0,0,0,0,0,0,0,0,0,0,0,0,0,0,0,0,0,0,0,0,0,0,0,0,0,0,0,0,0,0,0,0,0,0,0,0,0,0,0,0,0,0,0,0,0,0,0,0,0,0,0,0,0,0,0,0,0,0,0,0,0,0,0,0,0,0,0,0,0,0,0,0,0,0,0,0,0,0,0,0,0,0,0,0,0,0,0,0,0,0,0,0,0,0,0,0,0,0,0,0,0,0,0,0,0,0,0,0,0,0,0,0,0,0,0,0,0,0,0,0,0,0,0,0,0,0,0,0,0,0,0,0,0,0,0,0,0,0,0,0,0,0,0,0,0,0,0,0,0,0,0,0,0,0,0,0,0,0,0,0,0,0,0,0,0,0,0,0,0,0,0,0,0,0,0,0,0,0,0,0,0,0,0,0,0,0,0,0,0,0,0,0,0,0,0,0,0,0,0,0,0,0,0,0,0,0,0,0,0,0,0,0,0,0,0,0,0,0,0,0,0,0,0,0,0,0,0,0,0,0,0,0,0,0,0,0,0,0,0,0,0,0,0,0,0,0,0,0,0,0,0,0,0,0,0,0,0,0,0]
[null,3,"SAST","TADT",null,null,null,null,null,null,null,{"$f":"IFERROR(AVERAGEIF($B$5:$B$1005,B1012,$AT$5:$AT$1005),0)","v":0}]
[null,"3B","SAST","SADT","SADT",null,null,null,null,null,null,0]
[null,4,"SAST","SAST","TADT",null,null,null,null,null,null,0]
[null,5,"SAST","TADT",null,"TADT",null,null,null,null,null,0]
[null,"5B","SAST","TADT",null,"TAST",null,null,null,null,null,0]
[null,"5C","SAST","SADT","TRDT",null,null,null,null,null,null,0]
[null,"5D","SAST","SADT","TRST",null,null,null,null,null,null,0]
[null,6,"SAST","TADT",null,"TRDT",null,null,null,null,null,0]
[null,"6B","SAST","TADT",null,"TRST",null,null,null,null,null,{"$f":"IFERROR(AVERAGEIF($B$5:$B$1005,B1020,$AT$5:$AT$1005),0)","v":0}]
[null,"6C","SAST","TAST",null,"TRST",null,null,null,null,null,0]
[null,7,"SAST","TADT",null,"TADT",null,"TADT",null,null,null,0]
[null,"7B","SAST","TADT",null,"TAST",null,"TAST",null,null,null,{"$f":"IFERROR(AVERAGEIF($B$5:$B$1005,B1023,$AT$5:$AT$1005),0)","v":0}]
[null,"7C","SAST","TAST",null,"TAST",null,"TAST",null,null,null,0]
[null,9,"SAST","TADT",null,"TADT",null,"TADT",null,"TADT",null,0]
[null,"9B","SAST","TADT",null,"TAST",null,"TAST",null,"TAST",null,0]

{"sheet":"17 Axle Loads Concrete Dir-2","index":18,"n_rows":1026,"n_cols":579,"rows_kept":139,"cut":true,"hidden":true,"merged":[[1022,3,1022,4],[1022,5,1022,6],[1022,7,1022,8],[2,89,2,118],[1,2,1,10],[2,5,3,5],[2,6,3,6],[2,7,3,7],[2,8,3,8],[1006,11,1006,12],[1006,13,1006,14],[1006,15,1006,19],[1006,20,1006,23],[1011,3,1011,4],[1006,26,1006,27],[1016,4,1016,6],[2,0,3,0],[2,1,3,1],[2,2,3,2],[2,3,3,3],[2,4,3,4],[2,573,2,575],[2,576,2,578],[2,299,2,328],[2,329,2,358],[2,359,2,388],[2,389,2,418],[2,419,2,453],[2,489,2,523],[2,561,2,563],[2,564,2,566],[2,567,2,569],[2,570,2,572],[2,454,2,488],[2,524,2,558],[1017,4,1017,6],[2,269,2,298],[2,9,3,9],[2,10,3,10],[2,11,2,27],[2,29,2,58],[2,59,2,88],[2,119,2,148],[2,149,2,178],[2,179,2,208],[2,209,2,238],[2,239,2,268],[1006,24,1006,25],[1013,4,1013,5],[1014,3,1014,4],[1014,5,1014,6],[1020,5,1020,7],[1021,3,1021,4],[1021,5,1021,6],[1021,7,1021,8],[1019,3,1019,4],[1019,5,1019,7],[1015,3,1015,4],[1015,5,1015,6],[1024,9,1024,10],[1025,3,1025,4],[1025,5,1025,6],[1025,7,1025,8],[1025,9,1025,10],[1023,3,1023,4],[1023,5,1023,6],[1023,7,1023,8],[1024,3,1024,4],[1024,5,1024,6],[1024,7,1024,8],[1018,3,1018,4],[1018,5,1018,7],[1020,3,1020,4]],"bounds":{"rows_first":62,"rows_last":15,"rows_between":62,"halvings":5}}
["Computation of design axle loading from axle load survey data"]
[null,null,"Axle Load (tonnes)"]
["Direction","Vehicle Class","Axle 1","Axle 2","Axle 3 ","Axle 4 ","Axle 5","Axle 6","Axle 7","Axle 8","Axle 9","HVAGs Loads (tonnes)",null,null,null,null,null,null,null,null,null,null,null,null,null,null,null,null,null,"SAST1 Axle Loads (kN)",null,null,null,null,null,null,null,null,null,null,null,null,null,null,null,null,null,null,null,null,null,null,null,null,null,null,null,null,null,"SAST2 Axle Loads (kN)",null,null,null,null,null,null,null,null,null,null,null,null,null,null,null,null,null,null,null,null,null,null,null,null,null,null,null,null,null,"SADT1 Axle Loads (kN)",null,null,null,null,null,null,null,null,null,null,null,null,null,null,null,null,null,null,null,null,null,null,null,null,null,null,null,null,null,"SADT2 Axle Loads (kN)",null,null,null,null,null,null,null,null,null,null,null,null,null,null,null,null,null,null,null,null,null,null,null,null,null,null,null,null,null,"TADT1 Axle Loads (kN)",null,null,null,null,null,null,null,null,null,null,null,null,null,null,null,null,null,null,null,null,null,null,null,null,null,null,null,null,null,"TADT2 Axle Loads (kN)",null,null,null,null,null,null,null,null,null,null,null,null,null,null,null,null,null,null,null,null,null,null,null,null,null,null,null,null,null,"TADT3 Axle Loads (kN)",null,null,null,null,null,null,null,null,null,null,null,null,null,null,null,null,null,null,null,null,null,null,null,null,null,null,null,null,null,"TADT4 Axle Loads (kN)",null,null,null,null,null,null,null,null,null,null,null,null,null,null,null,null,null,null,null,null,null,null,null,null,null,null,null,null,null,"TADT5 Axle Loads (kN)",null,null,null,null,null,null,null,null,null,null,null,null,null,null,null,null,null,null,null,null,null,null,null,null,null,null,null,null,null,"TAST1 Axle Loads (kN)",null,null,null,null,null,null,null,null,null,null,null,null,null,null,null,null,null,null,null,null,null,null,null,null,null,null,null,null,null,"TAST2 Axle Loads (kN)",null,null,null,null,null,null,null,null,null,null,null,null,null,null,null,null,null,null,null,null,null,null,null,null,null,null,null,null,null,"TAST3 Axle Loads (kN)",null,null,null,null,null,null,null,null,null,null,null,null,null,null,null,null,null,null,null,null,null,null,null,null,null,null,null,null,null,"TAST4 Axle Loads (kN)",null,null,null,null,null,null,null,null,null,null,null,null,null,null,null,null,null,null,null,null,null,null,null,null,null,null,null,null,null,"TRDT1 Axle Loads (kN)",null,null,null,null,null,null,null,null,null,null,null,null,null,null,null,null,null,null,null,null,null,null,null,null,null,null,null,null,null,null,null,null,null,null,"TRDT2 Axle Loads (kN)",null,null,null,null,null,null,null,null,null,null,null,null,null,null,null,null,null,null,null,null,null,null,null,null,null,null,null,null,null,null,null,null,null,null,"TRST1 Axle Loads (kN)",null,null,null,null,null,null,null,null,null,null,null,null,null,null,null,null,null,null,null,null,null,null,null,null,null,null,null,null,null,null,null,null,null,null,"TRST2 Axle Loads (kN)",null,null,null,null,null,null,null,null,null,null,null,null,null,null,null,null,null,null,null,null,null,null,null,null,null,null,null,null,null,null,null,null,null,null,null,null,"SAST",null,null,"SADT",null,null,"TAST",null,null,"TADT",null,null,"TRDT",null,null,"TRST"]
[null,null,null,null,null,null,null,null,null,null,null,"SAST1","SAST2","SADT1","SADT2","TADT1","TADT2","TADT3","TADT4","TADT5","TAST1","TAST2","TAST3","TAST4","TRDT1","TRDT2","TRST1","TRST2",null,10,20,30,40,50,60,70,80,90,100,110,120,130,140,150,160,170,180,190,200,210,220,230,240,250,260,270,280,290,300,10,20,30,40,50,60,70,80,90,100,110,120,130,140,150,160,170,180,190,200,210,220,230,240,250,260,270,280,290,300,10,20,30,40,50,60,70,80,90,100,110,120,130,140,150,160,170,180,190,200,210,220,230,240,250,260,270,280,290,300,10,20,30,40,50,60,70,80,90,100,110,120,130,140,150,160,170,180,190,200,210,220,230,240,250,260,270,280,290,300,10,20,30,40,50,60,70,80,90,100,110,120,130,140,150,160,170,180,190,200,210,220,230,240,250,260,270,280,290,300,10,20,30,40,50,60,70,80,90,100,110,120,130,140,150,160,170,180,190,200,210,220,230,240,250,260,270,280,290,300,10,20,30,40,50,60,70,80,90,100,110,120,130,140,150,160,170,180,190,200,210,220,230,240,250,260,270,280,290,300,10,20,30,40,50,60,70,80,90,100,110,120,130,140,150,160,170,180,190,200,210,220,230,240,250,260,270,280,290,300,10,20,30,40,50,60,70,80,90,100,110,120,130,140,150,160,170,180,190,200,210,220,230,240,250,260,270,280,290,300,10,20,30,40,50,60,70,80,90,100,110,120,130,140,150,160,170,180,190,200,210,220,230,240,250,260,270,280,290,300,10,20,30,40,50,60,70,80,90,100,110,120,130,140,150,160,170,180,190,200,210,220,230,240,250,260,270,280,290,300,10,20,30,40,50,60,70,80,90,100,110,120,130,140,150,160,170,180,190,200,210,220,230,240,250,260,270,280,290,300,10,20,30,40,50,60,70,80,90,100,110,120,130,140,150,160,170,180,190,200,210,220,230,240,250,260,270,280,290,300,10,20,30,40,50,60,70,80,90,100,110,120,130,140,150,160,170,180,190,200,210,220,230,240,250,260,270,280,290,300,310,320,330,340,350,10,20,30,40,50,60,70,80,90,100,110,120,130,140,150,160,170,180,190,200,210,220,230,240,250,260,270,280,290,300,310,320,330,340,350,10,20,30,40,50,60,70,80,90,100,110,120,130,140,150,160,170,180,190,200,210,220,230,240,250,260,270,280,290,300,310,320,330,340,350,10,20,30,40,50,60,70,80,90,100,110,120,130,140,150,160,170,180,190,200,210,220,230,240,250,260,270,280,290,300,310,320,330,340,350,null,null,"Load (kN)","Sum of Loads","Proportion of Loads (%)","Load (kN)","Sum of Loads","Proportion of Loads (%)","Load (kN)","Sum of Loads","Proportion of Loads (%)","Load (kN)","Sum of Loads","Proportion of Loads (%)","Load (kN)","Sum of Loads","Proportion of Loads (%)","Load (kN)","Sum of Loads","Proportion of Loads (%/100)"]
[2,{"$f":"'11 Axle Loads Direction 2-SS'!B5","v":3},{"$f":"'11 Axle Loads Direction 2-SS'!C5","v":7},{"$f":"'11 Axle Loads Direction 2-SS'!D5","v":6},{"$f":"'11 Axle Loads Direction 2-SS'!E5","v":6},{"$f":"'11 Axle Loads Direction 2-SS'!F5","v":0},{"$f":"'11 Axle Loads Direction 2-SS'!G5","v":0},{"$f":"'11 Axle Loads Direction 2-SS'!H5","v":0},{"$f":"'11 Axle Loads Direction 2-SS'!I5","v":0},{"$f":"'11 Axle Loads Direction 2-SS'!J5","v":0},{"$f":"'11 Axle Loads Direction 2-SS'!K5","v":0},{"$f":"C5","v":7},{"$f":"IF(B5=4,D5,0)","v":0},{"$f":"IF(OR(B5=2,B5=\"3B\",B5=\"5C\",B5=\"5D\"),D5,0)","v":0},{"$f":"IF(B5=\"3B\",E5,0)","v":0},{"$f":"IF(OR(B5=3,B5=5,B5=\"5B\",B5=6,B5=\"6B\",B5=7,B5=\"7B\",B5=9,B5=\"9B\"),D5+E5,0)","v":12},{"$f":"IF(B5=4,E5+F5,0)","v":0},{"$f":"IF(OR(B5=5,B5=7,B5=9),F5+G5,0)","v":0},{"$f":"IF(OR(B5=7,B5=9),H5+I5,0)","v":0},{"$f":"IF(B5=9,J5+K5,0)","v":0},{"$f":"IF(OR(B5=\"6C\",B5=\"7C\"),D5+E5,0)","v":0},{"$f":"IF(B5=\"4B\",F5+G5,0)","v":0},{"$f":"IF(OR(B5=\"7B\",B5=\"7C\",B5=\"9B\"),H5+I5,0)","v":0},{"$f":"IF(OR(B5=\"9B\"),J5+K5,0)","v":0},{"$f":"IF((B5=\"5C\"),E5+F5+G5,0)","v":0},{"$f":"IF(B5=6,F5+G5+H5,0)","v":0},{"$f":"IF((B5=\"5D\"),E5+F5+G5,0)","v":0},{"$f":"IF(OR(B5=\"6B\",B5=\"6C\"),F5+G5+H5,0)","v":0},null,{"$f":"IF($L5<=1,$L5*10,0)","v":0},{"$f":"IF(AND($L5>1,$L5<=2),$L5*10,0)","v":0},{"$f":"IF(AND($L5>2,$L5<=3),$L5*10,0)","v":0},{"$f":"IF(AND($L5>3,$L5<=4),$L5*10,0)","v":0},{"$f":"IF(AND($L5>4,$L5<=5),$L5*10,0)","v":0},{"$f":"IF(AND($L5>5,$L5<=6),$L5*10,0)","v":0},{"$f":"IF(AND($L5>6,$L5<=7),$L5*10,0)","v":70},{"$f":"IF(AND($L5>7,$L5<=8),$L5*10,0)","v":0},{"$f":"IF(AND($L5>8,$L5<=9),$L5*10,0)","v":0},{"$f":"IF(AND($L5>9,$L5<=10),$L5*10,0)","v":0},{"$f":"IF(AND($L5>10,$L5<=11),$L5*10,0)","v":0},{"$f":"IF(AND($L5>11,$L5<=12),$L5*10,0)","v":0},{"$f":"IF(AND($L5>12,$L5<=13),$L5*10,0)","v":0},{"$f":"IF(AND($L5>13,$L5<=14),$L5*10,0)","v":0},{"$f":"IF(AND($L5>14,$L5<=15),$L5*10,0)","v":0},{"$f":"IF(AND($L5>15,$L5<=16),$L5*10,0)","v":0},{"$f":"IF(AND($L5>16,$L5<=17),$L5*10,0)","v":0},{"$f":"IF(AND($L5>17,$L5<=18),$L5*10,0)","v":0},{"$f":"IF(AND($L5>18,$L5<=19),$L5*10,0)","v":0},{"$f":"IF(AND($L5>19,$L5<=20),$L5*10,0)","v":0},{"$f":"IF(AND($L5>20,$L5<=21),$L5*10,0)","v":0},{"$f":"IF(AND($L5>21,$L5<=22),$L5*10,0)","v":0},{"$f":"IF(AND($L5>22,$L5<=23),$L5*10,0)","v":0},{"$f":"IF(AND($L5>23,$L5<=24),$L5*10,0)","v":0},{"$f":"IF(AND($L5>24,$L5<=25),$L5*10,0)","v":0},{"$f":"IF(AND($L5>25,$L5<=26),$L5*10,0)","v":0},{"$f":"IF(AND($L5>26,$L5<=27),$L5*10,0)","v":0},{"$f":"IF(AND($L5>27,$L5<=28),$L5*10,0)","v":0},{"$f":"IF(AND($L5>28,$L5<=29),$L5*10,0)","v":0},{"$f":"IF(AND($L5>29,$L5<=30),$L5*10,0)","v":0},{"$f":"IF($M5<=1,$M5*10,0)","v":0},{"$f":"IF(AND($M5>1,$M5<=2),$M5*10,0)","v":0},{"$f":"IF(AND($M5>2,$M5<=3),$M5*10,0)","v":0},{"$f":"IF(AND($M5>3,$M5<=4),$M5*10,0)","v":0},{"$f":"IF(AND($M5>4,$M5<=5),$M5*10,0)","v":0},{"$f":"IF(AND($M5>5,$M5<=6),$M5*10,0)","v":0},{"$f":"IF(AND($M5>6,$M5<=7),$M5*10,0)","v":0},{"$f":"IF(AND($M5>7,$M5<=8),$M5*10,0)","v":0},{"$f":"IF(AND($M5>8,$M5<=9),$M5*10,0)","v":0},{"$f":"IF(AND($M5>9,$M5<=10),$M5*10,0)","v":0},{"$f":"IF(AND($M5>10,$M5<=11),$M5*10,0)","v":0},{"$f":"IF(AND($M5>11,$M5<=12),$M5*10,0)","v":0},{"$f":"IF(AND($M5>12,$M5<=13),$M5*10,0)","v":0},{"$f":"IF(AND($M5>13,$M5<=14),$M5*10,0)","v":0},{"$f":"IF(AND($M5>14,$M5<=15),$M5*10,0)","v":0},{"$f":"IF(AND($M5>15,$M5<=16),$M5*10,0)","v":0},{"$f":"IF(AND($M5>16,$M5<=17),$M5*10,0)","v":0},{"$f":"IF(AND($M5>17,$M5<=18),$M5*10,0)","v":0},{"$f":"IF(AND($M5>18,$M5<=19),$M5*10,0)","v":0},{"$f":"IF(AND($M5>19,$M5<=20),$M5*10,0)","v":0},{"$f":"IF(AND($M5>20,$M5<=21),$M5*10,0)","v":0},{"$f":"IF(AND($M5>21,$M5<=22),$M5*10,0)","v":0},{"$f":"IF(AND($M5>22,$M5<=23),$M5*10,0)","v":0},{"$f":"IF(AND($M5>23,$M5<=24),$M5*10,0)","v":0},{"$f":"IF(AND($M5>24,$M5<=25),$M5*10,0)","v":0},{"$f":"IF(AND($M5>25,$M5<=26),$M5*10,0)","v":0},{"$f":"IF(AND($M5>26,$M5<=27),$M5*10,0)","v":0},{"$f":"IF(AND($M5>27,$M5<=28),$M5*10,0)","v":0},{"$f":"IF(AND($M5>28,$M5<=29),$M5*10,0)","v":0},{"$f":"IF(AND($M5>29,$M5<=30),$M5*10,0)","v":0},{"$f":"IF($N5<=1,$N5*10,0)","v":0},{"$f":"IF(AND($N5>1,$N5<=2),$N5*10,0)","v":0},{"$f":"IF(AND($N5>2,$N5<=3),$N5*10,0)","v":0},{"$f":"IF(AND($N5>3,$N5<=4),$N5*10,0)","v":0},{"$f":"IF(AND($N5>4,$N5<=5),$N5*10,0)","v":0},{"$f":"IF(AND($N5>5,$N5<=6),$N5*10,0)","v":0},{"$f":"IF(AND($N5>6,$N5<=7),$N5*10,0)","v":0},{"$f":"IF(AND($N5>7,$N5<=8),$N5*10,0)","v":0},{"$f":"IF(AND($N5>8,$N5<=9),$N5*10,0)","v":0},{"$f":"IF(AND($N5>9,$N5<=10),$N5*10,0)","v":0},{"$f":"IF(AND($N5>10,$N5<=11),$N5*10,0)","v":0},{"$f":"IF(AND($N5>11,$N5<=12),$N5*10,0)","v":0},{"$f":"IF(AND($N5>12,$N5<=13),$N5*10,0)","v":0},{"$f":"IF(AND($N5>13,$N5<=14),$N5*10,0)","v":0},{"$f":"IF(AND($N5>14,$N5<=15),$N5*10,0)","v":0},{"$f":"IF(AND($N5>15,$N5<=16),$N5*10,0)","v":0},{"$f":"IF(AND($N5>16,$N5<=17),$N5*10,0)","v":0},{"$f":"IF(AND($N5>17,$N5<=18),$N5*10,0)","v":0},{"$f":"IF(AND($N5>18,$N5<=19),$N5*10,0)","v":0},{"$f":"IF(AND($N5>19,$N5<=20),$N5*10,0)","v":0},{"$f":"IF(AND($N5>20,$N5<=21),$N5*10,0)","v":0},{"$f":"IF(AND($N5>21,$N5<=22),$N5*10,0)","v":0},{"$f":"IF(AND($N5>22,$N5<=23),$N5*10,0)","v":0},{"$f":"IF(AND($N5>23,$N5<=24),$N5*10,0)","v":0},{"$f":"IF(AND($N5>24,$N5<=25),$N5*10,0)","v":0},{"$f":"IF(AND($N5>25,$N5<=26),$N5*10,0)","v":0},{"$f":"IF(AND($N5>26,$N5<=27),$N5*10,0)","v":0},{"$f":"IF(AND($N5>27,$N5<=28),$N5*10,0)","v":0},{"$f":"IF(AND($N5>28,$N5<=29),$N5*10,0)","v":0},{"$f":"IF(AND($N5>29,$N5<=30),$N5*10,0)","v":0},{"$f":"IF($O5<=1,$O5*10,0)","v":0},{"$f":"IF(AND($O5>1,$O5<=2),$O5*10,0)","v":0},{"$f":"IF(AND($O5>2,$O5<=3),$O5*10,0)","v":0},{"$f":"IF(AND($O5>3,$O5<=4),$O5*10,0)","v":0},{"$f":"IF(AND($O5>4,$O5<=5),$O5*10,0)","v":0},{"$f":"IF(AND($O5>5,$O5<=6),$O5*10,0)","v":0},{"$f":"IF(AND($O5>6,$O5<=7),$O5*10,0)","v":0},{"$f":"IF(AND($O5>7,$O5<=8),$O5*10,0)","v":0},{"$f":"IF(AND($O5>8,$O5<=9),$O5*10,0)","v":0},{"$f":"IF(AND($O5>9,$O5<=10),$O5*10,0)","v":0},{"$f":"IF(AND($O5>10,$O5<=11),$O5*10,0)","v":0},{"$f":"IF(AND($O5>11,$O5<=12),$O5*10,0)","v":0},{"$f":"IF(AND($O5>12,$O5<=13),$O5*10,0)","v":0},{"$f":"IF(AND($O5>13,$O5<=14),$O5*10,0)","v":0},{"$f":"IF(AND($O5>14,$O5<=15),$O5*10,0)","v":0},{"$f":"IF(AND($O5>15,$O5<=16),$O5*10,0)","v":0},{"$f":"IF(AND($O5>16,$O5<=17),$O5*10,0)","v":0},{"$f":"IF(AND($O5>17,$O5<=18),$O5*10,0)","v":0},{"$f":"IF(AND($O5>18,$O5<=19),$O5*10,0)","v":0},{"$f":"IF(AND($O5>19,$O5<=20),$O5*10,0)","v":0},{"$f":"IF(AND($O5>20,$O5<=21),$O5*10,0)","v":0},{"$f":"IF(AND($O5>21,$O5<=22),$O5*10,0)","v":0},{"$f":"IF(AND($O5>22,$O5<=23),$O5*10,0)","v":0},{"$f":"IF(AND($O5>23,$O5<=24),$O5*10,0)","v":0},{"$f":"IF(AND($O5>24,$O5<=25),$O5*10,0)","v":0},{"$f":"IF(AND($O5>25,$O5<=26),$O5*10,0)","v":0},{"$f":"IF(AND($O5>26,$O5<=27),$O5*10,0)","v":0},{"$f":"IF(AND($O5>27,$O5<=28),$O5*10,0)","v":0},{"$f":"IF(AND($O5>28,$O5<=29),$O5*10,0)","v":0},{"$f":"IF(AND($O5>29,$O5<=30),$O5*10,0)","v":0},{"$f":"IF($P5<=1,$P5*10,0)","v":0},{"$f":"IF(AND($P5>1,$P5<=2),$P5*10,0)","v":0},{"$f":"IF(AND($P5>2,$P5<=3),$P5*10,0)","v":0},{"$f":"IF(AND($P5>3,$P5<=4),$P5*10,0)","v":0},{"$f":"IF(AND($P5>4,$P5<=5),$P5*10,0)","v":0},{"$f":"IF(AND($P5>5,$P5<=6),$P5*10,0)","v":0},{"$f":"IF(AND($P5>6,$P5<=7),$P5*10,0)","v":0},{"$f":"IF(AND($P5>7,$P5<=8),$P5*10,0)","v":0},{"$f":"IF(AND($P5>8,$P5<=9),$P5*10,0)","v":0},{"$f":"IF(AND($P5>9,$P5<=10),$P5*10,0)","v":0},{"$f":"IF(AND($P5>10,$P5<=11),$P5*10,0)","v":0},{"$f":"IF(AND($P5>11,$P5<=12),$P5*10,0)","v":120},{"$f":"IF(AND($P5>12,$P5<=13),$P5*10,0)","v":0},{"$f":"IF(AND($P5>13,$P5<=14),$P5*10,0)","v":0},{"$f":"IF(AND($P5>14,$P5<=15),$P5*10,0)","v":0},{"$f":"IF(AND($P5>15,$P5<=16),$P5*10,0)","v":0},{"$f":"IF(AND($P5>16,$P5<=17),$P5*10,0)","v":0},{"$f":"IF(AND($P5>17,$P5<=18),$P5*10,0)","v":0},{"$f":"IF(AND($P5>18,$P5<=19),$P5*10,0)","v":0},{"$f":"IF(AND($P5>19,$P5<=20),$P5*10,0)","v":0},{"$f":"IF(AND($P5>20,$P5<=21),$P5*10,0)","v":0},{"$f":"IF(AND($P5>21,$P5<=22),$P5*10,0)","v":0},{"$f":"IF(AND($P5>22,$P5<=23),$P5*10,0)","v":0},{"$f":"IF(AND($P5>23,$P5<=24),$P5*10,0)","v":0},{"$f":"IF(AND($P5>24,$P5<=25),$P5*10,0)","v":0},{"$f":"IF(AND($P5>25,$P5<=26),$P5*10,0)","v":0},{"$f":"IF(AND($P5>26,$P5<=27),$P5*10,0)","v":0},{"$f":"IF(AND($P5>27,$P5<=28),$P5*10,0)","v":0},{"$f":"IF(AND($P5>28,$P5<=29),$P5*10,0)","v":0},{"$f":"IF(AND($P5>29,$P5<=30),$P5*10,0)","v":0},{"$f":"IF($Q5<=1,$Q5*10,0)","v":0},{"$f":"IF(AND($Q5>1,$Q5<=2),$Q5*10,0)","v":0},{"$f":"IF(AND($Q5>2,$Q5<=3),$Q5*10,0)","v":0},{"$f":"IF(AND($Q5>3,$Q5<=4),$Q5*10,0)","v":0},{"$f":"IF(AND($Q5>4,$Q5<=5),$Q5*10,0)","v":0},{"$f":"IF(AND($Q5>5,$Q5<=6),$Q5*10,0)","v":0},{"$f":"IF(AND($Q5>6,$Q5<=7),$Q5*10,0)","v":0},{"$f":"IF(AND($Q5>7,$Q5<=8),$Q5*10,0)","v":0},{"$f":"IF(AND($Q5>8,$Q5<=9),$Q5*10,0)","v":0},{"$f":"IF(AND($Q5>9,$Q5<=10),$Q5*10,0)","v":0},{"$f":"IF(AND($Q5>10,$Q5<=11),$Q5*10,0)","v":0},{"$f":"IF(AND($Q5>11,$Q5<=12),$Q5*10,0)","v":0},{"$f":"IF(AND($Q5>12,$Q5<=13),$Q5*10,0)","v":0},{"$f":"IF(AND($Q5>13,$Q5<=14),$Q5*10,0)","v":0},{"$f":"IF(AND($Q5>14,$Q5<=15),$Q5*10,0)","v":0},{"$f":"IF(AND($Q5>15,$Q5<=16),$Q5*10,0)","v":0},{"$f":"IF(AND($Q5>16,$Q5<=17),$Q5*10,0)","v":0},{"$f":"IF(AND($Q5>17,$Q5<=18),$Q5*10,0)","v":0},{"$f":"IF(AND($Q5>18,$Q5<=19),$Q5*10,0)","v":0},{"$f":"IF(AND($Q5>19,$Q5<=20),$Q5*10,0)","v":0},{"$f":"IF(AND($Q5>20,$Q5<=21),$Q5*10,0)","v":0},{"$f":"IF(AND($Q5>21,$Q5<=22),$Q5*10,0)","v":0},{"$f":"IF(AND($Q5>22,$Q5<=23),$Q5*10,0)","v":0},{"$f":"IF(AND($Q5>23,$Q5<=24),$Q5*10,0)","v":0},{"$f":"IF(AND($Q5>24,$Q5<=25),$Q5*10,0)","v":0},{"$f":"IF(AND($Q5>25,$Q5<=26),$Q5*10,0)","v":0},{"$f":"IF(AND($Q5>26,$Q5<=27),$Q5*10,0)","v":0},{"$f":"IF(AND($Q5>27,$Q5<=28),$Q5*10,0)","v":0},{"$f":"IF(AND($Q5>28,$Q5<=29),$Q5*10,0)","v":0},{"$f":"IF(AND($Q5>29,$Q5<=30),$Q5*10,0)","v":0},{"$f":"IF($R5<=1,$R5*10,0)","v":0},{"$f":"IF(AND($R5>1,$R5<=2),$R5*10,0)","v":0},{"$f":"IF(AND($R5>2,$R5<=3),$R5*10,0)","v":0},{"$f":"IF(AND($R5>3,$R5<=4),$R5*10,0)","v":0},{"$f":"IF(AND($R5>4,$R5<=5),$R5*10,0)","v":0},{"$f":"IF(AND($R5>5,$R5<=6),$R5*10,0)","v":0},{"$f":"IF(AND($R5>6,$R5<=7),$R5*10,0)","v":0},{"$f":"IF(AND($R5>7,$R5<=8),$R5*10,0)","v":0},{"$f":"IF(AND($R5>8,$R5<=9),$R5*10,0)","v":0},{"$f":"IF(AND($R5>9,$R5<=10),$R5*10,0)","v":0},{"$f":"IF(AND($R5>10,$R5<=11),$R5*10,0)","v":0},{"$f":"IF(AND($R5>11,$R5<=12),$R5*10,0)","v":0},{"$f":"IF(AND($R5>12,$R5<=13),$R5*10,0)","v":0},{"$f":"IF(AND($R5>13,$R5<=14),$R5*10,0)","v":0},{"$f":"IF(AND($R5>14,$R5<=15),$R5*10,0)","v":0},{"$f":"IF(AND($R5>15,$R5<=16),$R5*10,0)","v":0},{"$f":"IF(AND($R5>16,$R5<=17),$R5*10,0)","v":0},{"$f":"IF(AND($R5>17,$R5<=18),$R5*10,0)","v":0},{"$f":"IF(AND($R5>18,$R5<=19),$R5*10,0)","v":0},{"$f":"IF(AND($R5>19,$R5<=20),$R5*10,0)","v":0},{"$f":"IF(AND($R5>20,$R5<=21),$R5*10,0)","v":0},{"$f":"IF(AND($R5>21,$R5<=22),$R5*10,0)","v":0},{"$f":"IF(AND($R5>22,$R5<=23),$R5*10,0)","v":0},{"$f":"IF(AND($R5>23,$R5<=24),$R5*10,0)","v":0},{"$f":"IF(AND($R5>24,$R5<=25),$R5*10,0)","v":0},{"$f":"IF(AND($R5>25,$R5<=26),$R5*10,0)","v":0},{"$f":"IF(AND($R5>26,$R5<=27),$R5*10,0)","v":0},{"$f":"IF(AND($R5>27,$R5<=28),$R5*10,0)","v":0},{"$f":"IF(AND($R5>28,$R5<=29),$R5*10,0)","v":0},{"$f":"IF(AND($R5>29,$R5<=30),$R5*10,0)","v":0},{"$f":"IF($S5<=1,$S5*10,0)","v":0},{"$f":"IF(AND($S5>1,$S5<=2),$S5*10,0)","v":0},{"$f":"IF(AND($S5>2,$S5<=3),$S5*10,0)","v":0},{"$f":"IF(AND($S5>3,$S5<=4),$S5*10,0)","v":0},{"$f":"IF(AND($S5>4,$S5<=5),$S5*10,0)","v":0},{"$f":"IF(AND($S5>5,$S5<=6),$S5*10,0)","v":0},{"$f":"IF(AND($S5>6,$S5<=7),$S5*10,0)","v":0},{"$f":"IF(AND($S5>7,$S5<=8),$S5*10,0)","v":0},{"$f":"IF(AND($S5>8,$S5<=9),$S5*10,0)","v":0},{"$f":"IF(AND($S5>9,$S5<=10),$S5*10,0)","v":0},{"$f":"IF(AND($S5>10,$S5<=11),$S5*10,0)","v":0},{"$f":"IF(AND($S5>11,$S5<=12),$S5*10,0)","v":0},{"$f":"IF(AND($S5>12,$S5<=13),$S5*10,0)","v":0},{"$f":"IF(AND($S5>13,$S5<=14),$S5*10,0)","v":0},{"$f":"IF(AND($S5>14,$S5<=15),$S5*10,0)","v":0},{"$f":"IF(AND($S5>15,$S5<=16),$S5*10,0)","v":0},{"$f":"IF(AND($S5>16,$S5<=17),$S5*10,0)","v":0},{"$f":"IF(AND($S5>17,$S5<=18),$S5*10,0)","v":0},{"$f":"IF(AND($S5>18,$S5<=19),$S5*10,0)","v":0},{"$f":"IF(AND($S5>19,$S5<=20),$S5*10,0)","v":0},{"$f":"IF(AND($S5>20,$S5<=21),$S5*10,0)","v":0},{"$f":"IF(AND($S5>21,$S5<=22),$S5*10,0)","v":0},{"$f":"IF(AND($S5>22,$S5<=23),$S5*10,0)","v":0},{"$f":"IF(AND($S5>23,$S5<=24),$S5*10,0)","v":0},{"$f":"IF(AND($S5>24,$S5<=25),$S5*10,0)","v":0},{"$f":"IF(AND($S5>25,$S5<=26),$S5*10,0)","v":0},{"$f":"IF(AND($S5>26,$S5<=27),$S5*10,0)","v":0},{"$f":"IF(AND($S5>27,$S5<=28),$S5*10,0)","v":0},{"$f":"IF(AND($S5>28,$S5<=29),$S5*10,0)","v":0},{"$f":"IF(AND($S5>29,$S5<=30),$S5*10,0)","v":0},{"$f":"IF($T5<=1,$T5*10,0)","v":0},{"$f":"IF(AND($T5>1,$T5<=2),$T5*10,0)","v":0},{"$f":"IF(AND($T5>2,$T5<=3),$T5*10,0)","v":0},{"$f":"IF(AND($T5>3,$T5<=4),$T5*10,0)","v":0},{"$f":"IF(AND($T5>4,$T5<=5),$T5*10,0)","v":0},{"$f":"IF(AND($T5>5,$T5<=6),$T5*10,0)","v":0},{"$f":"IF(AND($T5>6,$T5<=7),$T5*10,0)","v":0},{"$f":"IF(AND($T5>7,$T5<=8),$T5*10,0)","v":0},{"$f":"IF(AND($T5>8,$T5<=9),$T5*10,0)","v":0},{"$f":"IF(AND($T5>9,$T5<=10),$T5*10,0)","v":0},{"$f":"IF(AND($T5>10,$T5<=11),$T5*10,0)","v":0},{"$f":"IF(AND($T5>11,$T5<=12),$T5*10,0)","v":0},{"$f":"IF(AND($T5>12,$T5<=13),$T5*10,0)","v":0},{"$f":"IF(AND($T5>13,$T5<=14),$T5*10,0)","v":0},{"$f":"IF(AND($T5>14,$T5<=15),$T5*10,0)","v":0},{"$f":"IF(AND($T5>15,$T5<=16),$T5*10,0)","v":0},{"$f":"IF(AND($T5>16,$T5<=17),$T5*10,0)","v":0},{"$f":"IF(AND($T5>17,$T5<=18),$T5*10,0)","v":0},{"$f":"IF(AND($T5>18,$T5<=19),$T5*10,0)","v":0},{"$f":"IF(AND($T5>19,$T5<=20),$T5*10,0)","v":0},{"$f":"IF(AND($T5>20,$T5<=21),$T5*10,0)","v":0},{"$f":"IF(AND($T5>21,$T5<=22),$T5*10,0)","v":0},{"$f":"IF(AND($T5>22,$T5<=23),$T5*10,0)","v":0},{"$f":"IF(AND($T5>23,$T5<=24),$T5*10,0)","v":0},{"$f":"IF(AND($T5>24,$T5<=25),$T5*10,0)","v":0},{"$f":"IF(AND($T5>25,$T5<=26),$T5*10,0)","v":0},{"$f":"IF(AND($T5>26,$T5<=27),$T5*10,0)","v":0},{"$f":"IF(AND($T5>27,$T5<=28),$T5*10,0)","v":0},{"$f":"IF(AND($T5>28,$T5<=29),$T5*10,0)","v":0},{"$f":"IF(AND($T5>29,$T5<=30),$T5*10,0)","v":0},{"$f":"IF($U5<=1,$U5*10,0)","v":0},{"$f":"IF(AND($U5>1,$U5<=2),$U5*10,0)","v":0},{"$f":"IF(AND($U5>2,$U5<=3),$U5*10,0)","v":0},{"$f":"IF(AND($U5>3,$U5<=4),$U5*10,0)","v":0},{"$f":"IF(AND($U5>4,$U5<=5),$U5*10,0)","v":0},{"$f":"IF(AND($U5>5,$U5<=6),$U5*10,0)","v":0},{"$f":"IF(AND($U5>6,$U5<=7),$U5*10,0)","v":0},{"$f":"IF(AND($U5>7,$U5<=8),$U5*10,0)","v":0},{"$f":"IF(AND($U5>8,$U5<=9),$U5*10,0)","v":0},{"$f":"IF(AND($U5>9,$U5<=10),$U5*10,0)","v":0},{"$f":"IF(AND($U5>10,$U5<=11),$U5*10,0)","v":0},{"$f":"IF(AND($U5>11,$U5<=12),$U5*10,0)","v":0},{"$f":"IF(AND($U5>12,$U5<=13),$U5*10,0)","v":0},{"$f":"IF(AND($U5>13,$U5<=14),$U5*10,0)","v":0},{"$f":"IF(AND($U5>14,$U5<=15),$U5*10,0)","v":0},{"$f":"IF(AND($U5>15,$U5<=16),$U5*10,0)","v":0},{"$f":"IF(AND($U5>16,$U5<=17),$U5*10,0)","v":0},{"$f":"IF(AND($U5>17,$U5<=18),$U5*10,0)","v":0},{"$f":"IF(AND($U5>18,$U5<=19),$U5*10,0)","v":0},{"$f":"IF(AND($U5>19,$U5<=20),$U5*10,0)","v":0},{"$f":"IF(AND($U5>20,$U5<=21),$U5*10,0)","v":0},{"$f":"IF(AND($U5>21,$U5<=22),$U5*10,0)","v":0},{"$f":"IF(AND($U5>22,$U5<=23),$U5*10,0)","v":0},{"$f":"IF(AND($U5>23,$U5<=24),$U5*10,0)","v":0},{"$f":"IF(AND($U5>24,$U5<=25),$U5*10,0)","v":0},{"$f":"IF(AND($U5>25,$U5<=26),$U5*10,0)","v":0},{"$f":"IF(AND($U5>26,$U5<=27),$U5*10,0)","v":0},{"$f":"IF(AND($U5>27,$U5<=28),$U5*10,0)","v":0},{"$f":"IF(AND($U5>28,$U5<=29),$U5*10,0)","v":0},{"$f":"IF(AND($U5>29,$U5<=30),$U5*10,0)","v":0},{"$f":"IF($V5<=1,$V5*10,0)","v":0},{"$f":"IF(AND($V5>1,$V5<=2),$V5*10,0)","v":0},{"$f":"IF(AND($V5>2,$V5<=3),$V5*10,0)","v":0},{"$f":"IF(AND($V5>3,$V5<=4),$V5*10,0)","v":0},{"$f":"IF(AND($V5>4,$V5<=5),$V5*10,0)","v":0},{"$f":"IF(AND($V5>5,$V5<=6),$V5*10,0)","v":0},{"$f":"IF(AND($V5>6,$V5<=7),$V5*10,0)","v":0},{"$f":"IF(AND($V5>7,$V5<=8),$V5*10,0)","v":0},{"$f":"IF(AND($V5>8,$V5<=9),$V5*10,0)","v":0},{"$f":"IF(AND($V5>9,$V5<=10),$V5*10,0)","v":0},{"$f":"IF(AND($V5>10,$V5<=11),$V5*10,0)","v":0},{"$f":"IF(AND($V5>11,$V5<=12),$V5*10,0)","v":0},{"$f":"IF(AND($V5>12,$V5<=13),$V5*10,0)","v":0},{"$f":"IF(AND($V5>13,$V5<=14),$V5*10,0)","v":0},{"$f":"IF(AND($V5>14,$V5<=15),$V5*10,0)","v":0},{"$f":"IF(AND($V5>15,$V5<=16),$V5*10,0)","v":0},{"$f":"IF(AND($V5>16,$V5<=17),$V5*10,0)","v":0},{"$f":"IF(AND($V5>17,$V5<=18),$V5*10,0)","v":0},{"$f":"IF(AND($V5>18,$V5<=19),$V5*10,0)","v":0},{"$f":"IF(AND($V5>19,$V5<=20),$V5*10,0)","v":0},{"$f":"IF(AND($V5>20,$V5<=21),$V5*10,0)","v":0},{"$f":"IF(AND($V5>21,$V5<=22),$V5*10,0)","v":0},{"$f":"IF(AND($V5>22,$V5<=23),$V5*10,0)","v":0},{"$f":"IF(AND($V5>23,$V5<=24),$V5*10,0)","v":0},{"$f":"IF(AND($V5>24,$V5<=25),$V5*10,0)","v":0},{"$f":"IF(AND($V5>25,$V5<=26),$V5*10,0)","v":0},{"$f":"IF(AND($V5>26,$V5<=27),$V5*10,0)","v":0},{"$f":"IF(AND($V5>27,$V5<=28),$V5*10,0)","v":0},{"$f":"IF(AND($V5>28,$V5<=29),$V5*10,0)","v":0},{"$f":"IF(AND($V5>29,$V5<=30),$V5*10,0)","v":0},{"$f":"IF($W5<=1,$W5*10,0)","v":0},{"$f":"IF(AND($W5>1,$W5<=2),$W5*10,0)","v":0},{"$f":"IF(AND($W5>2,$W5<=3),$W5*10,0)","v":0},{"$f":"IF(AND($W5>3,$W5<=4),$W5*10,0)","v":0},{"$f":"IF(AND($W5>4,$W5<=5),$W5*10,0)","v":0},{"$f":"IF(AND($W5>5,$W5<=6),$W5*10,0)","v":0},{"$f":"IF(AND($W5>6,$W5<=7),$W5*10,0)","v":0},{"$f":"IF(AND($W5>7,$W5<=8),$W5*10,0)","v":0},{"$f":"IF(AND($W5>8,$W5<=9),$W5*10,0)","v":0},{"$f":"IF(AND($W5>9,$W5<=10),$W5*10,0)","v":0},{"$f":"IF(AND($W5>10,$W5<=11),$W5*10,0)","v":0},{"$f":"IF(AND($W5>11,$W5<=12),$W5*10,0)","v":0},{"$f":"IF(AND($W5>12,$W5<=13),$W5*10,0)","v":0},{"$f":"IF(AND($W5>13,$W5<=14),$W5*10,0)","v":0},{"$f":"IF(AND($W5>14,$W5<=15),$W5*10,0)","v":0},{"$f":"IF(AND($W5>15,$W5<=16),$W5*10,0)","v":0},{"$f":"IF(AND($W5>16,$W5<=17),$W5*10,0)","v":0},{"$f":"IF(AND($W5>17,$W5<=18),$W5*10,0)","v":0},{"$f":"IF(AND($W5>18,$W5<=19),$W5*10,0)","v":0},{"$f":"IF(AND($W5>19,$W5<=20),$W5*10,0)","v":0},{"$f":"IF(AND($W5>20,$W5<=21),$W5*10,0)","v":0},{"$f":"IF(AND($W5>21,$W5<=22),$W5*10,0)","v":0},{"$f":"IF(AND($W5>22,$W5<=23),$W5*10,0)","v":0},{"$f":"IF(AND($W5>23,$W5<=24),$W5*10,0)","v":0},{"$f":"IF(AND($W5>24,$W5<=25),$W5*10,0)","v":0},{"$f":"IF(AND($W5>25,$W5<=26),$W5*10,0)","v":0},{"$f":"IF(AND($W5>26,$W5<=27),$W5*10,0)","v":0},{"$f":"IF(AND($W5>27,$W5<=28),$W5*10,0)","v":0},{"$f":"IF(AND($W5>28,$W5<=29),$W5*10,0)","v":0},{"$f":"IF(AND($W5>29,$W5<=30),$W5*10,0)","v":0},{"$f":"IF($X5<=1,$X5*10,0)","v":0},{"$f":"IF(AND($X5>1,$X5<=2),$X5*10,0)","v":0},{"$f":"IF(AND($X5>2,$X5<=3),$X5*10,0)","v":0},{"$f":"IF(AND($X5>3,$X5<=4),$X5*10,0)","v":0},{"$f":"IF(AND($X5>4,$X5<=5),$X5*10,0)","v":0},{"$f":"IF(AND($X5>5,$X5<=6),$X5*10,0)","v":0},{"$f":"IF(AND($X5>6,$X5<=7),$X5*10,0)","v":0},{"$f":"IF(AND($X5>7,$X5<=8),$X5*10,0)","v":0},{"$f":"IF(AND($X5>8,$X5<=9),$X5*10,0)","v":0},{"$f":"IF(AND($X5>9,$X5<=10),$X5*10,0)","v":0},{"$f":"IF(AND($X5>10,$X5<=11),$X5*10,0)","v":0},{"$f":"IF(AND($X5>11,$X5<=12),$X5*10,0)","v":0},{"$f":"IF(AND($X5>12,$X5<=13),$X5*10,0)","v":0},{"$f":"IF(AND($X5>13,$X5<=14),$X5*10,0)","v":0},{"$f":"IF(AND($X5>14,$X5<=15),$X5*10,0)","v":0},{"$f":"IF(AND($X5>15,$X5<=16),$X5*10,0)","v":0},{"$f":"IF(AND($X5>16,$X5<=17),$X5*10,0)","v":0},{"$f":"IF(AND($X5>17,$X5<=18),$X5*10,0)","v":0},{"$f":"IF(AND($X5>18,$X5<=19),$X5*10,0)","v":0},{"$f":"IF(AND($X5>19,$X5<=20),$X5*10,0)","v":0},{"$f":"IF(AND($X5>20,$X5<=21),$X5*10,0)","v":0},{"$f":"IF(AND($X5>21,$X5<=22),$X5*10,0)","v":0},{"$f":"IF(AND($X5>22,$X5<=23),$X5*10,0)","v":0},{"$f":"IF(AND($X5>23,$X5<=24),$X5*10,0)","v":0},{"$f":"IF(AND($X5>24,$X5<=25),$X5*10,0)","v":0},{"$f":"IF(AND($X5>25,$X5<=26),$X5*10,0)","v":0},{"$f":"IF(AND($X5>26,$X5<=27),$X5*10,0)","v":0},{"$f":"IF(AND($X5>27,$X5<=28),$X5*10,0)","v":0},{"$f":"IF(AND($X5>28,$X5<=29),$X5*10,0)","v":0},{"$f":"IF(AND($X5>29,$X5<=30),$X5*10,0)","v":0},{"$f":"IF($Y5<=1,$Y5*10,0)","v":0},{"$f":"IF(AND($Y5>1,$Y5<=2),$Y5*10,0)","v":0},{"$f":"IF(AND($Y5>2,$Y5<=3),$Y5*10,0)","v":0},{"$f":"IF(AND($Y5>3,$Y5<=4),$Y5*10,0)","v":0},{"$f":"IF(AND($Y5>4,$Y5<=5),$Y5*10,0)","v":0},{"$f":"IF(AND($Y5>5,$Y5<=6),$Y5*10,0)","v":0},{"$f":"IF(AND($Y5>6,$Y5<=7),$Y5*10,0)","v":0},{"$f":"IF(AND($Y5>7,$Y5<=8),$Y5*10,0)","v":0},{"$f":"IF(AND($Y5>8,$Y5<=9),$Y5*10,0)","v":0},{"$f":"IF(AND($Y5>9,$Y5<=10),$Y5*10,0)","v":0},{"$f":"IF(AND($Y5>10,$Y5<=11),$Y5*10,0)","v":0},{"$f":"IF(AND($Y5>11,$Y5<=12),$Y5*10,0)","v":0},{"$f":"IF(AND($Y5>12,$Y5<=13),$Y5*10,0)","v":0},{"$f":"IF(AND($Y5>13,$Y5<=14),$Y5*10,0)","v":0},{"$f":"IF(AND($Y5>14,$Y5<=15),$Y5*10,0)","v":0},{"$f":"IF(AND($Y5>15,$Y5<=16),$Y5*10,0)","v":0},{"$f":"IF(AND($Y5>16,$Y5<=17),$Y5*10,0)","v":0},{"$f":"IF(AND($Y5>17,$Y5<=18),$Y5*10,0)","v":0},{"$f":"IF(AND($Y5>18,$Y5<=19),$Y5*10,0)","v":0},{"$f":"IF(AND($Y5>19,$Y5<=20),$Y5*10,0)","v":0},{"$f":"IF(AND($Y5>20,$Y5<=21),$Y5*10,0)","v":0},{"$f":"IF(AND($Y5>21,$Y5<=22),$Y5*10,0)","v":0},{"$f":"IF(AND($Y5>22,$Y5<=23),$Y5*10,0)","v":0},{"$f":"IF(AND($Y5>23,$Y5<=24),$Y5*10,0)","v":0},{"$f":"IF(AND($Y5>24,$Y5<=25),$Y5*10,0)","v":0},{"$f":"IF(AND($Y5>25,$Y5<=26),$Y5*10,0)","v":0},{"$f":"IF(AND($Y5>26,$Y5<=27),$Y5*10,0)","v":0},{"$f":"IF(AND($Y5>27,$Y5<=28),$Y5*10,0)","v":0},{"$f":"IF(AND($Y5>28,$Y5<=29),$Y5*10,0)","v":0},{"$f":"IF(AND($Y5>29,$Y5<=30),$Y5*10,0)","v":0},{"$f":"IF(AND($Y5>30,$Y5<=31),$Y5*10,0)","v":0},{"$f":"IF(AND($Y5>31,$Y5<=32),$Y5*10,0)","v":0},{"$f":"IF(AND($Y5>32,$Y5<=33),$Y5*10,0)","v":0},{"$f":"IF(AND($Y5>33,$Y5<=34),$Y5*10,0)","v":0},{"$f":"IF(AND($Y5>34,$Y5<=35),$Y5*10,0)","v":0},{"$f":"IF($Z5<=1,$Z5*10,0)","v":0},{"$f":"IF(AND($Z5>1,$Z5<=2),$Z5*10,0)","v":0},{"$f":"IF(AND($Z5>2,$Z5<=3),$Z5*10,0)","v":0},{"$f":"IF(AND($Z5>3,$Z5<=4),$Z5*10,0)","v":0},{"$f":"IF(AND($Z5>4,$Z5<=5),$Z5*10,0)","v":0},{"$f":"IF(AND($Z5>5,$Z5<=6),$Z5*10,0)","v":0},{"$f":"IF(AND($Z5>6,$Z5<=7),$Z5*10,0)","v":0},{"$f":"IF(AND($Z5>7,$Z5<=8),$Z5*10,0)","v":0},{"$f":"IF(AND($Z5>8,$Z5<=9),$Z5*10,0)","v":0},{"$f":"IF(AND($Z5>9,$Z5<=10),$Z5*10,0)","v":0},{"$f":"IF(AND($Z5>10,$Z5<=11),$Z5*10,0)","v":0},{"$f":"IF(AND($Z5>11,$Z5<=12),$Z5*10,0)","v":0},{"$f":"IF(AND($Z5>12,$Z5<=13),$Z5*10,0)","v":0},{"$f":"IF(AND($Z5>13,$Z5<=14),$Z5*10,0)","v":0},{"$f":"IF(AND($Z5>14,$Z5<=15),$Z5*10,0)","v":0},{"$f":"IF(AND($Z5>15,$Z5<=16),$Z5*10,0)","v":0},{"$f":"IF(AND($Z5>16,$Z5<=17),$Z5*10,0)","v":0},{"$f":"IF(AND($Z5>17,$Z5<=18),$Z5*10,0)","v":0},{"$f":"IF(AND($Z5>18,$Z5<=19),$Z5*10,0)","v":0},{"$f":"IF(AND($Z5>19,$Z5<=20),$Z5*10,0)","v":0},{"$f":"IF(AND($Z5>20,$Z5<=21),$Z5*10,0)","v":0},{"$f":"IF(AND($Z5>21,$Z5<=22),$Z5*10,0)","v":0},{"$f":"IF(AND($Z5>22,$Z5<=23),$Z5*10,0)","v":0},{"$f":"IF(AND($Z5>23,$Z5<=24),$Z5*10,0)","v":0},{"$f":"IF(AND($Z5>24,$Z5<=25),$Z5*10,0)","v":0},{"$f":"IF(AND($Z5>25,$Z5<=26),$Z5*10,0)","v":0},{"$f":"IF(AND($Z5>26,$Z5<=27),$Z5*10,0)","v":0},{"$f":"IF(AND($Z5>27,$Z5<=28),$Z5*10,0)","v":0},{"$f":"IF(AND($Z5>28,$Z5<=29),$Z5*10,0)","v":0},{"$f":"IF(AND($Z5>29,$Z5<=30),$Z5*10,0)","v":0},{"$f":"IF(AND($Z5>30,$Z5<=31),$Z5*10,0)","v":0},{"$f":"IF(AND($Z5>31,$Z5<=32),$Z5*10,0)","v":0},{"$f":"IF(AND($Z5>32,$Z5<=33),$Z5*10,0)","v":0},{"$f":"IF(AND($Z5>33,$Z5<=34),$Z5*10,0)","v":0},{"$f":"IF(AND($Z5>34,$Z5<=35),$Z5*10,0)","v":0},{"$f":"IF($AA5<=1,$AA5*10,0)","v":0},{"$f":"IF(AND($AA5>1,$AA5<=2),$AA5*10,0)","v":0},{"$f":"IF(AND($AA5>2,$AA5<=3),$AA5*10,0)","v":0},{"$f":"IF(AND($AA5>3,$AA5<=4),$AA5*10,0)","v":0},{"$f":"IF(AND($AA5>4,$AA5<=5),$AA5*10,0)","v":0},{"$f":"IF(AND($AA5>5,$AA5<=6),$AA5*10,0)","v":0},{"$f":"IF(AND($AA5>6,$AA5<=7),$AA5*10,0)","v":0},{"$f":"IF(AND($AA5>7,$AA5<=8),$AA5*10,0)","v":0},{"$f":"IF(AND($AA5>8,$AA5<=9),$AA5*10,0)","v":0},{"$f":"IF(AND($AA5>9,$AA5<=10),$AA5*10,0)","v":0},{"$f":"IF(AND($AA5>10,$AA5<=11),$AA5*10,0)","v":0},{"$f":"IF(AND($AA5>11,$AA5<=12),$AA5*10,0)","v":0},{"$f":"IF(AND($AA5>12,$AA5<=13),$AA5*10,0)","v":0},{"$f":"IF(AND($AA5>13,$AA5<=14),$AA5*10,0)","v":0},{"$f":"IF(AND($AA5>14,$AA5<=15),$AA5*10,0)","v":0},{"$f":"IF(AND($AA5>15,$AA5<=16),$AA5*10,0)","v":0},{"$f":"IF(AND($AA5>16,$AA5<=17),$AA5*10,0)","v":0},{"$f":"IF(AND($AA5>17,$AA5<=18),$AA5*10,0)","v":0},{"$f":"IF(AND($AA5>18,$AA5<=19),$AA5*10,0)","v":0},{"$f":"IF(AND($AA5>19,$AA5<=20),$AA5*10,0)","v":0},{"$f":"IF(AND($AA5>20,$AA5<=21),$AA5*10,0)","v":0},{"$f":"IF(AND($AA5>21,$AA5<=22),$AA5*10,0)","v":0},{"$f":"IF(AND($AA5>22,$AA5<=23),$AA5*10,0)","v":0},{"$f":"IF(AND($AA5>23,$AA5<=24),$AA5*10,0)","v":0},{"$f":"IF(AND($AA5>24,$AA5<=25),$AA5*10,0)","v":0},{"$f":"IF(AND($AA5>25,$AA5<=26),$AA5*10,0)","v":0},{"$f":"IF(AND($AA5>26,$AA5<=27),$AA5*10,0)","v":0},{"$f":"IF(AND($AA5>27,$AA5<=28),$AA5*10,0)","v":0},{"$f":"IF(AND($AA5>28,$AA5<=29),$AA5*10,0)","v":0},{"$f":"IF(AND($AA5>29,$AA5<=30),$AA5*10,0)","v":0},{"$f":"IF(AND($AA5>30,$AA5<=31),$AA5*10,0)","v":0},{"$f":"IF(AND($AA5>31,$AA5<=32),$AA5*10,0)","v":0},{"$f":"IF(AND($AA5>32,$AA5<=33),$AA5*10,0)","v":0},{"$f":"IF(AND($AA5>33,$AA5<=34),$AA5*10,0)","v":0},{"$f":"IF(AND($AA5>34,$AA5<=35),$AA5*10,0)","v":0},{"$f":"IF($AB5<=1,$AB5*10,0)","v":0},{"$f":"IF(AND($AB5>1,$AB5<=2),$AB5*10,0)","v":0},{"$f":"IF(AND($AB5>2,$AB5<=3),$AB5*10,0)","v":0},{"$f":"IF(AND($AB5>3,$AB5<=4),$AB5*10,0)","v":0},{"$f":"IF(AND($AB5>4,$AB5<=5),$AB5*10,0)","v":0},{"$f":"IF(AND($AB5>5,$AB5<=6),$AB5*10,0)","v":0},{"$f":"IF(AND($AB5>6,$AB5<=7),$AB5*10,0)","v":0},{"$f":"IF(AND($AB5>7,$AB5<=8),$AB5*10,0)","v":0},{"$f":"IF(AND($AB5>8,$AB5<=9),$AB5*10,0)","v":0},{"$f":"IF(AND($AB5>9,$AB5<=10),$AB5*10,0)","v":0},{"$f":"IF(AND($AB5>10,$AB5<=11),$AB5*10,0)","v":0},{"$f":"IF(AND($AB5>11,$AB5<=12),$AB5*10,0)","v":0},{"$f":"IF(AND($AB5>12,$AB5<=13),$AB5*10,0)","v":0},{"$f":"IF(AND($AB5>13,$AB5<=14),$AB5*10,0)","v":0},{"$f":"IF(AND($AB5>14,$AB5<=15),$AB5*10,0)","v":0},{"$f":"IF(AND($AB5>15,$AB5<=16),$AB5*10,0)","v":0},{"$f":"IF(AND($AB5>16,$AB5<=17),$AB5*10,0)","v":0},{"$f":"IF(AND($AB5>17,$AB5<=18),$AB5*10,0)","v":0},{"$f":"IF(AND($AB5>18,$AB5<=19),$AB5*10,0)","v":0},{"$f":"IF(AND($AB5>19,$AB5<=20),$AB5*10,0)","v":0},{"$f":"IF(AND($AB5>20,$AB5<=21),$AB5*10,0)","v":0},{"$f":"IF(AND($AB5>21,$AB5<=22),$AB5*10,0)","v":0},{"$f":"IF(AND($AB5>22,$AB5<=23),$AB5*10,0)","v":0},{"$f":"IF(AND($AB5>23,$AB5<=24),$AB5*10,0)","v":0},{"$f":"IF(AND($AB5>24,$AB5<=25),$AB5*10,0)","v":0},{"$f":"IF(AND($AB5>25,$AB5<=26),$AB5*10,0)","v":0},{"$f":"IF(AND($AB5>26,$AB5<=27),$AB5*10,0)","v":0},{"$f":"IF(AND($AB5>27,$AB5<=28),$AB5*10,0)","v":0},{"$f":"IF(AND($AB5>28,$AB5<=29),$AB5*10,0)","v":0},{"$f":"IF(AND($AB5>29,$AB5<=30),$AB5*10,0)","v":0},{"$f":"IF(AND($AB5>30,$AB5<=31),$AB5*10,0)","v":0},{"$f":"IF(AND($AB5>31,$AB5<=32),$AB5*10,0)","v":0},{"$f":"IF(AND($AB5>32,$AB5<=33),$AB5*10,0)","v":0},{"$f":"IF(AND($AB5>33,$AB5<=34),$AB5*10,0)","v":0},{"$f":"IF(AND($AB5>34,$AB5<=35),$AB5*10,0)","v":0},null,null,10,{"$f":"AD$1006+BH$1006","v":0},{"$f":"(UQ5/$UQ$35)*100","v":0},10,{"$f":"CL$1006+DP$1006","v":0},{"$f":"(UT5/$UT$35)*100","v":0},10,{"$f":"KN$1006+LR$1006+MV$1006+NZ$1006","v":0},{"$f":"(UW5/$UW$35)*100","v":0},10,{"$f":"ET$1006+FX$1006+HB$1006+IF$1006+JJ$1006","v":0},{"$f":"(UZ5/$UZ$35)*100","v":0},10,{"$f":"PD$1006+QM$1006","v":0},{"$f":"(VC5/$VC$40)*100","v":0},10,{"$f":"RV$1006+TE$1006","v":0},{"$f":"(VF5/$VF$40)*100","v":0}]
[2,{"$f":"'11 Axle Loads Direction 2-SS'!B6","v":2},{"$f":"'11 Axle Loads Direction 2-SS'!C6","v":4},{"$f":"'11 Axle Loads Direction 2-SS'!D6","v":8},{"$f":"'11 Axle Loads Direction 2-SS'!E6","v":0},{"$f":"'11 Axle Loads Direction 2-SS'!F6","v":0},{"$f":"'11 Axle Loads Direction 2-SS'!G6","v":0},{"$f":"'11 Axle Loads Direction 2-SS'!H6","v":0},{"$f":"'11 Axle Loads Direction 2-SS'!I6","v":0},{"$f":"'11 Axle Loads Direction 2-SS'!J6","v":0},{"$f":"'11 Axle Loads Direction 2-SS'!K6","v":0},{"$f":"C6","v":4},{"$f":"IF(B6=4,D6,0)","v":0},{"$f":"IF(OR(B6=2,B6=\"3B\",B6=\"5C\",B6=\"5D\"),D6,0)","v":8},{"$f":"IF(B6=\"3B\",E6,0)","v":0},{"$f":"IF(OR(B6=3,B6=5,B6=\"5B\",B6=6,B6=\"6B\",B6=7,B6=\"7B\",B6=9,B6=\"9B\"),D6+E6,0)","v":0},{"$f":"IF(B6=4,E6+F6,0)","v":0},{"$f":"IF(OR(B6=5,B6=7,B6=9),F6+G6,0)","v":0},{"$f":"IF(OR(B6=7,B6=9),H6+I6,0)","v":0},{"$f":"IF(B6=9,J6+K6,0)","v":0},{"$f":"IF(OR(B6=\"6C\",B6=\"7C\"),D6+E6,0)","v":0},{"$f":"IF(B6=\"4B\",F6+G6,0)","v":0},{"$f":"IF(OR(B6=\"7B\",B6=\"7C\",B6=\"9B\"),H6+I6,0)","v":0},{"$f":"IF(OR(B6=\"9B\"),J6+K6,0)","v":0},{"$f":"IF((B6=\"5C\"),E6+F6+G6,0)","v":0},{"$f":"IF(B6=6,F6+G6+H6,0)","v":0},{"$f":"IF((B6=\"5D\"),E6+F6+G6,0)","v":0},{"$f":"IF(OR(B6=\"6B\",B6=\"6C\"),F6+G6+H6,0)","v":0},null,{"$f":"IF($L6<=1,$L6*10,0)","v":0},{"$f":"IF(AND($L6>1,$L6<=2),$L6*10,0)","v":0},{"$f":"IF(AND($L6>2,$L6<=3),$L6*10,0)","v":0},{"$f":"IF(AND($L6>3,$L6<=4),$L6*10,0)","v":40},{"$f":"IF(AND($L6>4,$L6<=5),$L6*10,0)","v":0},{"$f":"IF(AND($L6>5,$L6<=6),$L6*10,0)","v":0},{"$f":"IF(AND($L6>6,$L6<=7),$L6*10,0)","v":0},{"$f":"IF(AND($L6>7,$L6<=8),$L6*10,0)","v":0},{"$f":"IF(AND($L6>8,$L6<=9),$L6*10,0)","v":0},{"$f":"IF(AND($L6>9,$L6<=10),$L6*10,0)","v":0},{"$f":"IF(AND($L6>10,$L6<=11),$L6*10,0)","v":0},{"$f":"IF(AND($L6>11,$L6<=12),$L6*10,0)","v":0},{"$f":"IF(AND($L6>12,$L6<=13),$L6*10,0)","v":0},{"$f":"IF(AND($L6>13,$L6<=14),$L6*10,0)","v":0},{"$f":"IF(AND($L6>14,$L6<=15),$L6*10,0)","v":0},{"$f":"IF(AND($L6>15,$L6<=16),$L6*10,0)","v":0},{"$f":"IF(AND($L6>16,$L6<=17),$L6*10,0)","v":0},{"$f":"IF(AND($L6>17,$L6<=18),$L6*10,0)","v":0},{"$f":"IF(AND($L6>18,$L6<=19),$L6*10,0)","v":0},{"$f":"IF(AND($L6>19,$L6<=20),$L6*10,0)","v":0},{"$f":"IF(AND($L6>20,$L6<=21),$L6*10,0)","v":0},{"$f":"IF(AND($L6>21,$L6<=22),$L6*10,0)","v":0},{"$f":"IF(AND($L6>22,$L6<=23),$L6*10,0)","v":0},{"$f":"IF(AND($L6>23,$L6<=24),$L6*10,0)","v":0},{"$f":"IF(AND($L6>24,$L6<=25),$L6*10,0)","v":0},{"$f":"IF(AND($L6>25,$L6<=26),$L6*10,0)","v":0},{"$f":"IF(AND($L6>26,$L6<=27),$L6*10,0)","v":0},{"$f":"IF(AND($L6>27,$L6<=28),$L6*10,0)","v":0},{"$f":"IF(AND($L6>28,$L6<=29),$L6*10,0)","v":0},{"$f":"IF(AND($L6>29,$L6<=30),$L6*10,0)","v":0},{"$f":"IF($M6<=1,$M6*10,0)","v":0},{"$f":"IF(AND($M6>1,$M6<=2),$M6*10,0)","v":0},{"$f":"IF(AND($M6>2,$M6<=3),$M6*10,0)","v":0},{"$f":"IF(AND($M6>3,$M6<=4),$M6*10,0)","v":0},{"$f":"IF(AND($M6>4,$M6<=5),$M6*10,0)","v":0},{"$f":"IF(AND($M6>5,$M6<=6),$M6*10,0)","v":0},{"$f":"IF(AND($M6>6,$M6<=7),$M6*10,0)","v":0},{"$f":"IF(AND($M6>7,$M6<=8),$M6*10,0)","v":0},{"$f":"IF(AND($M6>8,$M6<=9),$M6*10,0)","v":0},{"$f":"IF(AND($M6>9,$M6<=10),$M6*10,0)","v":0},{"$f":"IF(AND($M6>10,$M6<=11),$M6*10,0)","v":0},{"$f":"IF(AND($M6>11,$M6<=12),$M6*10,0)","v":0},{"$f":"IF(AND($M6>12,$M6<=13),$M6*10,0)","v":0},{"$f":"IF(AND($M6>13,$M6<=14),$M6*10,0)","v":0},{"$f":"IF(AND($M6>14,$M6<=15),$M6*10,0)","v":0},{"$f":"IF(AND($M6>15,$M6<=16),$M6*10,0)","v":0},{"$f":"IF(AND($M6>16,$M6<=17),$M6*10,0)","v":0},{"$f":"IF(AND($M6>17,$M6<=18),$M6*10,0)","v":0},{"$f":"IF(AND($M6>18,$M6<=19),$M6*10,0)","v":0},{"$f":"IF(AND($M6>19,$M6<=20),$M6*10,0)","v":0},{"$f":"IF(AND($M6>20,$M6<=21),$M6*10,0)","v":0},{"$f":"IF(AND($M6>21,$M6<=22),$M6*10,0)","v":0},{"$f":"IF(AND($M6>22,$M6<=23),$M6*10,0)","v":0},{"$f":"IF(AND($M6>23,$M6<=24),$M6*10,0)","v":0},{"$f":"IF(AND($M6>24,$M6<=25),$M6*10,0)","v":0},{"$f":"IF(AND($M6>25,$M6<=26),$M6*10,0)","v":0},{"$f":"IF(AND($M6>26,$M6<=27),$M6*10,0)","v":0},{"$f":"IF(AND($M6>27,$M6<=28),$M6*10,0)","v":0},{"$f":"IF(AND($M6>28,$M6<=29),$M6*10,0)","v":0},{"$f":"IF(AND($M6>29,$M6<=30),$M6*10,0)","v":0},{"$f":"IF($N6<=1,$N6*10,0)","v":0},{"$f":"IF(AND($N6>1,$N6<=2),$N6*10,0)","v":0},{"$f":"IF(AND($N6>2,$N6<=3),$N6*10,0)","v":0},{"$f":"IF(AND($N6>3,$N6<=4),$N6*10,0)","v":0},{"$f":"IF(AND($N6>4,$N6<=5),$N6*10,0)","v":0},{"$f":"IF(AND($N6>5,$N6<=6),$N6*10,0)","v":0},{"$f":"IF(AND($N6>6,$N6<=7),$N6*10,0)","v":0},{"$f":"IF(AND($N6>7,$N6<=8),$N6*10,0)","v":80},{"$f":"IF(AND($N6>8,$N6<=9),$N6*10,0)","v":0},{"$f":"IF(AND($N6>9,$N6<=10),$N6*10,0)","v":0},{"$f":"IF(AND($N6>10,$N6<=11),$N6*10,0)","v":0},{"$f":"IF(AND($N6>11,$N6<=12),$N6*10,0)","v":0},{"$f":"IF(AND($N6>12,$N6<=13),$N6*10,0)","v":0},{"$f":"IF(AND($N6>13,$N6<=14),$N6*10,0)","v":0},{"$f":"IF(AND($N6>14,$N6<=15),$N6*10,0)","v":0},{"$f":"IF(AND($N6>15,$N6<=16),$N6*10,0)","v":0},{"$f":"IF(AND($N6>16,$N6<=17),$N6*10,0)","v":0},{"$f":"IF(AND($N6>17,$N6<=18),$N6*10,0)","v":0},{"$f":"IF(AND($N6>18,$N6<=19),$N6*10,0)","v":0},{"$f":"IF(AND($N6>19,$N6<=20),$N6*10,0)","v":0},{"$f":"IF(AND($N6>20,$N6<=21),$N6*10,0)","v":0},{"$f":"IF(AND($N6>21,$N6<=22),$N6*10,0)","v":0},{"$f":"IF(AND($N6>22,$N6<=23),$N6*10,0)","v":0},{"$f":"IF(AND($N6>23,$N6<=24),$N6*10,0)","v":0},{"$f":"IF(AND($N6>24,$N6<=25),$N6*10,0)","v":0},{"$f":"IF(AND($N6>25,$N6<=26),$N6*10,0)","v":0},{"$f":"IF(AND($N6>26,$N6<=27),$N6*10,0)","v":0},{"$f":"IF(AND($N6>27,$N6<=28),$N6*10,0)","v":0},{"$f":"IF(AND($N6>28,$N6<=29),$N6*10,0)","v":0},{"$f":"IF(AND($N6>29,$N6<=30),$N6*10,0)","v":0},{"$f":"IF($O6<=1,$O6*10,0)","v":0},{"$f":"IF(AND($O6>1,$O6<=2),$O6*10,0)","v":0},{"$f":"IF(AND($O6>2,$O6<=3),$O6*10,0)","v":0},{"$f":"IF(AND($O6>3,$O6<=4),$O6*10,0)","v":0},{"$f":"IF(AND($O6>4,$O6<=5),$O6*10,0)","v":0},{"$f":"IF(AND($O6>5,$O6<=6),$O6*10,0)","v":0},{"$f":"IF(AND($O6>6,$O6<=7),$O6*10,0)","v":0},{"$f":"IF(AND($O6>7,$O6<=8),$O6*10,0)","v":0},{"$f":"IF(AND($O6>8,$O6<=9),$O6*10,0)","v":0},{"$f":"IF(AND($O6>9,$O6<=10),$O6*10,0)","v":0},{"$f":"IF(AND($O6>10,$O6<=11),$O6*10,0)","v":0},{"$f":"IF(AND($O6>11,$O6<=12),$O6*10,0)","v":0},{"$f":"IF(AND($O6>12,$O6<=13),$O6*10,0)","v":0},{"$f":"IF(AND($O6>13,$O6<=14),$O6*10,0)","v":0},{"$f":"IF(AND($O6>14,$O6<=15),$O6*10,0)","v":0},{"$f":"IF(AND($O6>15,$O6<=16),$O6*10,0)","v":0},{"$f":"IF(AND($O6>16,$O6<=17),$O6*10,0)","v":0},{"$f":"IF(AND($O6>17,$O6<=18),$O6*10,0)","v":0},{"$f":"IF(AND($O6>18,$O6<=19),$O6*10,0)","v":0},{"$f":"IF(AND($O6>19,$O6<=20),$O6*10,0)","v":0},{"$f":"IF(AND($O6>20,$O6<=21),$O6*10,0)","v":0},{"$f":"IF(AND($O6>21,$O6<=22),$O6*10,0)","v":0},{"$f":"IF(AND($O6>22,$O6<=23),$O6*10,0)","v":0},{"$f":"IF(AND($O6>23,$O6<=24),$O6*10,0)","v":0},{"$f":"IF(AND($O6>24,$O6<=25),$O6*10,0)","v":0},{"$f":"IF(AND($O6>25,$O6<=26),$O6*10,0)","v":0},{"$f":"IF(AND($O6>26,$O6<=27),$O6*10,0)","v":0},{"$f":"IF(AND($O6>27,$O6<=28),$O6*10,0)","v":0},{"$f":"IF(AND($O6>28,$O6<=29),$O6*10,0)","v":0},{"$f":"IF(AND($O6>29,$O6<=30),$O6*10,0)","v":0},{"$f":"IF($P6<=1,$P6*10,0)","v":0},{"$f":"IF(AND($P6>1,$P6<=2),$P6*10,0)","v":0},{"$f":"IF(AND($P6>2,$P6<=3),$P6*10,0)","v":0},{"$f":"IF(AND($P6>3,$P6<=4),$P6*10,0)","v":0},{"$f":"IF(AND($P6>4,$P6<=5),$P6*10,0)","v":0},{"$f":"IF(AND($P6>5,$P6<=6),$P6*10,0)","v":0},{"$f":"IF(AND($P6>6,$P6<=7),$P6*10,0)","v":0},{"$f":"IF(AND($P6>7,$P6<=8),$P6*10,0)","v":0},{"$f":"IF(AND($P6>8,$P6<=9),$P6*10,0)","v":0},{"$f":"IF(AND($P6>9,$P6<=10),$P6*10,0)","v":0},{"$f":"IF(AND($P6>10,$P6<=11),$P6*10,0)","v":0},{"$f":"IF(AND($P6>11,$P6<=12),$P6*10,0)","v":0},{"$f":"IF(AND($P6>12,$P6<=13),$P6*10,0)","v":0},{"$f":"IF(AND($P6>13,$P6<=14),$P6*10,0)","v":0},{"$f":"IF(AND($P6>14,$P6<=15),$P6*10,0)","v":0},{"$f":"IF(AND($P6>15,$P6<=16),$P6*10,0)","v":0},{"$f":"IF(AND($P6>16,$P6<=17),$P6*10,0)","v":0},{"$f":"IF(AND($P6>17,$P6<=18),$P6*10,0)","v":0},{"$f":"IF(AND($P6>18,$P6<=19),$P6*10,0)","v":0},{"$f":"IF(AND($P6>19,$P6<=20),$P6*10,0)","v":0},{"$f":"IF(AND($P6>20,$P6<=21),$P6*10,0)","v":0},{"$f":"IF(AND($P6>21,$P6<=22),$P6*10,0)","v":0},{"$f":"IF(AND($P6>22,$P6<=23),$P6*10,0)","v":0},{"$f":"IF(AND($P6>23,$P6<=24),$P6*10,0)","v":0},{"$f":"IF(AND($P6>24,$P6<=25),$P6*10,0)","v":0},{"$f":"IF(AND($P6>25,$P6<=26),$P6*10,0)","v":0},{"$f":"IF(AND($P6>26,$P6<=27),$P6*10,0)","v":0},{"$f":"IF(AND($P6>27,$P6<=28),$P6*10,0)","v":0},{"$f":"IF(AND($P6>28,$P6<=29),$P6*10,0)","v":0},{"$f":"IF(AND($P6>29,$P6<=30),$P6*10,0)","v":0},{"$f":"IF($Q6<=1,$Q6*10,0)","v":0},{"$f":"IF(AND($Q6>1,$Q6<=2),$Q6*10,0)","v":0},{"$f":"IF(AND($Q6>2,$Q6<=3),$Q6*10,0)","v":0},{"$f":"IF(AND($Q6>3,$Q6<=4),$Q6*10,0)","v":0},{"$f":"IF(AND($Q6>4,$Q6<=5),$Q6*10,0)","v":0},{"$f":"IF(AND($Q6>5,$Q6<=6),$Q6*10,0)","v":0},{"$f":"IF(AND($Q6>6,$Q6<=7),$Q6*10,0)","v":0},{"$f":"IF(AND($Q6>7,$Q6<=8),$Q6*10,0)","v":0},{"$f":"IF(AND($Q6>8,$Q6<=9),$Q6*10,0)","v":0},{"$f":"IF(AND($Q6>9,$Q6<=10),$Q6*10,0)","v":0},{"$f":"IF(AND($Q6>10,$Q6<=11),$Q6*10,0)","v":0},{"$f":"IF(AND($Q6>11,$Q6<=12),$Q6*10,0)","v":0},{"$f":"IF(AND($Q6>12,$Q6<=13),$Q6*10,0)","v":0},{"$f":"IF(AND($Q6>13,$Q6<=14),$Q6*10,0)","v":0},{"$f":"IF(AND($Q6>14,$Q6<=15),$Q6*10,0)","v":0},{"$f":"IF(AND($Q6>15,$Q6<=16),$Q6*10,0)","v":0},{"$f":"IF(AND($Q6>16,$Q6<=17),$Q6*10,0)","v":0},{"$f":"IF(AND($Q6>17,$Q6<=18),$Q6*10,0)","v":0},{"$f":"IF(AND($Q6>18,$Q6<=19),$Q6*10,0)","v":0},{"$f":"IF(AND($Q6>19,$Q6<=20),$Q6*10,0)","v":0},{"$f":"IF(AND($Q6>20,$Q6<=21),$Q6*10,0)","v":0},{"$f":"IF(AND($Q6>21,$Q6<=22),$Q6*10,0)","v":0},{"$f":"IF(AND($Q6>22,$Q6<=23),$Q6*10,0)","v":0},{"$f":"IF(AND($Q6>23,$Q6<=24),$Q6*10,0)","v":0},{"$f":"IF(AND($Q6>24,$Q6<=25),$Q6*10,0)","v":0},{"$f":"IF(AND($Q6>25,$Q6<=26),$Q6*10,0)","v":0},{"$f":"IF(AND($Q6>26,$Q6<=27),$Q6*10,0)","v":0},{"$f":"IF(AND($Q6>27,$Q6<=28),$Q6*10,0)","v":0},{"$f":"IF(AND($Q6>28,$Q6<=29),$Q6*10,0)","v":0},{"$f":"IF(AND($Q6>29,$Q6<=30),$Q6*10,0)","v":0},{"$f":"IF($R6<=1,$R6*10,0)","v":0},{"$f":"IF(AND($R6>1,$R6<=2),$R6*10,0)","v":0},{"$f":"IF(AND($R6>2,$R6<=3),$R6*10,0)","v":0},{"$f":"IF(AND($R6>3,$R6<=4),$R6*10,0)","v":0},{"$f":"IF(AND($R6>4,$R6<=5),$R6*10,0)","v":0},{"$f":"IF(AND($R6>5,$R6<=6),$R6*10,0)","v":0},{"$f":"IF(AND($R6>6,$R6<=7),$R6*10,0)","v":0},{"$f":"IF(AND($R6>7,$R6<=8),$R6*10,0)","v":0},{"$f":"IF(AND($R6>8,$R6<=9),$R6*10,0)","v":0},{"$f":"IF(AND($R6>9,$R6<=10),$R6*10,0)","v":0},{"$f":"IF(AND($R6>10,$R6<=11),$R6*10,0)","v":0},{"$f":"IF(AND($R6>11,$R6<=12),$R6*10,0)","v":0},{"$f":"IF(AND($R6>12,$R6<=13),$R6*10,0)","v":0},{"$f":"IF(AND($R6>13,$R6<=14),$R6*10,0)","v":0},{"$f":"IF(AND($R6>14,$R6<=15),$R6*10,0)","v":0},{"$f":"IF(AND($R6>15,$R6<=16),$R6*10,0)","v":0},{"$f":"IF(AND($R6>16,$R6<=17),$R6*10,0)","v":0},{"$f":"IF(AND($R6>17,$R6<=18),$R6*10,0)","v":0},{"$f":"IF(AND($R6>18,$R6<=19),$R6*10,0)","v":0},{"$f":"IF(AND($R6>19,$R6<=20),$R6*10,0)","v":0},{"$f":"IF(AND($R6>20,$R6<=21),$R6*10,0)","v":0},{"$f":"IF(AND($R6>21,$R6<=22),$R6*10,0)","v":0},{"$f":"IF(AND($R6>22,$R6<=23),$R6*10,0)","v":0},{"$f":"IF(AND($R6>23,$R6<=24),$R6*10,0)","v":0},{"$f":"IF(AND($R6>24,$R6<=25),$R6*10,0)","v":0},{"$f":"IF(AND($R6>25,$R6<=26),$R6*10,0)","v":0},{"$f":"IF(AND($R6>26,$R6<=27),$R6*10,0)","v":0},{"$f":"IF(AND($R6>27,$R6<=28),$R6*10,0)","v":0},{"$f":"IF(AND($R6>28,$R6<=29),$R6*10,0)","v":0},{"$f":"IF(AND($R6>29,$R6<=30),$R6*10,0)","v":0},{"$f":"IF($S6<=1,$S6*10,0)","v":0},{"$f":"IF(AND($S6>1,$S6<=2),$S6*10,0)","v":0},{"$f":"IF(AND($S6>2,$S6<=3),$S6*10,0)","v":0},{"$f":"IF(AND($S6>3,$S6<=4),$S6*10,0)","v":0},{"$f":"IF(AND($S6>4,$S6<=5),$S6*10,0)","v":0},{"$f":"IF(AND($S6>5,$S6<=6),$S6*10,0)","v":0},{"$f":"IF(AND($S6>6,$S6<=7),$S6*10,0)","v":0},{"$f":"IF(AND($S6>7,$S6<=8),$S6*10,0)","v":0},{"$f":"IF(AND($S6>8,$S6<=9),$S6*10,0)","v":0},{"$f":"IF(AND($S6>9,$S6<=10),$S6*10,0)","v":0},{"$f":"IF(AND($S6>10,$S6<=11),$S6*10,0)","v":0},{"$f":"IF(AND($S6>11,$S6<=12),$S6*10,0)","v":0},{"$f":"IF(AND($S6>12,$S6<=13),$S6*10,0)","v":0},{"$f":"IF(AND($S6>13,$S6<=14),$S6*10,0)","v":0},{"$f":"IF(AND($S6>14,$S6<=15),$S6*10,0)","v":0},{"$f":"IF(AND($S6>15,$S6<=16),$S6*10,0)","v":0},{"$f":"IF(AND($S6>16,$S6<=17),$S6*10,0)","v":0},{"$f":"IF(AND($S6>17,$S6<=18),$S6*10,0)","v":0},{"$f":"IF(AND($S6>18,$S6<=19),$S6*10,0)","v":0},{"$f":"IF(AND($S6>19,$S6<=20),$S6*10,0)","v":0},{"$f":"IF(AND($S6>20,$S6<=21),$S6*10,0)","v":0},{"$f":"IF(AND($S6>21,$S6<=22),$S6*10,0)","v":0},{"$f":"IF(AND($S6>22,$S6<=23),$S6*10,0)","v":0},{"$f":"IF(AND($S6>23,$S6<=24),$S6*10,0)","v":0},{"$f":"IF(AND($S6>24,$S6<=25),$S6*10,0)","v":0},{"$f":"IF(AND($S6>25,$S6<=26),$S6*10,0)","v":0},{"$f":"IF(AND($S6>26,$S6<=27),$S6*10,0)","v":0},{"$f":"IF(AND($S6>27,$S6<=28),$S6*10,0)","v":0},{"$f":"IF(AND($S6>28,$S6<=29),$S6*10,0)","v":0},{"$f":"IF(AND($S6>29,$S6<=30),$S6*10,0)","v":0},{"$f":"IF($T6<=1,$T6*10,0)","v":0},{"$f":"IF(AND($T6>1,$T6<=2),$T6*10,0)","v":0},{"$f":"IF(AND($T6>2,$T6<=3),$T6*10,0)","v":0},{"$f":"IF(AND($T6>3,$T6<=4),$T6*10,0)","v":0},{"$f":"IF(AND($T6>4,$T6<=5),$T6*10,0)","v":0},{"$f":"IF(AND($T6>5,$T6<=6),$T6*10,0)","v":0},{"$f":"IF(AND($T6>6,$T6<=7),$T6*10,0)","v":0},{"$f":"IF(AND($T6>7,$T6<=8),$T6*10,0)","v":0},{"$f":"IF(AND($T6>8,$T6<=9),$T6*10,0)","v":0},{"$f":"IF(AND($T6>9,$T6<=10),$T6*10,0)","v":0},{"$f":"IF(AND($T6>10,$T6<=11),$T6*10,0)","v":0},{"$f":"IF(AND($T6>11,$T6<=12),$T6*10,0)","v":0},{"$f":"IF(AND($T6>12,$T6<=13),$T6*10,0)","v":0},{"$f":"IF(AND($T6>13,$T6<=14),$T6*10,0)","v":0},{"$f":"IF(AND($T6>14,$T6<=15),$T6*10,0)","v":0},{"$f":"IF(AND($T6>15,$T6<=16),$T6*10,0)","v":0},{"$f":"IF(AND($T6>16,$T6<=17),$T6*10,0)","v":0},{"$f":"IF(AND($T6>17,$T6<=18),$T6*10,0)","v":0},{"$f":"IF(AND($T6>18,$T6<=19),$T6*10,0)","v":0},{"$f":"IF(AND($T6>19,$T6<=20),$T6*10,0)","v":0},{"$f":"IF(AND($T6>20,$T6<=21),$T6*10,0)","v":0},{"$f":"IF(AND($T6>21,$T6<=22),$T6*10,0)","v":0},{"$f":"IF(AND($T6>22,$T6<=23),$T6*10,0)","v":0},{"$f":"IF(AND($T6>23,$T6<=24),$T6*10,0)","v":0},{"$f":"IF(AND($T6>24,$T6<=25),$T6*10,0)","v":0},{"$f":"IF(AND($T6>25,$T6<=26),$T6*10,0)","v":0},{"$f":"IF(AND($T6>26,$T6<=27),$T6*10,0)","v":0},{"$f":"IF(AND($T6>27,$T6<=28),$T6*10,0)","v":0},{"$f":"IF(AND($T6>28,$T6<=29),$T6*10,0)","v":0},{"$f":"IF(AND($T6>29,$T6<=30),$T6*10,0)","v":0},{"$f":"IF($U6<=1,$U6*10,0)","v":0},{"$f":"IF(AND($U6>1,$U6<=2),$U6*10,0)","v":0},{"$f":"IF(AND($U6>2,$U6<=3),$U6*10,0)","v":0},{"$f":"IF(AND($U6>3,$U6<=4),$U6*10,0)","v":0},{"$f":"IF(AND($U6>4,$U6<=5),$U6*10,0)","v":0},{"$f":"IF(AND($U6>5,$U6<=6),$U6*10,0)","v":0},{"$f":"IF(AND($U6>6,$U6<=7),$U6*10,0)","v":0},{"$f":"IF(AND($U6>7,$U6<=8),$U6*10,0)","v":0},{"$f":"IF(AND($U6>8,$U6<=9),$U6*10,0)","v":0},{"$f":"IF(AND($U6>9,$U6<=10),$U6*10,0)","v":0},{"$f":"IF(AND($U6>10,$U6<=11),$U6*10,0)","v":0},{"$f":"IF(AND($U6>11,$U6<=12),$U6*10,0)","v":0},{"$f":"IF(AND($U6>12,$U6<=13),$U6*10,0)","v":0},{"$f":"IF(AND($U6>13,$U6<=14),$U6*10,0)","v":0},{"$f":"IF(AND($U6>14,$U6<=15),$U6*10,0)","v":0},{"$f":"IF(AND($U6>15,$U6<=16),$U6*10,0)","v":0},{"$f":"IF(AND($U6>16,$U6<=17),$U6*10,0)","v":0},{"$f":"IF(AND($U6>17,$U6<=18),$U6*10,0)","v":0},{"$f":"IF(AND($U6>18,$U6<=19),$U6*10,0)","v":0},{"$f":"IF(AND($U6>19,$U6<=20),$U6*10,0)","v":0},{"$f":"IF(AND($U6>20,$U6<=21),$U6*10,0)","v":0},{"$f":"IF(AND($U6>21,$U6<=22),$U6*10,0)","v":0},{"$f":"IF(AND($U6>22,$U6<=23),$U6*10,0)","v":0},{"$f":"IF(AND($U6>23,$U6<=24),$U6*10,0)","v":0},{"$f":"IF(AND($U6>24,$U6<=25),$U6*10,0)","v":0},{"$f":"IF(AND($U6>25,$U6<=26),$U6*10,0)","v":0},{"$f":"IF(AND($U6>26,$U6<=27),$U6*10,0)","v":0},{"$f":"IF(AND($U6>27,$U6<=28),$U6*10,0)","v":0},{"$f":"IF(AND($U6>28,$U6<=29),$U6*10,0)","v":0},{"$f":"IF(AND($U6>29,$U6<=30),$U6*10,0)","v":0},{"$f":"IF($V6<=1,$V6*10,0)","v":0},{"$f":"IF(AND($V6>1,$V6<=2),$V6*10,0)","v":0},{"$f":"IF(AND($V6>2,$V6<=3),$V6*10,0)","v":0},{"$f":"IF(AND($V6>3,$V6<=4),$V6*10,0)","v":0},{"$f":"IF(AND($V6>4,$V6<=5),$V6*10,0)","v":0},{"$f":"IF(AND($V6>5,$V6<=6),$V6*10,0)","v":0},{"$f":"IF(AND($V6>6,$V6<=7),$V6*10,0)","v":0},{"$f":"IF(AND($V6>7,$V6<=8),$V6*10,0)","v":0},{"$f":"IF(AND($V6>8,$V6<=9),$V6*10,0)","v":0},{"$f":"IF(AND($V6>9,$V6<=10),$V6*10,0)","v":0},{"$f":"IF(AND($V6>10,$V6<=11),$V6*10,0)","v":0},{"$f":"IF(AND($V6>11,$V6<=12),$V6*10,0)","v":0},{"$f":"IF(AND($V6>12,$V6<=13),$V6*10,0)","v":0},{"$f":"IF(AND($V6>13,$V6<=14),$V6*10,0)","v":0},{"$f":"IF(AND($V6>14,$V6<=15),$V6*10,0)","v":0},{"$f":"IF(AND($V6>15,$V6<=16),$V6*10,0)","v":0},{"$f":"IF(AND($V6>16,$V6<=17),$V6*10,0)","v":0},{"$f":"IF(AND($V6>17,$V6<=18),$V6*10,0)","v":0},{"$f":"IF(AND($V6>18,$V6<=19),$V6*10,0)","v":0},{"$f":"IF(AND($V6>19,$V6<=20),$V6*10,0)","v":0},{"$f":"IF(AND($V6>20,$V6<=21),$V6*10,0)","v":0},{"$f":"IF(AND($V6>21,$V6<=22),$V6*10,0)","v":0},{"$f":"IF(AND($V6>22,$V6<=23),$V6*10,0)","v":0},{"$f":"IF(AND($V6>23,$V6<=24),$V6*10,0)","v":0},{"$f":"IF(AND($V6>24,$V6<=25),$V6*10,0)","v":0},{"$f":"IF(AND($V6>25,$V6<=26),$V6*10,0)","v":0},{"$f":"IF(AND($V6>26,$V6<=27),$V6*10,0)","v":0},{"$f":"IF(AND($V6>27,$V6<=28),$V6*10,0)","v":0},{"$f":"IF(AND($V6>28,$V6<=29),$V6*10,0)","v":0},{"$f":"IF(AND($V6>29,$V6<=30),$V6*10,0)","v":0},{"$f":"IF($W6<=1,$W6*10,0)","v":0},{"$f":"IF(AND($W6>1,$W6<=2),$W6*10,0)","v":0},{"$f":"IF(AND($W6>2,$W6<=3),$W6*10,0)","v":0},{"$f":"IF(AND($W6>3,$W6<=4),$W6*10,0)","v":0},{"$f":"IF(AND($W6>4,$W6<=5),$W6*10,0)","v":0},{"$f":"IF(AND($W6>5,$W6<=6),$W6*10,0)","v":0},{"$f":"IF(AND($W6>6,$W6<=7),$W6*10,0)","v":0},{"$f":"IF(AND($W6>7,$W6<=8),$W6*10,0)","v":0},{"$f":"IF(AND($W6>8,$W6<=9),$W6*10,0)","v":0},{"$f":"IF(AND($W6>9,$W6<=10),$W6*10,0)","v":0},{"$f":"IF(AND($W6>10,$W6<=11),$W6*10,0)","v":0},{"$f":"IF(AND($W6>11,$W6<=12),$W6*10,0)","v":0},{"$f":"IF(AND($W6>12,$W6<=13),$W6*10,0)","v":0},{"$f":"IF(AND($W6>13,$W6<=14),$W6*10,0)","v":0},{"$f":"IF(AND($W6>14,$W6<=15),$W6*10,0)","v":0},{"$f":"IF(AND($W6>15,$W6<=16),$W6*10,0)","v":0},{"$f":"IF(AND($W6>16,$W6<=17),$W6*10,0)","v":0},{"$f":"IF(AND($W6>17,$W6<=18),$W6*10,0)","v":0},{"$f":"IF(AND($W6>18,$W6<=19),$W6*10,0)","v":0},{"$f":"IF(AND($W6>19,$W6<=20),$W6*10,0)","v":0},{"$f":"IF(AND($W6>20,$W6<=21),$W6*10,0)","v":0},{"$f":"IF(AND($W6>21,$W6<=22),$W6*10,0)","v":0},{"$f":"IF(AND($W6>22,$W6<=23),$W6*10,0)","v":0},{"$f":"IF(AND($W6>23,$W6<=24),$W6*10,0)","v":0},{"$f":"IF(AND($W6>24,$W6<=25),$W6*10,0)","v":0},{"$f":"IF(AND($W6>25,$W6<=26),$W6*10,0)","v":0},{"$f":"IF(AND($W6>26,$W6<=27),$W6*10,0)","v":0},{"$f":"IF(AND($W6>27,$W6<=28),$W6*10,0)","v":0},{"$f":"IF(AND($W6>28,$W6<=29),$W6*10,0)","v":0},{"$f":"IF(AND($W6>29,$W6<=30),$W6*10,0)","v":0},{"$f":"IF($X6<=1,$X6*10,0)","v":0},{"$f":"IF(AND($X6>1,$X6<=2),$X6*10,0)","v":0},{"$f":"IF(AND($X6>2,$X6<=3),$X6*10,0)","v":0},{"$f":"IF(AND($X6>3,$X6<=4),$X6*10,0)","v":0},{"$f":"IF(AND($X6>4,$X6<=5),$X6*10,0)","v":0},{"$f":"IF(AND($X6>5,$X6<=6),$X6*10,0)","v":0},{"$f":"IF(AND($X6>6,$X6<=7),$X6*10,0)","v":0},{"$f":"IF(AND($X6>7,$X6<=8),$X6*10,0)","v":0},{"$f":"IF(AND($X6>8,$X6<=9),$X6*10,0)","v":0},{"$f":"IF(AND($X6>9,$X6<=10),$X6*10,0)","v":0},{"$f":"IF(AND($X6>10,$X6<=11),$X6*10,0)","v":0},{"$f":"IF(AND($X6>11,$X6<=12),$X6*10,0)","v":0},{"$f":"IF(AND($X6>12,$X6<=13),$X6*10,0)","v":0},{"$f":"IF(AND($X6>13,$X6<=14),$X6*10,0)","v":0},{"$f":"IF(AND($X6>14,$X6<=15),$X6*10,0)","v":0},{"$f":"IF(AND($X6>15,$X6<=16),$X6*10,0)","v":0},{"$f":"IF(AND($X6>16,$X6<=17),$X6*10,0)","v":0},{"$f":"IF(AND($X6>17,$X6<=18),$X6*10,0)","v":0},{"$f":"IF(AND($X6>18,$X6<=19),$X6*10,0)","v":0},{"$f":"IF(AND($X6>19,$X6<=20),$X6*10,0)","v":0},{"$f":"IF(AND($X6>20,$X6<=21),$X6*10,0)","v":0},{"$f":"IF(AND($X6>21,$X6<=22),$X6*10,0)","v":0},{"$f":"IF(AND($X6>22,$X6<=23),$X6*10,0)","v":0},{"$f":"IF(AND($X6>23,$X6<=24),$X6*10,0)","v":0},{"$f":"IF(AND($X6>24,$X6<=25),$X6*10,0)","v":0},{"$f":"IF(AND($X6>25,$X6<=26),$X6*10,0)","v":0},{"$f":"IF(AND($X6>26,$X6<=27),$X6*10,0)","v":0},{"$f":"IF(AND($X6>27,$X6<=28),$X6*10,0)","v":0},{"$f":"IF(AND($X6>28,$X6<=29),$X6*10,0)","v":0},{"$f":"IF(AND($X6>29,$X6<=30),$X6*10,0)","v":0},{"$f":"IF($Y6<=1,$Y6*10,0)","v":0},{"$f":"IF(AND($Y6>1,$Y6<=2),$Y6*10,0)","v":0},{"$f":"IF(AND($Y6>2,$Y6<=3),$Y6*10,0)","v":0},{"$f":"IF(AND($Y6>3,$Y6<=4),$Y6*10,0)","v":0},{"$f":"IF(AND($Y6>4,$Y6<=5),$Y6*10,0)","v":0},{"$f":"IF(AND($Y6>5,$Y6<=6),$Y6*10,0)","v":0},{"$f":"IF(AND($Y6>6,$Y6<=7),$Y6*10,0)","v":0},{"$f":"IF(AND($Y6>7,$Y6<=8),$Y6*10,0)","v":0},{"$f":"IF(AND($Y6>8,$Y6<=9),$Y6*10,0)","v":0},{"$f":"IF(AND($Y6>9,$Y6<=10),$Y6*10,0)","v":0},{"$f":"IF(AND($Y6>10,$Y6<=11),$Y6*10,0)","v":0},{"$f":"IF(AND($Y6>11,$Y6<=12),$Y6*10,0)","v":0},{"$f":"IF(AND($Y6>12,$Y6<=13),$Y6*10,0)","v":0},{"$f":"IF(AND($Y6>13,$Y6<=14),$Y6*10,0)","v":0},{"$f":"IF(AND($Y6>14,$Y6<=15),$Y6*10,0)","v":0},{"$f":"IF(AND($Y6>15,$Y6<=16),$Y6*10,0)","v":0},{"$f":"IF(AND($Y6>16,$Y6<=17),$Y6*10,0)","v":0},{"$f":"IF(AND($Y6>17,$Y6<=18),$Y6*10,0)","v":0},{"$f":"IF(AND($Y6>18,$Y6<=19),$Y6*10,0)","v":0},{"$f":"IF(AND($Y6>19,$Y6<=20),$Y6*10,0)","v":0},{"$f":"IF(AND($Y6>20,$Y6<=21),$Y6*10,0)","v":0},{"$f":"IF(AND($Y6>21,$Y6<=22),$Y6*10,0)","v":0},{"$f":"IF(AND($Y6>22,$Y6<=23),$Y6*10,0)","v":0},{"$f":"IF(AND($Y6>23,$Y6<=24),$Y6*10,0)","v":0},{"$f":"IF(AND($Y6>24,$Y6<=25),$Y6*10,0)","v":0},{"$f":"IF(AND($Y6>25,$Y6<=26),$Y6*10,0)","v":0},{"$f":"IF(AND($Y6>26,$Y6<=27),$Y6*10,0)","v":0},{"$f":"IF(AND($Y6>27,$Y6<=28),$Y6*10,0)","v":0},{"$f":"IF(AND($Y6>28,$Y6<=29),$Y6*10,0)","v":0},{"$f":"IF(AND($Y6>29,$Y6<=30),$Y6*10,0)","v":0},{"$f":"IF(AND($Y6>30,$Y6<=31),$Y6*10,0)","v":0},{"$f":"IF(AND($Y6>31,$Y6<=32),$Y6*10,0)","v":0},{"$f":"IF(AND($Y6>32,$Y6<=33),$Y6*10,0)","v":0},{"$f":"IF(AND($Y6>33,$Y6<=34),$Y6*10,0)","v":0},{"$f":"IF(AND($Y6>34,$Y6<=35),$Y6*10,0)","v":0},{"$f":"IF($Z6<=1,$Z6*10,0)","v":0},{"$f":"IF(AND($Z6>1,$Z6<=2),$Z6*10,0)","v":0},{"$f":"IF(AND($Z6>2,$Z6<=3),$Z6*10,0)","v":0},{"$f":"IF(AND($Z6>3,$Z6<=4),$Z6*10,0)","v":0},{"$f":"IF(AND($Z6>4,$Z6<=5),$Z6*10,0)","v":0},{"$f":"IF(AND($Z6>5,$Z6<=6),$Z6*10,0)","v":0},{"$f":"IF(AND($Z6>6,$Z6<=7),$Z6*10,0)","v":0},{"$f":"IF(AND($Z6>7,$Z6<=8),$Z6*10,0)","v":0},{"$f":"IF(AND($Z6>8,$Z6<=9),$Z6*10,0)","v":0},{"$f":"IF(AND($Z6>9,$Z6<=10),$Z6*10,0)","v":0},{"$f":"IF(AND($Z6>10,$Z6<=11),$Z6*10,0)","v":0},{"$f":"IF(AND($Z6>11,$Z6<=12),$Z6*10,0)","v":0},{"$f":"IF(AND($Z6>12,$Z6<=13),$Z6*10,0)","v":0},{"$f":"IF(AND($Z6>13,$Z6<=14),$Z6*10,0)","v":0},{"$f":"IF(AND($Z6>14,$Z6<=15),$Z6*10,0)","v":0},{"$f":"IF(AND($Z6>15,$Z6<=16),$Z6*10,0)","v":0},{"$f":"IF(AND($Z6>16,$Z6<=17),$Z6*10,0)","v":0},{"$f":"IF(AND($Z6>17,$Z6<=18),$Z6*10,0)","v":0},{"$f":"IF(AND($Z6>18,$Z6<=19),$Z6*10,0)","v":0},{"$f":"IF(AND($Z6>19,$Z6<=20),$Z6*10,0)","v":0},{"$f":"IF(AND($Z6>20,$Z6<=21),$Z6*10,0)","v":0},{"$f":"IF(AND($Z6>21,$Z6<=22),$Z6*10,0)","v":0},{"$f":"IF(AND($Z6>22,$Z6<=23),$Z6*10,0)","v":0},{"$f":"IF(AND($Z6>23,$Z6<=24),$Z6*10,0)","v":0},{"$f":"IF(AND($Z6>24,$Z6<=25),$Z6*10,0)","v":0},{"$f":"IF(AND($Z6>25,$Z6<=26),$Z6*10,0)","v":0},{"$f":"IF(AND($Z6>26,$Z6<=27),$Z6*10,0)","v":0},{"$f":"IF(AND($Z6>27,$Z6<=28),$Z6*10,0)","v":0},{"$f":"IF(AND($Z6>28,$Z6<=29),$Z6*10,0)","v":0},{"$f":"IF(AND($Z6>29,$Z6<=30),$Z6*10,0)","v":0},{"$f":"IF(AND($Z6>30,$Z6<=31),$Z6*10,0)","v":0},{"$f":"IF(AND($Z6>31,$Z6<=32),$Z6*10,0)","v":0},{"$f":"IF(AND($Z6>32,$Z6<=33),$Z6*10,0)","v":0},{"$f":"IF(AND($Z6>33,$Z6<=34),$Z6*10,0)","v":0},{"$f":"IF(AND($Z6>34,$Z6<=35),$Z6*10,0)","v":0},{"$f":"IF($AA6<=1,$AA6*10,0)","v":0},{"$f":"IF(AND($AA6>1,$AA6<=2),$AA6*10,0)","v":0},{"$f":"IF(AND($AA6>2,$AA6<=3),$AA6*10,0)","v":0},{"$f":"IF(AND($AA6>3,$AA6<=4),$AA6*10,0)","v":0},{"$f":"IF(AND($AA6>4,$AA6<=5),$AA6*10,0)","v":0},{"$f":"IF(AND($AA6>5,$AA6<=6),$AA6*10,0)","v":0},{"$f":"IF(AND($AA6>6,$AA6<=7),$AA6*10,0)","v":0},{"$f":"IF(AND($AA6>7,$AA6<=8),$AA6*10,0)","v":0},{"$f":"IF(AND($AA6>8,$AA6<=9),$AA6*10,0)","v":0},{"$f":"IF(AND($AA6>9,$AA6<=10),$AA6*10,0)","v":0},{"$f":"IF(AND($AA6>10,$AA6<=11),$AA6*10,0)","v":0},{"$f":"IF(AND($AA6>11,$AA6<=12),$AA6*10,0)","v":0},{"$f":"IF(AND($AA6>12,$AA6<=13),$AA6*10,0)","v":0},{"$f":"IF(AND($AA6>13,$AA6<=14),$AA6*10,0)","v":0},{"$f":"IF(AND($AA6>14,$AA6<=15),$AA6*10,0)","v":0},{"$f":"IF(AND($AA6>15,$AA6<=16),$AA6*10,0)","v":0},{"$f":"IF(AND($AA6>16,$AA6<=17),$AA6*10,0)","v":0},{"$f":"IF(AND($AA6>17,$AA6<=18),$AA6*10,0)","v":0},{"$f":"IF(AND($AA6>18,$AA6<=19),$AA6*10,0)","v":0},{"$f":"IF(AND($AA6>19,$AA6<=20),$AA6*10,0)","v":0},{"$f":"IF(AND($AA6>20,$AA6<=21),$AA6*10,0)","v":0},{"$f":"IF(AND($AA6>21,$AA6<=22),$AA6*10,0)","v":0},{"$f":"IF(AND($AA6>22,$AA6<=23),$AA6*10,0)","v":0},{"$f":"IF(AND($AA6>23,$AA6<=24),$AA6*10,0)","v":0},{"$f":"IF(AND($AA6>24,$AA6<=25),$AA6*10,0)","v":0},{"$f":"IF(AND($AA6>25,$AA6<=26),$AA6*10,0)","v":0},{"$f":"IF(AND($AA6>26,$AA6<=27),$AA6*10,0)","v":0},{"$f":"IF(AND($AA6>27,$AA6<=28),$AA6*10,0)","v":0},{"$f":"IF(AND($AA6>28,$AA6<=29),$AA6*10,0)","v":0},{"$f":"IF(AND($AA6>29,$AA6<=30),$AA6*10,0)","v":0},{"$f":"IF(AND($AA6>30,$AA6<=31),$AA6*10,0)","v":0},{"$f":"IF(AND($AA6>31,$AA6<=32),$AA6*10,0)","v":0},{"$f":"IF(AND($AA6>32,$AA6<=33),$AA6*10,0)","v":0},{"$f":"IF(AND($AA6>33,$AA6<=34),$AA6*10,0)","v":0},{"$f":"IF(AND($AA6>34,$AA6<=35),$AA6*10,0)","v":0},{"$f":"IF($AB6<=1,$AB6*10,0)","v":0},{"$f":"IF(AND($AB6>1,$AB6<=2),$AB6*10,0)","v":0},{"$f":"IF(AND($AB6>2,$AB6<=3),$AB6*10,0)","v":0},{"$f":"IF(AND($AB6>3,$AB6<=4),$AB6*10,0)","v":0},{"$f":"IF(AND($AB6>4,$AB6<=5),$AB6*10,0)","v":0},{"$f":"IF(AND($AB6>5,$AB6<=6),$AB6*10,0)","v":0},{"$f":"IF(AND($AB6>6,$AB6<=7),$AB6*10,0)","v":0},{"$f":"IF(AND($AB6>7,$AB6<=8),$AB6*10,0)","v":0},{"$f":"IF(AND($AB6>8,$AB6<=9),$AB6*10,0)","v":0},{"$f":"IF(AND($AB6>9,$AB6<=10),$AB6*10,0)","v":0},{"$f":"IF(AND($AB6>10,$AB6<=11),$AB6*10,0)","v":0},{"$f":"IF(AND($AB6>11,$AB6<=12),$AB6*10,0)","v":0},{"$f":"IF(AND($AB6>12,$AB6<=13),$AB6*10,0)","v":0},{"$f":"IF(AND($AB6>13,$AB6<=14),$AB6*10,0)","v":0},{"$f":"IF(AND($AB6>14,$AB6<=15),$AB6*10,0)","v":0},{"$f":"IF(AND($AB6>15,$AB6<=16),$AB6*10,0)","v":0},{"$f":"IF(AND($AB6>16,$AB6<=17),$AB6*10,0)","v":0},{"$f":"IF(AND($AB6>17,$AB6<=18),$AB6*10,0)","v":0},{"$f":"IF(AND($AB6>18,$AB6<=19),$AB6*10,0)","v":0},{"$f":"IF(AND($AB6>19,$AB6<=20),$AB6*10,0)","v":0},{"$f":"IF(AND($AB6>20,$AB6<=21),$AB6*10,0)","v":0},{"$f":"IF(AND($AB6>21,$AB6<=22),$AB6*10,0)","v":0},{"$f":"IF(AND($AB6>22,$AB6<=23),$AB6*10,0)","v":0},{"$f":"IF(AND($AB6>23,$AB6<=24),$AB6*10,0)","v":0},{"$f":"IF(AND($AB6>24,$AB6<=25),$AB6*10,0)","v":0},{"$f":"IF(AND($AB6>25,$AB6<=26),$AB6*10,0)","v":0},{"$f":"IF(AND($AB6>26,$AB6<=27),$AB6*10,0)","v":0},{"$f":"IF(AND($AB6>27,$AB6<=28),$AB6*10,0)","v":0},{"$f":"IF(AND($AB6>28,$AB6<=29),$AB6*10,0)","v":0},{"$f":"IF(AND($AB6>29,$AB6<=30),$AB6*10,0)","v":0},{"$f":"IF(AND($AB6>30,$AB6<=31),$AB6*10,0)","v":0},{"$f":"IF(AND($AB6>31,$AB6<=32),$AB6*10,0)","v":0},{"$f":"IF(AND($AB6>32,$AB6<=33),$AB6*10,0)","v":0},{"$f":"IF(AND($AB6>33,$AB6<=34),$AB6*10,0)","v":0},{"$f":"IF(AND($AB6>34,$AB6<=35),$AB6*10,0)","v":0},null,null,20,{"$f":"AE$1006+BI$1006","v":0},{"$f":"(UQ6/$UQ$35)*100","v":0},20,{"$f":"CM$1006+DQ$1006","v":0},{"$f":"(UT6/$UT$35)*100","v":0},20,{"$f":"KO$1006+LS$1006+MW$1006+OA$1006","v":0},{"$f":"(UW6/$UW$35)*100","v":0},20,{"$f":"EU$1006+FY$1006+HC$1006+IG$1006","v":0},{"$f":"(UZ6/$UZ$35)*100","v":0},20,{"$f":"PE$1006+QN$1006","v":0},{"$f":"(VC6/$VC$40)*100","v":0},20,{"$f":"RW$1006+TF$1006","v":0},{"$f":"(VF6/$VF$40)*100","v":0}]
[2,{"$f":"'11 Axle Loads Direction 2-SS'!B7","v":3},{"$f":"'11 Axle Loads Direction 2-SS'!C7","v":0},{"$f":"'11 Axle Loads Direction 2-SS'!D7","v":0},{"$f":"'11 Axle Loads Direction 2-SS'!E7","v":0},{"$f":"'11 Axle Loads Direction 2-SS'!F7","v":0},{"$f":"'11 Axle Loads Direction 2-SS'!G7","v":0},{"$f":"'11 Axle Loads Direction 2-SS'!H7","v":0},{"$f":"'11 Axle Loads Direction 2-SS'!I7","v":0},{"$f":"'11 Axle Loads Direction 2-SS'!J7","v":0},{"$f":"'11 Axle Loads Direction 2-SS'!K7","v":0},0,0,0,0,0,0,0,0,0,0,0,0,0,0,0,0,0,null,0,0,0,0,0,0,0,0,0,0,0,0,0,0,0,0,0,0,0,0,0,0,0,0,0,0,0,0,0,0,0,0,0,0,0,0,0,0,0,0,0,0,0,0,0,0,0,0,0,0,0,0,0,0,0,0,0,0,0,0,0,0,0,0,0,0,0,0,0,0,0,0,0,0,0,0,0,0,0,0,0,0,0,0,0,0,0,0,0,0,0,0,0,0,0,0,0,0,0,0,0,0,0,0,0,0,0,0,0,0,0,0,0,0,0,0,0,0,0,0,0,0,0,0,0,0,0,0,0,0,0,0,0,0,0,0,0,0,0,0,0,0,0,0,0,0,0,0,0,0,0,0,0,0,0,0,0,0,0,0,0,0,0,0,0,0,0,0,0,0,0,0,0,0,0,0,0,0,0,0,0,0,0,0,0,0,0,0,0,0,0,0,0,0,0,0,0,0,0,0,0,0,0,0,0,0,0,0,0,0,0,0,0,0,0,0,0,0,0,0,0,0,0,0,0,0,0,0,0,0,0,0,0,0,0,0,0,0,0,0,0,0,0,0,0,0,0,0,0,0,0,0,0,0,0,0,0,0,0,0,0,0,0,0,0,0,0,0,0,0,0,0,0,0,0,0,0,0,0,0,0,0,0,0,0,0,0,0,0,0,0,0,0,0,0,0,0,0,0,0,0,0,0,0,0,0,0,0,0,0,0,0,0,0,0,0,0,0,0,0,0,0,0,0,0,0,0,0,0,0,0,0,0,0,0,0,0,0,0,0,0,0,0,0,0,0,0,0,0,0,0,0,0,0,0,0,0,0,0,0,0,0,0,0,0,0,0,0,0,0,0,0,0,0,0,0,0,0,0,0,0,0,0,0,0,0,0,0,0,0,0,0,0,0,0,0,0,0,0,0,0,0,0,0,0,0,0,0,0,0,0,0,0,0,0,0,0,0,0,0,0,0,0,0,0,0,0,0,0,0,0,0,0,0,0,0,0,0,0,0,0,0,0,0,0,0,0,0,0,0,0,0,0,0,0,0,0,0,0,0,0,0,0,0,0,0,0,0,0,0,0,0,0,0,0,0,0,0,0,0,0,0,0,0,0,0,0,0,0,0,0,0,0,0,0,0,0,0,0,0,0,0,0,0,0,0,0,0,0,0,0,0,0,0,0,0,0,0,0,0,0,0,0,0,0,0,0,0,0,0,null,null,30,{"$f":"AF$1006+BJ$1006","v":0},0,30,{"$f":"CN$1006+DR$1006","v":0},0,30,{"$f":"KP$1006+LT$1006+MX$1006+OB$1006","v":0},0,30,{"$f":"EV$1006+FZ$1006+HD$1006+IH$1006","v":0},0,30,{"$f":"PF$1006+QO$1006","v":0},0,30,{"$f":"RX$1006+TG$1006","v":0},0]
[2,{"$f":"'11 Axle Loads Direction 2-SS'!B8","v":3},{"$f":"'11 Axle Loads Direction 2-SS'!C8","v":0},{"$f":"'11 Axle Loads Direction 2-SS'!D8","v":0},{"$f":"'11 Axle Loads Direction 2-SS'!E8","v":0},{"$f":"'11 Axle Loads Direction 2-SS'!F8","v":0},{"$f":"'11 Axle Loads Direction 2-SS'!G8","v":0},{"$f":"'11 Axle Loads Direction 2-SS'!H8","v":0},{"$f":"'11 Axle Loads Direction 2-SS'!I8","v":0},{"$f":"'11 Axle Loads Direction 2-SS'!J8","v":0},{"$f":"'11 Axle Loads Direction 2-SS'!K8","v":0},0,0,0,0,0,0,0,0,0,0,0,0,0,0,0,0,0,null,0,0,0,0,0,0,0,0,0,0,0,0,0,0,0,0,0,0,0,0,0,0,0,0,0,0,0,0,0,0,0,0,0,0,0,0,0,0,0,0,0,0,0,0,0,0,0,0,0,0,0,0,0,0,0,0,0,0,0,0,0,0,0,0,0,0,0,0,0,0,0,0,0,0,0,0,0,0,0,0,0,0,0,0,0,0,0,0,0,0,0,0,0,0,0,0,0,0,0,0,0,0,0,0,0,0,0,0,0,0,0,0,0,0,0,0,0,0,0,0,0,0,0,0,0,0,0,0,0,0,0,0,0,0,0,0,0,0,0,0,0,0,0,0,0,0,0,0,0,0,0,0,0,0,0,0,0,0,0,0,0,0,0,0,0,0,0,0,0,0,0,0,0,0,0,0,0,0,0,0,0,0,0,0,0,0,0,0,0,0,0,0,0,0,0,0,0,0,0,0,0,0,0,0,0,0,0,0,0,0,0,0,0,0,0,0,0,0,0,0,0,0,0,0,0,0,0,0,0,0,0,0,0,0,0,0,0,0,0,0,0,0,0,0,0,0,0,0,0,0,0,0,0,0,0,0,0,0,0,0,0,0,0,0,0,0,0,0,0,0,0,0,0,0,0,0,0,0,0,0,0,0,0,0,0,0,0,0,0,0,0,0,0,0,0,0,0,0,0,0,0,0,0,0,0,0,0,0,0,0,0,0,0,0,0,0,0,0,0,0,0,0,0,0,0,0,0,0,0,0,0,0,0,0,0,0,0,0,0,0,0,0,0,0,0,0,0,0,0,0,0,0,0,0,0,0,0,0,0,0,0,0,0,0,0,0,0,0,0,0,0,0,0,0,0,0,0,0,0,0,0,0,0,0,0,0,0,0,0,0,0,0,0,0,0,0,0,0,0,0,0,0,0,0,0,0,0,0,0,0,0,0,0,0,0,0,0,0,0,0,0,0,0,0,0,0,0,0,0,0,0,0,0,0,0,0,0,0,0,0,0,0,0,0,0,0,0,0,0,0,0,0,0,0,0,0,0,0,0,0,0,0,0,0,0,0,0,0,0,0,0,0,0,0,0,0,0,0,0,0,0,0,0,0,0,0,0,0,0,0,0,0,0,0,0,0,0,0,0,0,0,0,0,0,0,0,0,0,0,0,0,0,0,0,0,0,0,0,0,0,0,0,0,0,0,0,0,0,0,0,null,null,40,{"$f":"AG$1006+BK$1006","v":1600},38.369304556354919,40,{"$f":"CO$1006+DS$1006","v":0},0,40,{"$f":"KQ$1006+LU$1006+MY$1006+OC$1006","v":0},0,40,{"$f":"EW$1006+GA$1006+HE$1006+II$1006","v":0},0,40,{"$f":"PG$1006+QP$1006","v":0},0,40,{"$f":"RY$1006+TH$1006","v":0},0]
[2,{"$f":"'11 Axle Loads Direction 2-SS'!B9","v":3},{"$f":"'11 Axle Loads Direction 2-SS'!C9","v":0},{"$f":"'11 Axle Loads Direction 2-SS'!D9","v":0},{"$f":"'11 Axle Loads Direction 2-SS'!E9","v":0},{"$f":"'11 Axle Loads Direction 2-SS'!F9","v":0},{"$f":"'11 Axle Loads Direction 2-SS'!G9","v":0},{"$f":"'11 Axle Loads Direction 2-SS'!H9","v":0},{"$f":"'11 Axle Loads Direction 2-SS'!I9","v":0},{"$f":"'11 Axle Loads Direction 2-SS'!J9","v":0},{"$f":"'11 Axle Loads Direction 2-SS'!K9","v":0},0,0,0,0,0,0,0,0,0,0,0,0,0,0,0,0,0,null,0,0,0,0,0,0,0,0,0,0,0,0,0,0,0,0,0,0,0,0,0,0,0,0,0,0,0,0,0,0,0,0,0,0,0,0,0,0,0,0,0,0,0,0,0,0,0,0,0,0,0,0,0,0,0,0,0,0,0,0,0,0,0,0,0,0,0,0,0,0,0,0,0,0,0,0,0,0,0,0,0,0,0,0,0,0,0,0,0,0,0,0,0,0,0,0,0,0,0,0,0,0,0,0,0,0,0,0,0,0,0,0,0,0,0,0,0,0,0,0,0,0,0,0,0,0,0,0,0,0,0,0,0,0,0,0,0,0,0,0,0,0,0,0,0,0,0,0,0,0,0,0,0,0,0,0,0,0,0,0,0,0,0,0,0,0,0,0,0,0,0,0,0,0,0,0,0,0,0,0,0,0,0,0,0,0,0,0,0,0,0,0,0,0,0,0,0,0,0,0,0,0,0,0,0,0,0,0,0,0,0,0,0,0,0,0,0,0,0,0,0,0,0,0,0,0,0,0,0,0,0,0,0,0,0,0,0,0,0,0,0,0,0,0,0,0,0,0,0,0,0,0,0,0,0,0,0,0,0,0,0,0,0,0,0,0,0,0,0,0,0,0,0,0,0,0,0,0,0,0,0,0,0,0,0,0,0,0,0,0,0,0,0,0,0,0,0,0,0,0,0,0,0,0,0,0,0,0,0,0,0,0,0,0,0,0,0,0,0,0,0,0,0,0,0,0,0,0,0,0,0,0,0,0,0,0,0,0,0,0,0,0,0,0,0,0,0,0,0,0,0,0,0,0,0,0,0,0,0,0,0,0,0,0,0,0,0,0,0,0,0,0,0,0,0,0,0,0,0,0,0,0,0,0,0,0,0,0,0,0,0,0,0,0,0,0,0,0,0,0,0,0,0,0,0,0,0,0,0,0,0,0,0,0,0,0,0,0,0,0,0,0,0,0,0,0,0,0,0,0,0,0,0,0,0,0,0,0,0,0,0,0,0,0,0,0,0,0,0,0,0,0,0,0,0,0,0,0,0,0,0,0,0,0,0,0,0,0,0,0,0,0,0,0,0,0,0,0,0,0,0,0,0,0,0,0,0,0,0,0,0,0,0,0,0,0,0,0,0,0,0,0,0,0,0,0,0,0,0,0,0,0,0,0,0,0,0,0,0,0,0,0,0,0,0,0,0,0,0,0,null,null,50,{"$f":"AH$1006+BL$1006","v":700},16.786570743405278,50,{"$f":"CP$1006+DT$1006","v":0},0,50,{"$f":"KR$1006+LV$1006+MZ$1006+OD$1006","v":0},0,50,{"$f":"EX$1006+GB$1006+HF$1006+IJ$1006","v":0},0,50,{"$f":"PH$1006+QQ$1006","v":0},0,50,{"$f":"RZ$1006+TI$1006","v":0},0]
[2,{"$f":"'11 Axle Loads Direction 2-SS'!B10","v":3},{"$f":"'11 Axle Loads Direction 2-SS'!C10","v":0},{"$f":"'11 Axle Loads Direction 2-SS'!D10","v":0},{"$f":"'11 Axle Loads Direction 2-SS'!E10","v":0},{"$f":"'11 Axle Loads Direction 2-SS'!F10","v":0},{"$f":"'11 Axle Loads Direction 2-SS'!G10","v":0},{"$f":"'11 Axle Loads Direction 2-SS'!H10","v":0},{"$f":"'11 Axle Loads Direction 2-SS'!I10","v":0},{"$f":"'11 Axle Loads Direction 2-SS'!J10","v":0},{"$f":"'11 Axle Loads Direction 2-SS'!K10","v":0},0,0,0,0,0,0,0,0,0,0,0,0,0,0,0,0,0,null,0,0,0,0,0,0,0,0,0,0,0,0,0,0,0,0,0,0,0,0,0,0,0,0,0,0,0,0,0,0,0,0,0,0,0,0,0,0,0,0,0,0,0,0,0,0,0,0,0,0,0,0,0,0,0,0,0,0,0,0,0,0,0,0,0,0,0,0,0,0,0,0,0,0,0,0,0,0,0,0,0,0,0,0,0,0,0,0,0,0,0,0,0,0,0,0,0,0,0,0,0,0,0,0,0,0,0,0,0,0,0,0,0,0,0,0,0,0,0,0,0,0,0,0,0,0,0,0,0,0,0,0,0,0,0,0,0,0,0,0,0,0,0,0,0,0,0,0,0,0,0,0,0,0,0,0,0,0,0,0,0,0,0,0,0,0,0,0,0,0,0,0,0,0,0,0,0,0,0,0,0,0,0,0,0,0,0,0,0,0,0,0,0,0,0,0,0,0,0,0,0,0,0,0,0,0,0,0,0,0,0,0,0,0,0,0,0,0,0,0,0,0,0,0,0,0,0,0,0,0,0,0,0,0,0,0,0,0,0,0,0,0,0,0,0,0,0,0,0,0,0,0,0,0,0,0,0,0,0,0,0,0,0,0,0,0,0,0,0,0,0,0,0,0,0,0,0,0,0,0,0,0,0,0,0,0,0,0,0,0,0,0,0,0,0,0,0,0,0,0,0,0,0,0,0,0,0,0,0,0,0,0,0,0,0,0,0,0,0,0,0,0,0,0,0,0,0,0,0,0,0,0,0,0,0,0,0,0,0,0,0,0,0,0,0,0,0,0,0,0,0,0,0,0,0,0,0,0,0,0,0,0,0,0,0,0,0,0,0,0,0,0,0,0,0,0,0,0,0,0,0,0,0,0,0,0,0,0,0,0,0,0,0,0,0,0,0,0,0,0,0,0,0,0,0,0,0,0,0,0,0,0,0,0,0,0,0,0,0,0,0,0,0,0,0,0,0,0,0,0,0,0,0,0,0,0,0,0,0,0,0,0,0,0,0,0,0,0,0,0,0,0,0,0,0,0,0,0,0,0,0,0,0,0,0,0,0,0,0,0,0,0,0,0,0,0,0,0,0,0,0,0,0,0,0,0,0,0,0,0,0,0,0,0,0,0,0,0,0,0,0,0,0,0,0,0,0,0,0,0,0,0,0,0,0,0,0,0,0,0,0,0,0,0,0,0,0,0,0,0,null,null,60,{"$f":"AI$1006+BM$1006","v":1800},43.165467625899282,60,{"$f":"CQ$1006+DU$1006","v":0},0,60,{"$f":"KS$1006+LW$1006+NA$1006+OE$1006","v":0},0,60,{"$f":"EY$1006+GC$1006+HG$1006+IK$1006","v":0},0,60,{"$f":"PI$1006+QR$1006","v":0},0,60,{"$f":"SA$1006+TJ$1006","v":0},0]
[2,{"$f":"'11 Axle Loads Direction 2-SS'!B11","v":3},{"$f":"'11 Axle Loads Direction 2-SS'!C11","v":0},{"$f":"'11 Axle Loads Direction 2-SS'!D11","v":0},{"$f":"'11 Axle Loads Direction 2-SS'!E11","v":0},{"$f":"'11 Axle Loads Direction 2-SS'!F11","v":0},{"$f":"'11 Axle Loads Direction 2-SS'!G11","v":0},{"$f":"'11 Axle Loads Direction 2-SS'!H11","v":0},{"$f":"'11 Axle Loads Direction 2-SS'!I11","v":0},{"$f":"'11 Axle Loads Direction 2-SS'!J11","v":0},{"$f":"'11 Axle Loads Direction 2-SS'!K11","v":0},0,0,0,0,0,0,0,0,0,0,0,0,0,0,0,0,0,null,0,0,0,0,0,0,0,0,0,0,0,0,0,0,0,0,0,0,0,0,0,0,0,0,0,0,0,0,0,0,0,0,0,0,0,0,0,0,0,0,0,0,0,0,0,0,0,0,0,0,0,0,0,0,0,0,0,0,0,0,0,0,0,0,0,0,0,0,0,0,0,0,0,0,0,0,0,0,0,0,0,0,0,0,0,0,0,0,0,0,0,0,0,0,0,0,0,0,0,0,0,0,0,0,0,0,0,0,0,0,0,0,0,0,0,0,0,0,0,0,0,0,0,0,0,0,0,0,0,0,0,0,0,0,0,0,0,0,0,0,0,0,0,0,0,0,0,0,0,0,0,0,0,0,0,0,0,0,0,0,0,0,0,0,0,0,0,0,0,0,0,0,0,0,0,0,0,0,0,0,0,0,0,0,0,0,0,0,0,0,0,0,0,0,0,0,0,0,0,0,0,0,0,0,0,0,0,0,0,0,0,0,0,0,0,0,0,0,0,0,0,0,0,0,0,0,0,0,0,0,0,0,0,0,0,0,0,0,0,0,0,0,0,0,0,0,0,0,0,0,0,0,0,0,0,0,0,0,0,0,0,0,0,0,0,0,0,0,0,0,0,0,0,0,0,0,0,0,0,0,0,0,0,0,0,0,0,0,0,0,0,0,0,0,0,0,0,0,0,0,0,0,0,0,0,0,0,0,0,0,0,0,0,0,0,0,0,0,0,0,0,0,0,0,0,0,0,0,0,0,0,0,0,0,0,0,0,0,0,0,0,0,0,0,0,0,0,0,0,0,0,0,0,0,0,0,0,0,0,0,0,0,0,0,0,0,0,0,0,0,0,0,0,0,0,0,0,0,0,0,0,0,0,0,0,0,0,0,0,0,0,0,0,0,0,0,0,0,0,0,0,0,0,0,0,0,0,0,0,0,0,0,0,0,0,0,0,0,0,0,0,0,0,0,0,0,0,0,0,0,0,0,0,0,0,0,0,0,0,0,0,0,0,0,0,0,0,0,0,0,0,0,0,0,0,0,0,0,0,0,0,0,0,0,0,0,0,0,0,0,0,0,0,0,0,0,0,0,0,0,0,0,0,0,0,0,0,0,0,0,0,0,0,0,0,0,0,0,0,0,0,0,0,0,0,0,0,0,0,0,0,0,0,0,0,0,0,0,0,0,0,0,0,0,0,0,0,0,0,0,null,null,70,{"$f":"AJ$1006+BN$1006","v":70},1.6786570743405276,70,{"$f":"CR$1006+DV$1006","v":0},0,70,{"$f":"KT$1006+LX$1006+NB$1006+OF$1006","v":0},0,70,{"$f":"EZ$1006+GD$1006+HH$1006+IL$1006","v":0},0,70,{"$f":"PJ$1006+QS$1006","v":0},0,70,{"$f":"SB$1006+TK$1006","v":0},0]
[2,{"$f":"'11 Axle Loads Direction 2-SS'!B12","v":"3B"},{"$f":"'11 Axle Loads Direction 2-SS'!C12","v":6},{"$f":"'11 Axle Loads Direction 2-SS'!D12","v":10},{"$f":"'11 Axle Loads Direction 2-SS'!E12","v":8},{"$f":"'11 Axle Loads Direction 2-SS'!F12","v":0},{"$f":"'11 Axle Loads Direction 2-SS'!G12","v":0},{"$f":"'11 Axle Loads Direction 2-SS'!H12","v":0},{"$f":"'11 Axle Loads Direction 2-SS'!I12","v":0},{"$f":"'11 Axle Loads Direction 2-SS'!J12","v":0},{"$f":"'11 Axle Loads Direction 2-SS'!K12","v":0},6,0,10,8,0,0,0,0,0,0,0,0,0,0,0,0,0,null,0,0,0,0,0,60,0,0,0,0,0,0,0,0,0,0,0,0,0,0,0,0,0,0,0,0,0,0,0,0,0,0,0,0,0,0,0,0,0,0,0,0,0,0,0,0,0,0,0,0,0,0,0,0,0,0,0,0,0,0,0,0,0,0,0,0,0,0,0,100,0,0,0,0,0,0,0,0,0,0,0,0,0,0,0,0,0,0,0,0,0,0,0,0,0,0,0,80,0,0,0,0,0,0,0,0,0,0,0,0,0,0,0,0,0,0,0,0,0,0,0,0,0,0,0,0,0,0,0,0,0,0,0,0,0,0,0,0,0,0,0,0,0,0,0,0,0,0,0,0,0,0,0,0,0,0,0,0,0,0,0,0,0,0,0,0,0,0,0,0,0,0,0,0,0,0,0,0,0,0,0,0,0,0,0,0,0,0,0,0,0,0,0,0,0,0,0,0,0,0,0,0,0,0,0,0,0,0,0,0,0,0,0,0,0,0,0,0,0,0,0,0,0,0,0,0,0,0,0,0,0,0,0,0,0,0,0,0,0,0,0,0,0,0,0,0,0,0,0,0,0,0,0,0,0,0,0,0,0,0,0,0,0,0,0,0,0,0,0,0,0,0,0,0,0,0,0,0,0,0,0,0,0,0,0,0,0,0,0,0,0,0,0,0,0,0,0,0,0,0,0,0,0,0,0,0,0,0,0,0,0,0,0,0,0,0,0,0,0,0,0,0,0,0,0,0,0,0,0,0,0,0,0,0,0,0,0,0,0,0,0,0,0,0,0,0,0,0,0,0,0,0,0,0,0,0,0,0,0,0,0,0,0,0,0,0,0,0,0,0,0,0,0,0,0,0,0,0,0,0,0,0,0,0,0,0,0,0,0,0,0,0,0,0,0,0,0,0,0,0,0,0,0,0,0,0,0,0,0,0,0,0,0,0,0,0,0,0,0,0,0,0,0,0,0,0,0,0,0,0,0,0,0,0,0,0,0,0,0,0,0,0,0,0,0,0,0,0,0,0,0,0,0,0,0,0,0,0,0,0,0,0,0,0,0,0,0,0,0,0,0,0,0,0,0,0,0,0,0,0,0,0,0,0,0,0,0,0,0,0,0,0,0,0,0,0,0,0,0,0,0,0,0,0,0,0,0,0,0,0,0,0,0,0,0,0,0,0,0,0,0,0,0,0,0,0,0,0,0,0,null,null,80,{"$f":"AK$1006+BO$1006","v":0},0,80,{"$f":"CS$1006+DW$1006","v":960},61.53846153846154,80,{"$f":"KU$1006+LY$1006+NC$1006+OG$1006","v":0},0,80,{"$f":"FA$1006+GE$1006+HI$1006+IM$1006","v":0},0,80,{"$f":"PK$1006+QT$1006","v":0},0,80,{"$f":"SC$1006+TL$1006","v":0},0]
[2,{"$f":"'11 Axle Loads Direction 2-SS'!B13","v":3},{"$f":"'11 Axle Loads Direction 2-SS'!C13","v":0},{"$f":"'11 Axle Loads Direction 2-SS'!D13","v":0},{"$f":"'11 Axle Loads Direction 2-SS'!E13","v":0},{"$f":"'11 Axle Loads Direction 2-SS'!F13","v":0},{"$f":"'11 Axle Loads Direction 2-SS'!G13","v":0},{"$f":"'11 Axle Loads Direction 2-SS'!H13","v":0},{"$f":"'11 Axle Loads Direction 2-SS'!I13","v":0},{"$f":"'11 Axle Loads Direction 2-SS'!J13","v":0},{"$f":"'11 Axle Loads Direction 2-SS'!K13","v":0},0,0,0,0,0,0,0,0,0,0,0,0,0,0,0,0,0,null,0,0,0,0,0,0,0,0,0,0,0,0,0,0,0,0,0,0,0,0,0,0,0,0,0,0,0,0,0,0,0,0,0,0,0,0,0,0,0,0,0,0,0,0,0,0,0,0,0,0,0,0,0,0,0,0,0,0,0,0,0,0,0,0,0,0,0,0,0,0,0,0,0,0,0,0,0,0,0,0,0,0,0,0,0,0,0,0,0,0,0,0,0,0,0,0,0,0,0,0,0,0,0,0,0,0,0,0,0,0,0,0,0,0,0,0,0,0,0,0,0,0,0,0,0,0,0,0,0,0,0,0,0,0,0,0,0,0,0,0,0,0,0,0,0,0,0,0,0,0,0,0,0,0,0,0,0,0,0,0,0,0,0,0,0,0,0,0,0,0,0,0,0,0,0,0,0,0,0,0,0,0,0,0,0,0,0,0,0,0,0,0,0,0,0,0,0,0,0,0,0,0,0,0,0,0,0,0,0,0,0,0,0,0,0,0,0,0,0,0,0,0,0,0,0,0,0,0,0,0,0,0,0,0,0,0,0,0,0,0,0,0,0,0,0,0,0,0,0,0,0,0,0,0,0,0,0,0,0,0,0,0,0,0,0,0,0,0,0,0,0,0,0,0,0,0,0,0,0,0,0,0,0,0,0,0,0,0,0,0,0,0,0,0,0,0,0,0,0,0,0,0,0,0,0,0,0,0,0,0,0,0,0,0,0,0,0,0,0,0,0,0,0,0,0,0,0,0,0,0,0,0,0,0,0,0,0,0,0,0,0,0,0,0,0,0,0,0,0,0,0,0,0,0,0,0,0,0,0,0,0,0,0,0,0,0,0,0,0,0,0,0,0,0,0,0,0,0,0,0,0,0,0,0,0,0,0,0,0,0,0,0,0,0,0,0,0,0,0,0,0,0,0,0,0,0,0,0,0,0,0,0,0,0,0,0,0,0,0,0,0,0,0,0,0,0,0,0,0,0,0,0,0,0,0,0,0,0,0,0,0,0,0,0,0,0,0,0,0,0,0,0,0,0,0,0,0,0,0,0,0,0,0,0,0,0,0,0,0,0,0,0,0,0,0,0,0,0,0,0,0,0,0,0,0,0,0,0,0,0,0,0,0,0,0,0,0,0,0,0,0,0,0,0,0,0,0,0,0,0,0,0,0,0,0,0,0,0,0,0,0,0,0,0,0,0,0,0,0,0,null,null,90,{"$f":"AL$1006+BP$1006","v":0},0,90,{"$f":"CT$1006+DX$1006","v":0},0,90,{"$f":"KV$1006+LZ$1006+ND$1006+OH$1006","v":0},0,90,{"$f":"FB$1006+GF$1006+HJ$1006+IN$1006","v":0},0,90,{"$f":"PL$1006+QU$1006","v":0},0,90,{"$f":"SD$1006+TM$1006","v":0},0]
[2,{"$f":"'11 Axle Loads Direction 2-SS'!B14","v":3},{"$f":"'11 Axle Loads Direction 2-SS'!C14","v":0},{"$f":"'11 Axle Loads Direction 2-SS'!D14","v":0},{"$f":"'11 Axle Loads Direction 2-SS'!E14","v":0},{"$f":"'11 Axle Loads Direction 2-SS'!F14","v":0},{"$f":"'11 Axle Loads Direction 2-SS'!G14","v":0},{"$f":"'11 Axle Loads Direction 2-SS'!H14","v":0},{"$f":"'11 Axle Loads Direction 2-SS'!I14","v":0},{"$f":"'11 Axle Loads Direction 2-SS'!J14","v":0},{"$f":"'11 Axle Loads Direction 2-SS'!K14","v":0},0,0,0,0,0,0,0,0,0,0,0,0,0,0,0,0,0,null,0,0,0,0,0,0,0,0,0,0,0,0,0,0,0,0,0,0,0,0,0,0,0,0,0,0,0,0,0,0,0,0,0,0,0,0,0,0,0,0,0,0,0,0,0,0,0,0,0,0,0,0,0,0,0,0,0,0,0,0,0,0,0,0,0,0,0,0,0,0,0,0,0,0,0,0,0,0,0,0,0,0,0,0,0,0,0,0,0,0,0,0,0,0,0,0,0,0,0,0,0,0,0,0,0,0,0,0,0,0,0,0,0,0,0,0,0,0,0,0,0,0,0,0,0,0,0,0,0,0,0,0,0,0,0,0,0,0,0,0,0,0,0,0,0,0,0,0,0,0,0,0,0,0,0,0,0,0,0,0,0,0,0,0,0,0,0,0,0,0,0,0,0,0,0,0,0,0,0,0,0,0,0,0,0,0,0,0,0,0,0,0,0,0,0,0,0,0,0,0,0,0,0,0,0,0,0,0,0,0,0,0,0,0,0,0,0,0,0,0,0,0,0,0,0,0,0,0,0,0,0,0,0,0,0,0,0,0,0,0,0,0,0,0,0,0,0,0,0,0,0,0,0,0,0,0,0,0,0,0,0,0,0,0,0,0,0,0,0,0,0,0,0,0,0,0,0,0,0,0,0,0,0,0,0,0,0,0,0,0,0,0,0,0,0,0,0,0,0,0,0,0,0,0,0,0,0,0,0,0,0,0,0,0,0,0,0,0,0,0,0,0,0,0,0,0,0,0,0,0,0,0,0,0,0,0,0,0,0,0,0,0,0,0,0,0,0,0,0,0,0,0,0,0,0,0,0,0,0,0,0,0,0,0,0,0,0,0,0,0,0,0,0,0,0,0,0,0,0,0,0,0,0,0,0,0,0,0,0,0,0,0,0,0,0,0,0,0,0,0,0,0,0,0,0,0,0,0,0,0,0,0,0,0,0,0,0,0,0,0,0,0,0,0,0,0,0,0,0,0,0,0,0,0,0,0,0,0,0,0,0,0,0,0,0,0,0,0,0,0,0,0,0,0,0,0,0,0,0,0,0,0,0,0,0,0,0,0,0,0,0,0,0,0,0,0,0,0,0,0,0,0,0,0,0,0,0,0,0,0,0,0,0,0,0,0,0,0,0,0,0,0,0,0,0,0,0,0,0,0,0,0,0,0,0,0,0,0,0,0,0,0,0,0,0,0,0,0,0,0,null,null,100,{"$f":"AM$1006+BQ$1006","v":0},0,100,{"$f":"CU$1006+DY$1006","v":600},38.461538461538467,100,{"$f":"KW$1006+MA$1006+NE$1006+OI$1006","v":600},14.388489208633093,100,{"$f":"FC$1006+GG$1006+HK$1006+IO$1006","v":1400},12.248468941382328,100,{"$f":"PM$1006+QV$1006","v":0},0,100,{"$f":"SE$1006+TN$1006","v":0},0]
[2,{"$f":"'11 Axle Loads Direction 2-SS'!B15","v":3},{"$f":"'11 Axle Loads Direction 2-SS'!C15","v":0},{"$f":"'11 Axle Loads Direction 2-SS'!D15","v":0},{"$f":"'11 Axle Loads Direction 2-SS'!E15","v":0},{"$f":"'11 Axle Loads Direction 2-SS'!F15","v":0},{"$f":"'11 Axle Loads Direction 2-SS'!G15","v":0},{"$f":"'11 Axle Loads Direction 2-SS'!H15","v":0},{"$f":"'11 Axle Loads Direction 2-SS'!I15","v":0},{"$f":"'11 Axle Loads Direction 2-SS'!J15","v":0},{"$f":"'11 Axle Loads Direction 2-SS'!K15","v":0},0,0,0,0,0,0,0,0,0,0,0,0,0,0,0,0,0,null,0,0,0,0,0,0,0,0,0,0,0,0,0,0,0,0,0,0,0,0,0,0,0,0,0,0,0,0,0,0,0,0,0,0,0,0,0,0,0,0,0,0,0,0,0,0,0,0,0,0,0,0,0,0,0,0,0,0,0,0,0,0,0,0,0,0,0,0,0,0,0,0,0,0,0,0,0,0,0,0,0,0,0,0,0,0,0,0,0,0,0,0,0,0,0,0,0,0,0,0,0,0,0,0,0,0,0,0,0,0,0,0,0,0,0,0,0,0,0,0,0,0,0,0,0,0,0,0,0,0,0,0,0,0,0,0,0,0,0,0,0,0,0,0,0,0,0,0,0,0,0,0,0,0,0,0,0,0,0,0,0,0,0,0,0,0,0,0,0,0,0,0,0,0,0,0,0,0,0,0,0,0,0,0,0,0,0,0,0,0,0,0,0,0,0,0,0,0,0,0,0,0,0,0,0,0,0,0,0,0,0,0,0,0,0,0,0,0,0,0,0,0,0,0,0,0,0,0,0,0,0,0,0,0,0,0,0,0,0,0,0,0,0,0,0,0,0,0,0,0,0,0,0,0,0,0,0,0,0,0,0,0,0,0,0,0,0,0,0,0,0,0,0,0,0,0,0,0,0,0,0,0,0,0,0,0,0,0,0,0,0,0,0,0,0,0,0,0,0,0,0,0,0,0,0,0,0,0,0,0,0,0,0,0,0,0,0,0,0,0,0,0,0,0,0,0,0,0,0,0,0,0,0,0,0,0,0,0,0,0,0,0,0,0,0,0,0,0,0,0,0,0,0,0,0,0,0,0,0,0,0,0,0,0,0,0,0,0,0,0,0,0,0,0,0,0,0,0,0,0,0,0,0,0,0,0,0,0,0,0,0,0,0,0,0,0,0,0,0,0,0,0,0,0,0,0,0,0,0,0,0,0,0,0,0,0,0,0,0,0,0,0,0,0,0,0,0,0,0,0,0,0,0,0,0,0,0,0,0,0,0,0,0,0,0,0,0,0,0,0,0,0,0,0,0,0,0,0,0,0,0,0,0,0,0,0,0,0,0,0,0,0,0,0,0,0,0,0,0,0,0,0,0,0,0,0,0,0,0,0,0,0,0,0,0,0,0,0,0,0,0,0,0,0,0,0,0,0,0,0,0,0,0,0,0,0,0,0,0,0,0,0,0,0,0,0,0,0,0,0,null,null,110,{"$f":"AN$1006+BR$1006","v":0},0,110,{"$f":"CV$1006+DZ$1006","v":0},0,110,{"$f":"KX$1006+MB$1006+NF$1006+OJ$1006","v":0},0,110,{"$f":"FD$1006+GH$1006+HL$1006+IP$1006","v":0},0,110,{"$f":"PN$1006+QW$1006","v":0},0,110,{"$f":"SF$1006+TO$1006","v":0},0]
[2,{"$f":"'11 Axle Loads Direction 2-SS'!B16","v":3},{"$f":"'11 Axle Loads Direction 2-SS'!C16","v":0},{"$f":"'11 Axle Loads Direction 2-SS'!D16","v":0},{"$f":"'11 Axle Loads Direction 2-SS'!E16","v":0},{"$f":"'11 Axle Loads Direction 2-SS'!F16","v":0},{"$f":"'11 Axle Loads Direction 2-SS'!G16","v":0},{"$f":"'11 Axle Loads Direction 2-SS'!H16","v":0},{"$f":"'11 Axle Loads Direction 2-SS'!I16","v":0},{"$f":"'11 Axle Loads Direction 2-SS'!J16","v":0},{"$f":"'11 Axle Loads Direction 2-SS'!K16","v":0},0,0,0,0,0,0,0,0,0,0,0,0,0,0,0,0,0,null,0,0,0,0,0,0,0,0,0,0,0,0,0,0,0,0,0,0,0,0,0,0,0,0,0,0,0,0,0,0,0,0,0,0,0,0,0,0,0,0,0,0,0,0,0,0,0,0,0,0,0,0,0,0,0,0,0,0,0,0,0,0,0,0,0,0,0,0,0,0,0,0,0,0,0,0,0,0,0,0,0,0,0,0,0,0,0,0,0,0,0,0,0,0,0,0,0,0,0,0,0,0,0,0,0,0,0,0,0,0,0,0,0,0,0,0,0,0,0,0,0,0,0,0,0,0,0,0,0,0,0,0,0,0,0,0,0,0,0,0,0,0,0,0,0,0,0,0,0,0,0,0,0,0,0,0,0,0,0,0,0,0,0,0,0,0,0,0,0,0,0,0,0,0,0,0,0,0,0,0,0,0,0,0,0,0,0,0,0,0,0,0,0,0,0,0,0,0,0,0,0,0,0,0,0,0,0,0,0,0,0,0,0,0,0,0,0,0,0,0,0,0,0,0,0,0,0,0,0,0,0,0,0,0,0,0,0,0,0,0,0,0,0,0,0,0,0,0,0,0,0,0,0,0,0,0,0,0,0,0,0,0,0,0,0,0,0,0,0,0,0,0,0,0,0,0,0,0,0,0,0,0,0,0,0,0,0,0,0,0,0,0,0,0,0,0,0,0,0,0,0,0,0,0,0,0,0,0,0,0,0,0,0,0,0,0,0,0,0,0,0,0,0,0,0,0,0,0,0,0,0,0,0,0,0,0,0,0,0,0,0,0,0,0,0,0,0,0,0,0,0,0,0,0,0,0,0,0,0,0,0,0,0,0,0,0,0,0,0,0,0,0,0,0,0,0,0,0,0,0,0,0,0,0,0,0,0,0,0,0,0,0,0,0,0,0,0,0,0,0,0,0,0,0,0,0,0,0,0,0,0,0,0,0,0,0,0,0,0,0,0,0,0,0,0,0,0,0,0,0,0,0,0,0,0,0,0,0,0,0,0,0,0,0,0,0,0,0,0,0,0,0,0,0,0,0,0,0,0,0,0,0,0,0,0,0,0,0,0,0,0,0,0,0,0,0,0,0,0,0,0,0,0,0,0,0,0,0,0,0,0,0,0,0,0,0,0,0,0,0,0,0,0,0,0,0,0,0,0,0,0,0,0,0,0,0,0,0,0,0,0,0,0,0,0,0,0,0,0,0,null,null,120,{"$f":"AO$1006+BS$1006","v":0},0,120,{"$f":"CW$1006+EA$1006","v":0},0,120,{"$f":"KY$1006+MC$1006+NG$1006+OK$1006","v":0},0,120,{"$f":"FE$1006+GI$1006+HM$1006+IQ$1006","v":3480},30.446194225721783,120,{"$f":"PO$1006+QX$1006","v":0},0,120,{"$f":"SG$1006+TP$1006","v":0},0]
[2,{"$f":"'11 Axle Loads Direction 2-SS'!B17","v":3},{"$f":"'11 Axle Loads Direction 2-SS'!C17","v":0},{"$f":"'11 Axle Loads Direction 2-SS'!D17","v":0},{"$f":"'11 Axle Loads Direction 2-SS'!E17","v":0},{"$f":"'11 Axle Loads Direction 2-SS'!F17","v":0},{"$f":"'11 Axle Loads Direction 2-SS'!G17","v":0},{"$f":"'11 Axle Loads Direction 2-SS'!H17","v":0},{"$f":"'11 Axle Loads Direction 2-SS'!I17","v":0},{"$f":"'11 Axle Loads Direction 2-SS'!J17","v":0},{"$f":"'11 Axle Loads Direction 2-SS'!K17","v":0},0,0,0,0,0,0,0,0,0,0,0,0,0,0,0,0,0,null,0,0,0,0,0,0,0,0,0,0,0,0,0,0,0,0,0,0,0,0,0,0,0,0,0,0,0,0,0,0,0,0,0,0,0,0,0,0,0,0,0,0,0,0,0,0,0,0,0,0,0,0,0,0,0,0,0,0,0,0,0,0,0,0,0,0,0,0,0,0,0,0,0,0,0,0,0,0,0,0,0,0,0,0,0,0,0,0,0,0,0,0,0,0,0,0,0,0,0,0,0,0,0,0,0,0,0,0,0,0,0,0,0,0,0,0,0,0,0,0,0,0,0,0,0,0,0,0,0,0,0,0,0,0,0,0,0,0,0,0,0,0,0,0,0,0,0,0,0,0,0,0,0,0,0,0,0,0,0,0,0,0,0,0,0,0,0,0,0,0,0,0,0,0,0,0,0,0,0,0,0,0,0,0,0,0,0,0,0,0,0,0,0,0,0,0,0,0,0,0,0,0,0,0,0,0,0,0,0,0,0,0,0,0,0,0,0,0,0,0,0,0,0,0,0,0,0,0,0,0,0,0,0,0,0,0,0,0,0,0,0,0,0,0,0,0,0,0,0,0,0,0,0,0,0,0,0,0,0,0,0,0,0,0,0,0,0,0,0,0,0,0,0,0,0,0,0,0,0,0,0,0,0,0,0,0,0,0,0,0,0,0,0,0,0,0,0,0,0,0,0,0,0,0,0,0,0,0,0,0,0,0,0,0,0,0,0,0,0,0,0,0,0,0,0,0,0,0,0,0,0,0,0,0,0,0,0,0,0,0,0,0,0,0,0,0,0,0,0,0,0,0,0,0,0,0,0,0,0,0,0,0,0,0,0,0,0,0,0,0,0,0,0,0,0,0,0,0,0,0,0,0,0,0,0,0,0,0,0,0,0,0,0,0,0,0,0,0,0,0,0,0,0,0,0,0,0,0,0,0,0,0,0,0,0,0,0,0,0,0,0,0,0,0,0,0,0,0,0,0,0,0,0,0,0,0,0,0,0,0,0,0,0,0,0,0,0,0,0,0,0,0,0,0,0,0,0,0,0,0,0,0,0,0,0,0,0,0,0,0,0,0,0,0,0,0,0,0,0,0,0,0,0,0,0,0,0,0,0,0,0,0,0,0,0,0,0,0,0,0,0,0,0,0,0,0,0,0,0,0,0,0,0,0,0,0,0,0,0,0,0,0,0,0,0,0,0,0,0,0,null,null,130,{"$f":"AP$1006+BT$1006","v":0},0,130,{"$f":"CX$1006+EB$1006","v":0},0,130,{"$f":"KZ$1006+MD$1006+NH$1006+OL$1006","v":0},0,130,{"$f":"FF$1006+GJ$1006+HN$1006+IR$1006","v":910},7.9615048118985126,130,{"$f":"PP$1006+QY$1006","v":0},0,130,{"$f":"SH$1006+TQ$1006","v":0},0]
[2,{"$f":"'11 Axle Loads Direction 2-SS'!B18","v":3},{"$f":"'11 Axle Loads Direction 2-SS'!C18","v":0},{"$f":"'11 Axle Loads Direction 2-SS'!D18","v":0},{"$f":"'11 Axle Loads Direction 2-SS'!E18","v":0},{"$f":"'11 Axle Loads Direction 2-SS'!F18","v":0},{"$f":"'11 Axle Loads Direction 2-SS'!G18","v":0},{"$f":"'11 Axle Loads Direction 2-SS'!H18","v":0},{"$f":"'11 Axle Loads Direction 2-SS'!I18","v":0},{"$f":"'11 Axle Loads Direction 2-SS'!J18","v":0},{"$f":"'11 Axle Loads Direction 2-SS'!K18","v":0},0,0,0,0,0,0,0,0,0,0,0,0,0,0,0,0,0,null,0,0,0,0,0,0,0,0,0,0,0,0,0,0,0,0,0,0,0,0,0,0,0,0,0,0,0,0,0,0,0,0,0,0,0,0,0,0,0,0,0,0,0,0,0,0,0,0,0,0,0,0,0,0,0,0,0,0,0,0,0,0,0,0,0,0,0,0,0,0,0,0,0,0,0,0,0,0,0,0,0,0,0,0,0,0,0,0,0,0,0,0,0,0,0,0,0,0,0,0,0,0,0,0,0,0,0,0,0,0,0,0,0,0,0,0,0,0,0,0,0,0,0,0,0,0,0,0,0,0,0,0,0,0,0,0,0,0,0,0,0,0,0,0,0,0,0,0,0,0,0,0,0,0,0,0,0,0,0,0,0,0,0,0,0,0,0,0,0,0,0,0,0,0,0,0,0,0,0,0,0,0,0,0,0,0,0,0,0,0,0,0,0,0,0,0,0,0,0,0,0,0,0,0,0,0,0,0,0,0,0,0,0,0,0,0,0,0,0,0,0,0,0,0,0,0,0,0,0,0,0,0,0,0,0,0,0,0,0,0,0,0,0,0,0,0,0,0,0,0,0,0,0,0,0,0,0,0,0,0,0,0,0,0,0,0,0,0,0,0,0,0,0,0,0,0,0,0,0,0,0,0,0,0,0,0,0,0,0,0,0,0,0,0,0,0,0,0,0,0,0,0,0,0,0,0,0,0,0,0,0,0,0,0,0,0,0,0,0,0,0,0,0,0,0,0,0,0,0,0,0,0,0,0,0,0,0,0,0,0,0,0,0,0,0,0,0,0,0,0,0,0,0,0,0,0,0,0,0,0,0,0,0,0,0,0,0,0,0,0,0,0,0,0,0,0,0,0,0,0,0,0,0,0,0,0,0,0,0,0,0,0,0,0,0,0,0,0,0,0,0,0,0,0,0,0,0,0,0,0,0,0,0,0,0,0,0,0,0,0,0,0,0,0,0,0,0,0,0,0,0,0,0,0,0,0,0,0,0,0,0,0,0,0,0,0,0,0,0,0,0,0,0,0,0,0,0,0,0,0,0,0,0,0,0,0,0,0,0,0,0,0,0,0,0,0,0,0,0,0,0,0,0,0,0,0,0,0,0,0,0,0,0,0,0,0,0,0,0,0,0,0,0,0,0,0,0,0,0,0,0,0,0,0,0,0,0,0,0,0,0,0,0,0,0,0,0,0,0,0,null,null,140,{"$f":"AQ$1006+BU$1006","v":0},0,140,{"$f":"CY$1006+EC$1006","v":0},0,140,{"$f":"LA$1006+ME$1006+NI$1006+OM$1006","v":0},0,140,{"$f":"FG$1006+GK$1006+HO$1006+IS$1006","v":1960},17.14785651793526,140,{"$f":"PQ$1006+QZ$1006","v":0},0,140,{"$f":"SI$1006+TR$1006","v":0},0]
[2,{"$f":"'11 Axle Loads Direction 2-SS'!B19","v":3},{"$f":"'11 Axle Loads Direction 2-SS'!C19","v":0},{"$f":"'11 Axle Loads Direction 2-SS'!D19","v":0},{"$f":"'11 Axle Loads Direction 2-SS'!E19","v":0},{"$f":"'11 Axle Loads Direction 2-SS'!F19","v":0},{"$f":"'11 Axle Loads Direction 2-SS'!G19","v":0},{"$f":"'11 Axle Loads Direction 2-SS'!H19","v":0},{"$f":"'11 Axle Loads Direction 2-SS'!I19","v":0},{"$f":"'11 Axle Loads Direction 2-SS'!J19","v":0},{"$f":"'11 Axle Loads Direction 2-SS'!K19","v":0},0,0,0,0,0,0,0,0,0,0,0,0,0,0,0,0,0,null,0,0,0,0,0,0,0,0,0,0,0,0,0,0,0,0,0,0,0,0,0,0,0,0,0,0,0,0,0,0,0,0,0,0,0,0,0,0,0,0,0,0,0,0,0,0,0,0,0,0,0,0,0,0,0,0,0,0,0,0,0,0,0,0,0,0,0,0,0,0,0,0,0,0,0,0,0,0,0,0,0,0,0,0,0,0,0,0,0,0,0,0,0,0,0,0,0,0,0,0,0,0,0,0,0,0,0,0,0,0,0,0,0,0,0,0,0,0,0,0,0,0,0,0,0,0,0,0,0,0,0,0,0,0,0,0,0,0,0,0,0,0,0,0,0,0,0,0,0,0,0,0,0,0,0,0,0,0,0,0,0,0,0,0,0,0,0,0,0,0,0,0,0,0,0,0,0,0,0,0,0,0,0,0,0,0,0,0,0,0,0,0,0,0,0,0,0,0,0,0,0,0,0,0,0,0,0,0,0,0,0,0,0,0,0,0,0,0,0,0,0,0,0,0,0,0,0,0,0,0,0,0,0,0,0,0,0,0,0,0,0,0,0,0,0,0,0,0,0,0,0,0,0,0,0,0,0,0,0,0,0,0,0,0,0,0,0,0,0,0,0,0,0,0,0,0,0,0,0,0,0,0,0,0,0,0,0,0,0,0,0,0,0,0,0,0,0,0,0,0,0,0,0,0,0,0,0,0,0,0,0,0,0,0,0,0,0,0,0,0,0,0,0,0,0,0,0,0,0,0,0,0,0,0,0,0,0,0,0,0,0,0,0,0,0,0,0,0,0,0,0,0,0,0,0,0,0,0,0,0,0,0,0,0,0,0,0,0,0,0,0,0,0,0,0,0,0,0,0,0,0,0,0,0,0,0,0,0,0,0,0,0,0,0,0,0,0,0,0,0,0,0,0,0,0,0,0,0,0,0,0,0,0,0,0,0,0,0,0,0,0,0,0,0,0,0,0,0,0,0,0,0,0,0,0,0,0,0,0,0,0,0,0,0,0,0,0,0,0,0,0,0,0,0,0,0,0,0,0,0,0,0,0,0,0,0,0,0,0,0,0,0,0,0,0,0,0,0,0,0,0,0,0,0,0,0,0,0,0,0,0,0,0,0,0,0,0,0,0,0,0,0,0,0,0,0,0,0,0,0,0,0,0,0,0,0,0,0,0,0,0,0,0,0,0,0,0,0,0,0,null,null,150,{"$f":"AR$1006+BV$1006","v":0},0,150,{"$f":"CZ$1006+ED$1006","v":0},0,150,{"$f":"LB$1006+MF$1006+NJ$1006+ON$1006","v":1050},25.179856115107913,150,{"$f":"FH$1006+GL$1006+HP$1006+IT$1006","v":0},0,150,{"$f":"PR$1006+RA$1006","v":0},0,150,{"$f":"SJ$1006+TS$1006","v":0},0]
[2,{"$f":"'11 Axle Loads Direction 2-SS'!B20","v":3},{"$f":"'11 Axle Loads Direction 2-SS'!C20","v":0},{"$f":"'11 Axle Loads Direction 2-SS'!D20","v":0},{"$f":"'11 Axle Loads Direction 2-SS'!E20","v":0},{"$f":"'11 Axle Loads Direction 2-SS'!F20","v":0},{"$f":"'11 Axle Loads Direction 2-SS'!G20","v":0},{"$f":"'11 Axle Loads Direction 2-SS'!H20","v":0},{"$f":"'11 Axle Loads Direction 2-SS'!I20","v":0},{"$f":"'11 Axle Loads Direction 2-SS'!J20","v":0},{"$f":"'11 Axle Loads Direction 2-SS'!K20","v":0},0,0,0,0,0,0,0,0,0,0,0,0,0,0,0,0,0,null,0,0,0,0,0,0,0,0,0,0,0,0,0,0,0,0,0,0,0,0,0,0,0,0,0,0,0,0,0,0,0,0,0,0,0,0,0,0,0,0,0,0,0,0,0,0,0,0,0,0,0,0,0,0,0,0,0,0,0,0,0,0,0,0,0,0,0,0,0,0,0,0,0,0,0,0,0,0,0,0,0,0,0,0,0,0,0,0,0,0,0,0,0,0,0,0,0,0,0,0,0,0,0,0,0,0,0,0,0,0,0,0,0,0,0,0,0,0,0,0,0,0,0,0,0,0,0,0,0,0,0,0,0,0,0,0,0,0,0,0,0,0,0,0,0,0,0,0,0,0,0,0,0,0,0,0,0,0,0,0,0,0,0,0,0,0,0,0,0,0,0,0,0,0,0,0,0,0,0,0,0,0,0,0,0,0,0,0,0,0,0,0,0,0,0,0,0,0,0,0,0,0,0,0,0,0,0,0,0,0,0,0,0,0,0,0,0,0,0,0,0,0,0,0,0,0,0,0,0,0,0,0,0,0,0,0,0,0,0,0,0,0,0,0,0,0,0,0,0,0,0,0,0,0,0,0,0,0,0,0,0,0,0,0,0,0,0,0,0,0,0,0,0,0,0,0,0,0,0,0,0,0,0,0,0,0,0,0,0,0,0,0,0,0,0,0,0,0,0,0,0,0,0,0,0,0,0,0,0,0,0,0,0,0,0,0,0,0,0,0,0,0,0,0,0,0,0,0,0,0,0,0,0,0,0,0,0,0,0,0,0,0,0,0,0,0,0,0,0,0,0,0,0,0,0,0,0,0,0,0,0,0,0,0,0,0,0,0,0,0,0,0,0,0,0,0,0,0,0,0,0,0,0,0,0,0,0,0,0,0,0,0,0,0,0,0,0,0,0,0,0,0,0,0,0,0,0,0,0,0,0,0,0,0,0,0,0,0,0,0,0,0,0,0,0,0,0,0,0,0,0,0,0,0,0,0,0,0,0,0,0,0,0,0,0,0,0,0,0,0,0,0,0,0,0,0,0,0,0,0,0,0,0,0,0,0,0,0,0,0,0,0,0,0,0,0,0,0,0,0,0,0,0,0,0,0,0,0,0,0,0,0,0,0,0,0,0,0,0,0,0,0,0,0,0,0,0,0,0,0,0,0,0,0,0,0,0,0,0,0,0,0,0,0,0,0,0,0,0,0,null,null,160,{"$f":"AS$1006+BW$1006","v":0},0,160,{"$f":"DA$1006+EE$1006","v":0},0,160,{"$f":"LC$1006+MG$1006+NK$1006+OO$1006","v":0},0,160,{"$f":"FI$1006+GM$1006+HQ$1006+IU$1006","v":0},0,160,{"$f":"PS$1006+RB$1006","v":0},0,160,{"$f":"SK$1006+TT$1006","v":0},0]
[2,{"$f":"'11 Axle Loads Direction 2-SS'!B21","v":3},{"$f":"'11 Axle Loads Direction 2-SS'!C21","v":0},{"$f":"'11 Axle Loads Direction 2-SS'!D21","v":0},{"$f":"'11 Axle Loads Direction 2-SS'!E21","v":0},{"$f":"'11 Axle Loads Direction 2-SS'!F21","v":0},{"$f":"'11 Axle Loads Direction 2-SS'!G21","v":0},{"$f":"'11 Axle Loads Direction 2-SS'!H21","v":0},{"$f":"'11 Axle Loads Direction 2-SS'!I21","v":0},{"$f":"'11 Axle Loads Direction 2-SS'!J21","v":0},{"$f":"'11 Axle Loads Direction 2-SS'!K21","v":0},0,0,0,0,0,0,0,0,0,0,0,0,0,0,0,0,0,null,0,0,0,0,0,0,0,0,0,0,0,0,0,0,0,0,0,0,0,0,0,0,0,0,0,0,0,0,0,0,0,0,0,0,0,0,0,0,0,0,0,0,0,0,0,0,0,0,0,0,0,0,0,0,0,0,0,0,0,0,0,0,0,0,0,0,0,0,0,0,0,0,0,0,0,0,0,0,0,0,0,0,0,0,0,0,0,0,0,0,0,0,0,0,0,0,0,0,0,0,0,0,0,0,0,0,0,0,0,0,0,0,0,0,0,0,0,0,0,0,0,0,0,0,0,0,0,0,0,0,0,0,0,0,0,0,0,0,0,0,0,0,0,0,0,0,0,0,0,0,0,0,0,0,0,0,0,0,0,0,0,0,0,0,0,0,0,0,0,0,0,0,0,0,0,0,0,0,0,0,0,0,0,0,0,0,0,0,0,0,0,0,0,0,0,0,0,0,0,0,0,0,0,0,0,0,0,0,0,0,0,0,0,0,0,0,0,0,0,0,0,0,0,0,0,0,0,0,0,0,0,0,0,0,0,0,0,0,0,0,0,0,0,0,0,0,0,0,0,0,0,0,0,0,0,0,0,0,0,0,0,0,0,0,0,0,0,0,0,0,0,0,0,0,0,0,0,0,0,0,0,0,0,0,0,0,0,0,0,0,0,0,0,0,0,0,0,0,0,0,0,0,0,0,0,0,0,0,0,0,0,0,0,0,0,0,0,0,0,0,0,0,0,0,0,0,0,0,0,0,0,0,0,0,0,0,0,0,0,0,0,0,0,0,0,0,0,0,0,0,0,0,0,0,0,0,0,0,0,0,0,0,0,0,0,0,0,0,0,0,0,0,0,0,0,0,0,0,0,0,0,0,0,0,0,0,0,0,0,0,0,0,0,0,0,0,0,0,0,0,0,0,0,0,0,0,0,0,0,0,0,0,0,0,0,0,0,0,0,0,0,0,0,0,0,0,0,0,0,0,0,0,0,0,0,0,0,0,0,0,0,0,0,0,0,0,0,0,0,0,0,0,0,0,0,0,0,0,0,0,0,0,0,0,0,0,0,0,0,0,0,0,0,0,0,0,0,0,0,0,0,0,0,0,0,0,0,0,0,0,0,0,0,0,0,0,0,0,0,0,0,0,0,0,0,0,0,0,0,0,0,0,0,0,0,0,0,0,0,0,0,0,0,0,0,0,0,0,0,0,null,null,170,{"$f":"AT$1006+BX$1006","v":0},0,170,{"$f":"DB$1006+EF$1006","v":0},0,170,{"$f":"LD$1006+MH$1006+NL$1006+OP$1006","v":0},0,170,{"$f":"FJ$1006+GN$1006+HR$1006+IV$1006","v":1020},8.9238845144356951,170,{"$f":"PT$1006+RC$1006","v":0},0,170,{"$f":"SL$1006+TU$1006","v":0},0]
[2,{"$f":"'11 Axle Loads Direction 2-SS'!B22","v":3},{"$f":"'11 Axle Loads Direction 2-SS'!C22","v":6},{"$f":"'11 Axle Loads Direction 2-SS'!D22","v":8},{"$f":"'11 Axle Loads Direction 2-SS'!E22","v":4},{"$f":"'11 Axle Loads Direction 2-SS'!F22","v":0},{"$f":"'11 Axle Loads Direction 2-SS'!G22","v":0},{"$f":"'11 Axle Loads Direction 2-SS'!H22","v":0},{"$f":"'11 Axle Loads Direction 2-SS'!I22","v":0},{"$f":"'11 Axle Loads Direction 2-SS'!J22","v":0},{"$f":"'11 Axle Loads Direction 2-SS'!K22","v":0},6,0,0,0,12,0,0,0,0,0,0,0,0,0,0,0,0,null,0,0,0,0,0,60,0,0,0,0,0,0,0,0,0,0,0,0,0,0,0,0,0,0,0,0,0,0,0,0,0,0,0,0,0,0,0,0,0,0,0,0,0,0,0,0,0,0,0,0,0,0,0,0,0,0,0,0,0,0,0,0,0,0,0,0,0,0,0,0,0,0,0,0,0,0,0,0,0,0,0,0,0,0,0,0,0,0,0,0,0,0,0,0,0,0,0,0,0,0,0,0,0,0,0,0,0,0,0,0,0,0,0,0,0,0,0,0,0,0,0,0,0,0,0,0,0,0,0,0,0,120,0,0,0,0,0,0,0,0,0,0,0,0,0,0,0,0,0,0,0,0,0,0,0,0,0,0,0,0,0,0,0,0,0,0,0,0,0,0,0,0,0,0,0,0,0,0,0,0,0,0,0,0,0,0,0,0,0,0,0,0,0,0,0,0,0,0,0,0,0,0,0,0,0,0,0,0,0,0,0,0,0,0,0,0,0,0,0,0,0,0,0,0,0,0,0,0,0,0,0,0,0,0,0,0,0,0,0,0,0,0,0,0,0,0,0,0,0,0,0,0,0,0,0,0,0,0,0,0,0,0,0,0,0,0,0,0,0,0,0,0,0,0,0,0,0,0,0,0,0,0,0,0,0,0,0,0,0,0,0,0,0,0,0,0,0,0,0,0,0,0,0,0,0,0,0,0,0,0,0,0,0,0,0,0,0,0,0,0,0,0,0,0,0,0,0,0,0,0,0,0,0,0,0,0,0,0,0,0,0,0,0,0,0,0,0,0,0,0,0,0,0,0,0,0,0,0,0,0,0,0,0,0,0,0,0,0,0,0,0,0,0,0,0,0,0,0,0,0,0,0,0,0,0,0,0,0,0,0,0,0,0,0,0,0,0,0,0,0,0,0,0,0,0,0,0,0,0,0,0,0,0,0,0,0,0,0,0,0,0,0,0,0,0,0,0,0,0,0,0,0,0,0,0,0,0,0,0,0,0,0,0,0,0,0,0,0,0,0,0,0,0,0,0,0,0,0,0,0,0,0,0,0,0,0,0,0,0,0,0,0,0,0,0,0,0,0,0,0,0,0,0,0,0,0,0,0,0,0,0,0,0,0,0,0,0,0,0,0,0,0,0,0,0,0,0,0,0,0,0,0,0,0,0,0,0,0,0,0,0,0,0,0,0,0,0,0,0,0,null,null,180,{"$f":"AU$1006+BY$1006","v":0},0,180,{"$f":"DC$1006+EG$1006","v":0},0,180,{"$f":"LE$1006+MI$1006+NM$1006+OQ$1006","v":2520},60.431654676258994,180,{"$f":"FK$1006+GO$1006+HS$1006+IW$1006","v":1260},11.023622047244094,180,{"$f":"PU$1006+RD$1006","v":0},0,180,{"$f":"SM$1006+TV$1006","v":0},0]
[2,{"$f":"'11 Axle Loads Direction 2-SS'!B23","v":3},{"$f":"'11 Axle Loads Direction 2-SS'!C23","v":0},{"$f":"'11 Axle Loads Direction 2-SS'!D23","v":0},{"$f":"'11 Axle Loads Direction 2-SS'!E23","v":0},{"$f":"'11 Axle Loads Direction 2-SS'!F23","v":0},{"$f":"'11 Axle Loads Direction 2-SS'!G23","v":0},{"$f":"'11 Axle Loads Direction 2-SS'!H23","v":0},{"$f":"'11 Axle Loads Direction 2-SS'!I23","v":0},{"$f":"'11 Axle Loads Direction 2-SS'!J23","v":0},{"$f":"'11 Axle Loads Direction 2-SS'!K23","v":0},0,0,0,0,0,0,0,0,0,0,0,0,0,0,0,0,0,null,0,0,0,0,0,0,0,0,0,0,0,0,0,0,0,0,0,0,0,0,0,0,0,0,0,0,0,0,0,0,0,0,0,0,0,0,0,0,0,0,0,0,0,0,0,0,0,0,0,0,0,0,0,0,0,0,0,0,0,0,0,0,0,0,0,0,0,0,0,0,0,0,0,0,0,0,0,0,0,0,0,0,0,0,0,0,0,0,0,0,0,0,0,0,0,0,0,0,0,0,0,0,0,0,0,0,0,0,0,0,0,0,0,0,0,0,0,0,0,0,0,0,0,0,0,0,0,0,0,0,0,0,0,0,0,0,0,0,0,0,0,0,0,0,0,0,0,0,0,0,0,0,0,0,0,0,0,0,0,0,0,0,0,0,0,0,0,0,0,0,0,0,0,0,0,0,0,0,0,0,0,0,0,0,0,0,0,0,0,0,0,0,0,0,0,0,0,0,0,0,0,0,0,0,0,0,0,0,0,0,0,0,0,0,0,0,0,0,0,0,0,0,0,0,0,0,0,0,0,0,0,0,0,0,0,0,0,0,0,0,0,0,0,0,0,0,0,0,0,0,0,0,0,0,0,0,0,0,0,0,0,0,0,0,0,0,0,0,0,0,0,0,0,0,0,0,0,0,0,0,0,0,0,0,0,0,0,0,0,0,0,0,0,0,0,0,0,0,0,0,0,0,0,0,0,0,0,0,0,0,0,0,0,0,0,0,0,0,0,0,0,0,0,0,0,0,0,0,0,0,0,0,0,0,0,0,0,0,0,0,0,0,0,0,0,0,0,0,0,0,0,0,0,0,0,0,0,0,0,0,0,0,0,0,0,0,0,0,0,0,0,0,0,0,0,0,0,0,0,0,0,0,0,0,0,0,0,0,0,0,0,0,0,0,0,0,0,0,0,0,0,0,0,0,0,0,0,0,0,0,0,0,0,0,0,0,0,0,0,0,0,0,0,0,0,0,0,0,0,0,0,0,0,0,0,0,0,0,0,0,0,0,0,0,0,0,0,0,0,0,0,0,0,0,0,0,0,0,0,0,0,0,0,0,0,0,0,0,0,0,0,0,0,0,0,0,0,0,0,0,0,0,0,0,0,0,0,0,0,0,0,0,0,0,0,0,0,0,0,0,0,0,0,0,0,0,0,0,0,0,0,0,0,0,0,0,0,0,0,0,0,0,0,0,0,0,0,0,0,0,null,null,190,{"$f":"AV$1006+BZ$1006","v":0},0,190,{"$f":"DD$1006+EH$1006","v":0},0,190,{"$f":"LF$1006+MJ$1006+NN$1006+OR$1006","v":0},0,190,{"$f":"FL$1006+GP$1006+HT$1006+IX$1006","v":0},0,190,{"$f":"PV$1006+RE$1006","v":0},0,190,{"$f":"SN$1006+TW$1006","v":0},0]
[2,{"$f":"'11 Axle Loads Direction 2-SS'!B24","v":3},{"$f":"'11 Axle Loads Direction 2-SS'!C24","v":0},{"$f":"'11 Axle Loads Direction 2-SS'!D24","v":0},{"$f":"'11 Axle Loads Direction 2-SS'!E24","v":0},{"$f":"'11 Axle Loads Direction 2-SS'!F24","v":0},{"$f":"'11 Axle Loads Direction 2-SS'!G24","v":0},{"$f":"'11 Axle Loads Direction 2-SS'!H24","v":0},{"$f":"'11 Axle Loads Direction 2-SS'!I24","v":0},{"$f":"'11 Axle Loads Direction 2-SS'!J24","v":0},{"$f":"'11 Axle Loads Direction 2-SS'!K24","v":0},0,0,0,0,0,0,0,0,0,0,0,0,0,0,0,0,0,null,0,0,0,0,0,0,0,0,0,0,0,0,0,0,0,0,0,0,0,0,0,0,0,0,0,0,0,0,0,0,0,0,0,0,0,0,0,0,0,0,0,0,0,0,0,0,0,0,0,0,0,0,0,0,0,0,0,0,0,0,0,0,0,0,0,0,0,0,0,0,0,0,0,0,0,0,0,0,0,0,0,0,0,0,0,0,0,0,0,0,0,0,0,0,0,0,0,0,0,0,0,0,0,0,0,0,0,0,0,0,0,0,0,0,0,0,0,0,0,0,0,0,0,0,0,0,0,0,0,0,0,0,0,0,0,0,0,0,0,0,0,0,0,0,0,0,0,0,0,0,0,0,0,0,0,0,0,0,0,0,0,0,0,0,0,0,0,0,0,0,0,0,0,0,0,0,0,0,0,0,0,0,0,0,0,0,0,0,0,0,0,0,0,0,0,0,0,0,0,0,0,0,0,0,0,0,0,0,0,0,0,0,0,0,0,0,0,0,0,0,0,0,0,0,0,0,0,0,0,0,0,0,0,0,0,0,0,0,0,0,0,0,0,0,0,0,0,0,0,0,0,0,0,0,0,0,0,0,0,0,0,0,0,0,0,0,0,0,0,0,0,0,0,0,0,0,0,0,0,0,0,0,0,0,0,0,0,0,0,0,0,0,0,0,0,0,0,0,0,0,0,0,0,0,0,0,0,0,0,0,0,0,0,0,0,0,0,0,0,0,0,0,0,0,0,0,0,0,0,0,0,0,0,0,0,0,0,0,0,0,0,0,0,0,0,0,0,0,0,0,0,0,0,0,0,0,0,0,0,0,0,0,0,0,0,0,0,0,0,0,0,0,0,0,0,0,0,0,0,0,0,0,0,0,0,0,0,0,0,0,0,0,0,0,0,0,0,0,0,0,0,0,0,0,0,0,0,0,0,0,0,0,0,0,0,0,0,0,0,0,0,0,0,0,0,0,0,0,0,0,0,0,0,0,0,0,0,0,0,0,0,0,0,0,0,0,0,0,0,0,0,0,0,0,0,0,0,0,0,0,0,0,0,0,0,0,0,0,0,0,0,0,0,0,0,0,0,0,0,0,0,0,0,0,0,0,0,0,0,0,0,0,0,0,0,0,0,0,0,0,0,0,0,0,0,0,0,0,0,0,0,0,0,0,0,0,0,0,0,0,0,0,0,0,0,0,0,0,0,0,null,null,200,{"$f":"AW$1006+CA$1006","v":0},0,200,{"$f":"DE$1006+EI$1006","v":0},0,200,{"$f":"LG$1006+MK$1006+NO$1006+OS$1006","v":0},0,200,{"$f":"FM$1006+GQ$1006+HU$1006+IY$1006","v":1400},12.248468941382328,200,{"$f":"PW$1006+RF$1006","v":0},0,200,{"$f":"SO$1006+TX$1006","v":0},0]
[2,{"$f":"'11 Axle Loads Direction 2-SS'!B25","v":3},{"$f":"'11 Axle Loads Direction 2-SS'!C25","v":0},{"$f":"'11 Axle Loads Direction 2-SS'!D25","v":0},{"$f":"'11 Axle Loads Direction 2-SS'!E25","v":0},{"$f":"'11 Axle Loads Direction 2-SS'!F25","v":0},{"$f":"'11 Axle Loads Direction 2-SS'!G25","v":0},{"$f":"'11 Axle Loads Direction 2-SS'!H25","v":0},{"$f":"'11 Axle Loads Direction 2-SS'!I25","v":0},{"$f":"'11 Axle Loads Direction 2-SS'!J25","v":0},{"$f":"'11 Axle Loads Direction 2-SS'!K25","v":0},0,0,0,0,0,0,0,0,0,0,0,0,0,0,0,0,0,null,0,0,0,0,0,0,0,0,0,0,0,0,0,0,0,0,0,0,0,0,0,0,0,0,0,0,0,0,0,0,0,0,0,0,0,0,0,0,0,0,0,0,0,0,0,0,0,0,0,0,0,0,0,0,0,0,0,0,0,0,0,0,0,0,0,0,0,0,0,0,0,0,0,0,0,0,0,0,0,0,0,0,0,0,0,0,0,0,0,0,0,0,0,0,0,0,0,0,0,0,0,0,0,0,0,0,0,0,0,0,0,0,0,0,0,0,0,0,0,0,0,0,0,0,0,0,0,0,0,0,0,0,0,0,0,0,0,0,0,0,0,0,0,0,0,0,0,0,0,0,0,0,0,0,0,0,0,0,0,0,0,0,0,0,0,0,0,0,0,0,0,0,0,0,0,0,0,0,0,0,0,0,0,0,0,0,0,0,0,0,0,0,0,0,0,0,0,0,0,0,0,0,0,0,0,0,0,0,0,0,0,0,0,0,0,0,0,0,0,0,0,0,0,0,0,0,0,0,0,0,0,0,0,0,0,0,0,0,0,0,0,0,0,0,0,0,0,0,0,0,0,0,0,0,0,0,0,0,0,0,0,0,0,0,0,0,0,0,0,0,0,0,0,0,0,0,0,0,0,0,0,0,0,0,0,0,0,0,0,0,0,0,0,0,0,0,0,0,0,0,0,0,0,0,0,0,0,0,0,0,0,0,0,0,0,0,0,0,0,0,0,0,0,0,0,0,0,0,0,0,0,0,0,0,0,0,0,0,0,0,0,0,0,0,0,0,0,0,0,0,0,0,0,0,0,0,0,0,0,0,0,0,0,0,0,0,0,0,0,0,0,0,0,0,0,0,0,0,0,0,0,0,0,0,0,0,0,0,0,0,0,0,0,0,0,0,0,0,0,0,0,0,0,0,0,0,0,0,0,0,0,0,0,0,0,0,0,0,0,0,0,0,0,0,0,0,0,0,0,0,0,0,0,0,0,0,0,0,0,0,0,0,0,0,0,0,0,0,0,0,0,0,0,0,0,0,0,0,0,0,0,0,0,0,0,0,0,0,0,0,0,0,0,0,0,0,0,0,0,0,0,0,0,0,0,0,0,0,0,0,0,0,0,0,0,0,0,0,0,0,0,0,0,0,0,0,0,0,0,0,0,0,0,0,0,0,0,0,0,0,0,0,0,0,0,0,0,0,0,0,null,null,210,{"$f":"AX$1006+CB$1006","v":0},0,210,{"$f":"DF$1006+EJ$1006","v":0},0,210,{"$f":"LH$1006+ML$1006+NP$1006+OT$1006","v":0},0,210,{"$f":"FN$1006+GR$1006+HV$1006+IZ$1006","v":0},0,210,{"$f":"PX$1006+RG$1006","v":0},0,210,{"$f":"SP$1006+TY$1006","v":0},0]
[2,{"$f":"'11 Axle Loads Direction 2-SS'!B26","v":3},{"$f":"'11 Axle Loads Direction 2-SS'!C26","v":0},{"$f":"'11 Axle Loads Direction 2-SS'!D26","v":0},{"$f":"'11 Axle Loads Direction 2-SS'!E26","v":0},{"$f":"'11 Axle Loads Direction 2-SS'!F26","v":0},{"$f":"'11 Axle Loads Direction 2-SS'!G26","v":0},{"$f":"'11 Axle Loads Direction 2-SS'!H26","v":0},{"$f":"'11 Axle Loads Direction 2-SS'!I26","v":0},{"$f":"'11 Axle Loads Direction 2-SS'!J26","v":0},{"$f":"'11 Axle Loads Direction 2-SS'!K26","v":0},0,0,0,0,0,0,0,0,0,0,0,0,0,0,0,0,0,null,0,0,0,0,0,0,0,0,0,0,0,0,0,0,0,0,0,0,0,0,0,0,0,0,0,0,0,0,0,0,0,0,0,0,0,0,0,0,0,0,0,0,0,0,0,0,0,0,0,0,0,0,0,0,0,0,0,0,0,0,0,0,0,0,0,0,0,0,0,0,0,0,0,0,0,0,0,0,0,0,0,0,0,0,0,0,0,0,0,0,0,0,0,0,0,0,0,0,0,0,0,0,0,0,0,0,0,0,0,0,0,0,0,0,0,0,0,0,0,0,0,0,0,0,0,0,0,0,0,0,0,0,0,0,0,0,0,0,0,0,0,0,0,0,0,0,0,0,0,0,0,0,0,0,0,0,0,0,0,0,0,0,0,0,0,0,0,0,0,0,0,0,0,0,0,0,0,0,0,0,0,0,0,0,0,0,0,0,0,0,0,0,0,0,0,0,0,0,0,0,0,0,0,0,0,0,0,0,0,0,0,0,0,0,0,0,0,0,0,0,0,0,0,0,0,0,0,0,0,0,0,0,0,0,0,0,0,0,0,0,0,0,0,0,0,0,0,0,0,0,0,0,0,0,0,0,0,0,0,0,0,0,0,0,0,0,0,0,0,0,0,0,0,0,0,0,0,0,0,0,0,0,0,0,0,0,0,0,0,0,0,0,0,0,0,0,0,0,0,0,0,0,0,0,0,0,0,0,0,0,0,0,0,0,0,0,0,0,0,0,0,0,0,0,0,0,0,0,0,0,0,0,0,0,0,0,0,0,0,0,0,0,0,0,0,0,0,0,0,0,0,0,0,0,0,0,0,0,0,0,0,0,0,0,0,0,0,0,0,0,0,0,0,0,0,0,0,0,0,0,0,0,0,0,0,0,0,0,0,0,0,0,0,0,0,0,0,0,0,0,0,0,0,0,0,0,0,0,0,0,0,0,0,0,0,0,0,0,0,0,0,0,0,0,0,0,0,0,0,0,0,0,0,0,0,0,0,0,0,0,0,0,0,0,0,0,0,0,0,0,0,0,0,0,0,0,0,0,0,0,0,0,0,0,0,0,0,0,0,0,0,0,0,0,0,0,0,0,0,0,0,0,0,0,0,0,0,0,0,0,0,0,0,0,0,0,0,0,0,0,0,0,0,0,0,0,0,0,0,0,0,0,0,0,0,0,0,0,0,0,0,0,0,0,0,0,0,0,0,0,null,null,220,{"$f":"AY$1006+CC$1006","v":0},0,220,{"$f":"DG$1006+EK$1006","v":0},0,220,{"$f":"LI$1006+MM$1006+NQ$1006+OU$1006","v":0},0,220,{"$f":"FO$1006+GS$1006+HW$1006+JA$1006","v":0},0,220,{"$f":"PY$1006+RH$1006","v":0},0,220,{"$f":"SQ$1006+TZ$1006","v":0},0]
[2,{"$f":"'11 Axle Loads Direction 2-SS'!B27","v":3},{"$f":"'11 Axle Loads Direction 2-SS'!C27","v":0},{"$f":"'11 Axle Loads Direction 2-SS'!D27","v":0},{"$f":"'11 Axle Loads Direction 2-SS'!E27","v":0},{"$f":"'11 Axle Loads Direction 2-SS'!F27","v":0},{"$f":"'11 Axle Loads Direction 2-SS'!G27","v":0},{"$f":"'11 Axle Loads Direction 2-SS'!H27","v":0},{"$f":"'11 Axle Loads Direction 2-SS'!I27","v":0},{"$f":"'11 Axle Loads Direction 2-SS'!J27","v":0},{"$f":"'11 Axle Loads Direction 2-SS'!K27","v":0},0,0,0,0,0,0,0,0,0,0,0,0,0,0,0,0,0,null,0,0,0,0,0,0,0,0,0,0,0,0,0,0,0,0,0,0,0,0,0,0,0,0,0,0,0,0,0,0,0,0,0,0,0,0,0,0,0,0,0,0,0,0,0,0,0,0,0,0,0,0,0,0,0,0,0,0,0,0,0,0,0,0,0,0,0,0,0,0,0,0,0,0,0,0,0,0,0,0,0,0,0,0,0,0,0,0,0,0,0,0,0,0,0,0,0,0,0,0,0,0,0,0,0,0,0,0,0,0,0,0,0,0,0,0,0,0,0,0,0,0,0,0,0,0,0,0,0,0,0,0,0,0,0,0,0,0,0,0,0,0,0,0,0,0,0,0,0,0,0,0,0,0,0,0,0,0,0,0,0,0,0,0,0,0,0,0,0,0,0,0,0,0,0,0,0,0,0,0,0,0,0,0,0,0,0,0,0,0,0,0,0,0,0,0,0,0,0,0,0,0,0,0,0,0,0,0,0,0,0,0,0,0,0,0,0,0,0,0,0,0,0,0,0,0,0,0,0,0,0,0,0,0,0,0,0,0,0,0,0,0,0,0,0,0,0,0,0,0,0,0,0,0,0,0,0,0,0,0,0,0,0,0,0,0,0,0,0,0,0,0,0,0,0,0,0,0,0,0,0,0,0,0,0,0,0,0,0,0,0,0,0,0,0,0,0,0,0,0,0,0,0,0,0,0,0,0,0,0,0,0,0,0,0,0,0,0,0,0,0,0,0,0,0,0,0,0,0,0,0,0,0,0,0,0,0,0,0,0,0,0,0,0,0,0,0,0,0,0,0,0,0,0,0,0,0,0,0,0,0,0,0,0,0,0,0,0,0,0,0,0,0,0,0,0,0,0,0,0,0,0,0,0,0,0,0,0,0,0,0,0,0,0,0,0,0,0,0,0,0,0,0,0,0,0,0,0,0,0,0,0,0,0,0,0,0,0,0,0,0,0,0,0,0,0,0,0,0,0,0,0,0,0,0,0,0,0,0,0,0,0,0,0,0,0,0,0,0,0,0,0,0,0,0,0,0,0,0,0,0,0,0,0,0,0,0,0,0,0,0,0,0,0,0,0,0,0,0,0,0,0,0,0,0,0,0,0,0,0,0,0,0,0,0,0,0,0,0,0,0,0,0,0,0,0,0,0,0,0,0,0,0,0,0,0,0,0,0,0,0,0,0,0,0,0,0,0,0,0,null,null,230,{"$f":"AZ$1006+CD$1006","v":0},0,230,{"$f":"DH$1006+EL$1006","v":0},0,230,{"$f":"LJ$1006+MN$1006+NR$1006+OV$1006","v":0},0,230,{"$f":"FP$1006+GT$1006+HX$1006+JB$1006","v":0},0,230,{"$f":"PZ$1006+RI$1006","v":0},0,230,{"$f":"SR$1006+UA$1006","v":0},0]
[2,{"$f":"'11 Axle Loads Direction 2-SS'!B28","v":3},{"$f":"'11 Axle Loads Direction 2-SS'!C28","v":0},{"$f":"'11 Axle Loads Direction 2-SS'!D28","v":0},{"$f":"'11 Axle Loads Direction 2-SS'!E28","v":0},{"$f":"'11 Axle Loads Direction 2-SS'!F28","v":0},{"$f":"'11 Axle Loads Direction 2-SS'!G28","v":0},{"$f":"'11 Axle Loads Direction 2-SS'!H28","v":0},{"$f":"'11 Axle Loads Direction 2-SS'!I28","v":0},{"$f":"'11 Axle Loads Direction 2-SS'!J28","v":0},{"$f":"'11 Axle Loads Direction 2-SS'!K28","v":0},0,0,0,0,0,0,0,0,0,0,0,0,0,0,0,0,0,null,0,0,0,0,0,0,0,0,0,0,0,0,0,0,0,0,0,0,0,0,0,0,0,0,0,0,0,0,0,0,0,0,0,0,0,0,0,0,0,0,0,0,0,0,0,0,0,0,0,0,0,0,0,0,0,0,0,0,0,0,0,0,0,0,0,0,0,0,0,0,0,0,0,0,0,0,0,0,0,0,0,0,0,0,0,0,0,0,0,0,0,0,0,0,0,0,0,0,0,0,0,0,0,0,0,0,0,0,0,0,0,0,0,0,0,0,0,0,0,0,0,0,0,0,0,0,0,0,0,0,0,0,0,0,0,0,0,0,0,0,0,0,0,0,0,0,0,0,0,0,0,0,0,0,0,0,0,0,0,0,0,0,0,0,0,0,0,0,0,0,0,0,0,0,0,0,0,0,0,0,0,0,0,0,0,0,0,0,0,0,0,0,0,0,0,0,0,0,0,0,0,0,0,0,0,0,0,0,0,0,0,0,0,0,0,0,0,0,0,0,0,0,0,0,0,0,0,0,0,0,0,0,0,0,0,0,0,0,0,0,0,0,0,0,0,0,0,0,0,0,0,0,0,0,0,0,0,0,0,0,0,0,0,0,0,0,0,0,0,0,0,0,0,0,0,0,0,0,0,0,0,0,0,0,0,0,0,0,0,0,0,0,0,0,0,0,0,0,0,0,0,0,0,0,0,0,0,0,0,0,0,0,0,0,0,0,0,0,0,0,0,0,0,0,0,0,0,0,0,0,0,0,0,0,0,0,0,0,0,0,0,0,0,0,0,0,0,0,0,0,0,0,0,0,0,0,0,0,0,0,0,0,0,0,0,0,0,0,0,0,0,0,0,0,0,0,0,0,0,0,0,0,0,0,0,0,0,0,0,0,0,0,0,0,0,0,0,0,0,0,0,0,0,0,0,0,0,0,0,0,0,0,0,0,0,0,0,0,0,0,0,0,0,0,0,0,0,0,0,0,0,0,0,0,0,0,0,0,0,0,0,0,0,0,0,0,0,0,0,0,0,0,0,0,0,0,0,0,0,0,0,0,0,0,0,0,0,0,0,0,0,0,0,0,0,0,0,0,0,0,0,0,0,0,0,0,0,0,0,0,0,0,0,0,0,0,0,0,0,0,0,0,0,0,0,0,0,0,0,0,0,0,0,0,0,0,0,0,0,0,0,0,0,0,0,0,0,0,0,0,null,null,240,{"$f":"BA$1006+CE$1006","v":0},0,240,{"$f":"DI$1006+EM$1006","v":0},0,240,{"$f":"LK$1006+MO$1006+NS$1006+OW$1006","v":0},0,240,{"$f":"FQ$1006+GU$1006+HY$1006+JC$1006","v":0},0,240,{"$f":"QA$1006+RJ$1006","v":0},0,240,{"$f":"SS$1006+UB$1006","v":0},0]
[2,{"$f":"'11 Axle Loads Direction 2-SS'!B29","v":3},{"$f":"'11 Axle Loads Direction 2-SS'!C29","v":0},{"$f":"'11 Axle Loads Direction 2-SS'!D29","v":0},{"$f":"'11 Axle Loads Direction 2-SS'!E29","v":0},{"$f":"'11 Axle Loads Direction 2-SS'!F29","v":0},{"$f":"'11 Axle Loads Direction 2-SS'!G29","v":0},{"$f":"'11 Axle Loads Direction 2-SS'!H29","v":0},{"$f":"'11 Axle Loads Direction 2-SS'!I29","v":0},{"$f":"'11 Axle Loads Direction 2-SS'!J29","v":0},{"$f":"'11 Axle Loads Direction 2-SS'!K29","v":0},0,0,0,0,0,0,0,0,0,0,0,0,0,0,0,0,0,null,0,0,0,0,0,0,0,0,0,0,0,0,0,0,0,0,0,0,0,0,0,0,0,0,0,0,0,0,0,0,0,0,0,0,0,0,0,0,0,0,0,0,0,0,0,0,0,0,0,0,0,0,0,0,0,0,0,0,0,0,0,0,0,0,0,0,0,0,0,0,0,0,0,0,0,0,0,0,0,0,0,0,0,0,0,0,0,0,0,0,0,0,0,0,0,0,0,0,0,0,0,0,0,0,0,0,0,0,0,0,0,0,0,0,0,0,0,0,0,0,0,0,0,0,0,0,0,0,0,0,0,0,0,0,0,0,0,0,0,0,0,0,0,0,0,0,0,0,0,0,0,0,0,0,0,0,0,0,0,0,0,0,0,0,0,0,0,0,0,0,0,0,0,0,0,0,0,0,0,0,0,0,0,0,0,0,0,0,0,0,0,0,0,0,0,0,0,0,0,0,0,0,0,0,0,0,0,0,0,0,0,0,0,0,0,0,0,0,0,0,0,0,0,0,0,0,0,0,0,0,0,0,0,0,0,0,0,0,0,0,0,0,0,0,0,0,0,0,0,0,0,0,0,0,0,0,0,0,0,0,0,0,0,0,0,0,0,0,0,0,0,0,0,0,0,0,0,0,0,0,0,0,0,0,0,0,0,0,0,0,0,0,0,0,0,0,0,0,0,0,0,0,0,0,0,0,0,0,0,0,0,0,0,0,0,0,0,0,0,0,0,0,0,0,0,0,0,0,0,0,0,0,0,0,0,0,0,0,0,0,0,0,0,0,0,0,0,0,0,0,0,0,0,0,0,0,0,0,0,0,0,0,0,0,0,0,0,0,0,0,0,0,0,0,0,0,0,0,0,0,0,0,0,0,0,0,0,0,0,0,0,0,0,0,0,0,0,0,0,0,0,0,0,0,0,0,0,0,0,0,0,0,0,0,0,0,0,0,0,0,0,0,0,0,0,0,0,0,0,0,0,0,0,0,0,0,0,0,0,0,0,0,0,0,0,0,0,0,0,0,0,0,0,0,0,0,0,0,0,0,0,0,0,0,0,0,0,0,0,0,0,0,0,0,0,0,0,0,0,0,0,0,0,0,0,0,0,0,0,0,0,0,0,0,0,0,0,0,0,0,0,0,0,0,0,0,0,0,0,0,0,0,0,0,0,0,0,0,0,0,0,0,0,0,0,0,0,0,0,0,null,null,250,{"$f":"BB$1006+CF$1006","v":0},0,250,{"$f":"DJ$1006+EN$1006","v":0},0,250,{"$f":"LL$1006+MP$1006+NT$1006+OX$1006","v":0},0,250,{"$f":"FR$1006+GV$1006+HZ$1006+JD$1006","v":0},0,250,{"$f":"QB$1006+RK$1006","v":0},0,250,{"$f":"ST$1006+UC$1006","v":0},0]
[2,{"$f":"'11 Axle Loads Direction 2-SS'!B30","v":4},{"$f":"'11 Axle Loads Direction 2-SS'!C30","v":6},{"$f":"'11 Axle Loads Direction 2-SS'!D30","v":6},{"$f":"'11 Axle Loads Direction 2-SS'!E30","v":8},{"$f":"'11 Axle Loads Direction 2-SS'!F30","v":9},{"$f":"'11 Axle Loads Direction 2-SS'!G30","v":0},{"$f":"'11 Axle Loads Direction 2-SS'!H30","v":0},{"$f":"'11 Axle Loads Direction 2-SS'!I30","v":0},{"$f":"'11 Axle Loads Direction 2-SS'!J30","v":0},{"$f":"'11 Axle Loads Direction 2-SS'!K30","v":0},6,6,0,0,0,17,0,0,0,0,0,0,0,0,0,0,0,null,0,0,0,0,0,60,0,0,0,0,0,0,0,0,0,0,0,0,0,0,0,0,0,0,0,0,0,0,0,0,0,0,0,0,0,60,0,0,0,0,0,0,0,0,0,0,0,0,0,0,0,0,0,0,0,0,0,0,0,0,0,0,0,0,0,0,0,0,0,0,0,0,0,0,0,0,0,0,0,0,0,0,0,0,0,0,0,0,0,0,0,0,0,0,0,0,0,0,0,0,0,0,0,0,0,0,0,0,0,0,0,0,0,0,0,0,0,0,0,0,0,0,0,0,0,0,0,0,0,0,0,0,0,0,0,0,0,0,0,0,0,0,0,0,0,0,0,0,0,0,0,0,0,0,0,0,0,0,0,0,0,0,0,0,0,0,170,0,0,0,0,0,0,0,0,0,0,0,0,0,0,0,0,0,0,0,0,0,0,0,0,0,0,0,0,0,0,0,0,0,0,0,0,0,0,0,0,0,0,0,0,0,0,0,0,0,0,0,0,0,0,0,0,0,0,0,0,0,0,0,0,0,0,0,0,0,0,0,0,0,0,0,0,0,0,0,0,0,0,0,0,0,0,0,0,0,0,0,0,0,0,0,0,0,0,0,0,0,0,0,0,0,0,0,0,0,0,0,0,0,0,0,0,0,0,0,0,0,0,0,0,0,0,0,0,0,0,0,0,0,0,0,0,0,0,0,0,0,0,0,0,0,0,0,0,0,0,0,0,0,0,0,0,0,0,0,0,0,0,0,0,0,0,0,0,0,0,0,0,0,0,0,0,0,0,0,0,0,0,0,0,0,0,0,0,0,0,0,0,0,0,0,0,0,0,0,0,0,0,0,0,0,0,0,0,0,0,0,0,0,0,0,0,0,0,0,0,0,0,0,0,0,0,0,0,0,0,0,0,0,0,0,0,0,0,0,0,0,0,0,0,0,0,0,0,0,0,0,0,0,0,0,0,0,0,0,0,0,0,0,0,0,0,0,0,0,0,0,0,0,0,0,0,0,0,0,0,0,0,0,0,0,0,0,0,0,0,0,0,0,0,0,0,0,0,0,0,0,0,0,0,0,0,0,0,0,0,0,0,0,0,0,0,0,0,0,0,0,0,0,0,0,0,0,0,0,0,0,0,0,0,0,0,0,0,0,0,0,0,0,0,0,0,0,0,0,0,0,0,0,0,0,0,0,0,0,0,0,0,0,null,null,260,{"$f":"BC$1006+CG$1006","v":0},0,260,{"$f":"DK$1006+EO$1006","v":0},0,260,{"$f":"LM$1006+MQ$1006+NU$1006+OY$1006","v":0},0,260,{"$f":"FS$1006+GW$1006+IA$1006+JE$1006","v":0},0,260,{"$f":"QC$1006+RL$1006","v":0},0,260,{"$f":"SU$1006+UD$1006","v":0},0]
[2,{"$f":"'11 Axle Loads Direction 2-SS'!B31","v":3},{"$f":"'11 Axle Loads Direction 2-SS'!C31","v":0},{"$f":"'11 Axle Loads Direction 2-SS'!D31","v":0},{"$f":"'11 Axle Loads Direction 2-SS'!E31","v":0},{"$f":"'11 Axle Loads Direction 2-SS'!F31","v":0},{"$f":"'11 Axle Loads Direction 2-SS'!G31","v":0},{"$f":"'11 Axle Loads Direction 2-SS'!H31","v":0},{"$f":"'11 Axle Loads Direction 2-SS'!I31","v":0},{"$f":"'11 Axle Loads Direction 2-SS'!J31","v":0},{"$f":"'11 Axle Loads Direction 2-SS'!K31","v":0},0,0,0,0,0,0,0,0,0,0,0,0,0,0,0,0,0,null,0,0,0,0,0,0,0,0,0,0,0,0,0,0,0,0,0,0,0,0,0,0,0,0,0,0,0,0,0,0,0,0,0,0,0,0,0,0,0,0,0,0,0,0,0,0,0,0,0,0,0,0,0,0,0,0,0,0,0,0,0,0,0,0,0,0,0,0,0,0,0,0,0,0,0,0,0,0,0,0,0,0,0,0,0,0,0,0,0,0,0,0,0,0,0,0,0,0,0,0,0,0,0,0,0,0,0,0,0,0,0,0,0,0,0,0,0,0,0,0,0,0,0,0,0,0,0,0,0,0,0,0,0,0,0,0,0,0,0,0,0,0,0,0,0,0,0,0,0,0,0,0,0,0,0,0,0,0,0,0,0,0,0,0,0,0,0,0,0,0,0,0,0,0,0,0,0,0,0,0,0,0,0,0,0,0,0,0,0,0,0,0,0,0,0,0,0,0,0,0,0,0,0,0,0,0,0,0,0,0,0,0,0,0,0,0,0,0,0,0,0,0,0,0,0,0,0,0,0,0,0,0,0,0,0,0,0,0,0,0,0,0,0,0,0,0,0,0,0,0,0,0,0,0,0,0,0,0,0,0,0,0,0,0,0,0,0,0,0,0,0,0,0,0,0,0,0,0,0,0,0,0,0,0,0,0,0,0,0,0,0,0,0,0,0,0,0,0,0,0,0,0,0,0,0,0,0,0,0,0,0,0,0,0,0,0,0,0,0,0,0,0,0,0,0,0,0,0,0,0,0,0,0,0,0,0,0,0,0,0,0,0,0,0,0,0,0,0,0,0,0,0,0,0,0,0,0,0,0,0,0,0,0,0,0,0,0,0,0,0,0,0,0,0,0,0,0,0,0,0,0,0,0,0,0,0,0,0,0,0,0,0,0,0,0,0,0,0,0,0,0,0,0,0,0,0,0,0,0,0,0,0,0,0,0,0,0,0,0,0,0,0,0,0,0,0,0,0,0,0,0,0,0,0,0,0,0,0,0,0,0,0,0,0,0,0,0,0,0,0,0,0,0,0,0,0,0,0,0,0,0,0,0,0,0,0,0,0,0,0,0,0,0,0,0,0,0,0,0,0,0,0,0,0,0,0,0,0,0,0,0,0,0,0,0,0,0,0,0,0,0,0,0,0,0,0,0,0,0,0,0,0,0,0,0,0,0,0,0,0,0,0,0,0,0,0,0,0,0,0,null,null,270,{"$f":"BD$1006+CH$1006","v":0},0,270,{"$f":"DL$1006+EP$1006","v":0},0,270,{"$f":"LN$1006+MR$1006+NV$1006+OZ$1006","v":0},0,270,{"$f":"FT$1006+GX$1006+IB$1006+JF$1006","v":0},0,270,{"$f":"QD$1006+RM$1006","v":1890},100,270,{"$f":"SV$1006+UE$1006","v":270},100]
[2,{"$f":"'11 Axle Loads Direction 2-SS'!B32","v":3},{"$f":"'11 Axle Loads Direction 2-SS'!C32","v":0},{"$f":"'11 Axle Loads Direction 2-SS'!D32","v":0},{"$f":"'11 Axle Loads Direction 2-SS'!E32","v":0},{"$f":"'11 Axle Loads Direction 2-SS'!F32","v":0},{"$f":"'11 Axle Loads Direction 2-SS'!G32","v":0},{"$f":"'11 Axle Loads Direction 2-SS'!H32","v":0},{"$f":"'11 Axle Loads Direction 2-SS'!I32","v":0},{"$f":"'11 Axle Loads Direction 2-SS'!J32","v":0},{"$f":"'11 Axle Loads Direction 2-SS'!K32","v":0},0,0,0,0,0,0,0,0,0,0,0,0,0,0,0,0,0,null,0,0,0,0,0,0,0,0,0,0,0,0,0,0,0,0,0,0,0,0,0,0,0,0,0,0,0,0,0,0,0,0,0,0,0,0,0,0,0,0,0,0,0,0,0,0,0,0,0,0,0,0,0,0,0,0,0,0,0,0,0,0,0,0,0,0,0,0,0,0,0,0,0,0,0,0,0,0,0,0,0,0,0,0,0,0,0,0,0,0,0,0,0,0,0,0,0,0,0,0,0,0,0,0,0,0,0,0,0,0,0,0,0,0,0,0,0,0,0,0,0,0,0,0,0,0,0,0,0,0,0,0,0,0,0,0,0,0,0,0,0,0,0,0,0,0,0,0,0,0,0,0,0,0,0,0,0,0,0,0,0,0,0,0,0,0,0,0,0,0,0,0,0,0,0,0,0,0,0,0,0,0,0,0,0,0,0,0,0,0,0,0,0,0,0,0,0,0,0,0,0,0,0,0,0,0,0,0,0,0,0,0,0,0,0,0,0,0,0,0,0,0,0,0,0,0,0,0,0,0,0,0,0,0,0,0,0,0,0,0,0,0,0,0,0,0,0,0,0,0,0,0,0,0,0,0,0,0,0,0,0,0,0,0,0,0,0,0,0,0,0,0,0,0,0,0,0,0,0,0,0,0,0,0,0,0,0,0,0,0,0,0,0,0,0,0,0,0,0,0,0,0,0,0,0,0,0,0,0,0,0,0,0,0,0,0,0,0,0,0,0,0,0,0,0,0,0,0,0,0,0,0,0,0,0,0,0,0,0,0,0,0,0,0,0,0,0,0,0,0,0,0,0,0,0,0,0,0,0,0,0,0,0,0,0,0,0,0,0,0,0,0,0,0,0,0,0,0,0,0,0,0,0,0,0,0,0,0,0,0,0,0,0,0,0,0,0,0,0,0,0,0,0,0,0,0,0,0,0,0,0,0,0,0,0,0,0,0,0,0,0,0,0,0,0,0,0,0,0,0,0,0,0,0,0,0,0,0,0,0,0,0,0,0,0,0,0,0,0,0,0,0,0,0,0,0,0,0,0,0,0,0,0,0,0,0,0,0,0,0,0,0,0,0,0,0,0,0,0,0,0,0,0,0,0,0,0,0,0,0,0,0,0,0,0,0,0,0,0,0,0,0,0,0,0,0,0,0,0,0,0,0,0,0,0,0,0,0,0,0,0,0,0,0,0,0,0,0,0,0,null,null,280,{"$f":"BE$1006+CI$1006","v":0},0,280,{"$f":"DM$1006+EQ$1006","v":0},0,280,{"$f":"LO$1006+MS$1006+NW$1006+PA$1006","v":0},0,280,{"$f":"FU$1006+GY$1006+IC$1006+JG$1006","v":0},0,280,{"$f":"QE$1006+RN$1006","v":0},0,280,{"$f":"SW$1006+UF$1006","v":0},0]
[2,{"$f":"'11 Axle Loads Direction 2-SS'!B33","v":3},{"$f":"'11 Axle Loads Direction 2-SS'!C33","v":0},{"$f":"'11 Axle Loads Direction 2-SS'!D33","v":0},{"$f":"'11 Axle Loads Direction 2-SS'!E33","v":0},{"$f":"'11 Axle Loads Direction 2-SS'!F33","v":0},{"$f":"'11 Axle Loads Direction 2-SS'!G33","v":0},{"$f":"'11 Axle Loads Direction 2-SS'!H33","v":0},{"$f":"'11 Axle Loads Direction 2-SS'!I33","v":0},{"$f":"'11 Axle Loads Direction 2-SS'!J33","v":0},{"$f":"'11 Axle Loads Direction 2-SS'!K33","v":0},0,0,0,0,0,0,0,0,0,0,0,0,0,0,0,0,0,null,0,0,0,0,0,0,0,0,0,0,0,0,0,0,0,0,0,0,0,0,0,0,0,0,0,0,0,0,0,0,0,0,0,0,0,0,0,0,0,0,0,0,0,0,0,0,0,0,0,0,0,0,0,0,0,0,0,0,0,0,0,0,0,0,0,0,0,0,0,0,0,0,0,0,0,0,0,0,0,0,0,0,0,0,0,0,0,0,0,0,0,0,0,0,0,0,0,0,0,0,0,0,0,0,0,0,0,0,0,0,0,0,0,0,0,0,0,0,0,0,0,0,0,0,0,0,0,0,0,0,0,0,0,0,0,0,0,0,0,0,0,0,0,0,0,0,0,0,0,0,0,0,0,0,0,0,0,0,0,0,0,0,0,0,0,0,0,0,0,0,0,0,0,0,0,0,0,0,0,0,0,0,0,0,0,0,0,0,0,0,0,0,0,0,0,0,0,0,0,0,0,0,0,0,0,0,0,0,0,0,0,0,0,0,0,0,0,0,0,0,0,0,0,0,0,0,0,0,0,0,0,0,0,0,0,0,0,0,0,0,0,0,0,0,0,0,0,0,0,0,0,0,0,0,0,0,0,0,0,0,0,0,0,0,0,0,0,0,0,0,0,0,0,0,0,0,0,0,0,0,0,0,0,0,0,0,0,0,0,0,0,0,0,0,0,0,0,0,0,0,0,0,0,0,0,0,0,0,0,0,0,0,0,0,0,0,0,0,0,0,0,0,0,0,0,0,0,0,0,0,0,0,0,0,0,0,0,0,0,0,0,0,0,0,0,0,0,0,0,0,0,0,0,0,0,0,0,0,0,0,0,0,0,0,0,0,0,0,0,0,0,0,0,0,0,0,0,0,0,0,0,0,0,0,0,0,0,0,0,0,0,0,0,0,0,0,0,0,0,0,0,0,0,0,0,0,0,0,0,0,0,0,0,0,0,0,0,0,0,0,0,0,0,0,0,0,0,0,0,0,0,0,0,0,0,0,0,0,0,0,0,0,0,0,0,0,0,0,0,0,0,0,0,0,0,0,0,0,0,0,0,0,0,0,0,0,0,0,0,0,0,0,0,0,0,0,0,0,0,0,0,0,0,0,0,0,0,0,0,0,0,0,0,0,0,0,0,0,0,0,0,0,0,0,0,0,0,0,0,0,0,0,0,0,0,0,0,0,0,0,0,0,0,0,0,0,0,0,0,0,null,null,290,{"$f":"BF$1006+CJ$1006","v":0},0,290,{"$f":"DN$1006+ER$1006","v":0},0,290,{"$f":"LP$1006+MT$1006+NX$1006+PB$1006","v":0},0,290,{"$f":"FV$1006+GZ$1006+ID$1006+JH$1006","v":0},0,290,{"$f":"QF$1006+RO$1006","v":0},0,290,{"$f":"SX$1006+UG$1006","v":0},0]
[2,{"$f":"'11 Axle Loads Direction 2-SS'!B34","v":3},{"$f":"'11 Axle Loads Direction 2-SS'!C34","v":0},{"$f":"'11 Axle Loads Direction 2-SS'!D34","v":0},{"$f":"'11 Axle Loads Direction 2-SS'!E34","v":0},{"$f":"'11 Axle Loads Direction 2-SS'!F34","v":0},{"$f":"'11 Axle Loads Direction 2-SS'!G34","v":0},{"$f":"'11 Axle Loads Direction 2-SS'!H34","v":0},{"$f":"'11 Axle Loads Direction 2-SS'!I34","v":0},{"$f":"'11 Axle Loads Direction 2-SS'!J34","v":0},{"$f":"'11 Axle Loads Direction 2-SS'!K34","v":0},0,0,0,0,0,0,0,0,0,0,0,0,0,0,0,0,0,null,0,0,0,0,0,0,0,0,0,0,0,0,0,0,0,0,0,0,0,0,0,0,0,0,0,0,0,0,0,0,0,0,0,0,0,0,0,0,0,0,0,0,0,0,0,0,0,0,0,0,0,0,0,0,0,0,0,0,0,0,0,0,0,0,0,0,0,0,0,0,0,0,0,0,0,0,0,0,0,0,0,0,0,0,0,0,0,0,0,0,0,0,0,0,0,0,0,0,0,0,0,0,0,0,0,0,0,0,0,0,0,0,0,0,0,0,0,0,0,0,0,0,0,0,0,0,0,0,0,0,0,0,0,0,0,0,0,0,0,0,0,0,0,0,0,0,0,0,0,0,0,0,0,0,0,0,0,0,0,0,0,0,0,0,0,0,0,0,0,0,0,0,0,0,0,0,0,0,0,0,0,0,0,0,0,0,0,0,0,0,0,0,0,0,0,0,0,0,0,0,0,0,0,0,0,0,0,0,0,0,0,0,0,0,0,0,0,0,0,0,0,0,0,0,0,0,0,0,0,0,0,0,0,0,0,0,0,0,0,0,0,0,0,0,0,0,0,0,0,0,0,0,0,0,0,0,0,0,0,0,0,0,0,0,0,0,0,0,0,0,0,0,0,0,0,0,0,0,0,0,0,0,0,0,0,0,0,0,0,0,0,0,0,0,0,0,0,0,0,0,0,0,0,0,0,0,0,0,0,0,0,0,0,0,0,0,0,0,0,0,0,0,0,0,0,0,0,0,0,0,0,0,0,0,0,0,0,0,0,0,0,0,0,0,0,0,0,0,0,0,0,0,0,0,0,0,0,0,0,0,0,0,0,0,0,0,0,0,0,0,0,0,0,0,0,0,0,0,0,0,0,0,0,0,0,0,0,0,0,0,0,0,0,0,0,0,0,0,0,0,0,0,0,0,0,0,0,0,0,0,0,0,0,0,0,0,0,0,0,0,0,0,0,0,0,0,0,0,0,0,0,0,0,0,0,0,0,0,0,0,0,0,0,0,0,0,0,0,0,0,0,0,0,0,0,0,0,0,0,0,0,0,0,0,0,0,0,0,0,0,0,0,0,0,0,0,0,0,0,0,0,0,0,0,0,0,0,0,0,0,0,0,0,0,0,0,0,0,0,0,0,0,0,0,0,0,0,0,0,0,0,0,0,0,0,0,0,0,0,0,0,0,0,0,0,0,0,0,0,0,null,null,300,{"$f":"BG$1006+CK$1006","v":0},0,300,{"$f":"DO$1006+ES$1006","v":0},0,300,{"$f":"LQ$1006+MU$1006+NY$1006+PC$1006","v":0},{"$f":"(UW34/$UW$35)*100","v":0},300,{"$f":"FW$1006+HA$1006+IE$1006+JI$1006","v":0},0,300,{"$f":"QG$1006+RP$1006","v":0},0,300,{"$f":"SY$1006+UH$1006","v":0},0]
[2,{"$f":"'11 Axle Loads Direction 2-SS'!B35","v":"4B"},{"$f":"'11 Axle Loads Direction 2-SS'!C35","v":6},{"$f":"'11 Axle Loads Direction 2-SS'!D35","v":6},{"$f":"'11 Axle Loads Direction 2-SS'!E35","v":10},{"$f":"'11 Axle Loads Direction 2-SS'!F35","v":10},{"$f":"'11 Axle Loads Direction 2-SS'!G35","v":0},{"$f":"'11 Axle Loads Direction 2-SS'!H35","v":0},{"$f":"'11 Axle Loads Direction 2-SS'!I35","v":0},{"$f":"'11 Axle Loads Direction 2-SS'!J35","v":0},{"$f":"'11 Axle Loads Direction 2-SS'!K35","v":0},6,0,0,0,0,0,0,0,0,0,10,0,0,0,0,0,0,null,0,0,0,0,0,60,0,0,0,0,0,0,0,0,0,0,0,0,0,0,0,0,0,0,0,0,0,0,0,0,0,0,0,0,0,0,0,0,0,0,0,0,0,0,0,0,0,0,0,0,0,0,0,0,0,0,0,0,0,0,0,0,0,0,0,0,0,0,0,0,0,0,0,0,0,0,0,0,0,0,0,0,0,0,0,0,0,0,0,0,0,0,0,0,0,0,0,0,0,0,0,0,0,0,0,0,0,0,0,0,0,0,0,0,0,0,0,0,0,0,0,0,0,0,0,0,0,0,0,0,0,0,0,0,0,0,0,0,0,0,0,0,0,0,0,0,0,0,0,0,0,0,0,0,0,0,0,0,0,0,0,0,0,0,0,0,0,0,0,0,0,0,0,0,0,0,0,0,0,0,0,0,0,0,0,0,0,0,0,0,0,0,0,0,0,0,0,0,0,0,0,0,0,0,0,0,0,0,0,0,0,0,0,0,0,0,0,0,0,0,0,0,0,0,0,0,0,0,0,0,0,0,0,0,0,0,0,0,0,0,0,0,0,0,0,0,0,0,0,0,0,0,0,0,0,0,0,0,0,0,0,0,0,0,0,0,0,0,0,0,0,0,0,0,0,0,0,0,0,0,0,0,0,0,0,0,0,0,0,0,0,0,0,0,0,0,0,0,0,0,0,0,0,0,0,0,0,0,0,100,0,0,0,0,0,0,0,0,0,0,0,0,0,0,0,0,0,0,0,0,0,0,0,0,0,0,0,0,0,0,0,0,0,0,0,0,0,0,0,0,0,0,0,0,0,0,0,0,0,0,0,0,0,0,0,0,0,0,0,0,0,0,0,0,0,0,0,0,0,0,0,0,0,0,0,0,0,0,0,0,0,0,0,0,0,0,0,0,0,0,0,0,0,0,0,0,0,0,0,0,0,0,0,0,0,0,0,0,0,0,0,0,0,0,0,0,0,0,0,0,0,0,0,0,0,0,0,0,0,0,0,0,0,0,0,0,0,0,0,0,0,0,0,0,0,0,0,0,0,0,0,0,0,0,0,0,0,0,0,0,0,0,0,0,0,0,0,0,0,0,0,0,0,0,0,0,0,0,0,0,0,0,0,0,0,0,0,0,0,0,0,0,0,0,0,0,0,0,0,0,0,0,0,0,0,0,0,0,0,0,0,0,0,0,0,0,0,0,0,0,null,null,"Sum",{"$f":"SUM(UQ5:UQ34)","v":4170},{"$f":"SUM(UR5:UR34)","v":100},null,{"$f":"SUM(UT5:UT34)","v":1560},{"$f":"SUM(UU5:UU34)","v":100},null,{"$f":"SUM(UW5:UW34)","v":4170},{"$f":"SUM(UX5:UX34)","v":100},null,{"$f":"SUM(UZ5:UZ34)","v":11430},{"$f":"SUM(VA5:VA34)","v":100},310,{"$f":"QH$1006+RQ$1006","v":0},0,310,{"$f":"SZ$1006+UI$1006","v":0},0]
[2,{"$f":"'11 Axle Loads Direction 2-SS'!B36","v":3},{"$f":"'11 Axle Loads Direction 2-SS'!C36","v":0},{"$f":"'11 Axle Loads Direction 2-SS'!D36","v":0},{"$f":"'11 Axle Loads Direction 2-SS'!E36","v":0},{"$f":"'11 Axle Loads Direction 2-SS'!F36","v":0},{"$f":"'11 Axle Loads Direction 2-SS'!G36","v":0},{"$f":"'11 Axle Loads Direction 2-SS'!H36","v":0},{"$f":"'11 Axle Loads Direction 2-SS'!I36","v":0},{"$f":"'11 Axle Loads Direction 2-SS'!J36","v":0},{"$f":"'11 Axle Loads Direction 2-SS'!K36","v":0},0,0,0,0,0,0,0,0,0,0,0,0,0,0,0,0,0,null,0,0,0,0,0,0,0,0,0,0,0,0,0,0,0,0,0,0,0,0,0,0,0,0,0,0,0,0,0,0,0,0,0,0,0,0,0,0,0,0,0,0,0,0,0,0,0,0,0,0,0,0,0,0,0,0,0,0,0,0,0,0,0,0,0,0,0,0,0,0,0,0,0,0,0,0,0,0,0,0,0,0,0,0,0,0,0,0,0,0,0,0,0,0,0,0,0,0,0,0,0,0,0,0,0,0,0,0,0,0,0,0,0,0,0,0,0,0,0,0,0,0,0,0,0,0,0,0,0,0,0,0,0,0,0,0,0,0,0,0,0,0,0,0,0,0,0,0,0,0,0,0,0,0,0,0,0,0,0,0,0,0,0,0,0,0,0,0,0,0,0,0,0,0,0,0,0,0,0,0,0,0,0,0,0,0,0,0,0,0,0,0,0,0,0,0,0,0,0,0,0,0,0,0,0,0,0,0,0,0,0,0,0,0,0,0,0,0,0,0,0,0,0,0,0,0,0,0,0,0,0,0,0,0,0,0,0,0,0,0,0,0,0,0,0,0,0,0,0,0,0,0,0,0,0,0,0,0,0,0,0,0,0,0,0,0,0,0,0,0,0,0,0,0,0,0,0,0,0,0,0,0,0,0,0,0,0,0,0,0,0,0,0,0,0,0,0,0,0,0,0,0,0,0,0,0,0,0,0,0,0,0,0,0,0,0,0,0,0,0,0,0,0,0,0,0,0,0,0,0,0,0,0,0,0,0,0,0,0,0,0,0,0,0,0,0,0,0,0,0,0,0,0,0,0,0,0,0,0,0,0,0,0,0,0,0,0,0,0,0,0,0,0,0,0,0,0,0,0,0,0,0,0,0,0,0,0,0,0,0,0,0,0,0,0,0,0,0,0,0,0,0,0,0,0,0,0,0,0,0,0,0,0,0,0,0,0,0,0,0,0,0,0,0,0,0,0,0,0,0,0,0,0,0,0,0,0,0,0,0,0,0,0,0,0,0,0,0,0,0,0,0,0,0,0,0,0,0,0,0,0,0,0,0,0,0,0,0,0,0,0,0,0,0,0,0,0,0,0,0,0,0,0,0,0,0,0,0,0,0,0,0,0,0,0,0,0,0,0,0,0,0,0,0,0,0,0,0,0,0,0,0,0,0,0,0,0,0,0,0,0,0,0,0,0,0,0,0,0,0,null,null,null,null,null,null,null,null,null,null,null,null,null,null,320,{"$f":"QI$1006+RR$1006","v":0},0,320,{"$f":"TA$1006+UJ$1006","v":0},0]
[2,{"$f":"'11 Axle Loads Direction 2-SS'!B37","v":3},{"$f":"'11 Axle Loads Direction 2-SS'!C37","v":0},{"$f":"'11 Axle Loads Direction 2-SS'!D37","v":0},{"$f":"'11 Axle Loads Direction 2-SS'!E37","v":0},{"$f":"'11 Axle Loads Direction 2-SS'!F37","v":0},{"$f":"'11 Axle Loads Direction 2-SS'!G37","v":0},{"$f":"'11 Axle Loads Direction 2-SS'!H37","v":0},{"$f":"'11 Axle Loads Direction 2-SS'!I37","v":0},{"$f":"'11 Axle Loads Direction 2-SS'!J37","v":0},{"$f":"'11 Axle Loads Direction 2-SS'!K37","v":0},0,0,0,0,0,0,0,0,0,0,0,0,0,0,0,0,0,null,0,0,0,0,0,0,0,0,0,0,0,0,0,0,0,0,0,0,0,0,0,0,0,0,0,0,0,0,0,0,0,0,0,0,0,0,0,0,0,0,0,0,0,0,0,0,0,0,0,0,0,0,0,0,0,0,0,0,0,0,0,0,0,0,0,0,0,0,0,0,0,0,0,0,0,0,0,0,0,0,0,0,0,0,0,0,0,0,0,0,0,0,0,0,0,0,0,0,0,0,0,0,0,0,0,0,0,0,0,0,0,0,0,0,0,0,0,0,0,0,0,0,0,0,0,0,0,0,0,0,0,0,0,0,0,0,0,0,0,0,0,0,0,0,0,0,0,0,0,0,0,0,0,0,0,0,0,0,0,0,0,0,0,0,0,0,0,0,0,0,0,0,0,0,0,0,0,0,0,0,0,0,0,0,0,0,0,0,0,0,0,0,0,0,0,0,0,0,0,0,0,0,0,0,0,0,0,0,0,0,0,0,0,0,0,0,0,0,0,0,0,0,0,0,0,0,0,0,0,0,0,0,0,0,0,0,0,0,0,0,0,0,0,0,0,0,0,0,0,0,0,0,0,0,0,0,0,0,0,0,0,0,0,0,0,0,0,0,0,0,0,0,0,0,0,0,0,0,0,0,0,0,0,0,0,0,0,0,0,0,0,0,0,0,0,0,0,0,0,0,0,0,0,0,0,0,0,0,0,0,0,0,0,0,0,0,0,0,0,0,0,0,0,0,0,0,0,0,0,0,0,0,0,0,0,0,0,0,0,0,0,0,0,0,0,0,0,0,0,0,0,0,0,0,0,0,0,0,0,0,0,0,0,0,0,0,0,0,0,0,0,0,0,0,0,0,0,0,0,0,0,0,0,0,0,0,0,0,0,0,0,0,0,0,0,0,0,0,0,0,0,0,0,0,0,0,0,0,0,0,0,0,0,0,0,0,0,0,0,0,0,0,0,0,0,0,0,0,0,0,0,0,0,0,0,0,0,0,0,0,0,0,0,0,0,0,0,0,0,0,0,0,0,0,0,0,0,0,0,0,0,0,0,0,0,0,0,0,0,0,0,0,0,0,0,0,0,0,0,0,0,0,0,0,0,0,0,0,0,0,0,0,0,0,0,0,0,0,0,0,0,0,0,0,0,0,0,0,0,0,0,0,0,0,0,0,0,0,0,0,0,0,0,0,0,0,0,0,0,0,null,null,null,null,null,null,null,null,null,null,null,null,null,null,330,{"$f":"QJ$1006+RS$1006","v":0},0,330,{"$f":"TB$1006+UK$1006","v":0},0]
[2,{"$f":"'11 Axle Loads Direction 2-SS'!B38","v":3},{"$f":"'11 Axle Loads Direction 2-SS'!C38","v":0},{"$f":"'11 Axle Loads Direction 2-SS'!D38","v":0},{"$f":"'11 Axle Loads Direction 2-SS'!E38","v":0},{"$f":"'11 Axle Loads Direction 2-SS'!F38","v":0},{"$f":"'11 Axle Loads Direction 2-SS'!G38","v":0},{"$f":"'11 Axle Loads Direction 2-SS'!H38","v":0},{"$f":"'11 Axle Loads Direction 2-SS'!I38","v":0},{"$f":"'11 Axle Loads Direction 2-SS'!J38","v":0},{"$f":"'11 Axle Loads Direction 2-SS'!K38","v":0},0,0,0,0,0,0,0,0,0,0,0,0,0,0,0,0,0,null,0,0,0,0,0,0,0,0,0,0,0,0,0,0,0,0,0,0,0,0,0,0,0,0,0,0,0,0,0,0,0,0,0,0,0,0,0,0,0,0,0,0,0,0,0,0,0,0,0,0,0,0,0,0,0,0,0,0,0,0,0,0,0,0,0,0,0,0,0,0,0,0,0,0,0,0,0,0,0,0,0,0,0,0,0,0,0,0,0,0,0,0,0,0,0,0,0,0,0,0,0,0,0,0,0,0,0,0,0,0,0,0,0,0,0,0,0,0,0,0,0,0,0,0,0,0,0,0,0,0,0,0,0,0,0,0,0,0,0,0,0,0,0,0,0,0,0,0,0,0,0,0,0,0,0,0,0,0,0,0,0,0,0,0,0,0,0,0,0,0,0,0,0,0,0,0,0,0,0,0,0,0,0,0,0,0,0,0,0,0,0,0,0,0,0,0,0,0,0,0,0,0,0,0,0,0,0,0,0,0,0,0,0,0,0,0,0,0,0,0,0,0,0,0,0,0,0,0,0,0,0,0,0,0,0,0,0,0,0,0,0,0,0,0,0,0,0,0,0,0,0,0,0,0,0,0,0,0,0,0,0,0,0,0,0,0,0,0,0,0,0,0,0,0,0,0,0,0,0,0,0,0,0,0,0,0,0,0,0,0,0,0,0,0,0,0,0,0,0,0,0,0,0,0,0,0,0,0,0,0,0,0,0,0,0,0,0,0,0,0,0,0,0,0,0,0,0,0,0,0,0,0,0,0,0,0,0,0,0,0,0,0,0,0,0,0,0,0,0,0,0,0,0,0,0,0,0,0,0,0,0,0,0,0,0,0,0,0,0,0,0,0,0,0,0,0,0,0,0,0,0,0,0,0,0,0,0,0,0,0,0,0,0,0,0,0,0,0,0,0,0,0,0,0,0,0,0,0,0,0,0,0,0,0,0,0,0,0,0,0,0,0,0,0,0,0,0,0,0,0,0,0,0,0,0,0,0,0,0,0,0,0,0,0,0,0,0,0,0,0,0,0,0,0,0,0,0,0,0,0,0,0,0,0,0,0,0,0,0,0,0,0,0,0,0,0,0,0,0,0,0,0,0,0,0,0,0,0,0,0,0,0,0,0,0,0,0,0,0,0,0,0,0,0,0,0,0,0,0,0,0,0,0,0,0,0,0,0,0,0,0,0,0,0,0,0,0,0,0,0,null,null,null,null,null,null,null,null,null,null,null,null,null,null,340,{"$f":"QK$1006+RT$1006","v":0},0,340,{"$f":"TC$1006+UL$1006","v":0},0]
[2,{"$f":"'11 Axle Loads Direction 2-SS'!B39","v":3},{"$f":"'11 Axle Loads Direction 2-SS'!C39","v":0},{"$f":"'11 Axle Loads Direction 2-SS'!D39","v":0},{"$f":"'11 Axle Loads Direction 2-SS'!E39","v":0},{"$f":"'11 Axle Loads Direction 2-SS'!F39","v":0},{"$f":"'11 Axle Loads Direction 2-SS'!G39","v":0},{"$f":"'11 Axle Loads Direction 2-SS'!H39","v":0},{"$f":"'11 Axle Loads Direction 2-SS'!I39","v":0},{"$f":"'11 Axle Loads Direction 2-SS'!J39","v":0},{"$f":"'11 Axle Loads Direction 2-SS'!K39","v":0},0,0,0,0,0,0,0,0,0,0,0,0,0,0,0,0,0,null,0,0,0,0,0,0,0,0,0,0,0,0,0,0,0,0,0,0,0,0,0,0,0,0,0,0,0,0,0,0,0,0,0,0,0,0,0,0,0,0,0,0,0,0,0,0,0,0,0,0,0,0,0,0,0,0,0,0,0,0,0,0,0,0,0,0,0,0,0,0,0,0,0,0,0,0,0,0,0,0,0,0,0,0,0,0,0,0,0,0,0,0,0,0,0,0,0,0,0,0,0,0,0,0,0,0,0,0,0,0,0,0,0,0,0,0,0,0,0,0,0,0,0,0,0,0,0,0,0,0,0,0,0,0,0,0,0,0,0,0,0,0,0,0,0,0,0,0,0,0,0,0,0,0,0,0,0,0,0,0,0,0,0,0,0,0,0,0,0,0,0,0,0,0,0,0,0,0,0,0,0,0,0,0,0,0,0,0,0,0,0,0,0,0,0,0,0,0,0,0,0,0,0,0,0,0,0,0,0,0,0,0,0,0,0,0,0,0,0,0,0,0,0,0,0,0,0,0,0,0,0,0,0,0,0,0,0,0,0,0,0,0,0,0,0,0,0,0,0,0,0,0,0,0,0,0,0,0,0,0,0,0,0,0,0,0,0,0,0,0,0,0,0,0,0,0,0,0,0,0,0,0,0,0,0,0,0,0,0,0,0,0,0,0,0,0,0,0,0,0,0,0,0,0,0,0,0,0,0,0,0,0,0,0,0,0,0,0,0,0,0,0,0,0,0,0,0,0,0,0,0,0,0,0,0,0,0,0,0,0,0,0,0,0,0,0,0,0,0,0,0,0,0,0,0,0,0,0,0,0,0,0,0,0,0,0,0,0,0,0,0,0,0,0,0,0,0,0,0,0,0,0,0,0,0,0,0,0,0,0,0,0,0,0,0,0,0,0,0,0,0,0,0,0,0,0,0,0,0,0,0,0,0,0,0,0,0,0,0,0,0,0,0,0,0,0,0,0,0,0,0,0,0,0,0,0,0,0,0,0,0,0,0,0,0,0,0,0,0,0,0,0,0,0,0,0,0,0,0,0,0,0,0,0,0,0,0,0,0,0,0,0,0,0,0,0,0,0,0,0,0,0,0,0,0,0,0,0,0,0,0,0,0,0,0,0,0,0,0,0,0,0,0,0,0,0,0,0,0,0,0,0,0,0,0,0,0,0,0,0,0,0,0,0,0,0,0,0,0,0,null,null,null,null,null,null,null,null,null,null,null,null,null,null,350,{"$f":"QL$1006+RU$1006","v":0},0,350,{"$f":"TD$1006+UM$1006","v":0},0]
[2,{"$f":"'11 Axle Loads Direction 2-SS'!B40","v":3},{"$f":"'11 Axle Loads Direction 2-SS'!C40","v":0},{"$f":"'11 Axle Loads Direction 2-SS'!D40","v":0},{"$f":"'11 Axle Loads Direction 2-SS'!E40","v":0},{"$f":"'11 Axle Loads Direction 2-SS'!F40","v":0},{"$f":"'11 Axle Loads Direction 2-SS'!G40","v":0},{"$f":"'11 Axle Loads Direction 2-SS'!H40","v":0},{"$f":"'11 Axle Loads Direction 2-SS'!I40","v":0},{"$f":"'11 Axle Loads Direction 2-SS'!J40","v":0},{"$f":"'11 Axle Loads Direction 2-SS'!K40","v":0},0,0,0,0,0,0,0,0,0,0,0,0,0,0,0,0,0,null,0,0,0,0,0,0,0,0,0,0,0,0,0,0,0,0,0,0,0,0,0,0,0,0,0,0,0,0,0,0,0,0,0,0,0,0,0,0,0,0,0,0,0,0,0,0,0,0,0,0,0,0,0,0,0,0,0,0,0,0,0,0,0,0,0,0,0,0,0,0,0,0,0,0,0,0,0,0,0,0,0,0,0,0,0,0,0,0,0,0,0,0,0,0,0,0,0,0,0,0,0,0,0,0,0,0,0,0,0,0,0,0,0,0,0,0,0,0,0,0,0,0,0,0,0,0,0,0,0,0,0,0,0,0,0,0,0,0,0,0,0,0,0,0,0,0,0,0,0,0,0,0,0,0,0,0,0,0,0,0,0,0,0,0,0,0,0,0,0,0,0,0,0,0,0,0,0,0,0,0,0,0,0,0,0,0,0,0,0,0,0,0,0,0,0,0,0,0,0,0,0,0,0,0,0,0,0,0,0,0,0,0,0,0,0,0,0,0,0,0,0,0,0,0,0,0,0,0,0,0,0,0,0,0,0,0,0,0,0,0,0,0,0,0,0,0,0,0,0,0,0,0,0,0,0,0,0,0,0,0,0,0,0,0,0,0,0,0,0,0,0,0,0,0,0,0,0,0,0,0,0,0,0,0,0,0,0,0,0,0,0,0,0,0,0,0,0,0,0,0,0,0,0,0,0,0,0,0,0,0,0,0,0,0,0,0,0,0,0,0,0,0,0,0,0,0,0,0,0,0,0,0,0,0,0,0,0,0,0,0,0,0,0,0,0,0,0,0,0,0,0,0,0,0,0,0,0,0,0,0,0,0,0,0,0,0,0,0,0,0,0,0,0,0,0,0,0,0,0,0,0,0,0,0,0,0,0,0,0,0,0,0,0,0,0,0,0,0,0,0,0,0,0,0,0,0,0,0,0,0,0,0,0,0,0,0,0,0,0,0,0,0,0,0,0,0,0,0,0,0,0,0,0,0,0,0,0,0,0,0,0,0,0,0,0,0,0,0,0,0,0,0,0,0,0,0,0,0,0,0,0,0,0,0,0,0,0,0,0,0,0,0,0,0,0,0,0,0,0,0,0,0,0,0,0,0,0,0,0,0,0,0,0,0,0,0,0,0,0,0,0,0,0,0,0,0,0,0,0,0,0,0,0,0,0,0,0,0,0,0,0,0,0,0,0,0,0,0,0,0,null,null,null,null,null,null,null,null,null,null,null,null,null,null,"Sum",{"$f":"SUM(VC5:VC39)","v":1890},{"$f":"SUM(VD5:VD39)","v":100},"Sum",{"$f":"SUM(VF5:VF39)","v":270},{"$f":"SUM(VG5:VG39)","v":100}]
[2,{"$f":"'11 Axle Loads Direction 2-SS'!B41","v":3},{"$f":"'11 Axle Loads Direction 2-SS'!C41","v":0},{"$f":"'11 Axle Loads Direction 2-SS'!D41","v":0},{"$f":"'11 Axle Loads Direction 2-SS'!E41","v":0},{"$f":"'11 Axle Loads Direction 2-SS'!F41","v":0},{"$f":"'11 Axle Loads Direction 2-SS'!G41","v":0},{"$f":"'11 Axle Loads Direction 2-SS'!H41","v":0},{"$f":"'11 Axle Loads Direction 2-SS'!I41","v":0},{"$f":"'11 Axle Loads Direction 2-SS'!J41","v":0},{"$f":"'11 Axle Loads Direction 2-SS'!K41","v":0},0,0,0,0,0,0,0,0,0,0,0,0,0,0,0,0,0,null,0,0,0,0,0,0,0,0,0,0,0,0,0,0,0,0,0,0,0,0,0,0,0,0,0,0,0,0,0,0,0,0,0,0,0,0,0,0,0,0,0,0,0,0,0,0,0,0,0,0,0,0,0,0,0,0,0,0,0,0,0,0,0,0,0,0,0,0,0,0,0,0,0,0,0,0,0,0,0,0,0,0,0,0,0,0,0,0,0,0,0,0,0,0,0,0,0,0,0,0,0,0,0,0,0,0,0,0,0,0,0,0,0,0,0,0,0,0,0,0,0,0,0,0,0,0,0,0,0,0,0,0,0,0,0,0,0,0,0,0,0,0,0,0,0,0,0,0,0,0,0,0,0,0,0,0,0,0,0,0,0,0,0,0,0,0,0,0,0,0,0,0,0,0,0,0,0,0,0,0,0,0,0,0,0,0,0,0,0,0,0,0,0,0,0,0,0,0,0,0,0,0,0,0,0,0,0,0,0,0,0,0,0,0,0,0,0,0,0,0,0,0,0,0,0,0,0,0,0,0,0,0,0,0,0,0,0,0,0,0,0,0,0,0,0,0,0,0,0,0,0,0,0,0,0,0,0,0,0,0,0,0,0,0,0,0,0,0,0,0,0,0,0,0,0,0,0,0,0,0,0,0,0,0,0,0,0,0,0,0,0,0,0,0,0,0,0,0,0,0,0,0,0,0,0,0,0,0,0,0,0,0,0,0,0,0,0,0,0,0,0,0,0,0,0,0,0,0,0,0,0,0,0,0,0,0,0,0,0,0,0,0,0,0,0,0,0,0,0,0,0,0,0,0,0,0,0,0,0,0,0,0,0,0,0,0,0,0,0,0,0,0,0,0,0,0,0,0,0,0,0,0,0,0,0,0,0,0,0,0,0,0,0,0,0,0,0,0,0,0,0,0,0,0,0,0,0,0,0,0,0,0,0,0,0,0,0,0,0,0,0,0,0,0,0,0,0,0,0,0,0,0,0,0,0,0,0,0,0,0,0,0,0,0,0,0,0,0,0,0,0,0,0,0,0,0,0,0,0,0,0,0,0,0,0,0,0,0,0,0,0,0,0,0,0,0,0,0,0,0,0,0,0,0,0,0,0,0,0,0,0,0,0,0,0,0,0,0,0,0,0,0,0,0,0,0,0,0,0,0,0,0,0,0,0,0,0,0,0,0,0,0,0,0,0,0,0,0,0,0,null,null,"Proportions  of Axle Load Groups"]
[2,{"$f":"'11 Axle Loads Direction 2-SS'!B42","v":3},{"$f":"'11 Axle Loads Direction 2-SS'!C42","v":0},{"$f":"'11 Axle Loads Direction 2-SS'!D42","v":0},{"$f":"'11 Axle Loads Direction 2-SS'!E42","v":0},{"$f":"'11 Axle Loads Direction 2-SS'!F42","v":0},{"$f":"'11 Axle Loads Direction 2-SS'!G42","v":0},{"$f":"'11 Axle Loads Direction 2-SS'!H42","v":0},{"$f":"'11 Axle Loads Direction 2-SS'!I42","v":0},{"$f":"'11 Axle Loads Direction 2-SS'!J42","v":0},{"$f":"'11 Axle Loads Direction 2-SS'!K42","v":0},0,0,0,0,0,0,0,0,0,0,0,0,0,0,0,0,0,null,0,0,0,0,0,0,0,0,0,0,0,0,0,0,0,0,0,0,0,0,0,0,0,0,0,0,0,0,0,0,0,0,0,0,0,0,0,0,0,0,0,0,0,0,0,0,0,0,0,0,0,0,0,0,0,0,0,0,0,0,0,0,0,0,0,0,0,0,0,0,0,0,0,0,0,0,0,0,0,0,0,0,0,0,0,0,0,0,0,0,0,0,0,0,0,0,0,0,0,0,0,0,0,0,0,0,0,0,0,0,0,0,0,0,0,0,0,0,0,0,0,0,0,0,0,0,0,0,0,0,0,0,0,0,0,0,0,0,0,0,0,0,0,0,0,0,0,0,0,0,0,0,0,0,0,0,0,0,0,0,0,0,0,0,0,0,0,0,0,0,0,0,0,0,0,0,0,0,0,0,0,0,0,0,0,0,0,0,0,0,0,0,0,0,0,0,0,0,0,0,0,0,0,0,0,0,0,0,0,0,0,0,0,0,0,0,0,0,0,0,0,0,0,0,0,0,0,0,0,0,0,0,0,0,0,0,0,0,0,0,0,0,0,0,0,0,0,0,0,0,0,0,0,0,0,0,0,0,0,0,0,0,0,0,0,0,0,0,0,0,0,0,0,0,0,0,0,0,0,0,0,0,0,0,0,0,0,0,0,0,0,0,0,0,0,0,0,0,0,0,0,0,0,0,0,0,0,0,0,0,0,0,0,0,0,0,0,0,0,0,0,0,0,0,0,0,0,0,0,0,0,0,0,0,0,0,0,0,0,0,0,0,0,0,0,0,0,0,0,0,0,0,0,0,0,0,0,0,0,0,0,0,0,0,0,0,0,0,0,0,0,0,0,0,0,0,0,0,0,0,0,0,0,0,0,0,0,0,0,0,0,0,0,0,0,0,0,0,0,0,0,0,0,0,0,0,0,0,0,0,0,0,0,0,0,0,0,0,0,0,0,0,0,0,0,0,0,0,0,0,0,0,0,0,0,0,0,0,0,0,0,0,0,0,0,0,0,0,0,0,0,0,0,0,0,0,0,0,0,0,0,0,0,0,0,0,0,0,0,0,0,0,0,0,0,0,0,0,0,0,0,0,0,0,0,0,0,0,0,0,0,0,0,0,0,0,0,0,0,0,0,0,0,0,0,0,0,0,0,0,0,0,0,0,0,0,0,0,0,0,0,0,0,0,0,0,0,0,0,0,null,null,"HVAG","Proportion","User estimate"]
[2,{"$f":"'11 Axle Loads Direction 2-SS'!B43","v":3},{"$f":"'11 Axle Loads Direction 2-SS'!C43","v":0},{"$f":"'11 Axle Loads Direction 2-SS'!D43","v":0},{"$f":"'11 Axle Loads Direction 2-SS'!E43","v":0},{"$f":"'11 Axle Loads Direction 2-SS'!F43","v":0},{"$f":"'11 Axle Loads Direction 2-SS'!G43","v":0},{"$f":"'11 Axle Loads Direction 2-SS'!H43","v":0},{"$f":"'11 Axle Loads Direction 2-SS'!I43","v":0},{"$f":"'11 Axle Loads Direction 2-SS'!J43","v":0},{"$f":"'11 Axle Loads Direction 2-SS'!K43","v":0},0,0,0,0,0,0,0,0,0,0,0,0,0,0,0,0,0,null,0,0,0,0,0,0,0,0,0,0,0,0,0,0,0,0,0,0,0,0,0,0,0,0,0,0,0,0,0,0,0,0,0,0,0,0,0,0,0,0,0,0,0,0,0,0,0,0,0,0,0,0,0,0,0,0,0,0,0,0,0,0,0,0,0,0,0,0,0,0,0,0,0,0,0,0,0,0,0,0,0,0,0,0,0,0,0,0,0,0,0,0,0,0,0,0,0,0,0,0,0,0,0,0,0,0,0,0,0,0,0,0,0,0,0,0,0,0,0,0,0,0,0,0,0,0,0,0,0,0,0,0,0,0,0,0,0,0,0,0,0,0,0,0,0,0,0,0,0,0,0,0,0,0,0,0,0,0,0,0,0,0,0,0,0,0,0,0,0,0,0,0,0,0,0,0,0,0,0,0,0,0,0,0,0,0,0,0,0,0,0,0,0,0,0,0,0,0,0,0,0,0,0,0,0,0,0,0,0,0,0,0,0,0,0,0,0,0,0,0,0,0,0,0,0,0,0,0,0,0,0,0,0,0,0,0,0,0,0,0,0,0,0,0,0,0,0,0,0,0,0,0,0,0,0,0,0,0,0,0,0,0,0,0,0,0,0,0,0,0,0,0,0,0,0,0,0,0,0,0,0,0,0,0,0,0,0,0,0,0,0,0,0,0,0,0,0,0,0,0,0,0,0,0,0,0,0,0,0,0,0,0,0,0,0,0,0,0,0,0,0,0,0,0,0,0,0,0,0,0,0,0,0,0,0,0,0,0,0,0,0,0,0,0,0,0,0,0,0,0,0,0,0,0,0,0,0,0,0,0,0,0,0,0,0,0,0,0,0,0,0,0,0,0,0,0,0,0,0,0,0,0,0,0,0,0,0,0,0,0,0,0,0,0,0,0,0,0,0,0,0,0,0,0,0,0,0,0,0,0,0,0,0,0,0,0,0,0,0,0,0,0,0,0,0,0,0,0,0,0,0,0,0,0,0,0,0,0,0,0,0,0,0,0,0,0,0,0,0,0,0,0,0,0,0,0,0,0,0,0,0,0,0,0,0,0,0,0,0,0,0,0,0,0,0,0,0,0,0,0,0,0,0,0,0,0,0,0,0,0,0,0,0,0,0,0,0,0,0,0,0,0,0,0,0,0,0,0,0,0,0,0,0,0,0,0,0,0,0,0,0,0,0,0,0,0,0,0,0,0,null,null,"SAST",{"$f":"(L$1007)/$AB$1008","v":0.36170212765957449},0.39300000000000002]
[2,{"$f":"'11 Axle Loads Direction 2-SS'!B44","v":3},{"$f":"'11 Axle Loads Direction 2-SS'!C44","v":0},{"$f":"'11 Axle Loads Direction 2-SS'!D44","v":0},{"$f":"'11 Axle Loads Direction 2-SS'!E44","v":0},{"$f":"'11 Axle Loads Direction 2-SS'!F44","v":0},{"$f":"'11 Axle Loads Direction 2-SS'!G44","v":0},{"$f":"'11 Axle Loads Direction 2-SS'!H44","v":0},{"$f":"'11 Axle Loads Direction 2-SS'!I44","v":0},{"$f":"'11 Axle Loads Direction 2-SS'!J44","v":0},{"$f":"'11 Axle Loads Direction 2-SS'!K44","v":0},0,0,0,0,0,0,0,0,0,0,0,0,0,0,0,0,0,null,0,0,0,0,0,0,0,0,0,0,0,0,0,0,0,0,0,0,0,0,0,0,0,0,0,0,0,0,0,0,0,0,0,0,0,0,0,0,0,0,0,0,0,0,0,0,0,0,0,0,0,0,0,0,0,0,0,0,0,0,0,0,0,0,0,0,0,0,0,0,0,0,0,0,0,0,0,0,0,0,0,0,0,0,0,0,0,0,0,0,0,0,0,0,0,0,0,0,0,0,0,0,0,0,0,0,0,0,0,0,0,0,0,0,0,0,0,0,0,0,0,0,0,0,0,0,0,0,0,0,0,0,0,0,0,0,0,0,0,0,0,0,0,0,0,0,0,0,0,0,0,0,0,0,0,0,0,0,0,0,0,0,0,0,0,0,0,0,0,0,0,0,0,0,0,0,0,0,0,0,0,0,0,0,0,0,0,0,0,0,0,0,0,0,0,0,0,0,0,0,0,0,0,0,0,0,0,0,0,0,0,0,0,0,0,0,0,0,0,0,0,0,0,0,0,0,0,0,0,0,0,0,0,0,0,0,0,0,0,0,0,0,0,0,0,0,0,0,0,0,0,0,0,0,0,0,0,0,0,0,0,0,0,0,0,0,0,0,0,0,0,0,0,0,0,0,0,0,0,0,0,0,0,0,0,0,0,0,0,0,0,0,0,0,0,0,0,0,0,0,0,0,0,0,0,0,0,0,0,0,0,0,0,0,0,0,0,0,0,0,0,0,0,0,0,0,0,0,0,0,0,0,0,0,0,0,0,0,0,0,0,0,0,0,0,0,0,0,0,0,0,0,0,0,0,0,0,0,0,0,0,0,0,0,0,0,0,0,0,0,0,0,0,0,0,0,0,0,0,0,0,0,0,0,0,0,0,0,0,0,0,0,0,0,0,0,0,0,0,0,0,0,0,0,0,0,0,0,0,0,0,0,0,0,0,0,0,0,0,0,0,0,0,0,0,0,0,0,0,0,0,0,0,0,0,0,0,0,0,0,0,0,0,0,0,0,0,0,0,0,0,0,0,0,0,0,0,0,0,0,0,0,0,0,0,0,0,0,0,0,0,0,0,0,0,0,0,0,0,0,0,0,0,0,0,0,0,0,0,0,0,0,0,0,0,0,0,0,0,0,0,0,0,0,0,0,0,0,0,0,0,0,0,0,0,0,0,0,0,0,0,0,0,0,0,0,0,0,0,0,null,null,"SADT",{"$f":"(N$1007)/$AB$1008","v":7.6595744680851063E-2},0.191]
[2,{"$f":"'11 Axle Loads Direction 2-SS'!B45","v":5},{"$f":"'11 Axle Loads Direction 2-SS'!C45","v":0},{"$f":"'11 Axle Loads Direction 2-SS'!D45","v":0},{"$f":"'11 Axle Loads Direction 2-SS'!E45","v":0},{"$f":"'11 Axle Loads Direction 2-SS'!F45","v":0},{"$f":"'11 Axle Loads Direction 2-SS'!G45","v":0},{"$f":"'11 Axle Loads Direction 2-SS'!H45","v":0},{"$f":"'11 Axle Loads Direction 2-SS'!I45","v":0},{"$f":"'11 Axle Loads Direction 2-SS'!J45","v":0},{"$f":"'11 Axle Loads Direction 2-SS'!K45","v":0},0,0,0,0,0,0,0,0,0,0,0,0,0,0,0,0,0,null,0,0,0,0,0,0,0,0,0,0,0,0,0,0,0,0,0,0,0,0,0,0,0,0,0,0,0,0,0,0,0,0,0,0,0,0,0,0,0,0,0,0,0,0,0,0,0,0,0,0,0,0,0,0,0,0,0,0,0,0,0,0,0,0,0,0,0,0,0,0,0,0,0,0,0,0,0,0,0,0,0,0,0,0,0,0,0,0,0,0,0,0,0,0,0,0,0,0,0,0,0,0,0,0,0,0,0,0,0,0,0,0,0,0,0,0,0,0,0,0,0,0,0,0,0,0,0,0,0,0,0,0,0,0,0,0,0,0,0,0,0,0,0,0,0,0,0,0,0,0,0,0,0,0,0,0,0,0,0,0,0,0,0,0,0,0,0,0,0,0,0,0,0,0,0,0,0,0,0,0,0,0,0,0,0,0,0,0,0,0,0,0,0,0,0,0,0,0,0,0,0,0,0,0,0,0,0,0,0,0,0,0,0,0,0,0,0,0,0,0,0,0,0,0,0,0,0,0,0,0,0,0,0,0,0,0,0,0,0,0,0,0,0,0,0,0,0,0,0,0,0,0,0,0,0,0,0,0,0,0,0,0,0,0,0,0,0,0,0,0,0,0,0,0,0,0,0,0,0,0,0,0,0,0,0,0,0,0,0,0,0,0,0,0,0,0,0,0,0,0,0,0,0,0,0,0,0,0,0,0,0,0,0,0,0,0,0,0,0,0,0,0,0,0,0,0,0,0,0,0,0,0,0,0,0,0,0,0,0,0,0,0,0,0,0,0,0,0,0,0,0,0,0,0,0,0,0,0,0,0,0,0,0,0,0,0,0,0,0,0,0,0,0,0,0,0,0,0,0,0,0,0,0,0,0,0,0,0,0,0,0,0,0,0,0,0,0,0,0,0,0,0,0,0,0,0,0,0,0,0,0,0,0,0,0,0,0,0,0,0,0,0,0,0,0,0,0,0,0,0,0,0,0,0,0,0,0,0,0,0,0,0,0,0,0,0,0,0,0,0,0,0,0,0,0,0,0,0,0,0,0,0,0,0,0,0,0,0,0,0,0,0,0,0,0,0,0,0,0,0,0,0,0,0,0,0,0,0,0,0,0,0,0,0,0,0,0,0,0,0,0,0,0,0,0,0,0,0,0,0,0,0,0,0,0,0,0,0,0,0,0,0,0,0,0,0,0,0,0,0,null,null,"TAST",{"$f":"(U$1007)/$AB$1008","v":0.1148936170212766},8.9999999999999993E-3]
[2,{"$f":"'11 Axle Loads Direction 2-SS'!B46","v":3},{"$f":"'11 Axle Loads Direction 2-SS'!C46","v":0},{"$f":"'11 Axle Loads Direction 2-SS'!D46","v":0},{"$f":"'11 Axle Loads Direction 2-SS'!E46","v":0},{"$f":"'11 Axle Loads Direction 2-SS'!F46","v":0},{"$f":"'11 Axle Loads Direction 2-SS'!G46","v":0},{"$f":"'11 Axle Loads Direction 2-SS'!H46","v":0},{"$f":"'11 Axle Loads Direction 2-SS'!I46","v":0},{"$f":"'11 Axle Loads Direction 2-SS'!J46","v":0},{"$f":"'11 Axle Loads Direction 2-SS'!K46","v":0},0,0,0,0,0,0,0,0,0,0,0,0,0,0,0,0,0,null,0,0,0,0,0,0,0,0,0,0,0,0,0,0,0,0,0,0,0,0,0,0,0,0,0,0,0,0,0,0,0,0,0,0,0,0,0,0,0,0,0,0,0,0,0,0,0,0,0,0,0,0,0,0,0,0,0,0,0,0,0,0,0,0,0,0,0,0,0,0,0,0,0,0,0,0,0,0,0,0,0,0,0,0,0,0,0,0,0,0,0,0,0,0,0,0,0,0,0,0,0,0,0,0,0,0,0,0,0,0,0,0,0,0,0,0,0,0,0,0,0,0,0,0,0,0,0,0,0,0,0,0,0,0,0,0,0,0,0,0,0,0,0,0,0,0,0,0,0,0,0,0,0,0,0,0,0,0,0,0,0,0,0,0,0,0,0,0,0,0,0,0,0,0,0,0,0,0,0,0,0,0,0,0,0,0,0,0,0,0,0,0,0,0,0,0,0,0,0,0,0,0,0,0,0,0,0,0,0,0,0,0,0,0,0,0,0,0,0,0,0,0,0,0,0,0,0,0,0,0,0,0,0,0,0,0,0,0,0,0,0,0,0,0,0,0,0,0,0,0,0,0,0,0,0,0,0,0,0,0,0,0,0,0,0,0,0,0,0,0,0,0,0,0,0,0,0,0,0,0,0,0,0,0,0,0,0,0,0,0,0,0,0,0,0,0,0,0,0,0,0,0,0,0,0,0,0,0,0,0,0,0,0,0,0,0,0,0,0,0,0,0,0,0,0,0,0,0,0,0,0,0,0,0,0,0,0,0,0,0,0,0,0,0,0,0,0,0,0,0,0,0,0,0,0,0,0,0,0,0,0,0,0,0,0,0,0,0,0,0,0,0,0,0,0,0,0,0,0,0,0,0,0,0,0,0,0,0,0,0,0,0,0,0,0,0,0,0,0,0,0,0,0,0,0,0,0,0,0,0,0,0,0,0,0,0,0,0,0,0,0,0,0,0,0,0,0,0,0,0,0,0,0,0,0,0,0,0,0,0,0,0,0,0,0,0,0,0,0,0,0,0,0,0,0,0,0,0,0,0,0,0,0,0,0,0,0,0,0,0,0,0,0,0,0,0,0,0,0,0,0,0,0,0,0,0,0,0,0,0,0,0,0,0,0,0,0,0,0,0,0,0,0,0,0,0,0,0,0,0,0,0,0,0,0,0,0,0,0,0,0,0,0,0,0,0,0,0,0,0,null,null,"TADT",{"$f":"(P$1007)/$AB$1008","v":0.38723404255319149},0.25900000000000001]
[2,{"$f":"'11 Axle Loads Direction 2-SS'!B47","v":3},{"$f":"'11 Axle Loads Direction 2-SS'!C47","v":0},{"$f":"'11 Axle Loads Direction 2-SS'!D47","v":0},{"$f":"'11 Axle Loads Direction 2-SS'!E47","v":0},{"$f":"'11 Axle Loads Direction 2-SS'!F47","v":0},{"$f":"'11 Axle Loads Direction 2-SS'!G47","v":0},{"$f":"'11 Axle Loads Direction 2-SS'!H47","v":0},{"$f":"'11 Axle Loads Direction 2-SS'!I47","v":0},{"$f":"'11 Axle Loads Direction 2-SS'!J47","v":0},{"$f":"'11 Axle Loads Direction 2-SS'!K47","v":0},0,0,0,0,0,0,0,0,0,0,0,0,0,0,0,0,0,null,0,0,0,0,0,0,0,0,0,0,0,0,0,0,0,0,0,0,0,0,0,0,0,0,0,0,0,0,0,0,0,0,0,0,0,0,0,0,0,0,0,0,0,0,0,0,0,0,0,0,0,0,0,0,0,0,0,0,0,0,0,0,0,0,0,0,0,0,0,0,0,0,0,0,0,0,0,0,0,0,0,0,0,0,0,0,0,0,0,0,0,0,0,0,0,0,0,0,0,0,0,0,0,0,0,0,0,0,0,0,0,0,0,0,0,0,0,0,0,0,0,0,0,0,0,0,0,0,0,0,0,0,0,0,0,0,0,0,0,0,0,0,0,0,0,0,0,0,0,0,0,0,0,0,0,0,0,0,0,0,0,0,0,0,0,0,0,0,0,0,0,0,0,0,0,0,0,0,0,0,0,0,0,0,0,0,0,0,0,0,0,0,0,0,0,0,0,0,0,0,0,0,0,0,0,0,0,0,0,0,0,0,0,0,0,0,0,0,0,0,0,0,0,0,0,0,0,0,0,0,0,0,0,0,0,0,0,0,0,0,0,0,0,0,0,0,0,0,0,0,0,0,0,0,0,0,0,0,0,0,0,0,0,0,0,0,0,0,0,0,0,0,0,0,0,0,0,0,0,0,0,0,0,0,0,0,0,0,0,0,0,0,0,0,0,0,0,0,0,0,0,0,0,0,0,0,0,0,0,0,0,0,0,0,0,0,0,0,0,0,0,0,0,0,0,0,0,0,0,0,0,0,0,0,0,0,0,0,0,0,0,0,0,0,0,0,0,0,0,0,0,0,0,0,0,0,0,0,0,0,0,0,0,0,0,0,0,0,0,0,0,0,0,0,0,0,0,0,0,0,0,0,0,0,0,0,0,0,0,0,0,0,0,0,0,0,0,0,0,0,0,0,0,0,0,0,0,0,0,0,0,0,0,0,0,0,0,0,0,0,0,0,0,0,0,0,0,0,0,0,0,0,0,0,0,0,0,0,0,0,0,0,0,0,0,0,0,0,0,0,0,0,0,0,0,0,0,0,0,0,0,0,0,0,0,0,0,0,0,0,0,0,0,0,0,0,0,0,0,0,0,0,0,0,0,0,0,0,0,0,0,0,0,0,0,0,0,0,0,0,0,0,0,0,0,0,0,0,0,0,0,0,0,0,0,0,0,0,0,0,0,0,0,0,0,0,0,0,0,0,null,null,"TRDT",{"$f":"(Y$1007)/$AB$1008","v":2.9787234042553193E-2},0.14799999999999999]
[2,{"$f":"'11 Axle Loads Direction 2-SS'!B48","v":3},{"$f":"'11 Axle Loads Direction 2-SS'!C48","v":0},{"$f":"'11 Axle Loads Direction 2-SS'!D48","v":0},{"$f":"'11 Axle Loads Direction 2-SS'!E48","v":0},{"$f":"'11 Axle Loads Direction 2-SS'!F48","v":0},{"$f":"'11 Axle Loads Direction 2-SS'!G48","v":0},{"$f":"'11 Axle Loads Direction 2-SS'!H48","v":0},{"$f":"'11 Axle Loads Direction 2-SS'!I48","v":0},{"$f":"'11 Axle Loads Direction 2-SS'!J48","v":0},{"$f":"'11 Axle Loads Direction 2-SS'!K48","v":0},0,0,0,0,0,0,0,0,0,0,0,0,0,0,0,0,0,null,0,0,0,0,0,0,0,0,0,0,0,0,0,0,0,0,0,0,0,0,0,0,0,0,0,0,0,0,0,0,0,0,0,0,0,0,0,0,0,0,0,0,0,0,0,0,0,0,0,0,0,0,0,0,0,0,0,0,0,0,0,0,0,0,0,0,0,0,0,0,0,0,0,0,0,0,0,0,0,0,0,0,0,0,0,0,0,0,0,0,0,0,0,0,0,0,0,0,0,0,0,0,0,0,0,0,0,0,0,0,0,0,0,0,0,0,0,0,0,0,0,0,0,0,0,0,0,0,0,0,0,0,0,0,0,0,0,0,0,0,0,0,0,0,0,0,0,0,0,0,0,0,0,0,0,0,0,0,0,0,0,0,0,0,0,0,0,0,0,0,0,0,0,0,0,0,0,0,0,0,0,0,0,0,0,0,0,0,0,0,0,0,0,0,0,0,0,0,0,0,0,0,0,0,0,0,0,0,0,0,0,0,0,0,0,0,0,0,0,0,0,0,0,0,0,0,0,0,0,0,0,0,0,0,0,0,0,0,0,0,0,0,0,0,0,0,0,0,0,0,0,0,0,0,0,0,0,0,0,0,0,0,0,0,0,0,0,0,0,0,0,0,0,0,0,0,0,0,0,0,0,0,0,0,0,0,0,0,0,0,0,0,0,0,0,0,0,0,0,0,0,0,0,0,0,0,0,0,0,0,0,0,0,0,0,0,0,0,0,0,0,0,0,0,0,0,0,0,0,0,0,0,0,0,0,0,0,0,0,0,0,0,0,0,0,0,0,0,0,0,0,0,0,0,0,0,0,0,0,0,0,0,0,0,0,0,0,0,0,0,0,0,0,0,0,0,0,0,0,0,0,0,0,0,0,0,0,0,0,0,0,0,0,0,0,0,0,0,0,0,0,0,0,0,0,0,0,0,0,0,0,0,0,0,0,0,0,0,0,0,0,0,0,0,0,0,0,0,0,0,0,0,0,0,0,0,0,0,0,0,0,0,0,0,0,0,0,0,0,0,0,0,0,0,0,0,0,0,0,0,0,0,0,0,0,0,0,0,0,0,0,0,0,0,0,0,0,0,0,0,0,0,0,0,0,0,0,0,0,0,0,0,0,0,0,0,0,0,0,0,0,0,0,0,0,0,0,0,0,0,0,0,0,0,0,0,0,0,0,0,0,0,0,0,0,0,0,0,0,0,null,null,"TRST",{"$f":"(AA$1007)/$AB$1008","v":2.9787234042553193E-2},0]
[2,{"$f":"'11 Axle Loads Direction 2-SS'!B49","v":3},{"$f":"'11 Axle Loads Direction 2-SS'!C49","v":0},{"$f":"'11 Axle Loads Direction 2-SS'!D49","v":0},{"$f":"'11 Axle Loads Direction 2-SS'!E49","v":0},{"$f":"'11 Axle Loads Direction 2-SS'!F49","v":0},{"$f":"'11 Axle Loads Direction 2-SS'!G49","v":0},{"$f":"'11 Axle Loads Direction 2-SS'!H49","v":0},{"$f":"'11 Axle Loads Direction 2-SS'!I49","v":0},{"$f":"'11 Axle Loads Direction 2-SS'!J49","v":0},{"$f":"'11 Axle Loads Direction 2-SS'!K49","v":0},0,0,0,0,0,0,0,0,0,0,0,0,0,0,0,0,0,null,0,0,0,0,0,0,0,0,0,0,0,0,0,0,0,0,0,0,0,0,0,0,0,0,0,0,0,0,0,0,0,0,0,0,0,0,0,0,0,0,0,0,0,0,0,0,0,0,0,0,0,0,0,0,0,0,0,0,0,0,0,0,0,0,0,0,0,0,0,0,0,0,0,0,0,0,0,0,0,0,0,0,0,0,0,0,0,0,0,0,0,0,0,0,0,0,0,0,0,0,0,0,0,0,0,0,0,0,0,0,0,0,0,0,0,0,0,0,0,0,0,0,0,0,0,0,0,0,0,0,0,0,0,0,0,0,0,0,0,0,0,0,0,0,0,0,0,0,0,0,0,0,0,0,0,0,0,0,0,0,0,0,0,0,0,0,0,0,0,0,0,0,0,0,0,0,0,0,0,0,0,0,0,0,0,0,0,0,0,0,0,0,0,0,0,0,0,0,0,0,0,0,0,0,0,0,0,0,0,0,0,0,0,0,0,0,0,0,0,0,0,0,0,0,0,0,0,0,0,0,0,0,0,0,0,0,0,0,0,0,0,0,0,0,0,0,0,0,0,0,0,0,0,0,0,0,0,0,0,0,0,0,0,0,0,0,0,0,0,0,0,0,0,0,0,0,0,0,0,0,0,0,0,0,0,0,0,0,0,0,0,0,0,0,0,0,0,0,0,0,0,0,0,0,0,0,0,0,0,0,0,0,0,0,0,0,0,0,0,0,0,0,0,0,0,0,0,0,0,0,0,0,0,0,0,0,0,0,0,0,0,0,0,0,0,0,0,0,0,0,0,0,0,0,0,0,0,0,0,0,0,0,0,0,0,0,0,0,0,0,0,0,0,0,0,0,0,0,0,0,0,0,0,0,0,0,0,0,0,0,0,0,0,0,0,0,0,0,0,0,0,0,0,0,0,0,0,0,0,0,0,0,0,0,0,0,0,0,0,0,0,0,0,0,0,0,0,0,0,0,0,0,0,0,0,0,0,0,0,0,0,0,0,0,0,0,0,0,0,0,0,0,0,0,0,0,0,0,0,0,0,0,0,0,0,0,0,0,0,0,0,0,0,0,0,0,0,0,0,0,0,0,0,0,0,0,0,0,0,0,0,0,0,0,0,0,0,0,0,0,0,0,0,0,0,0,0,0,0,0,0,0,0,0,0,0,0,0,0,0,0,0,0,0,0,0,0,0,0,0,null,null,"Sum",{"$f":"SUM(UQ43:UQ48)","v":1},{"$f":"SUM(UR43:UR48)","v":1}]
[2,{"$f":"'11 Axle Loads Direction 2-SS'!B50","v":3},{"$f":"'11 Axle Loads Direction 2-SS'!C50","v":0},{"$f":"'11 Axle Loads Direction 2-SS'!D50","v":0},{"$f":"'11 Axle Loads Direction 2-SS'!E50","v":0},{"$f":"'11 Axle Loads Direction 2-SS'!F50","v":0},{"$f":"'11 Axle Loads Direction 2-SS'!G50","v":0},{"$f":"'11 Axle Loads Direction 2-SS'!H50","v":0},{"$f":"'11 Axle Loads Direction 2-SS'!I50","v":0},{"$f":"'11 Axle Loads Direction 2-SS'!J50","v":0},{"$f":"'11 Axle Loads Direction 2-SS'!K50","v":0},0,0,0,0,0,0,0,0,0,0,0,0,0,0,0,0,0,null,0,0,0,0,0,0,0,0,0,0,0,0,0,0,0,0,0,0,0,0,0,0,0,0,0,0,0,0,0,0,0,0,0,0,0,0,0,0,0,0,0,0,0,0,0,0,0,0,0,0,0,0,0,0,0,0,0,0,0,0,0,0,0,0,0,0,0,0,0,0,0,0,0,0,0,0,0,0,0,0,0,0,0,0,0,0,0,0,0,0,0,0,0,0,0,0,0,0,0,0,0,0,0,0,0,0,0,0,0,0,0,0,0,0,0,0,0,0,0,0,0,0,0,0,0,0,0,0,0,0,0,0,0,0,0,0,0,0,0,0,0,0,0,0,0,0,0,0,0,0,0,0,0,0,0,0,0,0,0,0,0,0,0,0,0,0,0,0,0,0,0,0,0,0,0,0,0,0,0,0,0,0,0,0,0,0,0,0,0,0,0,0,0,0,0,0,0,0,0,0,0,0,0,0,0,0,0,0,0,0,0,0,0,0,0,0,0,0,0,0,0,0,0,0,0,0,0,0,0,0,0,0,0,0,0,0,0,0,0,0,0,0,0,0,0,0,0,0,0,0,0,0,0,0,0,0,0,0,0,0,0,0,0,0,0,0,0,0,0,0,0,0,0,0,0,0,0,0,0,0,0,0,0,0,0,0,0,0,0,0,0,0,0,0,0,0,0,0,0,0,0,0,0,0,0,0,0,0,0,0,0,0,0,0,0,0,0,0,0,0,0,0,0,0,0,0,0,0,0,0,0,0,0,0,0,0,0,0,0,0,0,0,0,0,0,0,0,0,0,0,0,0,0,0,0,0,0,0,0,0,0,0,0,0,0,0,0,0,0,0,0,0,0,0,0,0,0,0,0,0,0,0,0,0,0,0,0,0,0,0,0,0,0,0,0,0,0,0,0,0,0,0,0,0,0,0,0,0,0,0,0,0,0,0,0,0,0,0,0,0,0,0,0,0,0,0,0,0,0,0,0,0,0,0,0,0,0,0,0,0,0,0,0,0,0,0,0,0,0,0,0,0,0,0,0,0,0,0,0,0,0,0,0,0,0,0,0,0,0,0,0,0,0,0,0,0,0,0,0,0,0,0,0,0,0,0,0,0,0,0,0,0,0,0,0,0,0,0,0,0,0,0,0,0,0,0,0,0,0,0,0,0,0,0,0,0,0,0,0,0,0,0,0,0,0,0,0,0,0,0,null,null,"NHVAG",{"$f":"100/((UQ43)*100)","v":2.7647058823529407},{"$f":"100/((UR43)*100)","v":2.5445292620865136}]
[2,{"$f":"'11 Axle Loads Direction 2-SS'!B51","v":"5B"},{"$f":"'11 Axle Loads Direction 2-SS'!C51","v":4},{"$f":"'11 Axle Loads Direction 2-SS'!D51","v":6},{"$f":"'11 Axle Loads Direction 2-SS'!E51","v":6},{"$f":"'11 Axle Loads Direction 2-SS'!F51","v":9},{"$f":"'11 Axle Loads Direction 2-SS'!G51","v":9},{"$f":"'11 Axle Loads Direction 2-SS'!H51","v":0},{"$f":"'11 Axle Loads Direction 2-SS'!I51","v":0},{"$f":"'11 Axle Loads Direction 2-SS'!J51","v":0},{"$f":"'11 Axle Loads Direction 2-SS'!K51","v":0},4,0,0,0,12,0,0,0,0,0,0,0,0,0,0,0,0,null,0,0,0,40,0,0,0,0,0,0,0,0,0,0,0,0,0,0,0,0,0,0,0,0,0,0,0,0,0,0,0,0,0,0,0,0,0,0,0,0,0,0,0,0,0,0,0,0,0,0,0,0,0,0,0,0,0,0,0,0,0,0,0,0,0,0,0,0,0,0,0,0,0,0,0,0,0,0,0,0,0,0,0,0,0,0,0,0,0,0,0,0,0,0,0,0,0,0,0,0,0,0,0,0,0,0,0,0,0,0,0,0,0,0,0,0,0,0,0,0,0,0,0,0,0,0,0,0,0,0,0,120,0,0,0,0,0,0,0,0,0,0,0,0,0,0,0,0,0,0,0,0,0,0,0,0,0,0,0,0,0,0,0,0,0,0,0,0,0,0,0,0,0,0,0,0,0,0,0,0,0,0,0,0,0,0,0,0,0,0,0,0,0,0,0,0,0,0,0,0,0,0,0,0,0,0,0,0,0,0,0,0,0,0,0,0,0,0,0,0,0,0,0,0,0,0,0,0,0,0,0,0,0,0,0,0,0,0,0,0,0,0,0,0,0,0,0,0,0,0,0,0,0,0,0,0,0,0,0,0,0,0,0,0,0,0,0,0,0,0,0,0,0,0,0,0,0,0,0,0,0,0,0,0,0,0,0,0,0,0,0,0,0,0,0,0,0,0,0,0,0,0,0,0,0,0,0,0,0,0,0,0,0,0,0,0,0,0,0,0,0,0,0,0,0,0,0,0,0,0,0,0,0,0,0,0,0,0,0,0,0,0,0,0,0,0,0,0,0,0,0,0,0,0,0,0,0,0,0,0,0,0,0,0,0,0,0,0,0,0,0,0,0,0,0,0,0,0,0,0,0,0,0,0,0,0,0,0,0,0,0,0,0,0,0,0,0,0,0,0,0,0,0,0,0,0,0,0,0,0,0,0,0,0,0,0,0,0,0,0,0,0,0,0,0,0,0,0,0,0,0,0,0,0,0,0,0,0,0,0,0,0,0,0,0,0,0,0,0,0,0,0,0,0,0,0,0,0,0,0,0,0,0,0,0,0,0,0,0,0,0,0,0,0,0,0,0,0,0,0,0,0,0,0,0,0,0,0,0,0,0,0,0,0,0,0,0,0,0,0,0,0,0,0,0,0,0,0,0,0,0,0,0,0,0,0,0,0,0,0,0,0,0,0,0,0,0,0,0,0]
[2,{"$f":"'11 Axle Loads Direction 2-SS'!B52","v":3},{"$f":"'11 Axle Loads Direction 2-SS'!C52","v":0},{"$f":"'11 Axle Loads Direction 2-SS'!D52","v":0},{"$f":"'11 Axle Loads Direction 2-SS'!E52","v":0},{"$f":"'11 Axle Loads Direction 2-SS'!F52","v":0},{"$f":"'11 Axle Loads Direction 2-SS'!G52","v":0},{"$f":"'11 Axle Loads Direction 2-SS'!H52","v":0},{"$f":"'11 Axle Loads Direction 2-SS'!I52","v":0},{"$f":"'11 Axle Loads Direction 2-SS'!J52","v":0},{"$f":"'11 Axle Loads Direction 2-SS'!K52","v":0},0,0,0,0,0,0,0,0,0,0,0,0,0,0,0,0,0,null,0,0,0,0,0,0,0,0,0,0,0,0,0,0,0,0,0,0,0,0,0,0,0,0,0,0,0,0,0,0,0,0,0,0,0,0,0,0,0,0,0,0,0,0,0,0,0,0,0,0,0,0,0,0,0,0,0,0,0,0,0,0,0,0,0,0,0,0,0,0,0,0,0,0,0,0,0,0,0,0,0,0,0,0,0,0,0,0,0,0,0,0,0,0,0,0,0,0,0,0,0,0,0,0,0,0,0,0,0,0,0,0,0,0,0,0,0,0,0,0,0,0,0,0,0,0,0,0,0,0,0,0,0,0,0,0,0,0,0,0,0,0,0,0,0,0,0,0,0,0,0,0,0,0,0,0,0,0,0,0,0,0,0,0,0,0,0,0,0,0,0,0,0,0,0,0,0,0,0,0,0,0,0,0,0,0,0,0,0,0,0,0,0,0,0,0,0,0,0,0,0,0,0,0,0,0,0,0,0,0,0,0,0,0,0,0,0,0,0,0,0,0,0,0,0,0,0,0,0,0,0,0,0,0,0,0,0,0,0,0,0,0,0,0,0,0,0,0,0,0,0,0,0,0,0,0,0,0,0,0,0,0,0,0,0,0,0,0,0,0,0,0,0,0,0,0,0,0,0,0,0,0,0,0,0,0,0,0,0,0,0,0,0,0,0,0,0,0,0,0,0,0,0,0,0,0,0,0,0,0,0,0,0,0,0,0,0,0,0,0,0,0,0,0,0,0,0,0,0,0,0,0,0,0,0,0,0,0,0,0,0,0,0,0,0,0,0,0,0,0,0,0,0,0,0,0,0,0,0,0,0,0,0,0,0,0,0,0,0,0,0,0,0,0,0,0,0,0,0,0,0,0,0,0,0,0,0,0,0,0,0,0,0,0,0,0,0,0,0,0,0,0,0,0,0,0,0,0,0,0,0,0,0,0,0,0,0,0,0,0,0,0,0,0,0,0,0,0,0,0,0,0,0,0,0,0,0,0,0,0,0,0,0,0,0,0,0,0,0,0,0,0,0,0,0,0,0,0,0,0,0,0,0,0,0,0,0,0,0,0,0,0,0,0,0,0,0,0,0,0,0,0,0,0,0,0,0,0,0,0,0,0,0,0,0,0,0,0,0,0,0,0,0,0,0,0,0,0,0,0,0,0,0,0,0,0,0,0,0,0,0,0,0,0,0,0,0,0,0,0]
[2,{"$f":"'11 Axle Loads Direction 2-SS'!B53","v":3},{"$f":"'11 Axle Loads Direction 2-SS'!C53","v":0},{"$f":"'11 Axle Loads Direction 2-SS'!D53","v":0},{"$f":"'11 Axle Loads Direction 2-SS'!E53","v":0},{"$f":"'11 Axle Loads Direction 2-SS'!F53","v":0},{"$f":"'11 Axle Loads Direction 2-SS'!G53","v":0},{"$f":"'11 Axle Loads Direction 2-SS'!H53","v":0},{"$f":"'11 Axle Loads Direction 2-SS'!I53","v":0},{"$f":"'11 Axle Loads Direction 2-SS'!J53","v":0},{"$f":"'11 Axle Loads Direction 2-SS'!K53","v":0},0,0,0,0,0,0,0,0,0,0,0,0,0,0,0,0,0,null,0,0,0,0,0,0,0,0,0,0,0,0,0,0,0,0,0,0,0,0,0,0,0,0,0,0,0,0,0,0,0,0,0,0,0,0,0,0,0,0,0,0,0,0,0,0,0,0,0,0,0,0,0,0,0,0,0,0,0,0,0,0,0,0,0,0,0,0,0,0,0,0,0,0,0,0,0,0,0,0,0,0,0,0,0,0,0,0,0,0,0,0,0,0,0,0,0,0,0,0,0,0,0,0,0,0,0,0,0,0,0,0,0,0,0,0,0,0,0,0,0,0,0,0,0,0,0,0,0,0,0,0,0,0,0,0,0,0,0,0,0,0,0,0,0,0,0,0,0,0,0,0,0,0,0,0,0,0,0,0,0,0,0,0,0,0,0,0,0,0,0,0,0,0,0,0,0,0,0,0,0,0,0,0,0,0,0,0,0,0,0,0,0,0,0,0,0,0,0,0,0,0,0,0,0,0,0,0,0,0,0,0,0,0,0,0,0,0,0,0,0,0,0,0,0,0,0,0,0,0,0,0,0,0,0,0,0,0,0,0,0,0,0,0,0,0,0,0,0,0,0,0,0,0,0,0,0,0,0,0,0,0,0,0,0,0,0,0,0,0,0,0,0,0,0,0,0,0,0,0,0,0,0,0,0,0,0,0,0,0,0,0,0,0,0,0,0,0,0,0,0,0,0,0,0,0,0,0,0,0,0,0,0,0,0,0,0,0,0,0,0,0,0,0,0,0,0,0,0,0,0,0,0,0,0,0,0,0,0,0,0,0,0,0,0,0,0,0,0,0,0,0,0,0,0,0,0,0,0,0,0,0,0,0,0,0,0,0,0,0,0,0,0,0,0,0,0,0,0,0,0,0,0,0,0,0,0,0,0,0,0,0,0,0,0,0,0,0,0,0,0,0,0,0,0,0,0,0,0,0,0,0,0,0,0,0,0,0,0,0,0,0,0,0,0,0,0,0,0,0,0,0,0,0,0,0,0,0,0,0,0,0,0,0,0,0,0,0,0,0,0,0,0,0,0,0,0,0,0,0,0,0,0,0,0,0,0,0,0,0,0,0,0,0,0,0,0,0,0,0,0,0,0,0,0,0,0,0,0,0,0,0,0,0,0,0,0,0,0,0,0,0,0,0,0,0,0,0,0,0,0,0,0,0,0,0,0,0,0,0,0,0,0,0,0,0,0,0,0,0]
[2,{"$f":"'11 Axle Loads Direction 2-SS'!B54","v":3},{"$f":"'11 Axle Loads Direction 2-SS'!C54","v":0},{"$f":"'11 Axle Loads Direction 2-SS'!D54","v":0},{"$f":"'11 Axle Loads Direction 2-SS'!E54","v":0},{"$f":"'11 Axle Loads Direction 2-SS'!F54","v":0},{"$f":"'11 Axle Loads Direction 2-SS'!G54","v":0},{"$f":"'11 Axle Loads Direction 2-SS'!H54","v":0},{"$f":"'11 Axle Loads Direction 2-SS'!I54","v":0},{"$f":"'11 Axle Loads Direction 2-SS'!J54","v":0},{"$f":"'11 Axle Loads Direction 2-SS'!K54","v":0},0,0,0,0,0,0,0,0,0,0,0,0,0,0,0,0,0,null,0,0,0,0,0,0,0,0,0,0,0,0,0,0,0,0,0,0,0,0,0,0,0,0,0,0,0,0,0,0,0,0,0,0,0,0,0,0,0,0,0,0,0,0,0,0,0,0,0,0,0,0,0,0,0,0,0,0,0,0,0,0,0,0,0,0,0,0,0,0,0,0,0,0,0,0,0,0,0,0,0,0,0,0,0,0,0,0,0,0,0,0,0,0,0,0,0,0,0,0,0,0,0,0,0,0,0,0,0,0,0,0,0,0,0,0,0,0,0,0,0,0,0,0,0,0,0,0,0,0,0,0,0,0,0,0,0,0,0,0,0,0,0,0,0,0,0,0,0,0,0,0,0,0,0,0,0,0,0,0,0,0,0,0,0,0,0,0,0,0,0,0,0,0,0,0,0,0,0,0,0,0,0,0,0,0,0,0,0,0,0,0,0,0,0,0,0,0,0,0,0,0,0,0,0,0,0,0,0,0,0,0,0,0,0,0,0,0,0,0,0,0,0,0,0,0,0,0,0,0,0,0,0,0,0,0,0,0,0,0,0,0,0,0,0,0,0,0,0,0,0,0,0,0,0,0,0,0,0,0,0,0,0,0,0,0,0,0,0,0,0,0,0,0,0,0,0,0,0,0,0,0,0,0,0,0,0,0,0,0,0,0,0,0,0,0,0,0,0,0,0,0,0,0,0,0,0,0,0,0,0,0,0,0,0,0,0,0,0,0,0,0,0,0,0,0,0,0,0,0,0,0,0,0,0,0,0,0,0,0,0,0,0,0,0,0,0,0,0,0,0,0,0,0,0,0,0,0,0,0,0,0,0,0,0,0,0,0,0,0,0,0,0,0,0,0,0,0,0,0,0,0,0,0,0,0,0,0,0,0,0,0,0,0,0,0,0,0,0,0,0,0,0,0,0,0,0,0,0,0,0,0,0,0,0,0,0,0,0,0,0,0,0,0,0,0,0,0,0,0,0,0,0,0,0,0,0,0,0,0,0,0,0,0,0,0,0,0,0,0,0,0,0,0,0,0,0,0,0,0,0,0,0,0,0,0,0,0,0,0,0,0,0,0,0,0,0,0,0,0,0,0,0,0,0,0,0,0,0,0,0,0,0,0,0,0,0,0,0,0,0,0,0,0,0,0,0,0,0,0,0,0,0,0,0,0,0,0,0,0,0,0,0,0,0,0,0,0,0,0]
[2,{"$f":"'11 Axle Loads Direction 2-SS'!B55","v":3},{"$f":"'11 Axle Loads Direction 2-SS'!C55","v":0},{"$f":"'11 Axle Loads Direction 2-SS'!D55","v":0},{"$f":"'11 Axle Loads Direction 2-SS'!E55","v":0},{"$f":"'11 Axle Loads Direction 2-SS'!F55","v":0},{"$f":"'11 Axle Loads Direction 2-SS'!G55","v":0},{"$f":"'11 Axle Loads Direction 2-SS'!H55","v":0},{"$f":"'11 Axle Loads Direction 2-SS'!I55","v":0},{"$f":"'11 Axle Loads Direction 2-SS'!J55","v":0},{"$f":"'11 Axle Loads Direction 2-SS'!K55","v":0},0,0,0,0,0,0,0,0,0,0,0,0,0,0,0,0,0,null,0,0,0,0,0,0,0,0,0,0,0,0,0,0,0,0,0,0,0,0,0,0,0,0,0,0,0,0,0,0,0,0,0,0,0,0,0,0,0,0,0,0,0,0,0,0,0,0,0,0,0,0,0,0,0,0,0,0,0,0,0,0,0,0,0,0,0,0,0,0,0,0,0,0,0,0,0,0,0,0,0,0,0,0,0,0,0,0,0,0,0,0,0,0,0,0,0,0,0,0,0,0,0,0,0,0,0,0,0,0,0,0,0,0,0,0,0,0,0,0,0,0,0,0,0,0,0,0,0,0,0,0,0,0,0,0,0,0,0,0,0,0,0,0,0,0,0,0,0,0,0,0,0,0,0,0,0,0,0,0,0,0,0,0,0,0,0,0,0,0,0,0,0,0,0,0,0,0,0,0,0,0,0,0,0,0,0,0,0,0,0,0,0,0,0,0,0,0,0,0,0,0,0,0,0,0,0,0,0,0,0,0,0,0,0,0,0,0,0,0,0,0,0,0,0,0,0,0,0,0,0,0,0,0,0,0,0,0,0,0,0,0,0,0,0,0,0,0,0,0,0,0,0,0,0,0,0,0,0,0,0,0,0,0,0,0,0,0,0,0,0,0,0,0,0,0,0,0,0,0,0,0,0,0,0,0,0,0,0,0,0,0,0,0,0,0,0,0,0,0,0,0,0,0,0,0,0,0,0,0,0,0,0,0,0,0,0,0,0,0,0,0,0,0,0,0,0,0,0,0,0,0,0,0,0,0,0,0,0,0,0,0,0,0,0,0,0,0,0,0,0,0,0,0,0,0,0,0,0,0,0,0,0,0,0,0,0,0,0,0,0,0,0,0,0,0,0,0,0,0,0,0,0,0,0,0,0,0,0,0,0,0,0,0,0,0,0,0,0,0,0,0,0,0,0,0,0,0,0,0,0,0,0,0,0,0,0,0,0,0,0,0,0,0,0,0,0,0,0,0,0,0,0,0,0,0,0,0,0,0,0,0,0,0,0,0,0,0,0,0,0,0,0,0,0,0,0,0,0,0,0,0,0,0,0,0,0,0,0,0,0,0,0,0,0,0,0,0,0,0,0,0,0,0,0,0,0,0,0,0,0,0,0,0,0,0,0,0,0,0,0,0,0,0,0,0,0,0,0,0,0,0,0,0,0,0,0,0,0,0,0,0,0,0,0,0,0,0,0,0]
[2,{"$f":"'11 Axle Loads Direction 2-SS'!B56","v":3},{"$f":"'11 Axle Loads Direction 2-SS'!C56","v":0},{"$f":"'11 Axle Loads Direction 2-SS'!D56","v":0},{"$f":"'11 Axle Loads Direction 2-SS'!E56","v":0},{"$f":"'11 Axle Loads Direction 2-SS'!F56","v":0},{"$f":"'11 Axle Loads Direction 2-SS'!G56","v":0},{"$f":"'11 Axle Loads Direction 2-SS'!H56","v":0},{"$f":"'11 Axle Loads Direction 2-SS'!I56","v":0},{"$f":"'11 Axle Loads Direction 2-SS'!J56","v":0},{"$f":"'11 Axle Loads Direction 2-SS'!K56","v":0},0,0,0,0,0,0,0,0,0,0,0,0,0,0,0,0,0,null,0,0,0,0,0,0,0,0,0,0,0,0,0,0,0,0,0,0,0,0,0,0,0,0,0,0,0,0,0,0,0,0,0,0,0,0,0,0,0,0,0,0,0,0,0,0,0,0,0,0,0,0,0,0,0,0,0,0,0,0,0,0,0,0,0,0,0,0,0,0,0,0,0,0,0,0,0,0,0,0,0,0,0,0,0,0,0,0,0,0,0,0,0,0,0,0,0,0,0,0,0,0,0,0,0,0,0,0,0,0,0,0,0,0,0,0,0,0,0,0,0,0,0,0,0,0,0,0,0,0,0,0,0,0,0,0,0,0,0,0,0,0,0,0,0,0,0,0,0,0,0,0,0,0,0,0,0,0,0,0,0,0,0,0,0,0,0,0,0,0,0,0,0,0,0,0,0,0,0,0,0,0,0,0,0,0,0,0,0,0,0,0,0,0,0,0,0,0,0,0,0,0,0,0,0,0,0,0,0,0,0,0,0,0,0,0,0,0,0,0,0,0,0,0,0,0,0,0,0,0,0,0,0,0,0,0,0,0,0,0,0,0,0,0,0,0,0,0,0,0,0,0,0,0,0,0,0,0,0,0,0,0,0,0,0,0,0,0,0,0,0,0,0,0,0,0,0,0,0,0,0,0,0,0,0,0,0,0,0,0,0,0,0,0,0,0,0,0,0,0,0,0,0,0,0,0,0,0,0,0,0,0,0,0,0,0,0,0,0,0,0,0,0,0,0,0,0,0,0,0,0,0,0,0,0,0,0,0,0,0,0,0,0,0,0,0,0,0,0,0,0,0,0,0,0,0,0,0,0,0,0,0,0,0,0,0,0,0,0,0,0,0,0,0,0,0,0,0,0,0,0,0,0,0,0,0,0,0,0,0,0,0,0,0,0,0,0,0,0,0,0,0,0,0,0,0,0,0,0,0,0,0,0,0,0,0,0,0,0,0,0,0,0,0,0,0,0,0,0,0,0,0,0,0,0,0,0,0,0,0,0,0,0,0,0,0,0,0,0,0,0,0,0,0,0,0,0,0,0,0,0,0,0,0,0,0,0,0,0,0,0,0,0,0,0,0,0,0,0,0,0,0,0,0,0,0,0,0,0,0,0,0,0,0,0,0,0,0,0,0,0,0,0,0,0,0,0,0,0,0,0,0,0,0,0,0,0,0,0,0,0,0,0,0,0,0,0,0,0,0]
[2,{"$f":"'11 Axle Loads Direction 2-SS'!B57","v":3},{"$f":"'11 Axle Loads Direction 2-SS'!C57","v":0},{"$f":"'11 Axle Loads Direction 2-SS'!D57","v":0},{"$f":"'11 Axle Loads Direction 2-SS'!E57","v":0},{"$f":"'11 Axle Loads Direction 2-SS'!F57","v":0},{"$f":"'11 Axle Loads Direction 2-SS'!G57","v":0},{"$f":"'11 Axle Loads Direction 2-SS'!H57","v":0},{"$f":"'11 Axle Loads Direction 2-SS'!I57","v":0},{"$f":"'11 Axle Loads Direction 2-SS'!J57","v":0},{"$f":"'11 Axle Loads Direction 2-SS'!K57","v":0},0,0,0,0,0,0,0,0,0,0,0,0,0,0,0,0,0,null,0,0,0,0,0,0,0,0,0,0,0,0,0,0,0,0,0,0,0,0,0,0,0,0,0,0,0,0,0,0,0,0,0,0,0,0,0,0,0,0,0,0,0,0,0,0,0,0,0,0,0,0,0,0,0,0,0,0,0,0,0,0,0,0,0,0,0,0,0,0,0,0,0,0,0,0,0,0,0,0,0,0,0,0,0,0,0,0,0,0,0,0,0,0,0,0,0,0,0,0,0,0,0,0,0,0,0,0,0,0,0,0,0,0,0,0,0,0,0,0,0,0,0,0,0,0,0,0,0,0,0,0,0,0,0,0,0,0,0,0,0,0,0,0,0,0,0,0,0,0,0,0,0,0,0,0,0,0,0,0,0,0,0,0,0,0,0,0,0,0,0,0,0,0,0,0,0,0,0,0,0,0,0,0,0,0,0,0,0,0,0,0,0,0,0,0,0,0,0,0,0,0,0,0,0,0,0,0,0,0,0,0,0,0,0,0,0,0,0,0,0,0,0,0,0,0,0,0,0,0,0,0,0,0,0,0,0,0,0,0,0,0,0,0,0,0,0,0,0,0,0,0,0,0,0,0,0,0,0,0,0,0,0,0,0,0,0,0,0,0,0,0,0,0,0,0,0,0,0,0,0,0,0,0,0,0,0,0,0,0,0,0,0,0,0,0,0,0,0,0,0,0,0,0,0,0,0,0,0,0,0,0,0,0,0,0,0,0,0,0,0,0,0,0,0,0,0,0,0,0,0,0,0,0,0,0,0,0,0,0,0,0,0,0,0,0,0,0,0,0,0,0,0,0,0,0,0,0,0,0,0,0,0,0,0,0,0,0,0,0,0,0,0,0,0,0,0,0,0,0,0,0,0,0,0,0,0,0,0,0,0,0,0,0,0,0,0,0,0,0,0,0,0,0,0,0,0,0,0,0,0,0,0,0,0,0,0,0,0,0,0,0,0,0,0,0,0,0,0,0,0,0,0,0,0,0,0,0,0,0,0,0,0,0,0,0,0,0,0,0,0,0,0,0,0,0,0,0,0,0,0,0,0,0,0,0,0,0,0,0,0,0,0,0,0,0,0,0,0,0,0,0,0,0,0,0,0,0,0,0,0,0,0,0,0,0,0,0,0,0,0,0,0,0,0,0,0,0,0,0,0,0,0,0,0,0,0,0,0,0,0,0,0,0,0,0,0,0,0,0]
[2,{"$f":"'11 Axle Loads Direction 2-SS'!B58","v":6},{"$f":"'11 Axle Loads Direction 2-SS'!C58","v":5},{"$f":"'11 Axle Loads Direction 2-SS'!D58","v":6},{"$f":"'11 Axle Loads Direction 2-SS'!E58","v":6},{"$f":"'11 Axle Loads Direction 2-SS'!F58","v":9},{"$f":"'11 Axle Loads Direction 2-SS'!G58","v":9},{"$f":"'11 Axle Loads Direction 2-SS'!H58","v":9},{"$f":"'11 Axle Loads Direction 2-SS'!I58","v":0},{"$f":"'11 Axle Loads Direction 2-SS'!J58","v":0},{"$f":"'11 Axle Loads Direction 2-SS'!K58","v":0},5,0,0,0,12,0,0,0,0,0,0,0,0,0,27,0,0,null,0,0,0,0,50,0,0,0,0,0,0,0,0,0,0,0,0,0,0,0,0,0,0,0,0,0,0,0,0,0,0,0,0,0,0,0,0,0,0,0,0,0,0,0,0,0,0,0,0,0,0,0,0,0,0,0,0,0,0,0,0,0,0,0,0,0,0,0,0,0,0,0,0,0,0,0,0,0,0,0,0,0,0,0,0,0,0,0,0,0,0,0,0,0,0,0,0,0,0,0,0,0,0,0,0,0,0,0,0,0,0,0,0,0,0,0,0,0,0,0,0,0,0,0,0,0,0,0,0,0,0,120,0,0,0,0,0,0,0,0,0,0,0,0,0,0,0,0,0,0,0,0,0,0,0,0,0,0,0,0,0,0,0,0,0,0,0,0,0,0,0,0,0,0,0,0,0,0,0,0,0,0,0,0,0,0,0,0,0,0,0,0,0,0,0,0,0,0,0,0,0,0,0,0,0,0,0,0,0,0,0,0,0,0,0,0,0,0,0,0,0,0,0,0,0,0,0,0,0,0,0,0,0,0,0,0,0,0,0,0,0,0,0,0,0,0,0,0,0,0,0,0,0,0,0,0,0,0,0,0,0,0,0,0,0,0,0,0,0,0,0,0,0,0,0,0,0,0,0,0,0,0,0,0,0,0,0,0,0,0,0,0,0,0,0,0,0,0,0,0,0,0,0,0,0,0,0,0,0,0,0,0,0,0,0,0,0,0,0,0,0,0,0,0,0,0,0,0,0,0,0,0,0,0,0,0,0,0,0,0,0,0,0,0,0,0,0,0,0,0,0,0,0,0,0,0,0,0,0,0,0,0,0,0,0,0,0,0,0,0,0,0,0,0,0,0,0,0,0,0,0,0,0,0,0,0,0,0,0,0,0,0,0,0,0,0,0,0,0,0,0,0,0,0,0,0,0,0,0,0,0,0,0,0,0,0,0,0,0,0,0,0,0,0,0,0,0,0,0,0,0,0,0,0,0,0,0,0,0,0,0,0,0,0,0,0,0,0,0,0,0,270,0,0,0,0,0,0,0,0,0,0,0,0,0,0,0,0,0,0,0,0,0,0,0,0,0,0,0,0,0,0,0,0,0,0,0,0,0,0,0,0,0,0,0,0,0,0,0,0,0,0,0,0,0,0,0,0,0,0,0,0,0,0,0,0,0,0,0,0,0,0,0,0,0,0,0,0,0,0]
[2,{"$f":"'11 Axle Loads Direction 2-SS'!B59","v":3},{"$f":"'11 Axle Loads Direction 2-SS'!C59","v":0},{"$f":"'11 Axle Loads Direction 2-SS'!D59","v":0},{"$f":"'11 Axle Loads Direction 2-SS'!E59","v":0},{"$f":"'11 Axle Loads Direction 2-SS'!F59","v":0},{"$f":"'11 Axle Loads Direction 2-SS'!G59","v":0},{"$f":"'11 Axle Loads Direction 2-SS'!H59","v":0},{"$f":"'11 Axle Loads Direction 2-SS'!I59","v":0},{"$f":"'11 Axle Loads Direction 2-SS'!J59","v":0},{"$f":"'11 Axle Loads Direction 2-SS'!K59","v":0},0,0,0,0,0,0,0,0,0,0,0,0,0,0,0,0,0,null,0,0,0,0,0,0,0,0,0,0,0,0,0,0,0,0,0,0,0,0,0,0,0,0,0,0,0,0,0,0,0,0,0,0,0,0,0,0,0,0,0,0,0,0,0,0,0,0,0,0,0,0,0,0,0,0,0,0,0,0,0,0,0,0,0,0,0,0,0,0,0,0,0,0,0,0,0,0,0,0,0,0,0,0,0,0,0,0,0,0,0,0,0,0,0,0,0,0,0,0,0,0,0,0,0,0,0,0,0,0,0,0,0,0,0,0,0,0,0,0,0,0,0,0,0,0,0,0,0,0,0,0,0,0,0,0,0,0,0,0,0,0,0,0,0,0,0,0,0,0,0,0,0,0,0,0,0,0,0,0,0,0,0,0,0,0,0,0,0,0,0,0,0,0,0,0,0,0,0,0,0,0,0,0,0,0,0,0,0,0,0,0,0,0,0,0,0,0,0,0,0,0,0,0,0,0,0,0,0,0,0,0,0,0,0,0,0,0,0,0,0,0,0,0,0,0,0,0,0,0,0,0,0,0,0,0,0,0,0,0,0,0,0,0,0,0,0,0,0,0,0,0,0,0,0,0,0,0,0,0,0,0,0,0,0,0,0,0,0,0,0,0,0,0,0,0,0,0,0,0,0,0,0,0,0,0,0,0,0,0,0,0,0,0,0,0,0,0,0,0,0,0,0,0,0,0,0,0,0,0,0,0,0,0,0,0,0,0,0,0,0,0,0,0,0,0,0,0,0,0,0,0,0,0,0,0,0,0,0,0,0,0,0,0,0,0,0,0,0,0,0,0,0,0,0,0,0,0,0,0,0,0,0,0,0,0,0,0,0,0,0,0,0,0,0,0,0,0,0,0,0,0,0,0,0,0,0,0,0,0,0,0,0,0,0,0,0,0,0,0,0,0,0,0,0,0,0,0,0,0,0,0,0,0,0,0,0,0,0,0,0,0,0,0,0,0,0,0,0,0,0,0,0,0,0,0,0,0,0,0,0,0,0,0,0,0,0,0,0,0,0,0,0,0,0,0,0,0,0,0,0,0,0,0,0,0,0,0,0,0,0,0,0,0,0,0,0,0,0,0,0,0,0,0,0,0,0,0,0,0,0,0,0,0,0,0,0,0,0,0,0,0,0,0,0,0,0,0,0,0,0,0,0,0,0,0,0,0,0,0,0,0,0,0,0,0,0,0,0,0]
[2,{"$f":"'11 Axle Loads Direction 2-SS'!B60","v":3},{"$f":"'11 Axle Loads Direction 2-SS'!C60","v":0},{"$f":"'11 Axle Loads Direction 2-SS'!D60","v":0},{"$f":"'11 Axle Loads Direction 2-SS'!E60","v":0},{"$f":"'11 Axle Loads Direction 2-SS'!F60","v":0},{"$f":"'11 Axle Loads Direction 2-SS'!G60","v":0},{"$f":"'11 Axle Loads Direction 2-SS'!H60","v":0},{"$f":"'11 Axle Loads Direction 2-SS'!I60","v":0},{"$f":"'11 Axle Loads Direction 2-SS'!J60","v":0},{"$f":"'11 Axle Loads Direction 2-SS'!K60","v":0},0,0,0,0,0,0,0,0,0,0,0,0,0,0,0,0,0,null,0,0,0,0,0,0,0,0,0,0,0,0,0,0,0,0,0,0,0,0,0,0,0,0,0,0,0,0,0,0,0,0,0,0,0,0,0,0,0,0,0,0,0,0,0,0,0,0,0,0,0,0,0,0,0,0,0,0,0,0,0,0,0,0,0,0,0,0,0,0,0,0,0,0,0,0,0,0,0,0,0,0,0,0,0,0,0,0,0,0,0,0,0,0,0,0,0,0,0,0,0,0,0,0,0,0,0,0,0,0,0,0,0,0,0,0,0,0,0,0,0,0,0,0,0,0,0,0,0,0,0,0,0,0,0,0,0,0,0,0,0,0,0,0,0,0,0,0,0,0,0,0,0,0,0,0,0,0,0,0,0,0,0,0,0,0,0,0,0,0,0,0,0,0,0,0,0,0,0,0,0,0,0,0,0,0,0,0,0,0,0,0,0,0,0,0,0,0,0,0,0,0,0,0,0,0,0,0,0,0,0,0,0,0,0,0,0,0,0,0,0,0,0,0,0,0,0,0,0,0,0,0,0,0,0,0,0,0,0,0,0,0,0,0,0,0,0,0,0,0,0,0,0,0,0,0,0,0,0,0,0,0,0,0,0,0,0,0,0,0,0,0,0,0,0,0,0,0,0,0,0,0,0,0,0,0,0,0,0,0,0,0,0,0,0,0,0,0,0,0,0,0,0,0,0,0,0,0,0,0,0,0,0,0,0,0,0,0,0,0,0,0,0,0,0,0,0,0,0,0,0,0,0,0,0,0,0,0,0,0,0,0,0,0,0,0,0,0,0,0,0,0,0,0,0,0,0,0,0,0,0,0,0,0,0,0,0,0,0,0,0,0,0,0,0,0,0,0,0,0,0,0,0,0,0,0,0,0,0,0,0,0,0,0,0,0,0,0,0,0,0,0,0,0,0,0,0,0,0,0,0,0,0,0,0,0,0,0,0,0,0,0,0,0,0,0,0,0,0,0,0,0,0,0,0,0,0,0,0,0,0,0,0,0,0,0,0,0,0,0,0,0,0,0,0,0,0,0,0,0,0,0,0,0,0,0,0,0,0,0,0,0,0,0,0,0,0,0,0,0,0,0,0,0,0,0,0,0,0,0,0,0,0,0,0,0,0,0,0,0,0,0,0,0,0,0,0,0,0,0,0,0,0,0,0,0,0,0,0,0,0,0,0,0,0,0,0,0,0,0]
[2,{"$f":"'11 Axle Loads Direction 2-SS'!B61","v":3},{"$f":"'11 Axle Loads Direction 2-SS'!C61","v":0},{"$f":"'11 Axle Loads Direction 2-SS'!D61","v":0},{"$f":"'11 Axle Loads Direction 2-SS'!E61","v":0},{"$f":"'11 Axle Loads Direction 2-SS'!F61","v":0},{"$f":"'11 Axle Loads Direction 2-SS'!G61","v":0},{"$f":"'11 Axle Loads Direction 2-SS'!H61","v":0},{"$f":"'11 Axle Loads Direction 2-SS'!I61","v":0},{"$f":"'11 Axle Loads Direction 2-SS'!J61","v":0},{"$f":"'11 Axle Loads Direction 2-SS'!K61","v":0},0,0,0,0,0,0,0,0,0,0,0,0,0,0,0,0,0,null,0,0,0,0,0,0,0,0,0,0,0,0,0,0,0,0,0,0,0,0,0,0,0,0,0,0,0,0,0,0,0,0,0,0,0,0,0,0,0,0,0,0,0,0,0,0,0,0,0,0,0,0,0,0,0,0,0,0,0,0,0,0,0,0,0,0,0,0,0,0,0,0,0,0,0,0,0,0,0,0,0,0,0,0,0,0,0,0,0,0,0,0,0,0,0,0,0,0,0,0,0,0,0,0,0,0,0,0,0,0,0,0,0,0,0,0,0,0,0,0,0,0,0,0,0,0,0,0,0,0,0,0,0,0,0,0,0,0,0,0,0,0,0,0,0,0,0,0,0,0,0,0,0,0,0,0,0,0,0,0,0,0,0,0,0,0,0,0,0,0,0,0,0,0,0,0,0,0,0,0,0,0,0,0,0,0,0,0,0,0,0,0,0,0,0,0,0,0,0,0,0,0,0,0,0,0,0,0,0,0,0,0,0,0,0,0,0,0,0,0,0,0,0,0,0,0,0,0,0,0,0,0,0,0,0,0,0,0,0,0,0,0,0,0,0,0,0,0,0,0,0,0,0,0,0,0,0,0,0,0,0,0,0,0,0,0,0,0,0,0,0,0,0,0,0,0,0,0,0,0,0,0,0,0,0,0,0,0,0,0,0,0,0,0,0,0,0,0,0,0,0,0,0,0,0,0,0,0,0,0,0,0,0,0,0,0,0,0,0,0,0,0,0,0,0,0,0,0,0,0,0,0,0,0,0,0,0,0,0,0,0,0,0,0,0,0,0,0,0,0,0,0,0,0,0,0,0,0,0,0,0,0,0,0,0,0,0,0,0,0,0,0,0,0,0,0,0,0,0,0,0,0,0,0,0,0,0,0,0,0,0,0,0,0,0,0,0,0,0,0,0,0,0,0,0,0,0,0,0,0,0,0,0,0,0,0,0,0,0,0,0,0,0,0,0,0,0,0,0,0,0,0,0,0,0,0,0,0,0,0,0,0,0,0,0,0,0,0,0,0,0,0,0,0,0,0,0,0,0,0,0,0,0,0,0,0,0,0,0,0,0,0,0,0,0,0,0,0,0,0,0,0,0,0,0,0,0,0,0,0,0,0,0,0,0,0,0,0,0,0,0,0,0,0,0,0,0,0,0,0,0,0,0,0,0,0,0,0,0,0,0,0,0,0,0,0,0,0,0,0]
[2,{"$f":"'11 Axle Loads Direction 2-SS'!B62","v":3},{"$f":"'11 Axle Loads Direction 2-SS'!C62","v":0},{"$f":"'11 Axle Loads Direction 2-SS'!D62","v":0},{"$f":"'11 Axle Loads Direction 2-SS'!E62","v":0},{"$f":"'11 Axle Loads Direction 2-SS'!F62","v":0},{"$f":"'11 Axle Loads Direction 2-SS'!G62","v":0},{"$f":"'11 Axle Loads Direction 2-SS'!H62","v":0},{"$f":"'11 Axle Loads Direction 2-SS'!I62","v":0},{"$f":"'11 Axle Loads Direction 2-SS'!J62","v":0},{"$f":"'11 Axle Loads Direction 2-SS'!K62","v":0},0,0,0,0,0,0,0,0,0,0,0,0,0,0,0,0,0,null,0,0,0,0,0,0,0,0,0,0,0,0,0,0,0,0,0,0,0,0,0,0,0,0,0,0,0,0,0,0,0,0,0,0,0,0,0,0,0,0,0,0,0,0,0,0,0,0,0,0,0,0,0,0,0,0,0,0,0,0,0,0,0,0,0,0,0,0,0,0,0,0,0,0,0,0,0,0,0,0,0,0,0,0,0,0,0,0,0,0,0,0,0,0,0,0,0,0,0,0,0,0,0,0,0,0,0,0,0,0,0,0,0,0,0,0,0,0,0,0,0,0,0,0,0,0,0,0,0,0,0,0,0,0,0,0,0,0,0,0,0,0,0,0,0,0,0,0,0,0,0,0,0,0,0,0,0,0,0,0,0,0,0,0,0,0,0,0,0,0,0,0,0,0,0,0,0,0,0,0,0,0,0,0,0,0,0,0,0,0,0,0,0,0,0,0,0,0,0,0,0,0,0,0,0,0,0,0,0,0,0,0,0,0,0,0,0,0,0,0,0,0,0,0,0,0,0,0,0,0,0,0,0,0,0,0,0,0,0,0,0,0,0,0,0,0,0,0,0,0,0,0,0,0,0,0,0,0,0,0,0,0,0,0,0,0,0,0,0,0,0,0,0,0,0,0,0,0,0,0,0,0,0,0,0,0,0,0,0,0,0,0,0,0,0,0,0,0,0,0,0,0,0,0,0,0,0,0,0,0,0,0,0,0,0,0,0,0,0,0,0,0,0,0,0,0,0,0,0,0,0,0,0,0,0,0,0,0,0,0,0,0,0,0,0,0,0,0,0,0,0,0,0,0,0,0,0,0,0,0,0,0,0,0,0,0,0,0,0,0,0,0,0,0,0,0,0,0,0,0,0,0,0,0,0,0,0,0,0,0,0,0,0,0,0,0,0,0,0,0,0,0,0,0,0,0,0,0,0,0,0,0,0,0,0,0,0,0,0,0,0,0,0,0,0,0,0,0,0,0,0,0,0,0,0,0,0,0,0,0,0,0,0,0,0,0,0,0,0,0,0,0,0,0,0,0,0,0,0,0,0,0,0,0,0,0,0,0,0,0,0,0,0,0,0,0,0,0,0,0,0,0,0,0,0,0,0,0,0,0,0,0,0,0,0,0,0,0,0,0,0,0,0,0,0,0,0,0,0,0,0,0,0,0,0,0,0,0,0,0,0,0,0,0,0,0,0,0,0,0]
[2,{"$f":"'11 Axle Loads Direction 2-SS'!B63","v":"6B"},{"$f":"'11 Axle Loads Direction 2-SS'!C63","v":5},{"$f":"'11 Axle Loads Direction 2-SS'!D63","v":7},{"$f":"'11 Axle Loads Direction 2-SS'!E63","v":7},{"$f":"'11 Axle Loads Direction 2-SS'!F63","v":9},{"$f":"'11 Axle Loads Direction 2-SS'!G63","v":9},{"$f":"'11 Axle Loads Direction 2-SS'!H63","v":9},{"$f":"'11 Axle Loads Direction 2-SS'!I63","v":0},{"$f":"'11 Axle Loads Direction 2-SS'!J63","v":0},{"$f":"'11 Axle Loads Direction 2-SS'!K63","v":0},5,0,0,0,14,0,0,0,0,0,0,0,0,0,0,0,27,null,0,0,0,0,50,0,0,0,0,0,0,0,0,0,0,0,0,0,0,0,0,0,0,0,0,0,0,0,0,0,0,0,0,0,0,0,0,0,0,0,0,0,0,0,0,0,0,0,0,0,0,0,0,0,0,0,0,0,0,0,0,0,0,0,0,0,0,0,0,0,0,0,0,0,0,0,0,0,0,0,0,0,0,0,0,0,0,0,0,0,0,0,0,0,0,0,0,0,0,0,0,0,0,0,0,0,0,0,0,0,0,0,0,0,0,0,0,0,0,0,0,0,0,0,0,0,0,0,0,0,0,0,0,140,0,0,0,0,0,0,0,0,0,0,0,0,0,0,0,0,0,0,0,0,0,0,0,0,0,0,0,0,0,0,0,0,0,0,0,0,0,0,0,0,0,0,0,0,0,0,0,0,0,0,0,0,0,0,0,0,0,0,0,0,0,0,0,0,0,0,0,0,0,0,0,0,0,0,0,0,0,0,0,0,0,0,0,0,0,0,0,0,0,0,0,0,0,0,0,0,0,0,0,0,0,0,0,0,0,0,0,0,0,0,0,0,0,0,0,0,0,0,0,0,0,0,0,0,0,0,0,0,0,0,0,0,0,0,0,0,0,0,0,0,0,0,0,0,0,0,0,0,0,0,0,0,0,0,0,0,0,0,0,0,0,0,0,0,0,0,0,0,0,0,0,0,0,0,0,0,0,0,0,0,0,0,0,0,0,0,0,0,0,0,0,0,0,0,0,0,0,0,0,0,0,0,0,0,0,0,0,0,0,0,0,0,0,0,0,0,0,0,0,0,0,0,0,0,0,0,0,0,0,0,0,0,0,0,0,0,0,0,0,0,0,0,0,0,0,0,0,0,0,0,0,0,0,0,0,0,0,0,0,0,0,0,0,0,0,0,0,0,0,0,0,0,0,0,0,0,0,0,0,0,0,0,0,0,0,0,0,0,0,0,0,0,0,0,0,0,0,0,0,0,0,0,0,0,0,0,0,0,0,0,0,0,0,0,0,0,0,0,0,0,0,0,0,0,0,0,0,0,0,0,0,0,0,0,0,0,0,0,0,0,0,0,0,0,0,0,0,0,0,0,0,0,0,0,0,0,0,0,0,0,0,0,0,0,0,0,0,0,0,0,0,0,0,0,0,0,0,0,0,0,0,0,0,0,0,0,0,270,0,0,0,0,0,0,0,0]
[2,{"$f":"'11 Axle Loads Direction 2-SS'!B79","v":3},{"$f":"'11 Axle Loads Direction 2-SS'!C79","v":0},{"$f":"'11 Axle Loads Direction 2-SS'!D79","v":0},{"$f":"'11 Axle Loads Direction 2-SS'!E79","v":0},{"$f":"'11 Axle Loads Direction 2-SS'!F79","v":0},{"$f":"'11 Axle Loads Direction 2-SS'!G79","v":0},{"$f":"'11 Axle Loads Direction 2-SS'!H79","v":0},{"$f":"'11 Axle Loads Direction 2-SS'!I79","v":0},{"$f":"'11 Axle Loads Direction 2-SS'!J79","v":0},{"$f":"'11 Axle Loads Direction 2-SS'!K79","v":0},0,0,0,0,0,0,0,0,0,0,0,0,0,0,0,0,0,null,0,0,0,0,0,0,0,0,0,0,0,0,0,0,0,0,0,0,0,0,0,0,0,0,0,0,0,0,0,0,0,0,0,0,0,0,0,0,0,0,0,0,0,0,0,0,0,0,0,0,0,0,0,0,0,0,0,0,0,0,0,0,0,0,0,0,0,0,0,0,0,0,0,0,0,0,0,0,0,0,0,0,0,0,0,0,0,0,0,0,0,0,0,0,0,0,0,0,0,0,0,0,0,0,0,0,0,0,0,0,0,0,0,0,0,0,0,0,0,0,0,0,0,0,0,0,0,0,0,0,0,0,0,0,0,0,0,0,0,0,0,0,0,0,0,0,0,0,0,0,0,0,0,0,0,0,0,0,0,0,0,0,0,0,0,0,0,0,0,0,0,0,0,0,0,0,0,0,0,0,0,0,0,0,0,0,0,0,0,0,0,0,0,0,0,0,0,0,0,0,0,0,0,0,0,0,0,0,0,0,0,0,0,0,0,0,0,0,0,0,0,0,0,0,0,0,0,0,0,0,0,0,0,0,0,0,0,0,0,0,0,0,0,0,0,0,0,0,0,0,0,0,0,0,0,0,0,0,0,0,0,0,0,0,0,0,0,0,0,0,0,0,0,0,0,0,0,0,0,0,0,0,0,0,0,0,0,0,0,0,0,0,0,0,0,0,0,0,0,0,0,0,0,0,0,0,0,0,0,0,0,0,0,0,0,0,0,0,0,0,0,0,0,0,0,0,0,0,0,0,0,0,0,0,0,0,0,0,0,0,0,0,0,0,0,0,0,0,0,0,0,0,0,0,0,0,0,0,0,0,0,0,0,0,0,0,0,0,0,0,0,0,0,0,0,0,0,0,0,0,0,0,0,0,0,0,0,0,0,0,0,0,0,0,0,0,0,0,0,0,0,0,0,0,0,0,0,0,0,0,0,0,0,0,0,0,0,0,0,0,0,0,0,0,0,0,0,0,0,0,0,0,0,0,0,0,0,0,0,0,0,0,0,0,0,0,0,0,0,0,0,0,0,0,0,0,0,0,0,0,0,0,0,0,0,0,0,0,0,0,0,0,0,0,0,0,0,0,0,0,0,0,0,0,0,0,0,0,0,0,0,0,0,0,0,0,0,0,0,0,0,0,0,0,0,0,0,0,0,0,0,0,0,0,0,0,0,0,0,0,0,0,0,0,0,0,0,0,0,0]
[2,{"$f":"'11 Axle Loads Direction 2-SS'!B94","v":3},{"$f":"'11 Axle Loads Direction 2-SS'!C94","v":0},{"$f":"'11 Axle Loads Direction 2-SS'!D94","v":0},{"$f":"'11 Axle Loads Direction 2-SS'!E94","v":0},{"$f":"'11 Axle Loads Direction 2-SS'!F94","v":0},{"$f":"'11 Axle Loads Direction 2-SS'!G94","v":0},{"$f":"'11 Axle Loads Direction 2-SS'!H94","v":0},{"$f":"'11 Axle Loads Direction 2-SS'!I94","v":0},{"$f":"'11 Axle Loads Direction 2-SS'!J94","v":0},{"$f":"'11 Axle Loads Direction 2-SS'!K94","v":0},0,0,0,0,0,0,0,0,0,0,0,0,0,0,0,0,0,null,0,0,0,0,0,0,0,0,0,0,0,0,0,0,0,0,0,0,0,0,0,0,0,0,0,0,0,0,0,0,0,0,0,0,0,0,0,0,0,0,0,0,0,0,0,0,0,0,0,0,0,0,0,0,0,0,0,0,0,0,0,0,0,0,0,0,0,0,0,0,0,0,0,0,0,0,0,0,0,0,0,0,0,0,0,0,0,0,0,0,0,0,0,0,0,0,0,0,0,0,0,0,0,0,0,0,0,0,0,0,0,0,0,0,0,0,0,0,0,0,0,0,0,0,0,0,0,0,0,0,0,0,0,0,0,0,0,0,0,0,0,0,0,0,0,0,0,0,0,0,0,0,0,0,0,0,0,0,0,0,0,0,0,0,0,0,0,0,0,0,0,0,0,0,0,0,0,0,0,0,0,0,0,0,0,0,0,0,0,0,0,0,0,0,0,0,0,0,0,0,0,0,0,0,0,0,0,0,0,0,0,0,0,0,0,0,0,0,0,0,0,0,0,0,0,0,0,0,0,0,0,0,0,0,0,0,0,0,0,0,0,0,0,0,0,0,0,0,0,0,0,0,0,0,0,0,0,0,0,0,0,0,0,0,0,0,0,0,0,0,0,0,0,0,0,0,0,0,0,0,0,0,0,0,0,0,0,0,0,0,0,0,0,0,0,0,0,0,0,0,0,0,0,0,0,0,0,0,0,0,0,0,0,0,0,0,0,0,0,0,0,0,0,0,0,0,0,0,0,0,0,0,0,0,0,0,0,0,0,0,0,0,0,0,0,0,0,0,0,0,0,0,0,0,0,0,0,0,0,0,0,0,0,0,0,0,0,0,0,0,0,0,0,0,0,0,0,0,0,0,0,0,0,0,0,0,0,0,0,0,0,0,0,0,0,0,0,0,0,0,0,0,0,0,0,0,0,0,0,0,0,0,0,0,0,0,0,0,0,0,0,0,0,0,0,0,0,0,0,0,0,0,0,0,0,0,0,0,0,0,0,0,0,0,0,0,0,0,0,0,0,0,0,0,0,0,0,0,0,0,0,0,0,0,0,0,0,0,0,0,0,0,0,0,0,0,0,0,0,0,0,0,0,0,0,0,0,0,0,0,0,0,0,0,0,0,0,0,0,0,0,0,0,0,0,0,0,0,0,0,0,0,0,0,0,0,0,0,0,0,0,0,0,0,0,0,0,0,0,0]
[2,{"$f":"'11 Axle Loads Direction 2-SS'!B120","v":3},{"$f":"'11 Axle Loads Direction 2-SS'!C120","v":0},{"$f":"'11 Axle Loads Direction 2-SS'!D120","v":0},{"$f":"'11 Axle Loads Direction 2-SS'!E120","v":0},{"$f":"'11 Axle Loads Direction 2-SS'!F120","v":0},{"$f":"'11 Axle Loads Direction 2-SS'!G120","v":0},{"$f":"'11 Axle Loads Direction 2-SS'!H120","v":0},{"$f":"'11 Axle Loads Direction 2-SS'!I120","v":0},{"$f":"'11 Axle Loads Direction 2-SS'!J120","v":0},{"$f":"'11 Axle Loads Direction 2-SS'!K120","v":0},0,0,0,0,0,0,0,0,0,0,0,0,0,0,0,0,0,null,0,0,0,0,0,0,0,0,0,0,0,0,0,0,0,0,0,0,0,0,0,0,0,0,0,0,0,0,0,0,0,0,0,0,0,0,0,0,0,0,0,0,0,0,0,0,0,0,0,0,0,0,0,0,0,0,0,0,0,0,0,0,0,0,0,0,0,0,0,0,0,0,0,0,0,0,0,0,0,0,0,0,0,0,0,0,0,0,0,0,0,0,0,0,0,0,0,0,0,0,0,0,0,0,0,0,0,0,0,0,0,0,0,0,0,0,0,0,0,0,0,0,0,0,0,0,0,0,0,0,0,0,0,0,0,0,0,0,0,0,0,0,0,0,0,0,0,0,0,0,0,0,0,0,0,0,0,0,0,0,0,0,0,0,0,0,0,0,0,0,0,0,0,0,0,0,0,0,0,0,0,0,0,0,0,0,0,0,0,0,0,0,0,0,0,0,0,0,0,0,0,0,0,0,0,0,0,0,0,0,0,0,0,0,0,0,0,0,0,0,0,0,0,0,0,0,0,0,0,0,0,0,0,0,0,0,0,0,0,0,0,0,0,0,0,0,0,0,0,0,0,0,0,0,0,0,0,0,0,0,0,0,0,0,0,0,0,0,0,0,0,0,0,0,0,0,0,0,0,0,0,0,0,0,0,0,0,0,0,0,0,0,0,0,0,0,0,0,0,0,0,0,0,0,0,0,0,0,0,0,0,0,0,0,0,0,0,0,0,0,0,0,0,0,0,0,0,0,0,0,0,0,0,0,0,0,0,0,0,0,0,0,0,0,0,0,0,0,0,0,0,0,0,0,0,0,0,0,0,0,0,0,0,0,0,0,0,0,0,0,0,0,0,0,0,0,0,0,0,0,0,0,0,0,0,0,0,0,0,0,0,0,0,0,0,0,0,0,0,0,0,0,0,0,0,0,0,0,0,0,0,0,0,0,0,0,0,0,0,0,0,0,0,0,0,0,0,0,0,0,0,0,0,0,0,0,0,0,0,0,0,0,0,0,0,0,0,0,0,0,0,0,0,0,0,0,0,0,0,0,0,0,0,0,0,0,0,0,0,0,0,0,0,0,0,0,0,0,0,0,0,0,0,0,0,0,0,0,0,0,0,0,0,0,0,0,0,0,0,0,0,0,0,0,0,0,0,0,0,0,0,0,0,0,0,0,0,0,0,0,0,0,0,0,0,0,0,0,0,0]
[2,{"$f":"'11 Axle Loads Direction 2-SS'!B126","v":3},{"$f":"'11 Axle Loads Direction 2-SS'!C126","v":0},{"$f":"'11 Axle Loads Direction 2-SS'!D126","v":0},{"$f":"'11 Axle Loads Direction 2-SS'!E126","v":0},{"$f":"'11 Axle Loads Direction 2-SS'!F126","v":0},{"$f":"'11 Axle Loads Direction 2-SS'!G126","v":0},{"$f":"'11 Axle Loads Direction 2-SS'!H126","v":0},{"$f":"'11 Axle Loads Direction 2-SS'!I126","v":0},{"$f":"'11 Axle Loads Direction 2-SS'!J126","v":0},{"$f":"'11 Axle Loads Direction 2-SS'!K126","v":0},0,0,0,0,0,0,0,0,0,0,0,0,0,0,0,0,0,null,0,0,0,0,0,0,0,0,0,0,0,0,0,0,0,0,0,0,0,0,0,0,0,0,0,0,0,0,0,0,0,0,0,0,0,0,0,0,0,0,0,0,0,0,0,0,0,0,0,0,0,0,0,0,0,0,0,0,0,0,0,0,0,0,0,0,0,0,0,0,0,0,0,0,0,0,0,0,0,0,0,0,0,0,0,0,0,0,0,0,0,0,0,0,0,0,0,0,0,0,0,0,0,0,0,0,0,0,0,0,0,0,0,0,0,0,0,0,0,0,0,0,0,0,0,0,0,0,0,0,0,0,0,0,0,0,0,0,0,0,0,0,0,0,0,0,0,0,0,0,0,0,0,0,0,0,0,0,0,0,0,0,0,0,0,0,0,0,0,0,0,0,0,0,0,0,0,0,0,0,0,0,0,0,0,0,0,0,0,0,0,0,0,0,0,0,0,0,0,0,0,0,0,0,0,0,0,0,0,0,0,0,0,0,0,0,0,0,0,0,0,0,0,0,0,0,0,0,0,0,0,0,0,0,0,0,0,0,0,0,0,0,0,0,0,0,0,0,0,0,0,0,0,0,0,0,0,0,0,0,0,0,0,0,0,0,0,0,0,0,0,0,0,0,0,0,0,0,0,0,0,0,0,0,0,0,0,0,0,0,0,0,0,0,0,0,0,0,0,0,0,0,0,0,0,0,0,0,0,0,0,0,0,0,0,0,0,0,0,0,0,0,0,0,0,0,0,0,0,0,0,0,0,0,0,0,0,0,0,0,0,0,0,0,0,0,0,0,0,0,0,0,0,0,0,0,0,0,0,0,0,0,0,0,0,0,0,0,0,0,0,0,0,0,0,0,0,0,0,0,0,0,0,0,0,0,0,0,0,0,0,0,0,0,0,0,0,0,0,0,0,0,0,0,0,0,0,0,0,0,0,0,0,0,0,0,0,0,0,0,0,0,0,0,0,0,0,0,0,0,0,0,0,0,0,0,0,0,0,0,0,0,0,0,0,0,0,0,0,0,0,0,0,0,0,0,0,0,0,0,0,0,0,0,0,0,0,0,0,0,0,0,0,0,0,0,0,0,0,0,0,0,0,0,0,0,0,0,0,0,0,0,0,0,0,0,0,0,0,0,0,0,0,0,0,0,0,0,0,0,0,0,0,0,0,0,0,0,0,0,0,0,0,0,0,0,0,0,0,0]
[2,{"$f":"'11 Axle Loads Direction 2-SS'!B141","v":3},{"$f":"'11 Axle Loads Direction 2-SS'!C141","v":0},{"$f":"'11 Axle Loads Direction 2-SS'!D141","v":0},{"$f":"'11 Axle Loads Direction 2-SS'!E141","v":0},{"$f":"'11 Axle Loads Direction 2-SS'!F141","v":0},{"$f":"'11 Axle Loads Direction 2-SS'!G141","v":0},{"$f":"'11 Axle Loads Direction 2-SS'!H141","v":0},{"$f":"'11 Axle Loads Direction 2-SS'!I141","v":0},{"$f":"'11 Axle Loads Direction 2-SS'!J141","v":0},{"$f":"'11 Axle Loads Direction 2-SS'!K141","v":0},0,0,0,0,0,0,0,0,0,0,0,0,0,0,0,0,0,null,0,0,0,0,0,0,0,0,0,0,0,0,0,0,0,0,0,0,0,0,0,0,0,0,0,0,0,0,0,0,0,0,0,0,0,0,0,0,0,0,0,0,0,0,0,0,0,0,0,0,0,0,0,0,0,0,0,0,0,0,0,0,0,0,0,0,0,0,0,0,0,0,0,0,0,0,0,0,0,0,0,0,0,0,0,0,0,0,0,0,0,0,0,0,0,0,0,0,0,0,0,0,0,0,0,0,0,0,0,0,0,0,0,0,0,0,0,0,0,0,0,0,0,0,0,0,0,0,0,0,0,0,0,0,0,0,0,0,0,0,0,0,0,0,0,0,0,0,0,0,0,0,0,0,0,0,0,0,0,0,0,0,0,0,0,0,0,0,0,0,0,0,0,0,0,0,0,0,0,0,0,0,0,0,0,0,0,0,0,0,0,0,0,0,0,0,0,0,0,0,0,0,0,0,0,0,0,0,0,0,0,0,0,0,0,0,0,0,0,0,0,0,0,0,0,0,0,0,0,0,0,0,0,0,0,0,0,0,0,0,0,0,0,0,0,0,0,0,0,0,0,0,0,0,0,0,0,0,0,0,0,0,0,0,0,0,0,0,0,0,0,0,0,0,0,0,0,0,0,0,0,0,0,0,0,0,0,0,0,0,0,0,0,0,0,0,0,0,0,0,0,0,0,0,0,0,0,0,0,0,0,0,0,0,0,0,0,0,0,0,0,0,0,0,0,0,0,0,0,0,0,0,0,0,0,0,0,0,0,0,0,0,0,0,0,0,0,0,0,0,0,0,0,0,0,0,0,0,0,0,0,0,0,0,0,0,0,0,0,0,0,0,0,0,0,0,0,0,0,0,0,0,0,0,0,0,0,0,0,0,0,0,0,0,0,0,0,0,0,0,0,0,0,0,0,0,0,0,0,0,0,0,0,0,0,0,0,0,0,0,0,0,0,0,0,0,0,0,0,0,0,0,0,0,0,0,0,0,0,0,0,0,0,0,0,0,0,0,0,0,0,0,0,0,0,0,0,0,0,0,0,0,0,0,0,0,0,0,0,0,0,0,0,0,0,0,0,0,0,0,0,0,0,0,0,0,0,0,0,0,0,0,0,0,0,0,0,0,0,0,0,0,0,0,0,0,0,0,0,0,0,0,0,0,0,0,0,0,0,0,0,0,0,0,0,0,0,0,0,0]
[2,{"$f":"'11 Axle Loads Direction 2-SS'!B169","v":3},{"$f":"'11 Axle Loads Direction 2-SS'!C169","v":0},{"$f":"'11 Axle Loads Direction 2-SS'!D169","v":0},{"$f":"'11 Axle Loads Direction 2-SS'!E169","v":0},{"$f":"'11 Axle Loads Direction 2-SS'!F169","v":0},{"$f":"'11 Axle Loads Direction 2-SS'!G169","v":0},{"$f":"'11 Axle Loads Direction 2-SS'!H169","v":0},{"$f":"'11 Axle Loads Direction 2-SS'!I169","v":0},{"$f":"'11 Axle Loads Direction 2-SS'!J169","v":0},{"$f":"'11 Axle Loads Direction 2-SS'!K169","v":0},0,0,0,0,0,0,0,0,0,0,0,0,0,0,0,0,0,null,0,0,0,0,0,0,0,0,0,0,0,0,0,0,0,0,0,0,0,0,0,0,0,0,0,0,0,0,0,0,0,0,0,0,0,0,0,0,0,0,0,0,0,0,0,0,0,0,0,0,0,0,0,0,0,0,0,0,0,0,0,0,0,0,0,0,0,0,0,0,0,0,0,0,0,0,0,0,0,0,0,0,0,0,0,0,0,0,0,0,0,0,0,0,0,0,0,0,0,0,0,0,0,0,0,0,0,0,0,0,0,0,0,0,0,0,0,0,0,0,0,0,0,0,0,0,0,0,0,0,0,0,0,0,0,0,0,0,0,0,0,0,0,0,0,0,0,0,0,0,0,0,0,0,0,0,0,0,0,0,0,0,0,0,0,0,0,0,0,0,0,0,0,0,0,0,0,0,0,0,0,0,0,0,0,0,0,0,0,0,0,0,0,0,0,0,0,0,0,0,0,0,0,0,0,0,0,0,0,0,0,0,0,0,0,0,0,0,0,0,0,0,0,0,0,0,0,0,0,0,0,0,0,0,0,0,0,0,0,0,0,0,0,0,0,0,0,0,0,0,0,0,0,0,0,0,0,0,0,0,0,0,0,0,0,0,0,0,0,0,0,0,0,0,0,0,0,0,0,0,0,0,0,0,0,0,0,0,0,0,0,0,0,0,0,0,0,0,0,0,0,0,0,0,0,0,0,0,0,0,0,0,0,0,0,0,0,0,0,0,0,0,0,0,0,0,0,0,0,0,0,0,0,0,0,0,0,0,0,0,0,0,0,0,0,0,0,0,0,0,0,0,0,0,0,0,0,0,0,0,0,0,0,0,0,0,0,0,0,0,0,0,0,0,0,0,0,0,0,0,0,0,0,0,0,0,0,0,0,0,0,0,0,0,0,0,0,0,0,0,0,0,0,0,0,0,0,0,0,0,0,0,0,0,0,0,0,0,0,0,0,0,0,0,0,0,0,0,0,0,0,0,0,0,0,0,0,0,0,0,0,0,0,0,0,0,0,0,0,0,0,0,0,0,0,0,0,0,0,0,0,0,0,0,0,0,0,0,0,0,0,0,0,0,0,0,0,0,0,0,0,0,0,0,0,0,0,0,0,0,0,0,0,0,0,0,0,0,0,0,0,0,0,0,0,0,0,0,0,0,0,0,0,0,0,0,0,0,0,0,0,0,0,0,0,0,0,0,0,0]
[2,{"$f":"'11 Axle Loads Direction 2-SS'!B173","v":3},{"$f":"'11 Axle Loads Direction 2-SS'!C173","v":0},{"$f":"'11 Axle Loads Direction 2-SS'!D173","v":0},{"$f":"'11 Axle Loads Direction 2-SS'!E173","v":0},{"$f":"'11 Axle Loads Direction 2-SS'!F173","v":0},{"$f":"'11 Axle Loads Direction 2-SS'!G173","v":0},{"$f":"'11 Axle Loads Direction 2-SS'!H173","v":0},{"$f":"'11 Axle Loads Direction 2-SS'!I173","v":0},{"$f":"'11 Axle Loads Direction 2-SS'!J173","v":0},{"$f":"'11 Axle Loads Direction 2-SS'!K173","v":0},0,0,0,0,0,0,0,0,0,0,0,0,0,0,0,0,0,null,0,0,0,0,0,0,0,0,0,0,0,0,0,0,0,0,0,0,0,0,0,0,0,0,0,0,0,0,0,0,0,0,0,0,0,0,0,0,0,0,0,0,0,0,0,0,0,0,0,0,0,0,0,0,0,0,0,0,0,0,0,0,0,0,0,0,0,0,0,0,0,0,0,0,0,0,0,0,0,0,0,0,0,0,0,0,0,0,0,0,0,0,0,0,0,0,0,0,0,0,0,0,0,0,0,0,0,0,0,0,0,0,0,0,0,0,0,0,0,0,0,0,0,0,0,0,0,0,0,0,0,0,0,0,0,0,0,0,0,0,0,0,0,0,0,0,0,0,0,0,0,0,0,0,0,0,0,0,0,0,0,0,0,0,0,0,0,0,0,0,0,0,0,0,0,0,0,0,0,0,0,0,0,0,0,0,0,0,0,0,0,0,0,0,0,0,0,0,0,0,0,0,0,0,0,0,0,0,0,0,0,0,0,0,0,0,0,0,0,0,0,0,0,0,0,0,0,0,0,0,0,0,0,0,0,0,0,0,0,0,0,0,0,0,0,0,0,0,0,0,0,0,0,0,0,0,0,0,0,0,0,0,0,0,0,0,0,0,0,0,0,0,0,0,0,0,0,0,0,0,0,0,0,0,0,0,0,0,0,0,0,0,0,0,0,0,0,0,0,0,0,0,0,0,0,0,0,0,0,0,0,0,0,0,0,0,0,0,0,0,0,0,0,0,0,0,0,0,0,0,0,0,0,0,0,0,0,0,0,0,0,0,0,0,0,0,0,0,0,0,0,0,0,0,0,0,0,0,0,0,0,0,0,0,0,0,0,0,0,0,0,0,0,0,0,0,0,0,0,0,0,0,0,0,0,0,0,0,0,0,0,0,0,0,0,0,0,0,0,0,0,0,0,0,0,0,0,0,0,0,0,0,0,0,0,0,0,0,0,0,0,0,0,0,0,0,0,0,0,0,0,0,0,0,0,0,0,0,0,0,0,0,0,0,0,0,0,0,0,0,0,0,0,0,0,0,0,0,0,0,0,0,0,0,0,0,0,0,0,0,0,0,0,0,0,0,0,0,0,0,0,0,0,0,0,0,0,0,0,0,0,0,0,0,0,0,0,0,0,0,0,0,0,0,0,0,0,0,0,0,0,0,0,0,0,0,0,0,0,0,0,0,0,0,0,0,0,0,0,0]
[2,{"$f":"'11 Axle Loads Direction 2-SS'!B189","v":3},{"$f":"'11 Axle Loads Direction 2-SS'!C189","v":0},{"$f":"'11 Axle Loads Direction 2-SS'!D189","v":0},{"$f":"'11 Axle Loads Direction 2-SS'!E189","v":0},{"$f":"'11 Axle Loads Direction 2-SS'!F189","v":0},{"$f":"'11 Axle Loads Direction 2-SS'!G189","v":0},{"$f":"'11 Axle Loads Direction 2-SS'!H189","v":0},{"$f":"'11 Axle Loads Direction 2-SS'!I189","v":0},{"$f":"'11 Axle Loads Direction 2-SS'!J189","v":0},{"$f":"'11 Axle Loads Direction 2-SS'!K189","v":0},0,0,0,0,0,0,0,0,0,0,0,0,0,0,0,0,0,null,0,0,0,0,0,0,0,0,0,0,0,0,0,0,0,0,0,0,0,0,0,0,0,0,0,0,0,0,0,0,0,0,0,0,0,0,0,0,0,0,0,0,0,0,0,0,0,0,0,0,0,0,0,0,0,0,0,0,0,0,0,0,0,0,0,0,0,0,0,0,0,0,0,0,0,0,0,0,0,0,0,0,0,0,0,0,0,0,0,0,0,0,0,0,0,0,0,0,0,0,0,0,0,0,0,0,0,0,0,0,0,0,0,0,0,0,0,0,0,0,0,0,0,0,0,0,0,0,0,0,0,0,0,0,0,0,0,0,0,0,0,0,0,0,0,0,0,0,0,0,0,0,0,0,0,0,0,0,0,0,0,0,0,0,0,0,0,0,0,0,0,0,0,0,0,0,0,0,0,0,0,0,0,0,0,0,0,0,0,0,0,0,0,0,0,0,0,0,0,0,0,0,0,0,0,0,0,0,0,0,0,0,0,0,0,0,0,0,0,0,0,0,0,0,0,0,0,0,0,0,0,0,0,0,0,0,0,0,0,0,0,0,0,0,0,0,0,0,0,0,0,0,0,0,0,0,0,0,0,0,0,0,0,0,0,0,0,0,0,0,0,0,0,0,0,0,0,0,0,0,0,0,0,0,0,0,0,0,0,0,0,0,0,0,0,0,0,0,0,0,0,0,0,0,0,0,0,0,0,0,0,0,0,0,0,0,0,0,0,0,0,0,0,0,0,0,0,0,0,0,0,0,0,0,0,0,0,0,0,0,0,0,0,0,0,0,0,0,0,0,0,0,0,0,0,0,0,0,0,0,0,0,0,0,0,0,0,0,0,0,0,0,0,0,0,0,0,0,0,0,0,0,0,0,0,0,0,0,0,0,0,0,0,0,0,0,0,0,0,0,0,0,0,0,0,0,0,0,0,0,0,0,0,0,0,0,0,0,0,0,0,0,0,0,0,0,0,0,0,0,0,0,0,0,0,0,0,0,0,0,0,0,0,0,0,0,0,0,0,0,0,0,0,0,0,0,0,0,0,0,0,0,0,0,0,0,0,0,0,0,0,0,0,0,0,0,0,0,0,0,0,0,0,0,0,0,0,0,0,0,0,0,0,0,0,0,0,0,0,0,0,0,0,0,0,0,0,0,0,0,0,0,0,0,0,0,0,0,0,0,0,0,0,0,0,0,0,0,0,0]
[2,{"$f":"'11 Axle Loads Direction 2-SS'!B202","v":3},{"$f":"'11 Axle Loads Direction 2-SS'!C202","v":0},{"$f":"'11 Axle Loads Direction 2-SS'!D202","v":0},{"$f":"'11 Axle Loads Direction 2-SS'!E202","v":0},{"$f":"'11 Axle Loads Direction 2-SS'!F202","v":0},{"$f":"'11 Axle Loads Direction 2-SS'!G202","v":0},{"$f":"'11 Axle Loads Direction 2-SS'!H202","v":0},{"$f":"'11 Axle Loads Direction 2-SS'!I202","v":0},{"$f":"'11 Axle Loads Direction 2-SS'!J202","v":0},{"$f":"'11 Axle Loads Direction 2-SS'!K202","v":0},0,0,0,0,0,0,0,0,0,0,0,0,0,0,0,0,0,null,0,0,0,0,0,0,0,0,0,0,0,0,0,0,0,0,0,0,0,0,0,0,0,0,0,0,0,0,0,0,0,0,0,0,0,0,0,0,0,0,0,0,0,0,0,0,0,0,0,0,0,0,0,0,0,0,0,0,0,0,0,0,0,0,0,0,0,0,0,0,0,0,0,0,0,0,0,0,0,0,0,0,0,0,0,0,0,0,0,0,0,0,0,0,0,0,0,0,0,0,0,0,0,0,0,0,0,0,0,0,0,0,0,0,0,0,0,0,0,0,0,0,0,0,0,0,0,0,0,0,0,0,0,0,0,0,0,0,0,0,0,0,0,0,0,0,0,0,0,0,0,0,0,0,0,0,0,0,0,0,0,0,0,0,0,0,0,0,0,0,0,0,0,0,0,0,0,0,0,0,0,0,0,0,0,0,0,0,0,0,0,0,0,0,0,0,0,0,0,0,0,0,0,0,0,0,0,0,0,0,0,0,0,0,0,0,0,0,0,0,0,0,0,0,0,0,0,0,0,0,0,0,0,0,0,0,0,0,0,0,0,0,0,0,0,0,0,0,0,0,0,0,0,0,0,0,0,0,0,0,0,0,0,0,0,0,0,0,0,0,0,0,0,0,0,0,0,0,0,0,0,0,0,0,0,0,0,0,0,0,0,0,0,0,0,0,0,0,0,0,0,0,0,0,0,0,0,0,0,0,0,0,0,0,0,0,0,0,0,0,0,0,0,0,0,0,0,0,0,0,0,0,0,0,0,0,0,0,0,0,0,0,0,0,0,0,0,0,0,0,0,0,0,0,0,0,0,0,0,0,0,0,0,0,0,0,0,0,0,0,0,0,0,0,0,0,0,0,0,0,0,0,0,0,0,0,0,0,0,0,0,0,0,0,0,0,0,0,0,0,0,0,0,0,0,0,0,0,0,0,0,0,0,0,0,0,0,0,0,0,0,0,0,0,0,0,0,0,0,0,0,0,0,0,0,0,0,0,0,0,0,0,0,0,0,0,0,0,0,0,0,0,0,0,0,0,0,0,0,0,0,0,0,0,0,0,0,0,0,0,0,0,0,0,0,0,0,0,0,0,0,0,0,0,0,0,0,0,0,0,0,0,0,0,0,0,0,0,0,0,0,0,0,0,0,0,0,0,0,0,0,0,0,0,0,0,0,0,0,0,0,0,0,0,0,0,0,0,0,0]
[2,{"$f":"'11 Axle Loads Direction 2-SS'!B220","v":3},{"$f":"'11 Axle Loads Direction 2-SS'!C220","v":0},{"$f":"'11 Axle Loads Direction 2-SS'!D220","v":0},{"$f":"'11 Axle Loads Direction 2-SS'!E220","v":0},{"$f":"'11 Axle Loads Direction 2-SS'!F220","v":0},{"$f":"'11 Axle Loads Direction 2-SS'!G220","v":0},{"$f":"'11 Axle Loads Direction 2-SS'!H220","v":0},{"$f":"'11 Axle Loads Direction 2-SS'!I220","v":0},{"$f":"'11 Axle Loads Direction 2-SS'!J220","v":0},{"$f":"'11 Axle Loads Direction 2-SS'!K220","v":0},0,0,0,0,0,0,0,0,0,0,0,0,0,0,0,0,0,null,0,0,0,0,0,0,0,0,0,0,0,0,0,0,0,0,0,0,0,0,0,0,0,0,0,0,0,0,0,0,0,0,0,0,0,0,0,0,0,0,0,0,0,0,0,0,0,0,0,0,0,0,0,0,0,0,0,0,0,0,0,0,0,0,0,0,0,0,0,0,0,0,0,0,0,0,0,0,0,0,0,0,0,0,0,0,0,0,0,0,0,0,0,0,0,0,0,0,0,0,0,0,0,0,0,0,0,0,0,0,0,0,0,0,0,0,0,0,0,0,0,0,0,0,0,0,0,0,0,0,0,0,0,0,0,0,0,0,0,0,0,0,0,0,0,0,0,0,0,0,0,0,0,0,0,0,0,0,0,0,0,0,0,0,0,0,0,0,0,0,0,0,0,0,0,0,0,0,0,0,0,0,0,0,0,0,0,0,0,0,0,0,0,0,0,0,0,0,0,0,0,0,0,0,0,0,0,0,0,0,0,0,0,0,0,0,0,0,0,0,0,0,0,0,0,0,0,0,0,0,0,0,0,0,0,0,0,0,0,0,0,0,0,0,0,0,0,0,0,0,0,0,0,0,0,0,0,0,0,0,0,0,0,0,0,0,0,0,0,0,0,0,0,0,0,0,0,0,0,0,0,0,0,0,0,0,0,0,0,0,0,0,0,0,0,0,0,0,0,0,0,0,0,0,0,0,0,0,0,0,0,0,0,0,0,0,0,0,0,0,0,0,0,0,0,0,0,0,0,0,0,0,0,0,0,0,0,0,0,0,0,0,0,0,0,0,0,0,0,0,0,0,0,0,0,0,0,0,0,0,0,0,0,0,0,0,0,0,0,0,0,0,0,0,0,0,0,0,0,0,0,0,0,0,0,0,0,0,0,0,0,0,0,0,0,0,0,0,0,0,0,0,0,0,0,0,0,0,0,0,0,0,0,0,0,0,0,0,0,0,0,0,0,0,0,0,0,0,0,0,0,0,0,0,0,0,0,0,0,0,0,0,0,0,0,0,0,0,0,0,0,0,0,0,0,0,0,0,0,0,0,0,0,0,0,0,0,0,0,0,0,0,0,0,0,0,0,0,0,0,0,0,0,0,0,0,0,0,0,0,0,0,0,0,0,0,0,0,0,0,0,0,0,0,0,0,0,0,0,0,0,0,0,0,0,0,0,0,0,0,0,0,0,0,0,0,0,0,0,0]
[2,{"$f":"'11 Axle Loads Direction 2-SS'!B236","v":3},{"$f":"'11 Axle Loads Direction 2-SS'!C236","v":0},{"$f":"'11 Axle Loads Direction 2-SS'!D236","v":0},{"$f":"'11 Axle Loads Direction 2-SS'!E236","v":0},{"$f":"'11 Axle Loads Direction 2-SS'!F236","v":0},{"$f":"'11 Axle Loads Direction 2-SS'!G236","v":0},{"$f":"'11 Axle Loads Direction 2-SS'!H236","v":0},{"$f":"'11 Axle Loads Direction 2-SS'!I236","v":0},{"$f":"'11 Axle Loads Direction 2-SS'!J236","v":0},{"$f":"'11 Axle Loads Direction 2-SS'!K236","v":0},0,0,0,0,0,0,0,0,0,0,0,0,0,0,0,0,0,null,0,0,0,0,0,0,0,0,0,0,0,0,0,0,0,0,0,0,0,0,0,0,0,0,0,0,0,0,0,0,0,0,0,0,0,0,0,0,0,0,0,0,0,0,0,0,0,0,0,0,0,0,0,0,0,0,0,0,0,0,0,0,0,0,0,0,0,0,0,0,0,0,0,0,0,0,0,0,0,0,0,0,0,0,0,0,0,0,0,0,0,0,0,0,0,0,0,0,0,0,0,0,0,0,0,0,0,0,0,0,0,0,0,0,0,0,0,0,0,0,0,0,0,0,0,0,0,0,0,0,0,0,0,0,0,0,0,0,0,0,0,0,0,0,0,0,0,0,0,0,0,0,0,0,0,0,0,0,0,0,0,0,0,0,0,0,0,0,0,0,0,0,0,0,0,0,0,0,0,0,0,0,0,0,0,0,0,0,0,0,0,0,0,0,0,0,0,0,0,0,0,0,0,0,0,0,0,0,0,0,0,0,0,0,0,0,0,0,0,0,0,0,0,0,0,0,0,0,0,0,0,0,0,0,0,0,0,0,0,0,0,0,0,0,0,0,0,0,0,0,0,0,0,0,0,0,0,0,0,0,0,0,0,0,0,0,0,0,0,0,0,0,0,0,0,0,0,0,0,0,0,0,0,0,0,0,0,0,0,0,0,0,0,0,0,0,0,0,0,0,0,0,0,0,0,0,0,0,0,0,0,0,0,0,0,0,0,0,0,0,0,0,0,0,0,0,0,0,0,0,0,0,0,0,0,0,0,0,0,0,0,0,0,0,0,0,0,0,0,0,0,0,0,0,0,0,0,0,0,0,0,0,0,0,0,0,0,0,0,0,0,0,0,0,0,0,0,0,0,0,0,0,0,0,0,0,0,0,0,0,0,0,0,0,0,0,0,0,0,0,0,0,0,0,0,0,0,0,0,0,0,0,0,0,0,0,0,0,0,0,0,0,0,0,0,0,0,0,0,0,0,0,0,0,0,0,0,0,0,0,0,0,0,0,0,0,0,0,0,0,0,0,0,0,0,0,0,0,0,0,0,0,0,0,0,0,0,0,0,0,0,0,0,0,0,0,0,0,0,0,0,0,0,0,0,0,0,0,0,0,0,0,0,0,0,0,0,0,0,0,0,0,0,0,0,0,0,0,0,0,0,0,0,0,0,0,0,0,0,0,0,0,0,0,0,0,0,0,0,0]
[2,{"$f":"'11 Axle Loads Direction 2-SS'!B251","v":3},{"$f":"'11 Axle Loads Direction 2-SS'!C251","v":0},{"$f":"'11 Axle Loads Direction 2-SS'!D251","v":0},{"$f":"'11 Axle Loads Direction 2-SS'!E251","v":0},{"$f":"'11 Axle Loads Direction 2-SS'!F251","v":0},{"$f":"'11 Axle Loads Direction 2-SS'!G251","v":0},{"$f":"'11 Axle Loads Direction 2-SS'!H251","v":0},{"$f":"'11 Axle Loads Direction 2-SS'!I251","v":0},{"$f":"'11 Axle Loads Direction 2-SS'!J251","v":0},{"$f":"'11 Axle Loads Direction 2-SS'!K251","v":0},0,0,0,0,0,0,0,0,0,0,0,0,0,0,0,0,0,null,0,0,0,0,0,0,0,0,0,0,0,0,0,0,0,0,0,0,0,0,0,0,0,0,0,0,0,0,0,0,0,0,0,0,0,0,0,0,0,0,0,0,0,0,0,0,0,0,0,0,0,0,0,0,0,0,0,0,0,0,0,0,0,0,0,0,0,0,0,0,0,0,0,0,0,0,0,0,0,0,0,0,0,0,0,0,0,0,0,0,0,0,0,0,0,0,0,0,0,0,0,0,0,0,0,0,0,0,0,0,0,0,0,0,0,0,0,0,0,0,0,0,0,0,0,0,0,0,0,0,0,0,0,0,0,0,0,0,0,0,0,0,0,0,0,0,0,0,0,0,0,0,0,0,0,0,0,0,0,0,0,0,0,0,0,0,0,0,0,0,0,0,0,0,0,0,0,0,0,0,0,0,0,0,0,0,0,0,0,0,0,0,0,0,0,0,0,0,0,0,0,0,0,0,0,0,0,0,0,0,0,0,0,0,0,0,0,0,0,0,0,0,0,0,0,0,0,0,0,0,0,0,0,0,0,0,0,0,0,0,0,0,0,0,0,0,0,0,0,0,0,0,0,0,0,0,0,0,0,0,0,0,0,0,0,0,0,0,0,0,0,0,0,0,0,0,0,0,0,0,0,0,0,0,0,0,0,0,0,0,0,0,0,0,0,0,0,0,0,0,0,0,0,0,0,0,0,0,0,0,0,0,0,0,0,0,0,0,0,0,0,0,0,0,0,0,0,0,0,0,0,0,0,0,0,0,0,0,0,0,0,0,0,0,0,0,0,0,0,0,0,0,0,0,0,0,0,0,0,0,0,0,0,0,0,0,0,0,0,0,0,0,0,0,0,0,0,0,0,0,0,0,0,0,0,0,0,0,0,0,0,0,0,0,0,0,0,0,0,0,0,0,0,0,0,0,0,0,0,0,0,0,0,0,0,0,0,0,0,0,0,0,0,0,0,0,0,0,0,0,0,0,0,0,0,0,0,0,0,0,0,0,0,0,0,0,0,0,0,0,0,0,0,0,0,0,0,0,0,0,0,0,0,0,0,0,0,0,0,0,0,0,0,0,0,0,0,0,0,0,0,0,0,0,0,0,0,0,0,0,0,0,0,0,0,0,0,0,0,0,0,0,0,0,0,0,0,0,0,0,0,0,0,0,0,0,0,0,0,0,0,0,0,0,0,0,0,0,0,0]
[2,{"$f":"'11 Axle Loads Direction 2-SS'!B267","v":3},{"$f":"'11 Axle Loads Direction 2-SS'!C267","v":0},{"$f":"'11 Axle Loads Direction 2-SS'!D267","v":0},{"$f":"'11 Axle Loads Direction 2-SS'!E267","v":0},{"$f":"'11 Axle Loads Direction 2-SS'!F267","v":0},{"$f":"'11 Axle Loads Direction 2-SS'!G267","v":0},{"$f":"'11 Axle Loads Direction 2-SS'!H267","v":0},{"$f":"'11 Axle Loads Direction 2-SS'!I267","v":0},{"$f":"'11 Axle Loads Direction 2-SS'!J267","v":0},{"$f":"'11 Axle Loads Direction 2-SS'!K267","v":0},0,0,0,0,0,0,0,0,0,0,0,0,0,0,0,0,0,null,0,0,0,0,0,0,0,0,0,0,0,0,0,0,0,0,0,0,0,0,0,0,0,0,0,0,0,0,0,0,0,0,0,0,0,0,0,0,0,0,0,0,0,0,0,0,0,0,0,0,0,0,0,0,0,0,0,0,0,0,0,0,0,0,0,0,0,0,0,0,0,0,0,0,0,0,0,0,0,0,0,0,0,0,0,0,0,0,0,0,0,0,0,0,0,0,0,0,0,0,0,0,0,0,0,0,0,0,0,0,0,0,0,0,0,0,0,0,0,0,0,0,0,0,0,0,0,0,0,0,0,0,0,0,0,0,0,0,0,0,0,0,0,0,0,0,0,0,0,0,0,0,0,0,0,0,0,0,0,0,0,0,0,0,0,0,0,0,0,0,0,0,0,0,0,0,0,0,0,0,0,0,0,0,0,0,0,0,0,0,0,0,0,0,0,0,0,0,0,0,0,0,0,0,0,0,0,0,0,0,0,0,0,0,0,0,0,0,0,0,0,0,0,0,0,0,0,0,0,0,0,0,0,0,0,0,0,0,0,0,0,0,0,0,0,0,0,0,0,0,0,0,0,0,0,0,0,0,0,0,0,0,0,0,0,0,0,0,0,0,0,0,0,0,0,0,0,0,0,0,0,0,0,0,0,0,0,0,0,0,0,0,0,0,0,0,0,0,0,0,0,0,0,0,0,0,0,0,0,0,0,0,0,0,0,0,0,0,0,0,0,0,0,0,0,0,0,0,0,0,0,0,0,0,0,0,0,0,0,0,0,0,0,0,0,0,0,0,0,0,0,0,0,0,0,0,0,0,0,0,0,0,0,0,0,0,0,0,0,0,0,0,0,0,0,0,0,0,0,0,0,0,0,0,0,0,0,0,0,0,0,0,0,0,0,0,0,0,0,0,0,0,0,0,0,0,0,0,0,0,0,0,0,0,0,0,0,0,0,0,0,0,0,0,0,0,0,0,0,0,0,0,0,0,0,0,0,0,0,0,0,0,0,0,0,0,0,0,0,0,0,0,0,0,0,0,0,0,0,0,0,0,0,0,0,0,0,0,0,0,0,0,0,0,0,0,0,0,0,0,0,0,0,0,0,0,0,0,0,0,0,0,0,0,0,0,0,0,0,0,0,0,0,0,0,0,0,0,0,0,0,0,0,0,0,0,0,0,0,0,0,0,0,0,0,0,0,0,0,0]
[2,{"$f":"'11 Axle Loads Direction 2-SS'!B283","v":3},{"$f":"'11 Axle Loads Direction 2-SS'!C283","v":0},{"$f":"'11 Axle Loads Direction 2-SS'!D283","v":0},{"$f":"'11 Axle Loads Direction 2-SS'!E283","v":0},{"$f":"'11 Axle Loads Direction 2-SS'!F283","v":0},{"$f":"'11 Axle Loads Direction 2-SS'!G283","v":0},{"$f":"'11 Axle Loads Direction 2-SS'!H283","v":0},{"$f":"'11 Axle Loads Direction 2-SS'!I283","v":0},{"$f":"'11 Axle Loads Direction 2-SS'!J283","v":0},{"$f":"'11 Axle Loads Direction 2-SS'!K283","v":0},0,0,0,0,0,0,0,0,0,0,0,0,0,0,0,0,0,null,0,0,0,0,0,0,0,0,0,0,0,0,0,0,0,0,0,0,0,0,0,0,0,0,0,0,0,0,0,0,0,0,0,0,0,0,0,0,0,0,0,0,0,0,0,0,0,0,0,0,0,0,0,0,0,0,0,0,0,0,0,0,0,0,0,0,0,0,0,0,0,0,0,0,0,0,0,0,0,0,0,0,0,0,0,0,0,0,0,0,0,0,0,0,0,0,0,0,0,0,0,0,0,0,0,0,0,0,0,0,0,0,0,0,0,0,0,0,0,0,0,0,0,0,0,0,0,0,0,0,0,0,0,0,0,0,0,0,0,0,0,0,0,0,0,0,0,0,0,0,0,0,0,0,0,0,0,0,0,0,0,0,0,0,0,0,0,0,0,0,0,0,0,0,0,0,0,0,0,0,0,0,0,0,0,0,0,0,0,0,0,0,0,0,0,0,0,0,0,0,0,0,0,0,0,0,0,0,0,0,0,0,0,0,0,0,0,0,0,0,0,0,0,0,0,0,0,0,0,0,0,0,0,0,0,0,0,0,0,0,0,0,0,0,0,0,0,0,0,0,0,0,0,0,0,0,0,0,0,0,0,0,0,0,0,0,0,0,0,0,0,0,0,0,0,0,0,0,0,0,0,0,0,0,0,0,0,0,0,0,0,0,0,0,0,0,0,0,0,0,0,0,0,0,0,0,0,0,0,0,0,0,0,0,0,0,0,0,0,0,0,0,0,0,0,0,0,0,0,0,0,0,0,0,0,0,0,0,0,0,0,0,0,0,0,0,0,0,0,0,0,0,0,0,0,0,0,0,0,0,0,0,0,0,0,0,0,0,0,0,0,0,0,0,0,0,0,0,0,0,0,0,0,0,0,0,0,0,0,0,0,0,0,0,0,0,0,0,0,0,0,0,0,0,0,0,0,0,0,0,0,0,0,0,0,0,0,0,0,0,0,0,0,0,0,0,0,0,0,0,0,0,0,0,0,0,0,0,0,0,0,0,0,0,0,0,0,0,0,0,0,0,0,0,0,0,0,0,0,0,0,0,0,0,0,0,0,0,0,0,0,0,0,0,0,0,0,0,0,0,0,0,0,0,0,0,0,0,0,0,0,0,0,0,0,0,0,0,0,0,0,0,0,0,0,0,0,0,0,0,0,0,0,0,0,0,0,0,0,0,0,0,0,0,0,0,0,0,0,0]
[2,{"$f":"'11 Axle Loads Direction 2-SS'!B298","v":5},{"$f":"'11 Axle Loads Direction 2-SS'!C298","v":0},{"$f":"'11 Axle Loads Direction 2-SS'!D298","v":0},{"$f":"'11 Axle Loads Direction 2-SS'!E298","v":0},{"$f":"'11 Axle Loads Direction 2-SS'!F298","v":0},{"$f":"'11 Axle Loads Direction 2-SS'!G298","v":0},{"$f":"'11 Axle Loads Direction 2-SS'!H298","v":0},{"$f":"'11 Axle Loads Direction 2-SS'!I298","v":0},{"$f":"'11 Axle Loads Direction 2-SS'!J298","v":0},{"$f":"'11 Axle Loads Direction 2-SS'!K298","v":0},0,0,0,0,0,0,0,0,0,0,0,0,0,0,0,0,0,null,0,0,0,0,0,0,0,0,0,0,0,0,0,0,0,0,0,0,0,0,0,0,0,0,0,0,0,0,0,0,0,0,0,0,0,0,0,0,0,0,0,0,0,0,0,0,0,0,0,0,0,0,0,0,0,0,0,0,0,0,0,0,0,0,0,0,0,0,0,0,0,0,0,0,0,0,0,0,0,0,0,0,0,0,0,0,0,0,0,0,0,0,0,0,0,0,0,0,0,0,0,0,0,0,0,0,0,0,0,0,0,0,0,0,0,0,0,0,0,0,0,0,0,0,0,0,0,0,0,0,0,0,0,0,0,0,0,0,0,0,0,0,0,0,0,0,0,0,0,0,0,0,0,0,0,0,0,0,0,0,0,0,0,0,0,0,0,0,0,0,0,0,0,0,0,0,0,0,0,0,0,0,0,0,0,0,0,0,0,0,0,0,0,0,0,0,0,0,0,0,0,0,0,0,0,0,0,0,0,0,0,0,0,0,0,0,0,0,0,0,0,0,0,0,0,0,0,0,0,0,0,0,0,0,0,0,0,0,0,0,0,0,0,0,0,0,0,0,0,0,0,0,0,0,0,0,0,0,0,0,0,0,0,0,0,0,0,0,0,0,0,0,0,0,0,0,0,0,0,0,0,0,0,0,0,0,0,0,0,0,0,0,0,0,0,0,0,0,0,0,0,0,0,0,0,0,0,0,0,0,0,0,0,0,0,0,0,0,0,0,0,0,0,0,0,0,0,0,0,0,0,0,0,0,0,0,0,0,0,0,0,0,0,0,0,0,0,0,0,0,0,0,0,0,0,0,0,0,0,0,0,0,0,0,0,0,0,0,0,0,0,0,0,0,0,0,0,0,0,0,0,0,0,0,0,0,0,0,0,0,0,0,0,0,0,0,0,0,0,0,0,0,0,0,0,0,0,0,0,0,0,0,0,0,0,0,0,0,0,0,0,0,0,0,0,0,0,0,0,0,0,0,0,0,0,0,0,0,0,0,0,0,0,0,0,0,0,0,0,0,0,0,0,0,0,0,0,0,0,0,0,0,0,0,0,0,0,0,0,0,0,0,0,0,0,0,0,0,0,0,0,0,0,0,0,0,0,0,0,0,0,0,0,0,0,0,0,0,0,0,0,0,0,0,0,0,0,0,0,0,0,0,0,0,0,0,0,0,0,0,0,0,0,0,0,0,0,0,0,0]
[2,{"$f":"'11 Axle Loads Direction 2-SS'!B316","v":3},{"$f":"'11 Axle Loads Direction 2-SS'!C316","v":0},{"$f":"'11 Axle Loads Direction 2-SS'!D316","v":0},{"$f":"'11 Axle Loads Direction 2-SS'!E316","v":0},{"$f":"'11 Axle Loads Direction 2-SS'!F316","v":0},{"$f":"'11 Axle Loads Direction 2-SS'!G316","v":0},{"$f":"'11 Axle Loads Direction 2-SS'!H316","v":0},{"$f":"'11 Axle Loads Direction 2-SS'!I316","v":0},{"$f":"'11 Axle Loads Direction 2-SS'!J316","v":0},{"$f":"'11 Axle Loads Direction 2-SS'!K316","v":0},0,0,0,0,0,0,0,0,0,0,0,0,0,0,0,0,0,null,0,0,0,0,0,0,0,0,0,0,0,0,0,0,0,0,0,0,0,0,0,0,0,0,0,0,0,0,0,0,0,0,0,0,0,0,0,0,0,0,0,0,0,0,0,0,0,0,0,0,0,0,0,0,0,0,0,0,0,0,0,0,0,0,0,0,0,0,0,0,0,0,0,0,0,0,0,0,0,0,0,0,0,0,0,0,0,0,0,0,0,0,0,0,0,0,0,0,0,0,0,0,0,0,0,0,0,0,0,0,0,0,0,0,0,0,0,0,0,0,0,0,0,0,0,0,0,0,0,0,0,0,0,0,0,0,0,0,0,0,0,0,0,0,0,0,0,0,0,0,0,0,0,0,0,0,0,0,0,0,0,0,0,0,0,0,0,0,0,0,0,0,0,0,0,0,0,0,0,0,0,0,0,0,0,0,0,0,0,0,0,0,0,0,0,0,0,0,0,0,0,0,0,0,0,0,0,0,0,0,0,0,0,0,0,0,0,0,0,0,0,0,0,0,0,0,0,0,0,0,0,0,0,0,0,0,0,0,0,0,0,0,0,0,0,0,0,0,0,0,0,0,0,0,0,0,0,0,0,0,0,0,0,0,0,0,0,0,0,0,0,0,0,0,0,0,0,0,0,0,0,0,0,0,0,0,0,0,0,0,0,0,0,0,0,0,0,0,0,0,0,0,0,0,0,0,0,0,0,0,0,0,0,0,0,0,0,0,0,0,0,0,0,0,0,0,0,0,0,0,0,0,0,0,0,0,0,0,0,0,0,0,0,0,0,0,0,0,0,0,0,0,0,0,0,0,0,0,0,0,0,0,0,0,0,0,0,0,0,0,0,0,0,0,0,0,0,0,0,0,0,0,0,0,0,0,0,0,0,0,0,0,0,0,0,0,0,0,0,0,0,0,0,0,0,0,0,0,0,0,0,0,0,0,0,0,0,0,0,0,0,0,0,0,0,0,0,0,0,0,0,0,0,0,0,0,0,0,0,0,0,0,0,0,0,0,0,0,0,0,0,0,0,0,0,0,0,0,0,0,0,0,0,0,0,0,0,0,0,0,0,0,0,0,0,0,0,0,0,0,0,0,0,0,0,0,0,0,0,0,0,0,0,0,0,0,0,0,0,0,0,0,0,0,0,0,0,0,0,0,0,0,0,0,0,0,0,0,0,0,0,0,0,0,0,0,0,0,0,0]
[2,{"$f":"'11 Axle Loads Direction 2-SS'!B330","v":4},{"$f":"'11 Axle Loads Direction 2-SS'!C330","v":6},{"$f":"'11 Axle Loads Direction 2-SS'!D330","v":6},{"$f":"'11 Axle Loads Direction 2-SS'!E330","v":8},{"$f":"'11 Axle Loads Direction 2-SS'!F330","v":9},{"$f":"'11 Axle Loads Direction 2-SS'!G330","v":0},{"$f":"'11 Axle Loads Direction 2-SS'!H330","v":0},{"$f":"'11 Axle Loads Direction 2-SS'!I330","v":0},{"$f":"'11 Axle Loads Direction 2-SS'!J330","v":0},{"$f":"'11 Axle Loads Direction 2-SS'!K330","v":0},6,6,0,0,0,17,0,0,0,0,0,0,0,0,0,0,0,null,0,0,0,0,0,60,0,0,0,0,0,0,0,0,0,0,0,0,0,0,0,0,0,0,0,0,0,0,0,0,0,0,0,0,0,60,0,0,0,0,0,0,0,0,0,0,0,0,0,0,0,0,0,0,0,0,0,0,0,0,0,0,0,0,0,0,0,0,0,0,0,0,0,0,0,0,0,0,0,0,0,0,0,0,0,0,0,0,0,0,0,0,0,0,0,0,0,0,0,0,0,0,0,0,0,0,0,0,0,0,0,0,0,0,0,0,0,0,0,0,0,0,0,0,0,0,0,0,0,0,0,0,0,0,0,0,0,0,0,0,0,0,0,0,0,0,0,0,0,0,0,0,0,0,0,0,0,0,0,0,0,0,0,0,0,0,170,0,0,0,0,0,0,0,0,0,0,0,0,0,0,0,0,0,0,0,0,0,0,0,0,0,0,0,0,0,0,0,0,0,0,0,0,0,0,0,0,0,0,0,0,0,0,0,0,0,0,0,0,0,0,0,0,0,0,0,0,0,0,0,0,0,0,0,0,0,0,0,0,0,0,0,0,0,0,0,0,0,0,0,0,0,0,0,0,0,0,0,0,0,0,0,0,0,0,0,0,0,0,0,0,0,0,0,0,0,0,0,0,0,0,0,0,0,0,0,0,0,0,0,0,0,0,0,0,0,0,0,0,0,0,0,0,0,0,0,0,0,0,0,0,0,0,0,0,0,0,0,0,0,0,0,0,0,0,0,0,0,0,0,0,0,0,0,0,0,0,0,0,0,0,0,0,0,0,0,0,0,0,0,0,0,0,0,0,0,0,0,0,0,0,0,0,0,0,0,0,0,0,0,0,0,0,0,0,0,0,0,0,0,0,0,0,0,0,0,0,0,0,0,0,0,0,0,0,0,0,0,0,0,0,0,0,0,0,0,0,0,0,0,0,0,0,0,0,0,0,0,0,0,0,0,0,0,0,0,0,0,0,0,0,0,0,0,0,0,0,0,0,0,0,0,0,0,0,0,0,0,0,0,0,0,0,0,0,0,0,0,0,0,0,0,0,0,0,0,0,0,0,0,0,0,0,0,0,0,0,0,0,0,0,0,0,0,0,0,0,0,0,0,0,0,0,0,0,0,0,0,0,0,0,0,0,0,0,0,0,0,0,0,0,0,0,0,0,0,0,0,0,0,0,0,0,0,0,0,0,0,0,0]
[2,{"$f":"'11 Axle Loads Direction 2-SS'!B345","v":5},{"$f":"'11 Axle Loads Direction 2-SS'!C345","v":0},{"$f":"'11 Axle Loads Direction 2-SS'!D345","v":0},{"$f":"'11 Axle Loads Direction 2-SS'!E345","v":0},{"$f":"'11 Axle Loads Direction 2-SS'!F345","v":0},{"$f":"'11 Axle Loads Direction 2-SS'!G345","v":0},{"$f":"'11 Axle Loads Direction 2-SS'!H345","v":0},{"$f":"'11 Axle Loads Direction 2-SS'!I345","v":0},{"$f":"'11 Axle Loads Direction 2-SS'!J345","v":0},{"$f":"'11 Axle Loads Direction 2-SS'!K345","v":0},0,0,0,0,0,0,0,0,0,0,0,0,0,0,0,0,0,null,0,0,0,0,0,0,0,0,0,0,0,0,0,0,0,0,0,0,0,0,0,0,0,0,0,0,0,0,0,0,0,0,0,0,0,0,0,0,0,0,0,0,0,0,0,0,0,0,0,0,0,0,0,0,0,0,0,0,0,0,0,0,0,0,0,0,0,0,0,0,0,0,0,0,0,0,0,0,0,0,0,0,0,0,0,0,0,0,0,0,0,0,0,0,0,0,0,0,0,0,0,0,0,0,0,0,0,0,0,0,0,0,0,0,0,0,0,0,0,0,0,0,0,0,0,0,0,0,0,0,0,0,0,0,0,0,0,0,0,0,0,0,0,0,0,0,0,0,0,0,0,0,0,0,0,0,0,0,0,0,0,0,0,0,0,0,0,0,0,0,0,0,0,0,0,0,0,0,0,0,0,0,0,0,0,0,0,0,0,0,0,0,0,0,0,0,0,0,0,0,0,0,0,0,0,0,0,0,0,0,0,0,0,0,0,0,0,0,0,0,0,0,0,0,0,0,0,0,0,0,0,0,0,0,0,0,0,0,0,0,0,0,0,0,0,0,0,0,0,0,0,0,0,0,0,0,0,0,0,0,0,0,0,0,0,0,0,0,0,0,0,0,0,0,0,0,0,0,0,0,0,0,0,0,0,0,0,0,0,0,0,0,0,0,0,0,0,0,0,0,0,0,0,0,0,0,0,0,0,0,0,0,0,0,0,0,0,0,0,0,0,0,0,0,0,0,0,0,0,0,0,0,0,0,0,0,0,0,0,0,0,0,0,0,0,0,0,0,0,0,0,0,0,0,0,0,0,0,0,0,0,0,0,0,0,0,0,0,0,0,0,0,0,0,0,0,0,0,0,0,0,0,0,0,0,0,0,0,0,0,0,0,0,0,0,0,0,0,0,0,0,0,0,0,0,0,0,0,0,0,0,0,0,0,0,0,0,0,0,0,0,0,0,0,0,0,0,0,0,0,0,0,0,0,0,0,0,0,0,0,0,0,0,0,0,0,0,0,0,0,0,0,0,0,0,0,0,0,0,0,0,0,0,0,0,0,0,0,0,0,0,0,0,0,0,0,0,0,0,0,0,0,0,0,0,0,0,0,0,0,0,0,0,0,0,0,0,0,0,0,0,0,0,0,0,0,0,0,0,0,0,0,0,0,0,0,0,0,0,0,0,0,0,0,0,0,0,0,0,0]
[2,{"$f":"'11 Axle Loads Direction 2-SS'!B365","v":3},{"$f":"'11 Axle Loads Direction 2-SS'!C365","v":0},{"$f":"'11 Axle Loads Direction 2-SS'!D365","v":0},{"$f":"'11 Axle Loads Direction 2-SS'!E365","v":0},{"$f":"'11 Axle Loads Direction 2-SS'!F365","v":0},{"$f":"'11 Axle Loads Direction 2-SS'!G365","v":0},{"$f":"'11 Axle Loads Direction 2-SS'!H365","v":0},{"$f":"'11 Axle Loads Direction 2-SS'!I365","v":0},{"$f":"'11 Axle Loads Direction 2-SS'!J365","v":0},{"$f":"'11 Axle Loads Direction 2-SS'!K365","v":0},0,0,0,0,0,0,0,0,0,0,0,0,0,0,0,0,0,null,0,0,0,0,0,0,0,0,0,0,0,0,0,0,0,0,0,0,0,0,0,0,0,0,0,0,0,0,0,0,0,0,0,0,0,0,0,0,0,0,0,0,0,0,0,0,0,0,0,0,0,0,0,0,0,0,0,0,0,0,0,0,0,0,0,0,0,0,0,0,0,0,0,0,0,0,0,0,0,0,0,0,0,0,0,0,0,0,0,0,0,0,0,0,0,0,0,0,0,0,0,0,0,0,0,0,0,0,0,0,0,0,0,0,0,0,0,0,0,0,0,0,0,0,0,0,0,0,0,0,0,0,0,0,0,0,0,0,0,0,0,0,0,0,0,0,0,0,0,0,0,0,0,0,0,0,0,0,0,0,0,0,0,0,0,0,0,0,0,0,0,0,0,0,0,0,0,0,0,0,0,0,0,0,0,0,0,0,0,0,0,0,0,0,0,0,0,0,0,0,0,0,0,0,0,0,0,0,0,0,0,0,0,0,0,0,0,0,0,0,0,0,0,0,0,0,0,0,0,0,0,0,0,0,0,0,0,0,0,0,0,0,0,0,0,0,0,0,0,0,0,0,0,0,0,0,0,0,0,0,0,0,0,0,0,0,0,0,0,0,0,0,0,0,0,0,0,0,0,0,0,0,0,0,0,0,0,0,0,0,0,0,0,0,0,0,0,0,0,0,0,0,0,0,0,0,0,0,0,0,0,0,0,0,0,0,0,0,0,0,0,0,0,0,0,0,0,0,0,0,0,0,0,0,0,0,0,0,0,0,0,0,0,0,0,0,0,0,0,0,0,0,0,0,0,0,0,0,0,0,0,0,0,0,0,0,0,0,0,0,0,0,0,0,0,0,0,0,0,0,0,0,0,0,0,0,0,0,0,0,0,0,0,0,0,0,0,0,0,0,0,0,0,0,0,0,0,0,0,0,0,0,0,0,0,0,0,0,0,0,0,0,0,0,0,0,0,0,0,0,0,0,0,0,0,0,0,0,0,0,0,0,0,0,0,0,0,0,0,0,0,0,0,0,0,0,0,0,0,0,0,0,0,0,0,0,0,0,0,0,0,0,0,0,0,0,0,0,0,0,0,0,0,0,0,0,0,0,0,0,0,0,0,0,0,0,0,0,0,0,0,0,0,0,0,0,0,0,0,0,0,0,0,0,0,0,0,0,0,0,0,0,0,0,0,0,0,0,0,0]
[2,{"$f":"'11 Axle Loads Direction 2-SS'!B377","v":9},{"$f":"'11 Axle Loads Direction 2-SS'!C377","v":4},{"$f":"'11 Axle Loads Direction 2-SS'!D377","v":4},{"$f":"'11 Axle Loads Direction 2-SS'!E377","v":6},{"$f":"'11 Axle Loads Direction 2-SS'!F377","v":6},{"$f":"'11 Axle Loads Direction 2-SS'!G377","v":7},{"$f":"'11 Axle Loads Direction 2-SS'!H377","v":7},{"$f":"'11 Axle Loads Direction 2-SS'!I377","v":7},{"$f":"'11 Axle Loads Direction 2-SS'!J377","v":7},{"$f":"'11 Axle Loads Direction 2-SS'!K377","v":8},4,0,0,0,10,0,13,14,15,0,0,0,0,0,0,0,0,null,0,0,0,40,0,0,0,0,0,0,0,0,0,0,0,0,0,0,0,0,0,0,0,0,0,0,0,0,0,0,0,0,0,0,0,0,0,0,0,0,0,0,0,0,0,0,0,0,0,0,0,0,0,0,0,0,0,0,0,0,0,0,0,0,0,0,0,0,0,0,0,0,0,0,0,0,0,0,0,0,0,0,0,0,0,0,0,0,0,0,0,0,0,0,0,0,0,0,0,0,0,0,0,0,0,0,0,0,0,0,0,0,0,0,0,0,0,0,0,0,0,0,0,0,0,0,0,0,0,100,0,0,0,0,0,0,0,0,0,0,0,0,0,0,0,0,0,0,0,0,0,0,0,0,0,0,0,0,0,0,0,0,0,0,0,0,0,0,0,0,0,0,0,0,0,0,0,0,0,0,0,0,0,0,0,0,0,0,0,0,0,0,130,0,0,0,0,0,0,0,0,0,0,0,0,0,0,0,0,0,0,0,0,0,0,0,0,0,0,0,0,0,0,140,0,0,0,0,0,0,0,0,0,0,0,0,0,0,0,0,0,0,0,0,0,0,0,0,0,0,0,0,0,0,150,0,0,0,0,0,0,0,0,0,0,0,0,0,0,0,0,0,0,0,0,0,0,0,0,0,0,0,0,0,0,0,0,0,0,0,0,0,0,0,0,0,0,0,0,0,0,0,0,0,0,0,0,0,0,0,0,0,0,0,0,0,0,0,0,0,0,0,0,0,0,0,0,0,0,0,0,0,0,0,0,0,0,0,0,0,0,0,0,0,0,0,0,0,0,0,0,0,0,0,0,0,0,0,0,0,0,0,0,0,0,0,0,0,0,0,0,0,0,0,0,0,0,0,0,0,0,0,0,0,0,0,0,0,0,0,0,0,0,0,0,0,0,0,0,0,0,0,0,0,0,0,0,0,0,0,0,0,0,0,0,0,0,0,0,0,0,0,0,0,0,0,0,0,0,0,0,0,0,0,0,0,0,0,0,0,0,0,0,0,0,0,0,0,0,0,0,0,0,0,0,0,0,0,0,0,0,0,0,0,0,0,0,0,0,0,0,0,0,0,0,0,0,0,0,0,0,0,0,0,0,0,0,0,0,0,0,0,0,0,0,0,0,0,0,0,0,0,0,0,0,0,0,0,0,0,0,0,0,0,0,0,0,0,0,0,0,0,0,0,0,0,0,0,0,0]
[2,{"$f":"'11 Axle Loads Direction 2-SS'!B393","v":3},{"$f":"'11 Axle Loads Direction 2-SS'!C393","v":0},{"$f":"'11 Axle Loads Direction 2-SS'!D393","v":0},{"$f":"'11 Axle Loads Direction 2-SS'!E393","v":0},{"$f":"'11 Axle Loads Direction 2-SS'!F393","v":0},{"$f":"'11 Axle Loads Direction 2-SS'!G393","v":0},{"$f":"'11 Axle Loads Direction 2-SS'!H393","v":0},{"$f":"'11 Axle Loads Direction 2-SS'!I393","v":0},{"$f":"'11 Axle Loads Direction 2-SS'!J393","v":0},{"$f":"'11 Axle Loads Direction 2-SS'!K393","v":0},0,0,0,0,0,0,0,0,0,0,0,0,0,0,0,0,0,null,0,0,0,0,0,0,0,0,0,0,0,0,0,0,0,0,0,0,0,0,0,0,0,0,0,0,0,0,0,0,0,0,0,0,0,0,0,0,0,0,0,0,0,0,0,0,0,0,0,0,0,0,0,0,0,0,0,0,0,0,0,0,0,0,0,0,0,0,0,0,0,0,0,0,0,0,0,0,0,0,0,0,0,0,0,0,0,0,0,0,0,0,0,0,0,0,0,0,0,0,0,0,0,0,0,0,0,0,0,0,0,0,0,0,0,0,0,0,0,0,0,0,0,0,0,0,0,0,0,0,0,0,0,0,0,0,0,0,0,0,0,0,0,0,0,0,0,0,0,0,0,0,0,0,0,0,0,0,0,0,0,0,0,0,0,0,0,0,0,0,0,0,0,0,0,0,0,0,0,0,0,0,0,0,0,0,0,0,0,0,0,0,0,0,0,0,0,0,0,0,0,0,0,0,0,0,0,0,0,0,0,0,0,0,0,0,0,0,0,0,0,0,0,0,0,0,0,0,0,0,0,0,0,0,0,0,0,0,0,0,0,0,0,0,0,0,0,0,0,0,0,0,0,0,0,0,0,0,0,0,0,0,0,0,0,0,0,0,0,0,0,0,0,0,0,0,0,0,0,0,0,0,0,0,0,0,0,0,0,0,0,0,0,0,0,0,0,0,0,0,0,0,0,0,0,0,0,0,0,0,0,0,0,0,0,0,0,0,0,0,0,0,0,0,0,0,0,0,0,0,0,0,0,0,0,0,0,0,0,0,0,0,0,0,0,0,0,0,0,0,0,0,0,0,0,0,0,0,0,0,0,0,0,0,0,0,0,0,0,0,0,0,0,0,0,0,0,0,0,0,0,0,0,0,0,0,0,0,0,0,0,0,0,0,0,0,0,0,0,0,0,0,0,0,0,0,0,0,0,0,0,0,0,0,0,0,0,0,0,0,0,0,0,0,0,0,0,0,0,0,0,0,0,0,0,0,0,0,0,0,0,0,0,0,0,0,0,0,0,0,0,0,0,0,0,0,0,0,0,0,0,0,0,0,0,0,0,0,0,0,0,0,0,0,0,0,0,0,0,0,0,0,0,0,0,0,0,0,0,0,0,0,0,0,0,0,0,0,0,0,0,0,0,0,0,0,0,0,0,0,0,0,0,0,0,0,0,0,0,0,0,0,0,0,0,0,0,0,0,0]
[2,{"$f":"'11 Axle Loads Direction 2-SS'!B414","v":3},{"$f":"'11 Axle Loads Direction 2-SS'!C414","v":0},{"$f":"'11 Axle Loads Direction 2-SS'!D414","v":0},{"$f":"'11 Axle Loads Direction 2-SS'!E414","v":0},{"$f":"'11 Axle Loads Direction 2-SS'!F414","v":0},{"$f":"'11 Axle Loads Direction 2-SS'!G414","v":0},{"$f":"'11 Axle Loads Direction 2-SS'!H414","v":0},{"$f":"'11 Axle Loads Direction 2-SS'!I414","v":0},{"$f":"'11 Axle Loads Direction 2-SS'!J414","v":0},{"$f":"'11 Axle Loads Direction 2-SS'!K414","v":0},0,0,0,0,0,0,0,0,0,0,0,0,0,0,0,0,0,null,0,0,0,0,0,0,0,0,0,0,0,0,0,0,0,0,0,0,0,0,0,0,0,0,0,0,0,0,0,0,0,0,0,0,0,0,0,0,0,0,0,0,0,0,0,0,0,0,0,0,0,0,0,0,0,0,0,0,0,0,0,0,0,0,0,0,0,0,0,0,0,0,0,0,0,0,0,0,0,0,0,0,0,0,0,0,0,0,0,0,0,0,0,0,0,0,0,0,0,0,0,0,0,0,0,0,0,0,0,0,0,0,0,0,0,0,0,0,0,0,0,0,0,0,0,0,0,0,0,0,0,0,0,0,0,0,0,0,0,0,0,0,0,0,0,0,0,0,0,0,0,0,0,0,0,0,0,0,0,0,0,0,0,0,0,0,0,0,0,0,0,0,0,0,0,0,0,0,0,0,0,0,0,0,0,0,0,0,0,0,0,0,0,0,0,0,0,0,0,0,0,0,0,0,0,0,0,0,0,0,0,0,0,0,0,0,0,0,0,0,0,0,0,0,0,0,0,0,0,0,0,0,0,0,0,0,0,0,0,0,0,0,0,0,0,0,0,0,0,0,0,0,0,0,0,0,0,0,0,0,0,0,0,0,0,0,0,0,0,0,0,0,0,0,0,0,0,0,0,0,0,0,0,0,0,0,0,0,0,0,0,0,0,0,0,0,0,0,0,0,0,0,0,0,0,0,0,0,0,0,0,0,0,0,0,0,0,0,0,0,0,0,0,0,0,0,0,0,0,0,0,0,0,0,0,0,0,0,0,0,0,0,0,0,0,0,0,0,0,0,0,0,0,0,0,0,0,0,0,0,0,0,0,0,0,0,0,0,0,0,0,0,0,0,0,0,0,0,0,0,0,0,0,0,0,0,0,0,0,0,0,0,0,0,0,0,0,0,0,0,0,0,0,0,0,0,0,0,0,0,0,0,0,0,0,0,0,0,0,0,0,0,0,0,0,0,0,0,0,0,0,0,0,0,0,0,0,0,0,0,0,0,0,0,0,0,0,0,0,0,0,0,0,0,0,0,0,0,0,0,0,0,0,0,0,0,0,0,0,0,0,0,0,0,0,0,0,0,0,0,0,0,0,0,0,0,0,0,0,0,0,0,0,0,0,0,0,0,0,0,0,0,0,0,0,0,0,0,0,0,0,0,0,0,0,0,0,0,0,0,0,0,0,0,0,0,0,0,0,0]
[2,{"$f":"'11 Axle Loads Direction 2-SS'!B424","v":3},{"$f":"'11 Axle Loads Direction 2-SS'!C424","v":0},{"$f":"'11 Axle Loads Direction 2-SS'!D424","v":0},{"$f":"'11 Axle Loads Direction 2-SS'!E424","v":0},{"$f":"'11 Axle Loads Direction 2-SS'!F424","v":0},{"$f":"'11 Axle Loads Direction 2-SS'!G424","v":0},{"$f":"'11 Axle Loads Direction 2-SS'!H424","v":0},{"$f":"'11 Axle Loads Direction 2-SS'!I424","v":0},{"$f":"'11 Axle Loads Direction 2-SS'!J424","v":0},{"$f":"'11 Axle Loads Direction 2-SS'!K424","v":0},0,0,0,0,0,0,0,0,0,0,0,0,0,0,0,0,0,null,0,0,0,0,0,0,0,0,0,0,0,0,0,0,0,0,0,0,0,0,0,0,0,0,0,0,0,0,0,0,0,0,0,0,0,0,0,0,0,0,0,0,0,0,0,0,0,0,0,0,0,0,0,0,0,0,0,0,0,0,0,0,0,0,0,0,0,0,0,0,0,0,0,0,0,0,0,0,0,0,0,0,0,0,0,0,0,0,0,0,0,0,0,0,0,0,0,0,0,0,0,0,0,0,0,0,0,0,0,0,0,0,0,0,0,0,0,0,0,0,0,0,0,0,0,0,0,0,0,0,0,0,0,0,0,0,0,0,0,0,0,0,0,0,0,0,0,0,0,0,0,0,0,0,0,0,0,0,0,0,0,0,0,0,0,0,0,0,0,0,0,0,0,0,0,0,0,0,0,0,0,0,0,0,0,0,0,0,0,0,0,0,0,0,0,0,0,0,0,0,0,0,0,0,0,0,0,0,0,0,0,0,0,0,0,0,0,0,0,0,0,0,0,0,0,0,0,0,0,0,0,0,0,0,0,0,0,0,0,0,0,0,0,0,0,0,0,0,0,0,0,0,0,0,0,0,0,0,0,0,0,0,0,0,0,0,0,0,0,0,0,0,0,0,0,0,0,0,0,0,0,0,0,0,0,0,0,0,0,0,0,0,0,0,0,0,0,0,0,0,0,0,0,0,0,0,0,0,0,0,0,0,0,0,0,0,0,0,0,0,0,0,0,0,0,0,0,0,0,0,0,0,0,0,0,0,0,0,0,0,0,0,0,0,0,0,0,0,0,0,0,0,0,0,0,0,0,0,0,0,0,0,0,0,0,0,0,0,0,0,0,0,0,0,0,0,0,0,0,0,0,0,0,0,0,0,0,0,0,0,0,0,0,0,0,0,0,0,0,0,0,0,0,0,0,0,0,0,0,0,0,0,0,0,0,0,0,0,0,0,0,0,0,0,0,0,0,0,0,0,0,0,0,0,0,0,0,0,0,0,0,0,0,0,0,0,0,0,0,0,0,0,0,0,0,0,0,0,0,0,0,0,0,0,0,0,0,0,0,0,0,0,0,0,0,0,0,0,0,0,0,0,0,0,0,0,0,0,0,0,0,0,0,0,0,0,0,0,0,0,0,0,0,0,0,0,0,0,0,0,0,0,0,0,0,0,0,0,0,0,0,0,0,0,0,0,0,0,0,0]
[2,{"$f":"'11 Axle Loads Direction 2-SS'!B440","v":3},{"$f":"'11 Axle Loads Direction 2-SS'!C440","v":0},{"$f":"'11 Axle Loads Direction 2-SS'!D440","v":0},{"$f":"'11 Axle Loads Direction 2-SS'!E440","v":0},{"$f":"'11 Axle Loads Direction 2-SS'!F440","v":0},{"$f":"'11 Axle Loads Direction 2-SS'!G440","v":0},{"$f":"'11 Axle Loads Direction 2-SS'!H440","v":0},{"$f":"'11 Axle Loads Direction 2-SS'!I440","v":0},{"$f":"'11 Axle Loads Direction 2-SS'!J440","v":0},{"$f":"'11 Axle Loads Direction 2-SS'!K440","v":0},0,0,0,0,0,0,0,0,0,0,0,0,0,0,0,0,0,null,0,0,0,0,0,0,0,0,0,0,0,0,0,0,0,0,0,0,0,0,0,0,0,0,0,0,0,0,0,0,0,0,0,0,0,0,0,0,0,0,0,0,0,0,0,0,0,0,0,0,0,0,0,0,0,0,0,0,0,0,0,0,0,0,0,0,0,0,0,0,0,0,0,0,0,0,0,0,0,0,0,0,0,0,0,0,0,0,0,0,0,0,0,0,0,0,0,0,0,0,0,0,0,0,0,0,0,0,0,0,0,0,0,0,0,0,0,0,0,0,0,0,0,0,0,0,0,0,0,0,0,0,0,0,0,0,0,0,0,0,0,0,0,0,0,0,0,0,0,0,0,0,0,0,0,0,0,0,0,0,0,0,0,0,0,0,0,0,0,0,0,0,0,0,0,0,0,0,0,0,0,0,0,0,0,0,0,0,0,0,0,0,0,0,0,0,0,0,0,0,0,0,0,0,0,0,0,0,0,0,0,0,0,0,0,0,0,0,0,0,0,0,0,0,0,0,0,0,0,0,0,0,0,0,0,0,0,0,0,0,0,0,0,0,0,0,0,0,0,0,0,0,0,0,0,0,0,0,0,0,0,0,0,0,0,0,0,0,0,0,0,0,0,0,0,0,0,0,0,0,0,0,0,0,0,0,0,0,0,0,0,0,0,0,0,0,0,0,0,0,0,0,0,0,0,0,0,0,0,0,0,0,0,0,0,0,0,0,0,0,0,0,0,0,0,0,0,0,0,0,0,0,0,0,0,0,0,0,0,0,0,0,0,0,0,0,0,0,0,0,0,0,0,0,0,0,0,0,0,0,0,0,0,0,0,0,0,0,0,0,0,0,0,0,0,0,0,0,0,0,0,0,0,0,0,0,0,0,0,0,0,0,0,0,0,0,0,0,0,0,0,0,0,0,0,0,0,0,0,0,0,0,0,0,0,0,0,0,0,0,0,0,0,0,0,0,0,0,0,0,0,0,0,0,0,0,0,0,0,0,0,0,0,0,0,0,0,0,0,0,0,0,0,0,0,0,0,0,0,0,0,0,0,0,0,0,0,0,0,0,0,0,0,0,0,0,0,0,0,0,0,0,0,0,0,0,0,0,0,0,0,0,0,0,0,0,0,0,0,0,0,0,0,0,0,0,0,0,0,0,0,0,0,0,0,0,0,0,0,0,0,0,0,0,0,0,0,0,0,0]
[2,{"$f":"'11 Axle Loads Direction 2-SS'!B455","v":"9B"},{"$f":"'11 Axle Loads Direction 2-SS'!C455","v":0},{"$f":"'11 Axle Loads Direction 2-SS'!D455","v":0},{"$f":"'11 Axle Loads Direction 2-SS'!E455","v":0},{"$f":"'11 Axle Loads Direction 2-SS'!F455","v":0},{"$f":"'11 Axle Loads Direction 2-SS'!G455","v":0},{"$f":"'11 Axle Loads Direction 2-SS'!H455","v":0},{"$f":"'11 Axle Loads Direction 2-SS'!I455","v":0},{"$f":"'11 Axle Loads Direction 2-SS'!J455","v":0},{"$f":"'11 Axle Loads Direction 2-SS'!K455","v":0},0,0,0,0,0,0,0,0,0,0,0,0,0,0,0,0,0,null,0,0,0,0,0,0,0,0,0,0,0,0,0,0,0,0,0,0,0,0,0,0,0,0,0,0,0,0,0,0,0,0,0,0,0,0,0,0,0,0,0,0,0,0,0,0,0,0,0,0,0,0,0,0,0,0,0,0,0,0,0,0,0,0,0,0,0,0,0,0,0,0,0,0,0,0,0,0,0,0,0,0,0,0,0,0,0,0,0,0,0,0,0,0,0,0,0,0,0,0,0,0,0,0,0,0,0,0,0,0,0,0,0,0,0,0,0,0,0,0,0,0,0,0,0,0,0,0,0,0,0,0,0,0,0,0,0,0,0,0,0,0,0,0,0,0,0,0,0,0,0,0,0,0,0,0,0,0,0,0,0,0,0,0,0,0,0,0,0,0,0,0,0,0,0,0,0,0,0,0,0,0,0,0,0,0,0,0,0,0,0,0,0,0,0,0,0,0,0,0,0,0,0,0,0,0,0,0,0,0,0,0,0,0,0,0,0,0,0,0,0,0,0,0,0,0,0,0,0,0,0,0,0,0,0,0,0,0,0,0,0,0,0,0,0,0,0,0,0,0,0,0,0,0,0,0,0,0,0,0,0,0,0,0,0,0,0,0,0,0,0,0,0,0,0,0,0,0,0,0,0,0,0,0,0,0,0,0,0,0,0,0,0,0,0,0,0,0,0,0,0,0,0,0,0,0,0,0,0,0,0,0,0,0,0,0,0,0,0,0,0,0,0,0,0,0,0,0,0,0,0,0,0,0,0,0,0,0,0,0,0,0,0,0,0,0,0,0,0,0,0,0,0,0,0,0,0,0,0,0,0,0,0,0,0,0,0,0,0,0,0,0,0,0,0,0,0,0,0,0,0,0,0,0,0,0,0,0,0,0,0,0,0,0,0,0,0,0,0,0,0,0,0,0,0,0,0,0,0,0,0,0,0,0,0,0,0,0,0,0,0,0,0,0,0,0,0,0,0,0,0,0,0,0,0,0,0,0,0,0,0,0,0,0,0,0,0,0,0,0,0,0,0,0,0,0,0,0,0,0,0,0,0,0,0,0,0,0,0,0,0,0,0,0,0,0,0,0,0,0,0,0,0,0,0,0,0,0,0,0,0,0,0,0,0,0,0,0,0,0,0,0,0,0,0,0,0,0,0,0,0,0,0,0,0,0,0,0,0,0,0,0,0,0,0,0,0,0,0,0]
[2,{"$f":"'11 Axle Loads Direction 2-SS'!B463","v":3},{"$f":"'11 Axle Loads Direction 2-SS'!C463","v":0},{"$f":"'11 Axle Loads Direction 2-SS'!D463","v":0},{"$f":"'11 Axle Loads Direction 2-SS'!E463","v":0},{"$f":"'11 Axle Loads Direction 2-SS'!F463","v":0},{"$f":"'11 Axle Loads Direction 2-SS'!G463","v":0},{"$f":"'11 Axle Loads Direction 2-SS'!H463","v":0},{"$f":"'11 Axle Loads Direction 2-SS'!I463","v":0},{"$f":"'11 Axle Loads Direction 2-SS'!J463","v":0},{"$f":"'11 Axle Loads Direction 2-SS'!K463","v":0},0,0,0,0,0,0,0,0,0,0,0,0,0,0,0,0,0,null,0,0,0,0,0,0,0,0,0,0,0,0,0,0,0,0,0,0,0,0,0,0,0,0,0,0,0,0,0,0,0,0,0,0,0,0,0,0,0,0,0,0,0,0,0,0,0,0,0,0,0,0,0,0,0,0,0,0,0,0,0,0,0,0,0,0,0,0,0,0,0,0,0,0,0,0,0,0,0,0,0,0,0,0,0,0,0,0,0,0,0,0,0,0,0,0,0,0,0,0,0,0,0,0,0,0,0,0,0,0,0,0,0,0,0,0,0,0,0,0,0,0,0,0,0,0,0,0,0,0,0,0,0,0,0,0,0,0,0,0,0,0,0,0,0,0,0,0,0,0,0,0,0,0,0,0,0,0,0,0,0,0,0,0,0,0,0,0,0,0,0,0,0,0,0,0,0,0,0,0,0,0,0,0,0,0,0,0,0,0,0,0,0,0,0,0,0,0,0,0,0,0,0,0,0,0,0,0,0,0,0,0,0,0,0,0,0,0,0,0,0,0,0,0,0,0,0,0,0,0,0,0,0,0,0,0,0,0,0,0,0,0,0,0,0,0,0,0,0,0,0,0,0,0,0,0,0,0,0,0,0,0,0,0,0,0,0,0,0,0,0,0,0,0,0,0,0,0,0,0,0,0,0,0,0,0,0,0,0,0,0,0,0,0,0,0,0,0,0,0,0,0,0,0,0,0,0,0,0,0,0,0,0,0,0,0,0,0,0,0,0,0,0,0,0,0,0,0,0,0,0,0,0,0,0,0,0,0,0,0,0,0,0,0,0,0,0,0,0,0,0,0,0,0,0,0,0,0,0,0,0,0,0,0,0,0,0,0,0,0,0,0,0,0,0,0,0,0,0,0,0,0,0,0,0,0,0,0,0,0,0,0,0,0,0,0,0,0,0,0,0,0,0,0,0,0,0,0,0,0,0,0,0,0,0,0,0,0,0,0,0,0,0,0,0,0,0,0,0,0,0,0,0,0,0,0,0,0,0,0,0,0,0,0,0,0,0,0,0,0,0,0,0,0,0,0,0,0,0,0,0,0,0,0,0,0,0,0,0,0,0,0,0,0,0,0,0,0,0,0,0,0,0,0,0,0,0,0,0,0,0,0,0,0,0,0,0,0,0,0,0,0,0,0,0,0,0,0,0,0,0,0,0,0,0,0,0,0,0,0,0,0,0,0,0,0,0,0,0,0]
[2,{"$f":"'11 Axle Loads Direction 2-SS'!B487","v":3},{"$f":"'11 Axle Loads Direction 2-SS'!C487","v":0},{"$f":"'11 Axle Loads Direction 2-SS'!D487","v":0},{"$f":"'11 Axle Loads Direction 2-SS'!E487","v":0},{"$f":"'11 Axle Loads Direction 2-SS'!F487","v":0},{"$f":"'11 Axle Loads Direction 2-SS'!G487","v":0},{"$f":"'11 Axle Loads Direction 2-SS'!H487","v":0},{"$f":"'11 Axle Loads Direction 2-SS'!I487","v":0},{"$f":"'11 Axle Loads Direction 2-SS'!J487","v":0},{"$f":"'11 Axle Loads Direction 2-SS'!K487","v":0},0,0,0,0,0,0,0,0,0,0,0,0,0,0,0,0,0,null,0,0,0,0,0,0,0,0,0,0,0,0,0,0,0,0,0,0,0,0,0,0,0,0,0,0,0,0,0,0,0,0,0,0,0,0,0,0,0,0,0,0,0,0,0,0,0,0,0,0,0,0,0,0,0,0,0,0,0,0,0,0,0,0,0,0,0,0,0,0,0,0,0,0,0,0,0,0,0,0,0,0,0,0,0,0,0,0,0,0,0,0,0,0,0,0,0,0,0,0,0,0,0,0,0,0,0,0,0,0,0,0,0,0,0,0,0,0,0,0,0,0,0,0,0,0,0,0,0,0,0,0,0,0,0,0,0,0,0,0,0,0,0,0,0,0,0,0,0,0,0,0,0,0,0,0,0,0,0,0,0,0,0,0,0,0,0,0,0,0,0,0,0,0,0,0,0,0,0,0,0,0,0,0,0,0,0,0,0,0,0,0,0,0,0,0,0,0,0,0,0,0,0,0,0,0,0,0,0,0,0,0,0,0,0,0,0,0,0,0,0,0,0,0,0,0,0,0,0,0,0,0,0,0,0,0,0,0,0,0,0,0,0,0,0,0,0,0,0,0,0,0,0,0,0,0,0,0,0,0,0,0,0,0,0,0,0,0,0,0,0,0,0,0,0,0,0,0,0,0,0,0,0,0,0,0,0,0,0,0,0,0,0,0,0,0,0,0,0,0,0,0,0,0,0,0,0,0,0,0,0,0,0,0,0,0,0,0,0,0,0,0,0,0,0,0,0,0,0,0,0,0,0,0,0,0,0,0,0,0,0,0,0,0,0,0,0,0,0,0,0,0,0,0,0,0,0,0,0,0,0,0,0,0,0,0,0,0,0,0,0,0,0,0,0,0,0,0,0,0,0,0,0,0,0,0,0,0,0,0,0,0,0,0,0,0,0,0,0,0,0,0,0,0,0,0,0,0,0,0,0,0,0,0,0,0,0,0,0,0,0,0,0,0,0,0,0,0,0,0,0,0,0,0,0,0,0,0,0,0,0,0,0,0,0,0,0,0,0,0,0,0,0,0,0,0,0,0,0,0,0,0,0,0,0,0,0,0,0,0,0,0,0,0,0,0,0,0,0,0,0,0,0,0,0,0,0,0,0,0,0,0,0,0,0,0,0,0,0,0,0,0,0,0,0,0,0,0,0,0,0,0,0,0,0,0,0,0,0,0,0,0,0,0,0,0,0,0,0,0]
[2,{"$f":"'11 Axle Loads Direction 2-SS'!B502","v":3},{"$f":"'11 Axle Loads Direction 2-SS'!C502","v":0},{"$f":"'11 Axle Loads Direction 2-SS'!D502","v":0},{"$f":"'11 Axle Loads Direction 2-SS'!E502","v":0},{"$f":"'11 Axle Loads Direction 2-SS'!F502","v":0},{"$f":"'11 Axle Loads Direction 2-SS'!G502","v":0},{"$f":"'11 Axle Loads Direction 2-SS'!H502","v":0},{"$f":"'11 Axle Loads Direction 2-SS'!I502","v":0},{"$f":"'11 Axle Loads Direction 2-SS'!J502","v":0},{"$f":"'11 Axle Loads Direction 2-SS'!K502","v":0},0,0,0,0,0,0,0,0,0,0,0,0,0,0,0,0,0,null,0,0,0,0,0,0,0,0,0,0,0,0,0,0,0,0,0,0,0,0,0,0,0,0,0,0,0,0,0,0,0,0,0,0,0,0,0,0,0,0,0,0,0,0,0,0,0,0,0,0,0,0,0,0,0,0,0,0,0,0,0,0,0,0,0,0,0,0,0,0,0,0,0,0,0,0,0,0,0,0,0,0,0,0,0,0,0,0,0,0,0,0,0,0,0,0,0,0,0,0,0,0,0,0,0,0,0,0,0,0,0,0,0,0,0,0,0,0,0,0,0,0,0,0,0,0,0,0,0,0,0,0,0,0,0,0,0,0,0,0,0,0,0,0,0,0,0,0,0,0,0,0,0,0,0,0,0,0,0,0,0,0,0,0,0,0,0,0,0,0,0,0,0,0,0,0,0,0,0,0,0,0,0,0,0,0,0,0,0,0,0,0,0,0,0,0,0,0,0,0,0,0,0,0,0,0,0,0,0,0,0,0,0,0,0,0,0,0,0,0,0,0,0,0,0,0,0,0,0,0,0,0,0,0,0,0,0,0,0,0,0,0,0,0,0,0,0,0,0,0,0,0,0,0,0,0,0,0,0,0,0,0,0,0,0,0,0,0,0,0,0,0,0,0,0,0,0,0,0,0,0,0,0,0,0,0,0,0,0,0,0,0,0,0,0,0,0,0,0,0,0,0,0,0,0,0,0,0,0,0,0,0,0,0,0,0,0,0,0,0,0,0,0,0,0,0,0,0,0,0,0,0,0,0,0,0,0,0,0,0,0,0,0,0,0,0,0,0,0,0,0,0,0,0,0,0,0,0,0,0,0,0,0,0,0,0,0,0,0,0,0,0,0,0,0,0,0,0,0,0,0,0,0,0,0,0,0,0,0,0,0,0,0,0,0,0,0,0,0,0,0,0,0,0,0,0,0,0,0,0,0,0,0,0,0,0,0,0,0,0,0,0,0,0,0,0,0,0,0,0,0,0,0,0,0,0,0,0,0,0,0,0,0,0,0,0,0,0,0,0,0,0,0,0,0,0,0,0,0,0,0,0,0,0,0,0,0,0,0,0,0,0,0,0,0,0,0,0,0,0,0,0,0,0,0,0,0,0,0,0,0,0,0,0,0,0,0,0,0,0,0,0,0,0,0,0,0,0,0,0,0,0,0,0,0,0,0,0,0,0,0,0,0,0,0,0,0,0,0,0]
[2,{"$f":"'11 Axle Loads Direction 2-SS'!B512","v":3},{"$f":"'11 Axle Loads Direction 2-SS'!C512","v":0},{"$f":"'11 Axle Loads Direction 2-SS'!D512","v":0},{"$f":"'11 Axle Loads Direction 2-SS'!E512","v":0},{"$f":"'11 Axle Loads Direction 2-SS'!F512","v":0},{"$f":"'11 Axle Loads Direction 2-SS'!G512","v":0},{"$f":"'11 Axle Loads Direction 2-SS'!H512","v":0},{"$f":"'11 Axle Loads Direction 2-SS'!I512","v":0},{"$f":"'11 Axle Loads Direction 2-SS'!J512","v":0},{"$f":"'11 Axle Loads Direction 2-SS'!K512","v":0},0,0,0,0,0,0,0,0,0,0,0,0,0,0,0,0,0,null,0,0,0,0,0,0,0,0,0,0,0,0,0,0,0,0,0,0,0,0,0,0,0,0,0,0,0,0,0,0,0,0,0,0,0,0,0,0,0,0,0,0,0,0,0,0,0,0,0,0,0,0,0,0,0,0,0,0,0,0,0,0,0,0,0,0,0,0,0,0,0,0,0,0,0,0,0,0,0,0,0,0,0,0,0,0,0,0,0,0,0,0,0,0,0,0,0,0,0,0,0,0,0,0,0,0,0,0,0,0,0,0,0,0,0,0,0,0,0,0,0,0,0,0,0,0,0,0,0,0,0,0,0,0,0,0,0,0,0,0,0,0,0,0,0,0,0,0,0,0,0,0,0,0,0,0,0,0,0,0,0,0,0,0,0,0,0,0,0,0,0,0,0,0,0,0,0,0,0,0,0,0,0,0,0,0,0,0,0,0,0,0,0,0,0,0,0,0,0,0,0,0,0,0,0,0,0,0,0,0,0,0,0,0,0,0,0,0,0,0,0,0,0,0,0,0,0,0,0,0,0,0,0,0,0,0,0,0,0,0,0,0,0,0,0,0,0,0,0,0,0,0,0,0,0,0,0,0,0,0,0,0,0,0,0,0,0,0,0,0,0,0,0,0,0,0,0,0,0,0,0,0,0,0,0,0,0,0,0,0,0,0,0,0,0,0,0,0,0,0,0,0,0,0,0,0,0,0,0,0,0,0,0,0,0,0,0,0,0,0,0,0,0,0,0,0,0,0,0,0,0,0,0,0,0,0,0,0,0,0,0,0,0,0,0,0,0,0,0,0,0,0,0,0,0,0,0,0,0,0,0,0,0,0,0,0,0,0,0,0,0,0,0,0,0,0,0,0,0,0,0,0,0,0,0,0,0,0,0,0,0,0,0,0,0,0,0,0,0,0,0,0,0,0,0,0,0,0,0,0,0,0,0,0,0,0,0,0,0,0,0,0,0,0,0,0,0,0,0,0,0,0,0,0,0,0,0,0,0,0,0,0,0,0,0,0,0,0,0,0,0,0,0,0,0,0,0,0,0,0,0,0,0,0,0,0,0,0,0,0,0,0,0,0,0,0,0,0,0,0,0,0,0,0,0,0,0,0,0,0,0,0,0,0,0,0,0,0,0,0,0,0,0,0,0,0,0,0,0,0,0,0,0,0,0,0,0,0,0,0,0,0,0,0,0,0,0,0,0,0]
[2,{"$f":"'11 Axle Loads Direction 2-SS'!B534","v":3},{"$f":"'11 Axle Loads Direction 2-SS'!C534","v":0},{"$f":"'11 Axle Loads Direction 2-SS'!D534","v":0},{"$f":"'11 Axle Loads Direction 2-SS'!E534","v":0},{"$f":"'11 Axle Loads Direction 2-SS'!F534","v":0},{"$f":"'11 Axle Loads Direction 2-SS'!G534","v":0},{"$f":"'11 Axle Loads Direction 2-SS'!H534","v":0},{"$f":"'11 Axle Loads Direction 2-SS'!I534","v":0},{"$f":"'11 Axle Loads Direction 2-SS'!J534","v":0},{"$f":"'11 Axle Loads Direction 2-SS'!K534","v":0},0,0,0,0,0,0,0,0,0,0,0,0,0,0,0,0,0,null,0,0,0,0,0,0,0,0,0,0,0,0,0,0,0,0,0,0,0,0,0,0,0,0,0,0,0,0,0,0,0,0,0,0,0,0,0,0,0,0,0,0,0,0,0,0,0,0,0,0,0,0,0,0,0,0,0,0,0,0,0,0,0,0,0,0,0,0,0,0,0,0,0,0,0,0,0,0,0,0,0,0,0,0,0,0,0,0,0,0,0,0,0,0,0,0,0,0,0,0,0,0,0,0,0,0,0,0,0,0,0,0,0,0,0,0,0,0,0,0,0,0,0,0,0,0,0,0,0,0,0,0,0,0,0,0,0,0,0,0,0,0,0,0,0,0,0,0,0,0,0,0,0,0,0,0,0,0,0,0,0,0,0,0,0,0,0,0,0,0,0,0,0,0,0,0,0,0,0,0,0,0,0,0,0,0,0,0,0,0,0,0,0,0,0,0,0,0,0,0,0,0,0,0,0,0,0,0,0,0,0,0,0,0,0,0,0,0,0,0,0,0,0,0,0,0,0,0,0,0,0,0,0,0,0,0,0,0,0,0,0,0,0,0,0,0,0,0,0,0,0,0,0,0,0,0,0,0,0,0,0,0,0,0,0,0,0,0,0,0,0,0,0,0,0,0,0,0,0,0,0,0,0,0,0,0,0,0,0,0,0,0,0,0,0,0,0,0,0,0,0,0,0,0,0,0,0,0,0,0,0,0,0,0,0,0,0,0,0,0,0,0,0,0,0,0,0,0,0,0,0,0,0,0,0,0,0,0,0,0,0,0,0,0,0,0,0,0,0,0,0,0,0,0,0,0,0,0,0,0,0,0,0,0,0,0,0,0,0,0,0,0,0,0,0,0,0,0,0,0,0,0,0,0,0,0,0,0,0,0,0,0,0,0,0,0,0,0,0,0,0,0,0,0,0,0,0,0,0,0,0,0,0,0,0,0,0,0,0,0,0,0,0,0,0,0,0,0,0,0,0,0,0,0,0,0,0,0,0,0,0,0,0,0,0,0,0,0,0,0,0,0,0,0,0,0,0,0,0,0,0,0,0,0,0,0,0,0,0,0,0,0,0,0,0,0,0,0,0,0,0,0,0,0,0,0,0,0,0,0,0,0,0,0,0,0,0,0,0,0,0,0,0,0,0,0,0,0,0,0,0,0,0,0,0,0,0,0,0,0,0,0,0,0,0,0,0,0,0,0]
[2,{"$f":"'11 Axle Loads Direction 2-SS'!B549","v":3},{"$f":"'11 Axle Loads Direction 2-SS'!C549","v":0},{"$f":"'11 Axle Loads Direction 2-SS'!D549","v":0},{"$f":"'11 Axle Loads Direction 2-SS'!E549","v":0},{"$f":"'11 Axle Loads Direction 2-SS'!F549","v":0},{"$f":"'11 Axle Loads Direction 2-SS'!G549","v":0},{"$f":"'11 Axle Loads Direction 2-SS'!H549","v":0},{"$f":"'11 Axle Loads Direction 2-SS'!I549","v":0},{"$f":"'11 Axle Loads Direction 2-SS'!J549","v":0},{"$f":"'11 Axle Loads Direction 2-SS'!K549","v":0},0,0,0,0,0,0,0,0,0,0,0,0,0,0,0,0,0,null,0,0,0,0,0,0,0,0,0,0,0,0,0,0,0,0,0,0,0,0,0,0,0,0,0,0,0,0,0,0,0,0,0,0,0,0,0,0,0,0,0,0,0,0,0,0,0,0,0,0,0,0,0,0,0,0,0,0,0,0,0,0,0,0,0,0,0,0,0,0,0,0,0,0,0,0,0,0,0,0,0,0,0,0,0,0,0,0,0,0,0,0,0,0,0,0,0,0,0,0,0,0,0,0,0,0,0,0,0,0,0,0,0,0,0,0,0,0,0,0,0,0,0,0,0,0,0,0,0,0,0,0,0,0,0,0,0,0,0,0,0,0,0,0,0,0,0,0,0,0,0,0,0,0,0,0,0,0,0,0,0,0,0,0,0,0,0,0,0,0,0,0,0,0,0,0,0,0,0,0,0,0,0,0,0,0,0,0,0,0,0,0,0,0,0,0,0,0,0,0,0,0,0,0,0,0,0,0,0,0,0,0,0,0,0,0,0,0,0,0,0,0,0,0,0,0,0,0,0,0,0,0,0,0,0,0,0,0,0,0,0,0,0,0,0,0,0,0,0,0,0,0,0,0,0,0,0,0,0,0,0,0,0,0,0,0,0,0,0,0,0,0,0,0,0,0,0,0,0,0,0,0,0,0,0,0,0,0,0,0,0,0,0,0,0,0,0,0,0,0,0,0,0,0,0,0,0,0,0,0,0,0,0,0,0,0,0,0,0,0,0,0,0,0,0,0,0,0,0,0,0,0,0,0,0,0,0,0,0,0,0,0,0,0,0,0,0,0,0,0,0,0,0,0,0,0,0,0,0,0,0,0,0,0,0,0,0,0,0,0,0,0,0,0,0,0,0,0,0,0,0,0,0,0,0,0,0,0,0,0,0,0,0,0,0,0,0,0,0,0,0,0,0,0,0,0,0,0,0,0,0,0,0,0,0,0,0,0,0,0,0,0,0,0,0,0,0,0,0,0,0,0,0,0,0,0,0,0,0,0,0,0,0,0,0,0,0,0,0,0,0,0,0,0,0,0,0,0,0,0,0,0,0,0,0,0,0,0,0,0,0,0,0,0,0,0,0,0,0,0,0,0,0,0,0,0,0,0,0,0,0,0,0,0,0,0,0,0,0,0,0,0,0,0,0,0,0,0,0,0,0,0,0,0,0,0,0,0,0,0,0,0,0,0,0,0,0,0,0,0]
[2,{"$f":"'11 Axle Loads Direction 2-SS'!B561","v":3},{"$f":"'11 Axle Loads Direction 2-SS'!C561","v":0},{"$f":"'11 Axle Loads Direction 2-SS'!D561","v":0},{"$f":"'11 Axle Loads Direction 2-SS'!E561","v":0},{"$f":"'11 Axle Loads Direction 2-SS'!F561","v":0},{"$f":"'11 Axle Loads Direction 2-SS'!G561","v":0},{"$f":"'11 Axle Loads Direction 2-SS'!H561","v":0},{"$f":"'11 Axle Loads Direction 2-SS'!I561","v":0},{"$f":"'11 Axle Loads Direction 2-SS'!J561","v":0},{"$f":"'11 Axle Loads Direction 2-SS'!K561","v":0},0,0,0,0,0,0,0,0,0,0,0,0,0,0,0,0,0,null,0,0,0,0,0,0,0,0,0,0,0,0,0,0,0,0,0,0,0,0,0,0,0,0,0,0,0,0,0,0,0,0,0,0,0,0,0,0,0,0,0,0,0,0,0,0,0,0,0,0,0,0,0,0,0,0,0,0,0,0,0,0,0,0,0,0,0,0,0,0,0,0,0,0,0,0,0,0,0,0,0,0,0,0,0,0,0,0,0,0,0,0,0,0,0,0,0,0,0,0,0,0,0,0,0,0,0,0,0,0,0,0,0,0,0,0,0,0,0,0,0,0,0,0,0,0,0,0,0,0,0,0,0,0,0,0,0,0,0,0,0,0,0,0,0,0,0,0,0,0,0,0,0,0,0,0,0,0,0,0,0,0,0,0,0,0,0,0,0,0,0,0,0,0,0,0,0,0,0,0,0,0,0,0,0,0,0,0,0,0,0,0,0,0,0,0,0,0,0,0,0,0,0,0,0,0,0,0,0,0,0,0,0,0,0,0,0,0,0,0,0,0,0,0,0,0,0,0,0,0,0,0,0,0,0,0,0,0,0,0,0,0,0,0,0,0,0,0,0,0,0,0,0,0,0,0,0,0,0,0,0,0,0,0,0,0,0,0,0,0,0,0,0,0,0,0,0,0,0,0,0,0,0,0,0,0,0,0,0,0,0,0,0,0,0,0,0,0,0,0,0,0,0,0,0,0,0,0,0,0,0,0,0,0,0,0,0,0,0,0,0,0,0,0,0,0,0,0,0,0,0,0,0,0,0,0,0,0,0,0,0,0,0,0,0,0,0,0,0,0,0,0,0,0,0,0,0,0,0,0,0,0,0,0,0,0,0,0,0,0,0,0,0,0,0,0,0,0,0,0,0,0,0,0,0,0,0,0,0,0,0,0,0,0,0,0,0,0,0,0,0,0,0,0,0,0,0,0,0,0,0,0,0,0,0,0,0,0,0,0,0,0,0,0,0,0,0,0,0,0,0,0,0,0,0,0,0,0,0,0,0,0,0,0,0,0,0,0,0,0,0,0,0,0,0,0,0,0,0,0,0,0,0,0,0,0,0,0,0,0,0,0,0,0,0,0,0,0,0,0,0,0,0,0,0,0,0,0,0,0,0,0,0,0,0,0,0,0,0,0,0,0,0,0,0,0,0,0,0,0,0,0,0,0,0,0,0,0,0,0,0,0,0,0,0,0,0,0,0,0]
[2,{"$f":"'11 Axle Loads Direction 2-SS'!B581","v":3},{"$f":"'11 Axle Loads Direction 2-SS'!C581","v":0},{"$f":"'11 Axle Loads Direction 2-SS'!D581","v":0},{"$f":"'11 Axle Loads Direction 2-SS'!E581","v":0},{"$f":"'11 Axle Loads Direction 2-SS'!F581","v":0},{"$f":"'11 Axle Loads Direction 2-SS'!G581","v":0},{"$f":"'11 Axle Loads Direction 2-SS'!H581","v":0},{"$f":"'11 Axle Loads Direction 2-SS'!I581","v":0},{"$f":"'11 Axle Loads Direction 2-SS'!J581","v":0},{"$f":"'11 Axle Loads Direction 2-SS'!K581","v":0},0,0,0,0,0,0,0,0,0,0,0,0,0,0,0,0,0,null,0,0,0,0,0,0,0,0,0,0,0,0,0,0,0,0,0,0,0,0,0,0,0,0,0,0,0,0,0,0,0,0,0,0,0,0,0,0,0,0,0,0,0,0,0,0,0,0,0,0,0,0,0,0,0,0,0,0,0,0,0,0,0,0,0,0,0,0,0,0,0,0,0,0,0,0,0,0,0,0,0,0,0,0,0,0,0,0,0,0,0,0,0,0,0,0,0,0,0,0,0,0,0,0,0,0,0,0,0,0,0,0,0,0,0,0,0,0,0,0,0,0,0,0,0,0,0,0,0,0,0,0,0,0,0,0,0,0,0,0,0,0,0,0,0,0,0,0,0,0,0,0,0,0,0,0,0,0,0,0,0,0,0,0,0,0,0,0,0,0,0,0,0,0,0,0,0,0,0,0,0,0,0,0,0,0,0,0,0,0,0,0,0,0,0,0,0,0,0,0,0,0,0,0,0,0,0,0,0,0,0,0,0,0,0,0,0,0,0,0,0,0,0,0,0,0,0,0,0,0,0,0,0,0,0,0,0,0,0,0,0,0,0,0,0,0,0,0,0,0,0,0,0,0,0,0,0,0,0,0,0,0,0,0,0,0,0,0,0,0,0,0,0,0,0,0,0,0,0,0,0,0,0,0,0,0,0,0,0,0,0,0,0,0,0,0,0,0,0,0,0,0,0,0,0,0,0,0,0,0,0,0,0,0,0,0,0,0,0,0,0,0,0,0,0,0,0,0,0,0,0,0,0,0,0,0,0,0,0,0,0,0,0,0,0,0,0,0,0,0,0,0,0,0,0,0,0,0,0,0,0,0,0,0,0,0,0,0,0,0,0,0,0,0,0,0,0,0,0,0,0,0,0,0,0,0,0,0,0,0,0,0,0,0,0,0,0,0,0,0,0,0,0,0,0,0,0,0,0,0,0,0,0,0,0,0,0,0,0,0,0,0,0,0,0,0,0,0,0,0,0,0,0,0,0,0,0,0,0,0,0,0,0,0,0,0,0,0,0,0,0,0,0,0,0,0,0,0,0,0,0,0,0,0,0,0,0,0,0,0,0,0,0,0,0,0,0,0,0,0,0,0,0,0,0,0,0,0,0,0,0,0,0,0,0,0,0,0,0,0,0,0,0,0,0,0,0,0,0,0,0,0,0,0,0,0,0,0,0,0,0,0,0,0,0,0,0,0,0,0]
[2,{"$f":"'11 Axle Loads Direction 2-SS'!B596","v":4},{"$f":"'11 Axle Loads Direction 2-SS'!C596","v":0},{"$f":"'11 Axle Loads Direction 2-SS'!D596","v":0},{"$f":"'11 Axle Loads Direction 2-SS'!E596","v":0},{"$f":"'11 Axle Loads Direction 2-SS'!F596","v":0},{"$f":"'11 Axle Loads Direction 2-SS'!G596","v":0},{"$f":"'11 Axle Loads Direction 2-SS'!H596","v":0},{"$f":"'11 Axle Loads Direction 2-SS'!I596","v":0},{"$f":"'11 Axle Loads Direction 2-SS'!J596","v":0},{"$f":"'11 Axle Loads Direction 2-SS'!K596","v":0},0,0,0,0,0,0,0,0,0,0,0,0,0,0,0,0,0,null,0,0,0,0,0,0,0,0,0,0,0,0,0,0,0,0,0,0,0,0,0,0,0,0,0,0,0,0,0,0,0,0,0,0,0,0,0,0,0,0,0,0,0,0,0,0,0,0,0,0,0,0,0,0,0,0,0,0,0,0,0,0,0,0,0,0,0,0,0,0,0,0,0,0,0,0,0,0,0,0,0,0,0,0,0,0,0,0,0,0,0,0,0,0,0,0,0,0,0,0,0,0,0,0,0,0,0,0,0,0,0,0,0,0,0,0,0,0,0,0,0,0,0,0,0,0,0,0,0,0,0,0,0,0,0,0,0,0,0,0,0,0,0,0,0,0,0,0,0,0,0,0,0,0,0,0,0,0,0,0,0,0,0,0,0,0,0,0,0,0,0,0,0,0,0,0,0,0,0,0,0,0,0,0,0,0,0,0,0,0,0,0,0,0,0,0,0,0,0,0,0,0,0,0,0,0,0,0,0,0,0,0,0,0,0,0,0,0,0,0,0,0,0,0,0,0,0,0,0,0,0,0,0,0,0,0,0,0,0,0,0,0,0,0,0,0,0,0,0,0,0,0,0,0,0,0,0,0,0,0,0,0,0,0,0,0,0,0,0,0,0,0,0,0,0,0,0,0,0,0,0,0,0,0,0,0,0,0,0,0,0,0,0,0,0,0,0,0,0,0,0,0,0,0,0,0,0,0,0,0,0,0,0,0,0,0,0,0,0,0,0,0,0,0,0,0,0,0,0,0,0,0,0,0,0,0,0,0,0,0,0,0,0,0,0,0,0,0,0,0,0,0,0,0,0,0,0,0,0,0,0,0,0,0,0,0,0,0,0,0,0,0,0,0,0,0,0,0,0,0,0,0,0,0,0,0,0,0,0,0,0,0,0,0,0,0,0,0,0,0,0,0,0,0,0,0,0,0,0,0,0,0,0,0,0,0,0,0,0,0,0,0,0,0,0,0,0,0,0,0,0,0,0,0,0,0,0,0,0,0,0,0,0,0,0,0,0,0,0,0,0,0,0,0,0,0,0,0,0,0,0,0,0,0,0,0,0,0,0,0,0,0,0,0,0,0,0,0,0,0,0,0,0,0,0,0,0,0,0,0,0,0,0,0,0,0,0,0,0,0,0,0,0,0,0,0,0,0,0,0,0,0,0,0,0,0,0,0,0,0,0,0,0,0,0,0,0,0,0,0]
[2,{"$f":"'11 Axle Loads Direction 2-SS'!B610","v":3},{"$f":"'11 Axle Loads Direction 2-SS'!C610","v":0},{"$f":"'11 Axle Loads Direction 2-SS'!D610","v":0},{"$f":"'11 Axle Loads Direction 2-SS'!E610","v":0},{"$f":"'11 Axle Loads Direction 2-SS'!F610","v":0},{"$f":"'11 Axle Loads Direction 2-SS'!G610","v":0},{"$f":"'11 Axle Loads Direction 2-SS'!H610","v":0},{"$f":"'11 Axle Loads Direction 2-SS'!I610","v":0},{"$f":"'11 Axle Loads Direction 2-SS'!J610","v":0},{"$f":"'11 Axle Loads Direction 2-SS'!K610","v":0},0,0,0,0,0,0,0,0,0,0,0,0,0,0,0,0,0,null,0,0,0,0,0,0,0,0,0,0,0,0,0,0,0,0,0,0,0,0,0,0,0,0,0,0,0,0,0,0,0,0,0,0,0,0,0,0,0,0,0,0,0,0,0,0,0,0,0,0,0,0,0,0,0,0,0,0,0,0,0,0,0,0,0,0,0,0,0,0,0,0,0,0,0,0,0,0,0,0,0,0,0,0,0,0,0,0,0,0,0,0,0,0,0,0,0,0,0,0,0,0,0,0,0,0,0,0,0,0,0,0,0,0,0,0,0,0,0,0,0,0,0,0,0,0,0,0,0,0,0,0,0,0,0,0,0,0,0,0,0,0,0,0,0,0,0,0,0,0,0,0,0,0,0,0,0,0,0,0,0,0,0,0,0,0,0,0,0,0,0,0,0,0,0,0,0,0,0,0,0,0,0,0,0,0,0,0,0,0,0,0,0,0,0,0,0,0,0,0,0,0,0,0,0,0,0,0,0,0,0,0,0,0,0,0,0,0,0,0,0,0,0,0,0,0,0,0,0,0,0,0,0,0,0,0,0,0,0,0,0,0,0,0,0,0,0,0,0,0,0,0,0,0,0,0,0,0,0,0,0,0,0,0,0,0,0,0,0,0,0,0,0,0,0,0,0,0,0,0,0,0,0,0,0,0,0,0,0,0,0,0,0,0,0,0,0,0,0,0,0,0,0,0,0,0,0,0,0,0,0,0,0,0,0,0,0,0,0,0,0,0,0,0,0,0,0,0,0,0,0,0,0,0,0,0,0,0,0,0,0,0,0,0,0,0,0,0,0,0,0,0,0,0,0,0,0,0,0,0,0,0,0,0,0,0,0,0,0,0,0,0,0,0,0,0,0,0,0,0,0,0,0,0,0,0,0,0,0,0,0,0,0,0,0,0,0,0,0,0,0,0,0,0,0,0,0,0,0,0,0,0,0,0,0,0,0,0,0,0,0,0,0,0,0,0,0,0,0,0,0,0,0,0,0,0,0,0,0,0,0,0,0,0,0,0,0,0,0,0,0,0,0,0,0,0,0,0,0,0,0,0,0,0,0,0,0,0,0,0,0,0,0,0,0,0,0,0,0,0,0,0,0,0,0,0,0,0,0,0,0,0,0,0,0,0,0,0,0,0,0,0,0,0,0,0,0,0,0,0,0,0,0,0,0,0,0,0,0,0,0,0,0,0,0,0,0,0,0,0]
[2,{"$f":"'11 Axle Loads Direction 2-SS'!B628","v":3},{"$f":"'11 Axle Loads Direction 2-SS'!C628","v":0},{"$f":"'11 Axle Loads Direction 2-SS'!D628","v":0},{"$f":"'11 Axle Loads Direction 2-SS'!E628","v":0},{"$f":"'11 Axle Loads Direction 2-SS'!F628","v":0},{"$f":"'11 Axle Loads Direction 2-SS'!G628","v":0},{"$f":"'11 Axle Loads Direction 2-SS'!H628","v":0},{"$f":"'11 Axle Loads Direction 2-SS'!I628","v":0},{"$f":"'11 Axle Loads Direction 2-SS'!J628","v":0},{"$f":"'11 Axle Loads Direction 2-SS'!K628","v":0},0,0,0,0,0,0,0,0,0,0,0,0,0,0,0,0,0,null,0,0,0,0,0,0,0,0,0,0,0,0,0,0,0,0,0,0,0,0,0,0,0,0,0,0,0,0,0,0,0,0,0,0,0,0,0,0,0,0,0,0,0,0,0,0,0,0,0,0,0,0,0,0,0,0,0,0,0,0,0,0,0,0,0,0,0,0,0,0,0,0,0,0,0,0,0,0,0,0,0,0,0,0,0,0,0,0,0,0,0,0,0,0,0,0,0,0,0,0,0,0,0,0,0,0,0,0,0,0,0,0,0,0,0,0,0,0,0,0,0,0,0,0,0,0,0,0,0,0,0,0,0,0,0,0,0,0,0,0,0,0,0,0,0,0,0,0,0,0,0,0,0,0,0,0,0,0,0,0,0,0,0,0,0,0,0,0,0,0,0,0,0,0,0,0,0,0,0,0,0,0,0,0,0,0,0,0,0,0,0,0,0,0,0,0,0,0,0,0,0,0,0,0,0,0,0,0,0,0,0,0,0,0,0,0,0,0,0,0,0,0,0,0,0,0,0,0,0,0,0,0,0,0,0,0,0,0,0,0,0,0,0,0,0,0,0,0,0,0,0,0,0,0,0,0,0,0,0,0,0,0,0,0,0,0,0,0,0,0,0,0,0,0,0,0,0,0,0,0,0,0,0,0,0,0,0,0,0,0,0,0,0,0,0,0,0,0,0,0,0,0,0,0,0,0,0,0,0,0,0,0,0,0,0,0,0,0,0,0,0,0,0,0,0,0,0,0,0,0,0,0,0,0,0,0,0,0,0,0,0,0,0,0,0,0,0,0,0,0,0,0,0,0,0,0,0,0,0,0,0,0,0,0,0,0,0,0,0,0,0,0,0,0,0,0,0,0,0,0,0,0,0,0,0,0,0,0,0,0,0,0,0,0,0,0,0,0,0,0,0,0,0,0,0,0,0,0,0,0,0,0,0,0,0,0,0,0,0,0,0,0,0,0,0,0,0,0,0,0,0,0,0,0,0,0,0,0,0,0,0,0,0,0,0,0,0,0,0,0,0,0,0,0,0,0,0,0,0,0,0,0,0,0,0,0,0,0,0,0,0,0,0,0,0,0,0,0,0,0,0,0,0,0,0,0,0,0,0,0,0,0,0,0,0,0,0,0,0,0,0,0,0,0,0,0,0,0,0,0,0,0,0,0,0,0,0,0,0,0,0,0,0,0,0,0,0,0,0,0]
[2,{"$f":"'11 Axle Loads Direction 2-SS'!B629","v":3},{"$f":"'11 Axle Loads Direction 2-SS'!C629","v":0},{"$f":"'11 Axle Loads Direction 2-SS'!D629","v":0},{"$f":"'11 Axle Loads Direction 2-SS'!E629","v":0},{"$f":"'11 Axle Loads Direction 2-SS'!F629","v":0},{"$f":"'11 Axle Loads Direction 2-SS'!G629","v":0},{"$f":"'11 Axle Loads Direction 2-SS'!H629","v":0},{"$f":"'11 Axle Loads Direction 2-SS'!I629","v":0},{"$f":"'11 Axle Loads Direction 2-SS'!J629","v":0},{"$f":"'11 Axle Loads Direction 2-SS'!K629","v":0},0,0,0,0,0,0,0,0,0,0,0,0,0,0,0,0,0,null,0,0,0,0,0,0,0,0,0,0,0,0,0,0,0,0,0,0,0,0,0,0,0,0,0,0,0,0,0,0,0,0,0,0,0,0,0,0,0,0,0,0,0,0,0,0,0,0,0,0,0,0,0,0,0,0,0,0,0,0,0,0,0,0,0,0,0,0,0,0,0,0,0,0,0,0,0,0,0,0,0,0,0,0,0,0,0,0,0,0,0,0,0,0,0,0,0,0,0,0,0,0,0,0,0,0,0,0,0,0,0,0,0,0,0,0,0,0,0,0,0,0,0,0,0,0,0,0,0,0,0,0,0,0,0,0,0,0,0,0,0,0,0,0,0,0,0,0,0,0,0,0,0,0,0,0,0,0,0,0,0,0,0,0,0,0,0,0,0,0,0,0,0,0,0,0,0,0,0,0,0,0,0,0,0,0,0,0,0,0,0,0,0,0,0,0,0,0,0,0,0,0,0,0,0,0,0,0,0,0,0,0,0,0,0,0,0,0,0,0,0,0,0,0,0,0,0,0,0,0,0,0,0,0,0,0,0,0,0,0,0,0,0,0,0,0,0,0,0,0,0,0,0,0,0,0,0,0,0,0,0,0,0,0,0,0,0,0,0,0,0,0,0,0,0,0,0,0,0,0,0,0,0,0,0,0,0,0,0,0,0,0,0,0,0,0,0,0,0,0,0,0,0,0,0,0,0,0,0,0,0,0,0,0,0,0,0,0,0,0,0,0,0,0,0,0,0,0,0,0,0,0,0,0,0,0,0,0,0,0,0,0,0,0,0,0,0,0,0,0,0,0,0,0,0,0,0,0,0,0,0,0,0,0,0,0,0,0,0,0,0,0,0,0,0,0,0,0,0,0,0,0,0,0,0,0,0,0,0,0,0,0,0,0,0,0,0,0,0,0,0,0,0,0,0,0,0,0,0,0,0,0,0,0,0,0,0,0,0,0,0,0,0,0,0,0,0,0,0,0,0,0,0,0,0,0,0,0,0,0,0,0,0,0,0,0,0,0,0,0,0,0,0,0,0,0,0,0,0,0,0,0,0,0,0,0,0,0,0,0,0,0,0,0,0,0,0,0,0,0,0,0,0,0,0,0,0,0,0,0,0,0,0,0,0,0,0,0,0,0,0,0,0,0,0,0,0,0,0,0,0,0,0,0,0,0,0,0,0,0,0,0,0,0,0,0,0,0,0,0]
[2,{"$f":"'11 Axle Loads Direction 2-SS'!B644","v":3},{"$f":"'11 Axle Loads Direction 2-SS'!C644","v":0},{"$f":"'11 Axle Loads Direction 2-SS'!D644","v":0},{"$f":"'11 Axle Loads Direction 2-SS'!E644","v":0},{"$f":"'11 Axle Loads Direction 2-SS'!F644","v":0},{"$f":"'11 Axle Loads Direction 2-SS'!G644","v":0},{"$f":"'11 Axle Loads Direction 2-SS'!H644","v":0},{"$f":"'11 Axle Loads Direction 2-SS'!I644","v":0},{"$f":"'11 Axle Loads Direction 2-SS'!J644","v":0},{"$f":"'11 Axle Loads Direction 2-SS'!K644","v":0},0,0,0,0,0,0,0,0,0,0,0,0,0,0,0,0,0,null,0,0,0,0,0,0,0,0,0,0,0,0,0,0,0,0,0,0,0,0,0,0,0,0,0,0,0,0,0,0,0,0,0,0,0,0,0,0,0,0,0,0,0,0,0,0,0,0,0,0,0,0,0,0,0,0,0,0,0,0,0,0,0,0,0,0,0,0,0,0,0,0,0,0,0,0,0,0,0,0,0,0,0,0,0,0,0,0,0,0,0,0,0,0,0,0,0,0,0,0,0,0,0,0,0,0,0,0,0,0,0,0,0,0,0,0,0,0,0,0,0,0,0,0,0,0,0,0,0,0,0,0,0,0,0,0,0,0,0,0,0,0,0,0,0,0,0,0,0,0,0,0,0,0,0,0,0,0,0,0,0,0,0,0,0,0,0,0,0,0,0,0,0,0,0,0,0,0,0,0,0,0,0,0,0,0,0,0,0,0,0,0,0,0,0,0,0,0,0,0,0,0,0,0,0,0,0,0,0,0,0,0,0,0,0,0,0,0,0,0,0,0,0,0,0,0,0,0,0,0,0,0,0,0,0,0,0,0,0,0,0,0,0,0,0,0,0,0,0,0,0,0,0,0,0,0,0,0,0,0,0,0,0,0,0,0,0,0,0,0,0,0,0,0,0,0,0,0,0,0,0,0,0,0,0,0,0,0,0,0,0,0,0,0,0,0,0,0,0,0,0,0,0,0,0,0,0,0,0,0,0,0,0,0,0,0,0,0,0,0,0,0,0,0,0,0,0,0,0,0,0,0,0,0,0,0,0,0,0,0,0,0,0,0,0,0,0,0,0,0,0,0,0,0,0,0,0,0,0,0,0,0,0,0,0,0,0,0,0,0,0,0,0,0,0,0,0,0,0,0,0,0,0,0,0,0,0,0,0,0,0,0,0,0,0,0,0,0,0,0,0,0,0,0,0,0,0,0,0,0,0,0,0,0,0,0,0,0,0,0,0,0,0,0,0,0,0,0,0,0,0,0,0,0,0,0,0,0,0,0,0,0,0,0,0,0,0,0,0,0,0,0,0,0,0,0,0,0,0,0,0,0,0,0,0,0,0,0,0,0,0,0,0,0,0,0,0,0,0,0,0,0,0,0,0,0,0,0,0,0,0,0,0,0,0,0,0,0,0,0,0,0,0,0,0,0,0,0,0,0,0,0,0,0,0,0,0,0,0,0,0,0,0,0,0,0,0,0,0,0]
[2,{"$f":"'11 Axle Loads Direction 2-SS'!B659","v":3},{"$f":"'11 Axle Loads Direction 2-SS'!C659","v":0},{"$f":"'11 Axle Loads Direction 2-SS'!D659","v":0},{"$f":"'11 Axle Loads Direction 2-SS'!E659","v":0},{"$f":"'11 Axle Loads Direction 2-SS'!F659","v":0},{"$f":"'11 Axle Loads Direction 2-SS'!G659","v":0},{"$f":"'11 Axle Loads Direction 2-SS'!H659","v":0},{"$f":"'11 Axle Loads Direction 2-SS'!I659","v":0},{"$f":"'11 Axle Loads Direction 2-SS'!J659","v":0},{"$f":"'11 Axle Loads Direction 2-SS'!K659","v":0},0,0,0,0,0,0,0,0,0,0,0,0,0,0,0,0,0,null,0,0,0,0,0,0,0,0,0,0,0,0,0,0,0,0,0,0,0,0,0,0,0,0,0,0,0,0,0,0,0,0,0,0,0,0,0,0,0,0,0,0,0,0,0,0,0,0,0,0,0,0,0,0,0,0,0,0,0,0,0,0,0,0,0,0,0,0,0,0,0,0,0,0,0,0,0,0,0,0,0,0,0,0,0,0,0,0,0,0,0,0,0,0,0,0,0,0,0,0,0,0,0,0,0,0,0,0,0,0,0,0,0,0,0,0,0,0,0,0,0,0,0,0,0,0,0,0,0,0,0,0,0,0,0,0,0,0,0,0,0,0,0,0,0,0,0,0,0,0,0,0,0,0,0,0,0,0,0,0,0,0,0,0,0,0,0,0,0,0,0,0,0,0,0,0,0,0,0,0,0,0,0,0,0,0,0,0,0,0,0,0,0,0,0,0,0,0,0,0,0,0,0,0,0,0,0,0,0,0,0,0,0,0,0,0,0,0,0,0,0,0,0,0,0,0,0,0,0,0,0,0,0,0,0,0,0,0,0,0,0,0,0,0,0,0,0,0,0,0,0,0,0,0,0,0,0,0,0,0,0,0,0,0,0,0,0,0,0,0,0,0,0,0,0,0,0,0,0,0,0,0,0,0,0,0,0,0,0,0,0,0,0,0,0,0,0,0,0,0,0,0,0,0,0,0,0,0,0,0,0,0,0,0,0,0,0,0,0,0,0,0,0,0,0,0,0,0,0,0,0,0,0,0,0,0,0,0,0,0,0,0,0,0,0,0,0,0,0,0,0,0,0,0,0,0,0,0,0,0,0,0,0,0,0,0,0,0,0,0,0,0,0,0,0,0,0,0,0,0,0,0,0,0,0,0,0,0,0,0,0,0,0,0,0,0,0,0,0,0,0,0,0,0,0,0,0,0,0,0,0,0,0,0,0,0,0,0,0,0,0,0,0,0,0,0,0,0,0,0,0,0,0,0,0,0,0,0,0,0,0,0,0,0,0,0,0,0,0,0,0,0,0,0,0,0,0,0,0,0,0,0,0,0,0,0,0,0,0,0,0,0,0,0,0,0,0,0,0,0,0,0,0,0,0,0,0,0,0,0,0,0,0,0,0,0,0,0,0,0,0,0,0,0,0,0,0,0,0,0,0,0,0,0,0,0,0,0,0,0,0,0,0,0,0,0,0,0,0,0]
[2,{"$f":"'11 Axle Loads Direction 2-SS'!B676","v":3},{"$f":"'11 Axle Loads Direction 2-SS'!C676","v":0},{"$f":"'11 Axle Loads Direction 2-SS'!D676","v":0},{"$f":"'11 Axle Loads Direction 2-SS'!E676","v":0},{"$f":"'11 Axle Loads Direction 2-SS'!F676","v":0},{"$f":"'11 Axle Loads Direction 2-SS'!G676","v":0},{"$f":"'11 Axle Loads Direction 2-SS'!H676","v":0},{"$f":"'11 Axle Loads Direction 2-SS'!I676","v":0},{"$f":"'11 Axle Loads Direction 2-SS'!J676","v":0},{"$f":"'11 Axle Loads Direction 2-SS'!K676","v":0},0,0,0,0,0,0,0,0,0,0,0,0,0,0,0,0,0,null,0,0,0,0,0,0,0,0,0,0,0,0,0,0,0,0,0,0,0,0,0,0,0,0,0,0,0,0,0,0,0,0,0,0,0,0,0,0,0,0,0,0,0,0,0,0,0,0,0,0,0,0,0,0,0,0,0,0,0,0,0,0,0,0,0,0,0,0,0,0,0,0,0,0,0,0,0,0,0,0,0,0,0,0,0,0,0,0,0,0,0,0,0,0,0,0,0,0,0,0,0,0,0,0,0,0,0,0,0,0,0,0,0,0,0,0,0,0,0,0,0,0,0,0,0,0,0,0,0,0,0,0,0,0,0,0,0,0,0,0,0,0,0,0,0,0,0,0,0,0,0,0,0,0,0,0,0,0,0,0,0,0,0,0,0,0,0,0,0,0,0,0,0,0,0,0,0,0,0,0,0,0,0,0,0,0,0,0,0,0,0,0,0,0,0,0,0,0,0,0,0,0,0,0,0,0,0,0,0,0,0,0,0,0,0,0,0,0,0,0,0,0,0,0,0,0,0,0,0,0,0,0,0,0,0,0,0,0,0,0,0,0,0,0,0,0,0,0,0,0,0,0,0,0,0,0,0,0,0,0,0,0,0,0,0,0,0,0,0,0,0,0,0,0,0,0,0,0,0,0,0,0,0,0,0,0,0,0,0,0,0,0,0,0,0,0,0,0,0,0,0,0,0,0,0,0,0,0,0,0,0,0,0,0,0,0,0,0,0,0,0,0,0,0,0,0,0,0,0,0,0,0,0,0,0,0,0,0,0,0,0,0,0,0,0,0,0,0,0,0,0,0,0,0,0,0,0,0,0,0,0,0,0,0,0,0,0,0,0,0,0,0,0,0,0,0,0,0,0,0,0,0,0,0,0,0,0,0,0,0,0,0,0,0,0,0,0,0,0,0,0,0,0,0,0,0,0,0,0,0,0,0,0,0,0,0,0,0,0,0,0,0,0,0,0,0,0,0,0,0,0,0,0,0,0,0,0,0,0,0,0,0,0,0,0,0,0,0,0,0,0,0,0,0,0,0,0,0,0,0,0,0,0,0,0,0,0,0,0,0,0,0,0,0,0,0,0,0,0,0,0,0,0,0,0,0,0,0,0,0,0,0,0,0,0,0,0,0,0,0,0,0,0,0,0,0,0,0,0,0,0,0,0,0,0,0,0,0,0,0,0,0,0,0,0,0,0,0,0,0]
[2,{"$f":"'11 Axle Loads Direction 2-SS'!B691","v":3},{"$f":"'11 Axle Loads Direction 2-SS'!C691","v":0},{"$f":"'11 Axle Loads Direction 2-SS'!D691","v":0},{"$f":"'11 Axle Loads Direction 2-SS'!E691","v":0},{"$f":"'11 Axle Loads Direction 2-SS'!F691","v":0},{"$f":"'11 Axle Loads Direction 2-SS'!G691","v":0},{"$f":"'11 Axle Loads Direction 2-SS'!H691","v":0},{"$f":"'11 Axle Loads Direction 2-SS'!I691","v":0},{"$f":"'11 Axle Loads Direction 2-SS'!J691","v":0},{"$f":"'11 Axle Loads Direction 2-SS'!K691","v":0},0,0,0,0,0,0,0,0,0,0,0,0,0,0,0,0,0,null,0,0,0,0,0,0,0,0,0,0,0,0,0,0,0,0,0,0,0,0,0,0,0,0,0,0,0,0,0,0,0,0,0,0,0,0,0,0,0,0,0,0,0,0,0,0,0,0,0,0,0,0,0,0,0,0,0,0,0,0,0,0,0,0,0,0,0,0,0,0,0,0,0,0,0,0,0,0,0,0,0,0,0,0,0,0,0,0,0,0,0,0,0,0,0,0,0,0,0,0,0,0,0,0,0,0,0,0,0,0,0,0,0,0,0,0,0,0,0,0,0,0,0,0,0,0,0,0,0,0,0,0,0,0,0,0,0,0,0,0,0,0,0,0,0,0,0,0,0,0,0,0,0,0,0,0,0,0,0,0,0,0,0,0,0,0,0,0,0,0,0,0,0,0,0,0,0,0,0,0,0,0,0,0,0,0,0,0,0,0,0,0,0,0,0,0,0,0,0,0,0,0,0,0,0,0,0,0,0,0,0,0,0,0,0,0,0,0,0,0,0,0,0,0,0,0,0,0,0,0,0,0,0,0,0,0,0,0,0,0,0,0,0,0,0,0,0,0,0,0,0,0,0,0,0,0,0,0,0,0,0,0,0,0,0,0,0,0,0,0,0,0,0,0,0,0,0,0,0,0,0,0,0,0,0,0,0,0,0,0,0,0,0,0,0,0,0,0,0,0,0,0,0,0,0,0,0,0,0,0,0,0,0,0,0,0,0,0,0,0,0,0,0,0,0,0,0,0,0,0,0,0,0,0,0,0,0,0,0,0,0,0,0,0,0,0,0,0,0,0,0,0,0,0,0,0,0,0,0,0,0,0,0,0,0,0,0,0,0,0,0,0,0,0,0,0,0,0,0,0,0,0,0,0,0,0,0,0,0,0,0,0,0,0,0,0,0,0,0,0,0,0,0,0,0,0,0,0,0,0,0,0,0,0,0,0,0,0,0,0,0,0,0,0,0,0,0,0,0,0,0,0,0,0,0,0,0,0,0,0,0,0,0,0,0,0,0,0,0,0,0,0,0,0,0,0,0,0,0,0,0,0,0,0,0,0,0,0,0,0,0,0,0,0,0,0,0,0,0,0,0,0,0,0,0,0,0,0,0,0,0,0,0,0,0,0,0,0,0,0,0,0,0,0,0,0,0,0,0,0,0,0,0,0,0,0,0,0,0,0,0,0,0,0,0,0,0,0,0,0]
[2,{"$f":"'11 Axle Loads Direction 2-SS'!B708","v":3},{"$f":"'11 Axle Loads Direction 2-SS'!C708","v":0},{"$f":"'11 Axle Loads Direction 2-SS'!D708","v":0},{"$f":"'11 Axle Loads Direction 2-SS'!E708","v":0},{"$f":"'11 Axle Loads Direction 2-SS'!F708","v":0},{"$f":"'11 Axle Loads Direction 2-SS'!G708","v":0},{"$f":"'11 Axle Loads Direction 2-SS'!H708","v":0},{"$f":"'11 Axle Loads Direction 2-SS'!I708","v":0},{"$f":"'11 Axle Loads Direction 2-SS'!J708","v":0},{"$f":"'11 Axle Loads Direction 2-SS'!K708","v":0},0,0,0,0,0,0,0,0,0,0,0,0,0,0,0,0,0,null,0,0,0,0,0,0,0,0,0,0,0,0,0,0,0,0,0,0,0,0,0,0,0,0,0,0,0,0,0,0,0,0,0,0,0,0,0,0,0,0,0,0,0,0,0,0,0,0,0,0,0,0,0,0,0,0,0,0,0,0,0,0,0,0,0,0,0,0,0,0,0,0,0,0,0,0,0,0,0,0,0,0,0,0,0,0,0,0,0,0,0,0,0,0,0,0,0,0,0,0,0,0,0,0,0,0,0,0,0,0,0,0,0,0,0,0,0,0,0,0,0,0,0,0,0,0,0,0,0,0,0,0,0,0,0,0,0,0,0,0,0,0,0,0,0,0,0,0,0,0,0,0,0,0,0,0,0,0,0,0,0,0,0,0,0,0,0,0,0,0,0,0,0,0,0,0,0,0,0,0,0,0,0,0,0,0,0,0,0,0,0,0,0,0,0,0,0,0,0,0,0,0,0,0,0,0,0,0,0,0,0,0,0,0,0,0,0,0,0,0,0,0,0,0,0,0,0,0,0,0,0,0,0,0,0,0,0,0,0,0,0,0,0,0,0,0,0,0,0,0,0,0,0,0,0,0,0,0,0,0,0,0,0,0,0,0,0,0,0,0,0,0,0,0,0,0,0,0,0,0,0,0,0,0,0,0,0,0,0,0,0,0,0,0,0,0,0,0,0,0,0,0,0,0,0,0,0,0,0,0,0,0,0,0,0,0,0,0,0,0,0,0,0,0,0,0,0,0,0,0,0,0,0,0,0,0,0,0,0,0,0,0,0,0,0,0,0,0,0,0,0,0,0,0,0,0,0,0,0,0,0,0,0,0,0,0,0,0,0,0,0,0,0,0,0,0,0,0,0,0,0,0,0,0,0,0,0,0,0,0,0,0,0,0,0,0,0,0,0,0,0,0,0,0,0,0,0,0,0,0,0,0,0,0,0,0,0,0,0,0,0,0,0,0,0,0,0,0,0,0,0,0,0,0,0,0,0,0,0,0,0,0,0,0,0,0,0,0,0,0,0,0,0,0,0,0,0,0,0,0,0,0,0,0,0,0,0,0,0,0,0,0,0,0,0,0,0,0,0,0,0,0,0,0,0,0,0,0,0,0,0,0,0,0,0,0,0,0,0,0,0,0,0,0,0,0,0,0,0,0,0,0,0,0,0,0,0,0,0,0,0,0,0,0,0,0,0,0,0,0]
[2,{"$f":"'11 Axle Loads Direction 2-SS'!B723","v":3},{"$f":"'11 Axle Loads Direction 2-SS'!C723","v":0},{"$f":"'11 Axle Loads Direction 2-SS'!D723","v":0},{"$f":"'11 Axle Loads Direction 2-SS'!E723","v":0},{"$f":"'11 Axle Loads Direction 2-SS'!F723","v":0},{"$f":"'11 Axle Loads Direction 2-SS'!G723","v":0},{"$f":"'11 Axle Loads Direction 2-SS'!H723","v":0},{"$f":"'11 Axle Loads Direction 2-SS'!I723","v":0},{"$f":"'11 Axle Loads Direction 2-SS'!J723","v":0},{"$f":"'11 Axle Loads Direction 2-SS'!K723","v":0},0,0,0,0,0,0,0,0,0,0,0,0,0,0,0,0,0,null,0,0,0,0,0,0,0,0,0,0,0,0,0,0,0,0,0,0,0,0,0,0,0,0,0,0,0,0,0,0,0,0,0,0,0,0,0,0,0,0,0,0,0,0,0,0,0,0,0,0,0,0,0,0,0,0,0,0,0,0,0,0,0,0,0,0,0,0,0,0,0,0,0,0,0,0,0,0,0,0,0,0,0,0,0,0,0,0,0,0,0,0,0,0,0,0,0,0,0,0,0,0,0,0,0,0,0,0,0,0,0,0,0,0,0,0,0,0,0,0,0,0,0,0,0,0,0,0,0,0,0,0,0,0,0,0,0,0,0,0,0,0,0,0,0,0,0,0,0,0,0,0,0,0,0,0,0,0,0,0,0,0,0,0,0,0,0,0,0,0,0,0,0,0,0,0,0,0,0,0,0,0,0,0,0,0,0,0,0,0,0,0,0,0,0,0,0,0,0,0,0,0,0,0,0,0,0,0,0,0,0,0,0,0,0,0,0,0,0,0,0,0,0,0,0,0,0,0,0,0,0,0,0,0,0,0,0,0,0,0,0,0,0,0,0,0,0,0,0,0,0,0,0,0,0,0,0,0,0,0,0,0,0,0,0,0,0,0,0,0,0,0,0,0,0,0,0,0,0,0,0,0,0,0,0,0,0,0,0,0,0,0,0,0,0,0,0,0,0,0,0,0,0,0,0,0,0,0,0,0,0,0,0,0,0,0,0,0,0,0,0,0,0,0,0,0,0,0,0,0,0,0,0,0,0,0,0,0,0,0,0,0,0,0,0,0,0,0,0,0,0,0,0,0,0,0,0,0,0,0,0,0,0,0,0,0,0,0,0,0,0,0,0,0,0,0,0,0,0,0,0,0,0,0,0,0,0,0,0,0,0,0,0,0,0,0,0,0,0,0,0,0,0,0,0,0,0,0,0,0,0,0,0,0,0,0,0,0,0,0,0,0,0,0,0,0,0,0,0,0,0,0,0,0,0,0,0,0,0,0,0,0,0,0,0,0,0,0,0,0,0,0,0,0,0,0,0,0,0,0,0,0,0,0,0,0,0,0,0,0,0,0,0,0,0,0,0,0,0,0,0,0,0,0,0,0,0,0,0,0,0,0,0,0,0,0,0,0,0,0,0,0,0,0,0,0,0,0,0,0,0,0,0,0,0,0,0,0,0,0,0,0,0,0,0,0,0,0,0,0]
[2,{"$f":"'11 Axle Loads Direction 2-SS'!B738","v":3},{"$f":"'11 Axle Loads Direction 2-SS'!C738","v":0},{"$f":"'11 Axle Loads Direction 2-SS'!D738","v":0},{"$f":"'11 Axle Loads Direction 2-SS'!E738","v":0},{"$f":"'11 Axle Loads Direction 2-SS'!F738","v":0},{"$f":"'11 Axle Loads Direction 2-SS'!G738","v":0},{"$f":"'11 Axle Loads Direction 2-SS'!H738","v":0},{"$f":"'11 Axle Loads Direction 2-SS'!I738","v":0},{"$f":"'11 Axle Loads Direction 2-SS'!J738","v":0},{"$f":"'11 Axle Loads Direction 2-SS'!K738","v":0},0,0,0,0,0,0,0,0,0,0,0,0,0,0,0,0,0,null,0,0,0,0,0,0,0,0,0,0,0,0,0,0,0,0,0,0,0,0,0,0,0,0,0,0,0,0,0,0,0,0,0,0,0,0,0,0,0,0,0,0,0,0,0,0,0,0,0,0,0,0,0,0,0,0,0,0,0,0,0,0,0,0,0,0,0,0,0,0,0,0,0,0,0,0,0,0,0,0,0,0,0,0,0,0,0,0,0,0,0,0,0,0,0,0,0,0,0,0,0,0,0,0,0,0,0,0,0,0,0,0,0,0,0,0,0,0,0,0,0,0,0,0,0,0,0,0,0,0,0,0,0,0,0,0,0,0,0,0,0,0,0,0,0,0,0,0,0,0,0,0,0,0,0,0,0,0,0,0,0,0,0,0,0,0,0,0,0,0,0,0,0,0,0,0,0,0,0,0,0,0,0,0,0,0,0,0,0,0,0,0,0,0,0,0,0,0,0,0,0,0,0,0,0,0,0,0,0,0,0,0,0,0,0,0,0,0,0,0,0,0,0,0,0,0,0,0,0,0,0,0,0,0,0,0,0,0,0,0,0,0,0,0,0,0,0,0,0,0,0,0,0,0,0,0,0,0,0,0,0,0,0,0,0,0,0,0,0,0,0,0,0,0,0,0,0,0,0,0,0,0,0,0,0,0,0,0,0,0,0,0,0,0,0,0,0,0,0,0,0,0,0,0,0,0,0,0,0,0,0,0,0,0,0,0,0,0,0,0,0,0,0,0,0,0,0,0,0,0,0,0,0,0,0,0,0,0,0,0,0,0,0,0,0,0,0,0,0,0,0,0,0,0,0,0,0,0,0,0,0,0,0,0,0,0,0,0,0,0,0,0,0,0,0,0,0,0,0,0,0,0,0,0,0,0,0,0,0,0,0,0,0,0,0,0,0,0,0,0,0,0,0,0,0,0,0,0,0,0,0,0,0,0,0,0,0,0,0,0,0,0,0,0,0,0,0,0,0,0,0,0,0,0,0,0,0,0,0,0,0,0,0,0,0,0,0,0,0,0,0,0,0,0,0,0,0,0,0,0,0,0,0,0,0,0,0,0,0,0,0,0,0,0,0,0,0,0,0,0,0,0,0,0,0,0,0,0,0,0,0,0,0,0,0,0,0,0,0,0,0,0,0,0,0,0,0,0,0,0,0,0,0,0,0,0,0,0,0,0,0,0,0,0,0,0,0,0,0,0]
[2,{"$f":"'11 Axle Loads Direction 2-SS'!B757","v":3},{"$f":"'11 Axle Loads Direction 2-SS'!C757","v":0},{"$f":"'11 Axle Loads Direction 2-SS'!D757","v":0},{"$f":"'11 Axle Loads Direction 2-SS'!E757","v":0},{"$f":"'11 Axle Loads Direction 2-SS'!F757","v":0},{"$f":"'11 Axle Loads Direction 2-SS'!G757","v":0},{"$f":"'11 Axle Loads Direction 2-SS'!H757","v":0},{"$f":"'11 Axle Loads Direction 2-SS'!I757","v":0},{"$f":"'11 Axle Loads Direction 2-SS'!J757","v":0},{"$f":"'11 Axle Loads Direction 2-SS'!K757","v":0},0,0,0,0,0,0,0,0,0,0,0,0,0,0,0,0,0,null,0,0,0,0,0,0,0,0,0,0,0,0,0,0,0,0,0,0,0,0,0,0,0,0,0,0,0,0,0,0,0,0,0,0,0,0,0,0,0,0,0,0,0,0,0,0,0,0,0,0,0,0,0,0,0,0,0,0,0,0,0,0,0,0,0,0,0,0,0,0,0,0,0,0,0,0,0,0,0,0,0,0,0,0,0,0,0,0,0,0,0,0,0,0,0,0,0,0,0,0,0,0,0,0,0,0,0,0,0,0,0,0,0,0,0,0,0,0,0,0,0,0,0,0,0,0,0,0,0,0,0,0,0,0,0,0,0,0,0,0,0,0,0,0,0,0,0,0,0,0,0,0,0,0,0,0,0,0,0,0,0,0,0,0,0,0,0,0,0,0,0,0,0,0,0,0,0,0,0,0,0,0,0,0,0,0,0,0,0,0,0,0,0,0,0,0,0,0,0,0,0,0,0,0,0,0,0,0,0,0,0,0,0,0,0,0,0,0,0,0,0,0,0,0,0,0,0,0,0,0,0,0,0,0,0,0,0,0,0,0,0,0,0,0,0,0,0,0,0,0,0,0,0,0,0,0,0,0,0,0,0,0,0,0,0,0,0,0,0,0,0,0,0,0,0,0,0,0,0,0,0,0,0,0,0,0,0,0,0,0,0,0,0,0,0,0,0,0,0,0,0,0,0,0,0,0,0,0,0,0,0,0,0,0,0,0,0,0,0,0,0,0,0,0,0,0,0,0,0,0,0,0,0,0,0,0,0,0,0,0,0,0,0,0,0,0,0,0,0,0,0,0,0,0,0,0,0,0,0,0,0,0,0,0,0,0,0,0,0,0,0,0,0,0,0,0,0,0,0,0,0,0,0,0,0,0,0,0,0,0,0,0,0,0,0,0,0,0,0,0,0,0,0,0,0,0,0,0,0,0,0,0,0,0,0,0,0,0,0,0,0,0,0,0,0,0,0,0,0,0,0,0,0,0,0,0,0,0,0,0,0,0,0,0,0,0,0,0,0,0,0,0,0,0,0,0,0,0,0,0,0,0,0,0,0,0,0,0,0,0,0,0,0,0,0,0,0,0,0,0,0,0,0,0,0,0,0,0,0,0,0,0,0,0,0,0,0,0,0,0,0,0,0,0,0,0,0,0,0,0,0,0,0,0,0,0,0,0,0,0,0,0,0,0,0,0,0,0,0,0]
[2,{"$f":"'11 Axle Loads Direction 2-SS'!B770","v":3},{"$f":"'11 Axle Loads Direction 2-SS'!C770","v":0},{"$f":"'11 Axle Loads Direction 2-SS'!D770","v":0},{"$f":"'11 Axle Loads Direction 2-SS'!E770","v":0},{"$f":"'11 Axle Loads Direction 2-SS'!F770","v":0},{"$f":"'11 Axle Loads Direction 2-SS'!G770","v":0},{"$f":"'11 Axle Loads Direction 2-SS'!H770","v":0},{"$f":"'11 Axle Loads Direction 2-SS'!I770","v":0},{"$f":"'11 Axle Loads Direction 2-SS'!J770","v":0},{"$f":"'11 Axle Loads Direction 2-SS'!K770","v":0},0,0,0,0,0,0,0,0,0,0,0,0,0,0,0,0,0,null,0,0,0,0,0,0,0,0,0,0,0,0,0,0,0,0,0,0,0,0,0,0,0,0,0,0,0,0,0,0,0,0,0,0,0,0,0,0,0,0,0,0,0,0,0,0,0,0,0,0,0,0,0,0,0,0,0,0,0,0,0,0,0,0,0,0,0,0,0,0,0,0,0,0,0,0,0,0,0,0,0,0,0,0,0,0,0,0,0,0,0,0,0,0,0,0,0,0,0,0,0,0,0,0,0,0,0,0,0,0,0,0,0,0,0,0,0,0,0,0,0,0,0,0,0,0,0,0,0,0,0,0,0,0,0,0,0,0,0,0,0,0,0,0,0,0,0,0,0,0,0,0,0,0,0,0,0,0,0,0,0,0,0,0,0,0,0,0,0,0,0,0,0,0,0,0,0,0,0,0,0,0,0,0,0,0,0,0,0,0,0,0,0,0,0,0,0,0,0,0,0,0,0,0,0,0,0,0,0,0,0,0,0,0,0,0,0,0,0,0,0,0,0,0,0,0,0,0,0,0,0,0,0,0,0,0,0,0,0,0,0,0,0,0,0,0,0,0,0,0,0,0,0,0,0,0,0,0,0,0,0,0,0,0,0,0,0,0,0,0,0,0,0,0,0,0,0,0,0,0,0,0,0,0,0,0,0,0,0,0,0,0,0,0,0,0,0,0,0,0,0,0,0,0,0,0,0,0,0,0,0,0,0,0,0,0,0,0,0,0,0,0,0,0,0,0,0,0,0,0,0,0,0,0,0,0,0,0,0,0,0,0,0,0,0,0,0,0,0,0,0,0,0,0,0,0,0,0,0,0,0,0,0,0,0,0,0,0,0,0,0,0,0,0,0,0,0,0,0,0,0,0,0,0,0,0,0,0,0,0,0,0,0,0,0,0,0,0,0,0,0,0,0,0,0,0,0,0,0,0,0,0,0,0,0,0,0,0,0,0,0,0,0,0,0,0,0,0,0,0,0,0,0,0,0,0,0,0,0,0,0,0,0,0,0,0,0,0,0,0,0,0,0,0,0,0,0,0,0,0,0,0,0,0,0,0,0,0,0,0,0,0,0,0,0,0,0,0,0,0,0,0,0,0,0,0,0,0,0,0,0,0,0,0,0,0,0,0,0,0,0,0,0,0,0,0,0,0,0,0,0,0,0,0,0,0,0,0,0,0,0,0,0,0,0,0,0,0,0,0]
[2,{"$f":"'11 Axle Loads Direction 2-SS'!B785","v":"4B"},{"$f":"'11 Axle Loads Direction 2-SS'!C785","v":6},{"$f":"'11 Axle Loads Direction 2-SS'!D785","v":6},{"$f":"'11 Axle Loads Direction 2-SS'!E785","v":10},{"$f":"'11 Axle Loads Direction 2-SS'!F785","v":10},{"$f":"'11 Axle Loads Direction 2-SS'!G785","v":0},{"$f":"'11 Axle Loads Direction 2-SS'!H785","v":0},{"$f":"'11 Axle Loads Direction 2-SS'!I785","v":0},{"$f":"'11 Axle Loads Direction 2-SS'!J785","v":0},{"$f":"'11 Axle Loads Direction 2-SS'!K785","v":0},6,0,0,0,0,0,0,0,0,0,10,0,0,0,0,0,0,null,0,0,0,0,0,60,0,0,0,0,0,0,0,0,0,0,0,0,0,0,0,0,0,0,0,0,0,0,0,0,0,0,0,0,0,0,0,0,0,0,0,0,0,0,0,0,0,0,0,0,0,0,0,0,0,0,0,0,0,0,0,0,0,0,0,0,0,0,0,0,0,0,0,0,0,0,0,0,0,0,0,0,0,0,0,0,0,0,0,0,0,0,0,0,0,0,0,0,0,0,0,0,0,0,0,0,0,0,0,0,0,0,0,0,0,0,0,0,0,0,0,0,0,0,0,0,0,0,0,0,0,0,0,0,0,0,0,0,0,0,0,0,0,0,0,0,0,0,0,0,0,0,0,0,0,0,0,0,0,0,0,0,0,0,0,0,0,0,0,0,0,0,0,0,0,0,0,0,0,0,0,0,0,0,0,0,0,0,0,0,0,0,0,0,0,0,0,0,0,0,0,0,0,0,0,0,0,0,0,0,0,0,0,0,0,0,0,0,0,0,0,0,0,0,0,0,0,0,0,0,0,0,0,0,0,0,0,0,0,0,0,0,0,0,0,0,0,0,0,0,0,0,0,0,0,0,0,0,0,0,0,0,0,0,0,0,0,0,0,0,0,0,0,0,0,0,0,0,0,0,0,0,0,0,0,0,0,0,0,0,0,0,0,0,0,0,0,0,0,0,0,0,0,0,0,0,0,0,0,100,0,0,0,0,0,0,0,0,0,0,0,0,0,0,0,0,0,0,0,0,0,0,0,0,0,0,0,0,0,0,0,0,0,0,0,0,0,0,0,0,0,0,0,0,0,0,0,0,0,0,0,0,0,0,0,0,0,0,0,0,0,0,0,0,0,0,0,0,0,0,0,0,0,0,0,0,0,0,0,0,0,0,0,0,0,0,0,0,0,0,0,0,0,0,0,0,0,0,0,0,0,0,0,0,0,0,0,0,0,0,0,0,0,0,0,0,0,0,0,0,0,0,0,0,0,0,0,0,0,0,0,0,0,0,0,0,0,0,0,0,0,0,0,0,0,0,0,0,0,0,0,0,0,0,0,0,0,0,0,0,0,0,0,0,0,0,0,0,0,0,0,0,0,0,0,0,0,0,0,0,0,0,0,0,0,0,0,0,0,0,0,0,0,0,0,0,0,0,0,0,0,0,0,0,0,0,0,0,0,0,0,0,0,0,0,0,0,0,0,0]
[2,{"$f":"'11 Axle Loads Direction 2-SS'!B806","v":3},{"$f":"'11 Axle Loads Direction 2-SS'!C806","v":0},{"$f":"'11 Axle Loads Direction 2-SS'!D806","v":0},{"$f":"'11 Axle Loads Direction 2-SS'!E806","v":0},{"$f":"'11 Axle Loads Direction 2-SS'!F806","v":0},{"$f":"'11 Axle Loads Direction 2-SS'!G806","v":0},{"$f":"'11 Axle Loads Direction 2-SS'!H806","v":0},{"$f":"'11 Axle Loads Direction 2-SS'!I806","v":0},{"$f":"'11 Axle Loads Direction 2-SS'!J806","v":0},{"$f":"'11 Axle Loads Direction 2-SS'!K806","v":0},0,0,0,0,0,0,0,0,0,0,0,0,0,0,0,0,0,null,0,0,0,0,0,0,0,0,0,0,0,0,0,0,0,0,0,0,0,0,0,0,0,0,0,0,0,0,0,0,0,0,0,0,0,0,0,0,0,0,0,0,0,0,0,0,0,0,0,0,0,0,0,0,0,0,0,0,0,0,0,0,0,0,0,0,0,0,0,0,0,0,0,0,0,0,0,0,0,0,0,0,0,0,0,0,0,0,0,0,0,0,0,0,0,0,0,0,0,0,0,0,0,0,0,0,0,0,0,0,0,0,0,0,0,0,0,0,0,0,0,0,0,0,0,0,0,0,0,0,0,0,0,0,0,0,0,0,0,0,0,0,0,0,0,0,0,0,0,0,0,0,0,0,0,0,0,0,0,0,0,0,0,0,0,0,0,0,0,0,0,0,0,0,0,0,0,0,0,0,0,0,0,0,0,0,0,0,0,0,0,0,0,0,0,0,0,0,0,0,0,0,0,0,0,0,0,0,0,0,0,0,0,0,0,0,0,0,0,0,0,0,0,0,0,0,0,0,0,0,0,0,0,0,0,0,0,0,0,0,0,0,0,0,0,0,0,0,0,0,0,0,0,0,0,0,0,0,0,0,0,0,0,0,0,0,0,0,0,0,0,0,0,0,0,0,0,0,0,0,0,0,0,0,0,0,0,0,0,0,0,0,0,0,0,0,0,0,0,0,0,0,0,0,0,0,0,0,0,0,0,0,0,0,0,0,0,0,0,0,0,0,0,0,0,0,0,0,0,0,0,0,0,0,0,0,0,0,0,0,0,0,0,0,0,0,0,0,0,0,0,0,0,0,0,0,0,0,0,0,0,0,0,0,0,0,0,0,0,0,0,0,0,0,0,0,0,0,0,0,0,0,0,0,0,0,0,0,0,0,0,0,0,0,0,0,0,0,0,0,0,0,0,0,0,0,0,0,0,0,0,0,0,0,0,0,0,0,0,0,0,0,0,0,0,0,0,0,0,0,0,0,0,0,0,0,0,0,0,0,0,0,0,0,0,0,0,0,0,0,0,0,0,0,0,0,0,0,0,0,0,0,0,0,0,0,0,0,0,0,0,0,0,0,0,0,0,0,0,0,0,0,0,0,0,0,0,0,0,0,0,0,0,0,0,0,0,0,0,0,0,0,0,0,0,0,0,0,0,0,0,0,0,0,0,0,0,0,0,0,0,0,0,0,0,0,0,0,0,0]
[2,{"$f":"'11 Axle Loads Direction 2-SS'!B817","v":3},{"$f":"'11 Axle Loads Direction 2-SS'!C817","v":0},{"$f":"'11 Axle Loads Direction 2-SS'!D817","v":0},{"$f":"'11 Axle Loads Direction 2-SS'!E817","v":0},{"$f":"'11 Axle Loads Direction 2-SS'!F817","v":0},{"$f":"'11 Axle Loads Direction 2-SS'!G817","v":0},{"$f":"'11 Axle Loads Direction 2-SS'!H817","v":0},{"$f":"'11 Axle Loads Direction 2-SS'!I817","v":0},{"$f":"'11 Axle Loads Direction 2-SS'!J817","v":0},{"$f":"'11 Axle Loads Direction 2-SS'!K817","v":0},0,0,0,0,0,0,0,0,0,0,0,0,0,0,0,0,0,null,0,0,0,0,0,0,0,0,0,0,0,0,0,0,0,0,0,0,0,0,0,0,0,0,0,0,0,0,0,0,0,0,0,0,0,0,0,0,0,0,0,0,0,0,0,0,0,0,0,0,0,0,0,0,0,0,0,0,0,0,0,0,0,0,0,0,0,0,0,0,0,0,0,0,0,0,0,0,0,0,0,0,0,0,0,0,0,0,0,0,0,0,0,0,0,0,0,0,0,0,0,0,0,0,0,0,0,0,0,0,0,0,0,0,0,0,0,0,0,0,0,0,0,0,0,0,0,0,0,0,0,0,0,0,0,0,0,0,0,0,0,0,0,0,0,0,0,0,0,0,0,0,0,0,0,0,0,0,0,0,0,0,0,0,0,0,0,0,0,0,0,0,0,0,0,0,0,0,0,0,0,0,0,0,0,0,0,0,0,0,0,0,0,0,0,0,0,0,0,0,0,0,0,0,0,0,0,0,0,0,0,0,0,0,0,0,0,0,0,0,0,0,0,0,0,0,0,0,0,0,0,0,0,0,0,0,0,0,0,0,0,0,0,0,0,0,0,0,0,0,0,0,0,0,0,0,0,0,0,0,0,0,0,0,0,0,0,0,0,0,0,0,0,0,0,0,0,0,0,0,0,0,0,0,0,0,0,0,0,0,0,0,0,0,0,0,0,0,0,0,0,0,0,0,0,0,0,0,0,0,0,0,0,0,0,0,0,0,0,0,0,0,0,0,0,0,0,0,0,0,0,0,0,0,0,0,0,0,0,0,0,0,0,0,0,0,0,0,0,0,0,0,0,0,0,0,0,0,0,0,0,0,0,0,0,0,0,0,0,0,0,0,0,0,0,0,0,0,0,0,0,0,0,0,0,0,0,0,0,0,0,0,0,0,0,0,0,0,0,0,0,0,0,0,0,0,0,0,0,0,0,0,0,0,0,0,0,0,0,0,0,0,0,0,0,0,0,0,0,0,0,0,0,0,0,0,0,0,0,0,0,0,0,0,0,0,0,0,0,0,0,0,0,0,0,0,0,0,0,0,0,0,0,0,0,0,0,0,0,0,0,0,0,0,0,0,0,0,0,0,0,0,0,0,0,0,0,0,0,0,0,0,0,0,0,0,0,0,0,0,0,0,0,0,0,0,0,0,0,0,0,0,0,0,0,0,0,0,0,0,0,0,0,0,0,0,0,0,0,0]
[2,{"$f":"'11 Axle Loads Direction 2-SS'!B833","v":"9B"},{"$f":"'11 Axle Loads Direction 2-SS'!C833","v":4},{"$f":"'11 Axle Loads Direction 2-SS'!D833","v":4},{"$f":"'11 Axle Loads Direction 2-SS'!E833","v":6},{"$f":"'11 Axle Loads Direction 2-SS'!F833","v":6},{"$f":"'11 Axle Loads Direction 2-SS'!G833","v":7},{"$f":"'11 Axle Loads Direction 2-SS'!H833","v":9},{"$f":"'11 Axle Loads Direction 2-SS'!I833","v":9},{"$f":"'11 Axle Loads Direction 2-SS'!J833","v":7},{"$f":"'11 Axle Loads Direction 2-SS'!K833","v":8},4,0,0,0,10,0,0,0,0,0,0,18,15,0,0,0,0,null,0,0,0,40,0,0,0,0,0,0,0,0,0,0,0,0,0,0,0,0,0,0,0,0,0,0,0,0,0,0,0,0,0,0,0,0,0,0,0,0,0,0,0,0,0,0,0,0,0,0,0,0,0,0,0,0,0,0,0,0,0,0,0,0,0,0,0,0,0,0,0,0,0,0,0,0,0,0,0,0,0,0,0,0,0,0,0,0,0,0,0,0,0,0,0,0,0,0,0,0,0,0,0,0,0,0,0,0,0,0,0,0,0,0,0,0,0,0,0,0,0,0,0,0,0,0,0,0,0,100,0,0,0,0,0,0,0,0,0,0,0,0,0,0,0,0,0,0,0,0,0,0,0,0,0,0,0,0,0,0,0,0,0,0,0,0,0,0,0,0,0,0,0,0,0,0,0,0,0,0,0,0,0,0,0,0,0,0,0,0,0,0,0,0,0,0,0,0,0,0,0,0,0,0,0,0,0,0,0,0,0,0,0,0,0,0,0,0,0,0,0,0,0,0,0,0,0,0,0,0,0,0,0,0,0,0,0,0,0,0,0,0,0,0,0,0,0,0,0,0,0,0,0,0,0,0,0,0,0,0,0,0,0,0,0,0,0,0,0,0,0,0,0,0,0,0,0,0,0,0,0,0,0,0,0,0,0,0,0,0,0,0,0,0,0,0,0,0,0,0,0,0,0,0,0,0,0,0,0,0,0,0,0,0,0,0,0,0,0,0,0,0,0,0,0,0,0,0,0,0,0,0,0,0,0,0,0,0,0,0,0,0,0,0,0,0,0,180,0,0,0,0,0,0,0,0,0,0,0,0,0,0,0,0,0,0,0,0,0,0,0,0,0,0,150,0,0,0,0,0,0,0,0,0,0,0,0,0,0,0,0,0,0,0,0,0,0,0,0,0,0,0,0,0,0,0,0,0,0,0,0,0,0,0,0,0,0,0,0,0,0,0,0,0,0,0,0,0,0,0,0,0,0,0,0,0,0,0,0,0,0,0,0,0,0,0,0,0,0,0,0,0,0,0,0,0,0,0,0,0,0,0,0,0,0,0,0,0,0,0,0,0,0,0,0,0,0,0,0,0,0,0,0,0,0,0,0,0,0,0,0,0,0,0,0,0,0,0,0,0,0,0,0,0,0,0,0,0,0,0,0,0,0,0,0,0,0,0,0,0,0,0,0,0,0,0,0,0,0,0]
[2,{"$f":"'11 Axle Loads Direction 2-SS'!B848","v":3},{"$f":"'11 Axle Loads Direction 2-SS'!C848","v":0},{"$f":"'11 Axle Loads Direction 2-SS'!D848","v":0},{"$f":"'11 Axle Loads Direction 2-SS'!E848","v":0},{"$f":"'11 Axle Loads Direction 2-SS'!F848","v":0},{"$f":"'11 Axle Loads Direction 2-SS'!G848","v":0},{"$f":"'11 Axle Loads Direction 2-SS'!H848","v":0},{"$f":"'11 Axle Loads Direction 2-SS'!I848","v":0},{"$f":"'11 Axle Loads Direction 2-SS'!J848","v":0},{"$f":"'11 Axle Loads Direction 2-SS'!K848","v":0},0,0,0,0,0,0,0,0,0,0,0,0,0,0,0,0,0,null,0,0,0,0,0,0,0,0,0,0,0,0,0,0,0,0,0,0,0,0,0,0,0,0,0,0,0,0,0,0,0,0,0,0,0,0,0,0,0,0,0,0,0,0,0,0,0,0,0,0,0,0,0,0,0,0,0,0,0,0,0,0,0,0,0,0,0,0,0,0,0,0,0,0,0,0,0,0,0,0,0,0,0,0,0,0,0,0,0,0,0,0,0,0,0,0,0,0,0,0,0,0,0,0,0,0,0,0,0,0,0,0,0,0,0,0,0,0,0,0,0,0,0,0,0,0,0,0,0,0,0,0,0,0,0,0,0,0,0,0,0,0,0,0,0,0,0,0,0,0,0,0,0,0,0,0,0,0,0,0,0,0,0,0,0,0,0,0,0,0,0,0,0,0,0,0,0,0,0,0,0,0,0,0,0,0,0,0,0,0,0,0,0,0,0,0,0,0,0,0,0,0,0,0,0,0,0,0,0,0,0,0,0,0,0,0,0,0,0,0,0,0,0,0,0,0,0,0,0,0,0,0,0,0,0,0,0,0,0,0,0,0,0,0,0,0,0,0,0,0,0,0,0,0,0,0,0,0,0,0,0,0,0,0,0,0,0,0,0,0,0,0,0,0,0,0,0,0,0,0,0,0,0,0,0,0,0,0,0,0,0,0,0,0,0,0,0,0,0,0,0,0,0,0,0,0,0,0,0,0,0,0,0,0,0,0,0,0,0,0,0,0,0,0,0,0,0,0,0,0,0,0,0,0,0,0,0,0,0,0,0,0,0,0,0,0,0,0,0,0,0,0,0,0,0,0,0,0,0,0,0,0,0,0,0,0,0,0,0,0,0,0,0,0,0,0,0,0,0,0,0,0,0,0,0,0,0,0,0,0,0,0,0,0,0,0,0,0,0,0,0,0,0,0,0,0,0,0,0,0,0,0,0,0,0,0,0,0,0,0,0,0,0,0,0,0,0,0,0,0,0,0,0,0,0,0,0,0,0,0,0,0,0,0,0,0,0,0,0,0,0,0,0,0,0,0,0,0,0,0,0,0,0,0,0,0,0,0,0,0,0,0,0,0,0,0,0,0,0,0,0,0,0,0,0,0,0,0,0,0,0,0,0,0,0,0,0,0,0,0,0,0,0,0,0,0,0,0,0,0,0,0,0,0,0,0,0,0,0,0,0,0,0,0,0,0,0,0,0,0]
[2,{"$f":"'11 Axle Loads Direction 2-SS'!B871","v":3},{"$f":"'11 Axle Loads Direction 2-SS'!C871","v":0},{"$f":"'11 Axle Loads Direction 2-SS'!D871","v":0},{"$f":"'11 Axle Loads Direction 2-SS'!E871","v":0},{"$f":"'11 Axle Loads Direction 2-SS'!F871","v":0},{"$f":"'11 Axle Loads Direction 2-SS'!G871","v":0},{"$f":"'11 Axle Loads Direction 2-SS'!H871","v":0},{"$f":"'11 Axle Loads Direction 2-SS'!I871","v":0},{"$f":"'11 Axle Loads Direction 2-SS'!J871","v":0},{"$f":"'11 Axle Loads Direction 2-SS'!K871","v":0},0,0,0,0,0,0,0,0,0,0,0,0,0,0,0,0,0,null,0,0,0,0,0,0,0,0,0,0,0,0,0,0,0,0,0,0,0,0,0,0,0,0,0,0,0,0,0,0,0,0,0,0,0,0,0,0,0,0,0,0,0,0,0,0,0,0,0,0,0,0,0,0,0,0,0,0,0,0,0,0,0,0,0,0,0,0,0,0,0,0,0,0,0,0,0,0,0,0,0,0,0,0,0,0,0,0,0,0,0,0,0,0,0,0,0,0,0,0,0,0,0,0,0,0,0,0,0,0,0,0,0,0,0,0,0,0,0,0,0,0,0,0,0,0,0,0,0,0,0,0,0,0,0,0,0,0,0,0,0,0,0,0,0,0,0,0,0,0,0,0,0,0,0,0,0,0,0,0,0,0,0,0,0,0,0,0,0,0,0,0,0,0,0,0,0,0,0,0,0,0,0,0,0,0,0,0,0,0,0,0,0,0,0,0,0,0,0,0,0,0,0,0,0,0,0,0,0,0,0,0,0,0,0,0,0,0,0,0,0,0,0,0,0,0,0,0,0,0,0,0,0,0,0,0,0,0,0,0,0,0,0,0,0,0,0,0,0,0,0,0,0,0,0,0,0,0,0,0,0,0,0,0,0,0,0,0,0,0,0,0,0,0,0,0,0,0,0,0,0,0,0,0,0,0,0,0,0,0,0,0,0,0,0,0,0,0,0,0,0,0,0,0,0,0,0,0,0,0,0,0,0,0,0,0,0,0,0,0,0,0,0,0,0,0,0,0,0,0,0,0,0,0,0,0,0,0,0,0,0,0,0,0,0,0,0,0,0,0,0,0,0,0,0,0,0,0,0,0,0,0,0,0,0,0,0,0,0,0,0,0,0,0,0,0,0,0,0,0,0,0,0,0,0,0,0,0,0,0,0,0,0,0,0,0,0,0,0,0,0,0,0,0,0,0,0,0,0,0,0,0,0,0,0,0,0,0,0,0,0,0,0,0,0,0,0,0,0,0,0,0,0,0,0,0,0,0,0,0,0,0,0,0,0,0,0,0,0,0,0,0,0,0,0,0,0,0,0,0,0,0,0,0,0,0,0,0,0,0,0,0,0,0,0,0,0,0,0,0,0,0,0,0,0,0,0,0,0,0,0,0,0,0,0,0,0,0,0,0,0,0,0,0,0,0,0,0,0,0,0,0,0,0,0,0,0,0,0,0,0,0,0,0,0,0,0,0,0,0]
[2,{"$f":"'11 Axle Loads Direction 2-SS'!B880","v":3},{"$f":"'11 Axle Loads Direction 2-SS'!C880","v":0},{"$f":"'11 Axle Loads Direction 2-SS'!D880","v":0},{"$f":"'11 Axle Loads Direction 2-SS'!E880","v":0},{"$f":"'11 Axle Loads Direction 2-SS'!F880","v":0},{"$f":"'11 Axle Loads Direction 2-SS'!G880","v":0},{"$f":"'11 Axle Loads Direction 2-SS'!H880","v":0},{"$f":"'11 Axle Loads Direction 2-SS'!I880","v":0},{"$f":"'11 Axle Loads Direction 2-SS'!J880","v":0},{"$f":"'11 Axle Loads Direction 2-SS'!K880","v":0},0,0,0,0,0,0,0,0,0,0,0,0,0,0,0,0,0,null,0,0,0,0,0,0,0,0,0,0,0,0,0,0,0,0,0,0,0,0,0,0,0,0,0,0,0,0,0,0,0,0,0,0,0,0,0,0,0,0,0,0,0,0,0,0,0,0,0,0,0,0,0,0,0,0,0,0,0,0,0,0,0,0,0,0,0,0,0,0,0,0,0,0,0,0,0,0,0,0,0,0,0,0,0,0,0,0,0,0,0,0,0,0,0,0,0,0,0,0,0,0,0,0,0,0,0,0,0,0,0,0,0,0,0,0,0,0,0,0,0,0,0,0,0,0,0,0,0,0,0,0,0,0,0,0,0,0,0,0,0,0,0,0,0,0,0,0,0,0,0,0,0,0,0,0,0,0,0,0,0,0,0,0,0,0,0,0,0,0,0,0,0,0,0,0,0,0,0,0,0,0,0,0,0,0,0,0,0,0,0,0,0,0,0,0,0,0,0,0,0,0,0,0,0,0,0,0,0,0,0,0,0,0,0,0,0,0,0,0,0,0,0,0,0,0,0,0,0,0,0,0,0,0,0,0,0,0,0,0,0,0,0,0,0,0,0,0,0,0,0,0,0,0,0,0,0,0,0,0,0,0,0,0,0,0,0,0,0,0,0,0,0,0,0,0,0,0,0,0,0,0,0,0,0,0,0,0,0,0,0,0,0,0,0,0,0,0,0,0,0,0,0,0,0,0,0,0,0,0,0,0,0,0,0,0,0,0,0,0,0,0,0,0,0,0,0,0,0,0,0,0,0,0,0,0,0,0,0,0,0,0,0,0,0,0,0,0,0,0,0,0,0,0,0,0,0,0,0,0,0,0,0,0,0,0,0,0,0,0,0,0,0,0,0,0,0,0,0,0,0,0,0,0,0,0,0,0,0,0,0,0,0,0,0,0,0,0,0,0,0,0,0,0,0,0,0,0,0,0,0,0,0,0,0,0,0,0,0,0,0,0,0,0,0,0,0,0,0,0,0,0,0,0,0,0,0,0,0,0,0,0,0,0,0,0,0,0,0,0,0,0,0,0,0,0,0,0,0,0,0,0,0,0,0,0,0,0,0,0,0,0,0,0,0,0,0,0,0,0,0,0,0,0,0,0,0,0,0,0,0,0,0,0,0,0,0,0,0,0,0,0,0,0,0,0,0,0,0,0,0,0,0,0,0,0,0,0,0,0,0,0,0,0,0,0,0,0,0,0]
[2,{"$f":"'11 Axle Loads Direction 2-SS'!B895","v":"3C"},{"$f":"'11 Axle Loads Direction 2-SS'!C895","v":0},{"$f":"'11 Axle Loads Direction 2-SS'!D895","v":0},{"$f":"'11 Axle Loads Direction 2-SS'!E895","v":0},{"$f":"'11 Axle Loads Direction 2-SS'!F895","v":0},{"$f":"'11 Axle Loads Direction 2-SS'!G895","v":0},{"$f":"'11 Axle Loads Direction 2-SS'!H895","v":0},{"$f":"'11 Axle Loads Direction 2-SS'!I895","v":0},{"$f":"'11 Axle Loads Direction 2-SS'!J895","v":0},{"$f":"'11 Axle Loads Direction 2-SS'!K895","v":0},0,0,0,0,0,0,0,0,0,0,0,0,0,0,0,0,0,null,0,0,0,0,0,0,0,0,0,0,0,0,0,0,0,0,0,0,0,0,0,0,0,0,0,0,0,0,0,0,0,0,0,0,0,0,0,0,0,0,0,0,0,0,0,0,0,0,0,0,0,0,0,0,0,0,0,0,0,0,0,0,0,0,0,0,0,0,0,0,0,0,0,0,0,0,0,0,0,0,0,0,0,0,0,0,0,0,0,0,0,0,0,0,0,0,0,0,0,0,0,0,0,0,0,0,0,0,0,0,0,0,0,0,0,0,0,0,0,0,0,0,0,0,0,0,0,0,0,0,0,0,0,0,0,0,0,0,0,0,0,0,0,0,0,0,0,0,0,0,0,0,0,0,0,0,0,0,0,0,0,0,0,0,0,0,0,0,0,0,0,0,0,0,0,0,0,0,0,0,0,0,0,0,0,0,0,0,0,0,0,0,0,0,0,0,0,0,0,0,0,0,0,0,0,0,0,0,0,0,0,0,0,0,0,0,0,0,0,0,0,0,0,0,0,0,0,0,0,0,0,0,0,0,0,0,0,0,0,0,0,0,0,0,0,0,0,0,0,0,0,0,0,0,0,0,0,0,0,0,0,0,0,0,0,0,0,0,0,0,0,0,0,0,0,0,0,0,0,0,0,0,0,0,0,0,0,0,0,0,0,0,0,0,0,0,0,0,0,0,0,0,0,0,0,0,0,0,0,0,0,0,0,0,0,0,0,0,0,0,0,0,0,0,0,0,0,0,0,0,0,0,0,0,0,0,0,0,0,0,0,0,0,0,0,0,0,0,0,0,0,0,0,0,0,0,0,0,0,0,0,0,0,0,0,0,0,0,0,0,0,0,0,0,0,0,0,0,0,0,0,0,0,0,0,0,0,0,0,0,0,0,0,0,0,0,0,0,0,0,0,0,0,0,0,0,0,0,0,0,0,0,0,0,0,0,0,0,0,0,0,0,0,0,0,0,0,0,0,0,0,0,0,0,0,0,0,0,0,0,0,0,0,0,0,0,0,0,0,0,0,0,0,0,0,0,0,0,0,0,0,0,0,0,0,0,0,0,0,0,0,0,0,0,0,0,0,0,0,0,0,0,0,0,0,0,0,0,0,0,0,0,0,0,0,0,0,0,0,0,0,0,0,0,0,0,0,0,0,0,0,0,0,0,0,0,0,0,0,0,0,0,0,0,0,0,0,0,0,0]
[2,{"$f":"'11 Axle Loads Direction 2-SS'!B904","v":9},{"$f":"'11 Axle Loads Direction 2-SS'!C904","v":0},{"$f":"'11 Axle Loads Direction 2-SS'!D904","v":0},{"$f":"'11 Axle Loads Direction 2-SS'!E904","v":0},{"$f":"'11 Axle Loads Direction 2-SS'!F904","v":0},{"$f":"'11 Axle Loads Direction 2-SS'!G904","v":0},{"$f":"'11 Axle Loads Direction 2-SS'!H904","v":0},{"$f":"'11 Axle Loads Direction 2-SS'!I904","v":0},{"$f":"'11 Axle Loads Direction 2-SS'!J904","v":0},{"$f":"'11 Axle Loads Direction 2-SS'!K904","v":0},0,0,0,0,0,0,0,0,0,0,0,0,0,0,0,0,0,null,0,0,0,0,0,0,0,0,0,0,0,0,0,0,0,0,0,0,0,0,0,0,0,0,0,0,0,0,0,0,0,0,0,0,0,0,0,0,0,0,0,0,0,0,0,0,0,0,0,0,0,0,0,0,0,0,0,0,0,0,0,0,0,0,0,0,0,0,0,0,0,0,0,0,0,0,0,0,0,0,0,0,0,0,0,0,0,0,0,0,0,0,0,0,0,0,0,0,0,0,0,0,0,0,0,0,0,0,0,0,0,0,0,0,0,0,0,0,0,0,0,0,0,0,0,0,0,0,0,0,0,0,0,0,0,0,0,0,0,0,0,0,0,0,0,0,0,0,0,0,0,0,0,0,0,0,0,0,0,0,0,0,0,0,0,0,0,0,0,0,0,0,0,0,0,0,0,0,0,0,0,0,0,0,0,0,0,0,0,0,0,0,0,0,0,0,0,0,0,0,0,0,0,0,0,0,0,0,0,0,0,0,0,0,0,0,0,0,0,0,0,0,0,0,0,0,0,0,0,0,0,0,0,0,0,0,0,0,0,0,0,0,0,0,0,0,0,0,0,0,0,0,0,0,0,0,0,0,0,0,0,0,0,0,0,0,0,0,0,0,0,0,0,0,0,0,0,0,0,0,0,0,0,0,0,0,0,0,0,0,0,0,0,0,0,0,0,0,0,0,0,0,0,0,0,0,0,0,0,0,0,0,0,0,0,0,0,0,0,0,0,0,0,0,0,0,0,0,0,0,0,0,0,0,0,0,0,0,0,0,0,0,0,0,0,0,0,0,0,0,0,0,0,0,0,0,0,0,0,0,0,0,0,0,0,0,0,0,0,0,0,0,0,0,0,0,0,0,0,0,0,0,0,0,0,0,0,0,0,0,0,0,0,0,0,0,0,0,0,0,0,0,0,0,0,0,0,0,0,0,0,0,0,0,0,0,0,0,0,0,0,0,0,0,0,0,0,0,0,0,0,0,0,0,0,0,0,0,0,0,0,0,0,0,0,0,0,0,0,0,0,0,0,0,0,0,0,0,0,0,0,0,0,0,0,0,0,0,0,0,0,0,0,0,0,0,0,0,0,0,0,0,0,0,0,0,0,0,0,0,0,0,0,0,0,0,0,0,0,0,0,0,0,0,0,0,0,0,0,0,0,0,0,0,0,0,0,0,0,0,0,0,0,0,0,0,0,0,0,0]
[2,{"$f":"'11 Axle Loads Direction 2-SS'!B927","v":9},{"$f":"'11 Axle Loads Direction 2-SS'!C927","v":4},{"$f":"'11 Axle Loads Direction 2-SS'!D927","v":4},{"$f":"'11 Axle Loads Direction 2-SS'!E927","v":6},{"$f":"'11 Axle Loads Direction 2-SS'!F927","v":6},{"$f":"'11 Axle Loads Direction 2-SS'!G927","v":7},{"$f":"'11 Axle Loads Direction 2-SS'!H927","v":7},{"$f":"'11 Axle Loads Direction 2-SS'!I927","v":7},{"$f":"'11 Axle Loads Direction 2-SS'!J927","v":7},{"$f":"'11 Axle Loads Direction 2-SS'!K927","v":8},4,0,0,0,10,0,13,14,15,0,0,0,0,0,0,0,0,null,0,0,0,40,0,0,0,0,0,0,0,0,0,0,0,0,0,0,0,0,0,0,0,0,0,0,0,0,0,0,0,0,0,0,0,0,0,0,0,0,0,0,0,0,0,0,0,0,0,0,0,0,0,0,0,0,0,0,0,0,0,0,0,0,0,0,0,0,0,0,0,0,0,0,0,0,0,0,0,0,0,0,0,0,0,0,0,0,0,0,0,0,0,0,0,0,0,0,0,0,0,0,0,0,0,0,0,0,0,0,0,0,0,0,0,0,0,0,0,0,0,0,0,0,0,0,0,0,0,100,0,0,0,0,0,0,0,0,0,0,0,0,0,0,0,0,0,0,0,0,0,0,0,0,0,0,0,0,0,0,0,0,0,0,0,0,0,0,0,0,0,0,0,0,0,0,0,0,0,0,0,0,0,0,0,0,0,0,0,0,0,0,130,0,0,0,0,0,0,0,0,0,0,0,0,0,0,0,0,0,0,0,0,0,0,0,0,0,0,0,0,0,0,140,0,0,0,0,0,0,0,0,0,0,0,0,0,0,0,0,0,0,0,0,0,0,0,0,0,0,0,0,0,0,150,0,0,0,0,0,0,0,0,0,0,0,0,0,0,0,0,0,0,0,0,0,0,0,0,0,0,0,0,0,0,0,0,0,0,0,0,0,0,0,0,0,0,0,0,0,0,0,0,0,0,0,0,0,0,0,0,0,0,0,0,0,0,0,0,0,0,0,0,0,0,0,0,0,0,0,0,0,0,0,0,0,0,0,0,0,0,0,0,0,0,0,0,0,0,0,0,0,0,0,0,0,0,0,0,0,0,0,0,0,0,0,0,0,0,0,0,0,0,0,0,0,0,0,0,0,0,0,0,0,0,0,0,0,0,0,0,0,0,0,0,0,0,0,0,0,0,0,0,0,0,0,0,0,0,0,0,0,0,0,0,0,0,0,0,0,0,0,0,0,0,0,0,0,0,0,0,0,0,0,0,0,0,0,0,0,0,0,0,0,0,0,0,0,0,0,0,0,0,0,0,0,0,0,0,0,0,0,0,0,0,0,0,0,0,0,0,0,0,0,0,0,0,0,0,0,0,0,0,0,0,0,0,0,0,0,0,0,0,0,0,0,0,0,0,0,0,0,0,0,0,0,0,0,0,0,0,0,0,0,0,0,0,0,0,0,0,0,0,0,0,0,0,0,0,0]
[2,{"$f":"'11 Axle Loads Direction 2-SS'!B942","v":3},{"$f":"'11 Axle Loads Direction 2-SS'!C942","v":0},{"$f":"'11 Axle Loads Direction 2-SS'!D942","v":0},{"$f":"'11 Axle Loads Direction 2-SS'!E942","v":0},{"$f":"'11 Axle Loads Direction 2-SS'!F942","v":0},{"$f":"'11 Axle Loads Direction 2-SS'!G942","v":0},{"$f":"'11 Axle Loads Direction 2-SS'!H942","v":0},{"$f":"'11 Axle Loads Direction 2-SS'!I942","v":0},{"$f":"'11 Axle Loads Direction 2-SS'!J942","v":0},{"$f":"'11 Axle Loads Direction 2-SS'!K942","v":0},0,0,0,0,0,0,0,0,0,0,0,0,0,0,0,0,0,null,0,0,0,0,0,0,0,0,0,0,0,0,0,0,0,0,0,0,0,0,0,0,0,0,0,0,0,0,0,0,0,0,0,0,0,0,0,0,0,0,0,0,0,0,0,0,0,0,0,0,0,0,0,0,0,0,0,0,0,0,0,0,0,0,0,0,0,0,0,0,0,0,0,0,0,0,0,0,0,0,0,0,0,0,0,0,0,0,0,0,0,0,0,0,0,0,0,0,0,0,0,0,0,0,0,0,0,0,0,0,0,0,0,0,0,0,0,0,0,0,0,0,0,0,0,0,0,0,0,0,0,0,0,0,0,0,0,0,0,0,0,0,0,0,0,0,0,0,0,0,0,0,0,0,0,0,0,0,0,0,0,0,0,0,0,0,0,0,0,0,0,0,0,0,0,0,0,0,0,0,0,0,0,0,0,0,0,0,0,0,0,0,0,0,0,0,0,0,0,0,0,0,0,0,0,0,0,0,0,0,0,0,0,0,0,0,0,0,0,0,0,0,0,0,0,0,0,0,0,0,0,0,0,0,0,0,0,0,0,0,0,0,0,0,0,0,0,0,0,0,0,0,0,0,0,0,0,0,0,0,0,0,0,0,0,0,0,0,0,0,0,0,0,0,0,0,0,0,0,0,0,0,0,0,0,0,0,0,0,0,0,0,0,0,0,0,0,0,0,0,0,0,0,0,0,0,0,0,0,0,0,0,0,0,0,0,0,0,0,0,0,0,0,0,0,0,0,0,0,0,0,0,0,0,0,0,0,0,0,0,0,0,0,0,0,0,0,0,0,0,0,0,0,0,0,0,0,0,0,0,0,0,0,0,0,0,0,0,0,0,0,0,0,0,0,0,0,0,0,0,0,0,0,0,0,0,0,0,0,0,0,0,0,0,0,0,0,0,0,0,0,0,0,0,0,0,0,0,0,0,0,0,0,0,0,0,0,0,0,0,0,0,0,0,0,0,0,0,0,0,0,0,0,0,0,0,0,0,0,0,0,0,0,0,0,0,0,0,0,0,0,0,0,0,0,0,0,0,0,0,0,0,0,0,0,0,0,0,0,0,0,0,0,0,0,0,0,0,0,0,0,0,0,0,0,0,0,0,0,0,0,0,0,0,0,0,0,0,0,0,0,0,0,0,0,0,0,0,0,0,0,0,0,0,0,0,0,0,0,0,0,0,0,0,0,0,0,0,0,0]
[2,{"$f":"'11 Axle Loads Direction 2-SS'!B953","v":3},{"$f":"'11 Axle Loads Direction 2-SS'!C953","v":0},{"$f":"'11 Axle Loads Direction 2-SS'!D953","v":0},{"$f":"'11 Axle Loads Direction 2-SS'!E953","v":0},{"$f":"'11 Axle Loads Direction 2-SS'!F953","v":0},{"$f":"'11 Axle Loads Direction 2-SS'!G953","v":0},{"$f":"'11 Axle Loads Direction 2-SS'!H953","v":0},{"$f":"'11 Axle Loads Direction 2-SS'!I953","v":0},{"$f":"'11 Axle Loads Direction 2-SS'!J953","v":0},{"$f":"'11 Axle Loads Direction 2-SS'!K953","v":0},0,0,0,0,0,0,0,0,0,0,0,0,0,0,0,0,0,null,0,0,0,0,0,0,0,0,0,0,0,0,0,0,0,0,0,0,0,0,0,0,0,0,0,0,0,0,0,0,0,0,0,0,0,0,0,0,0,0,0,0,0,0,0,0,0,0,0,0,0,0,0,0,0,0,0,0,0,0,0,0,0,0,0,0,0,0,0,0,0,0,0,0,0,0,0,0,0,0,0,0,0,0,0,0,0,0,0,0,0,0,0,0,0,0,0,0,0,0,0,0,0,0,0,0,0,0,0,0,0,0,0,0,0,0,0,0,0,0,0,0,0,0,0,0,0,0,0,0,0,0,0,0,0,0,0,0,0,0,0,0,0,0,0,0,0,0,0,0,0,0,0,0,0,0,0,0,0,0,0,0,0,0,0,0,0,0,0,0,0,0,0,0,0,0,0,0,0,0,0,0,0,0,0,0,0,0,0,0,0,0,0,0,0,0,0,0,0,0,0,0,0,0,0,0,0,0,0,0,0,0,0,0,0,0,0,0,0,0,0,0,0,0,0,0,0,0,0,0,0,0,0,0,0,0,0,0,0,0,0,0,0,0,0,0,0,0,0,0,0,0,0,0,0,0,0,0,0,0,0,0,0,0,0,0,0,0,0,0,0,0,0,0,0,0,0,0,0,0,0,0,0,0,0,0,0,0,0,0,0,0,0,0,0,0,0,0,0,0,0,0,0,0,0,0,0,0,0,0,0,0,0,0,0,0,0,0,0,0,0,0,0,0,0,0,0,0,0,0,0,0,0,0,0,0,0,0,0,0,0,0,0,0,0,0,0,0,0,0,0,0,0,0,0,0,0,0,0,0,0,0,0,0,0,0,0,0,0,0,0,0,0,0,0,0,0,0,0,0,0,0,0,0,0,0,0,0,0,0,0,0,0,0,0,0,0,0,0,0,0,0,0,0,0,0,0,0,0,0,0,0,0,0,0,0,0,0,0,0,0,0,0,0,0,0,0,0,0,0,0,0,0,0,0,0,0,0,0,0,0,0,0,0,0,0,0,0,0,0,0,0,0,0,0,0,0,0,0,0,0,0,0,0,0,0,0,0,0,0,0,0,0,0,0,0,0,0,0,0,0,0,0,0,0,0,0,0,0,0,0,0,0,0,0,0,0,0,0,0,0,0,0,0,0,0,0,0,0,0,0,0,0,0,0,0,0,0,0,0,0,0,0,0,0,0,0,0,0,0]
[2,{"$f":"'11 Axle Loads Direction 2-SS'!B974","v":3},{"$f":"'11 Axle Loads Direction 2-SS'!C974","v":0},{"$f":"'11 Axle Loads Direction 2-SS'!D974","v":0},{"$f":"'11 Axle Loads Direction 2-SS'!E974","v":0},{"$f":"'11 Axle Loads Direction 2-SS'!F974","v":0},{"$f":"'11 Axle Loads Direction 2-SS'!G974","v":0},{"$f":"'11 Axle Loads Direction 2-SS'!H974","v":0},{"$f":"'11 Axle Loads Direction 2-SS'!I974","v":0},{"$f":"'11 Axle Loads Direction 2-SS'!J974","v":0},{"$f":"'11 Axle Loads Direction 2-SS'!K974","v":0},0,0,0,0,0,0,0,0,0,0,0,0,0,0,0,0,0,null,0,0,0,0,0,0,0,0,0,0,0,0,0,0,0,0,0,0,0,0,0,0,0,0,0,0,0,0,0,0,0,0,0,0,0,0,0,0,0,0,0,0,0,0,0,0,0,0,0,0,0,0,0,0,0,0,0,0,0,0,0,0,0,0,0,0,0,0,0,0,0,0,0,0,0,0,0,0,0,0,0,0,0,0,0,0,0,0,0,0,0,0,0,0,0,0,0,0,0,0,0,0,0,0,0,0,0,0,0,0,0,0,0,0,0,0,0,0,0,0,0,0,0,0,0,0,0,0,0,0,0,0,0,0,0,0,0,0,0,0,0,0,0,0,0,0,0,0,0,0,0,0,0,0,0,0,0,0,0,0,0,0,0,0,0,0,0,0,0,0,0,0,0,0,0,0,0,0,0,0,0,0,0,0,0,0,0,0,0,0,0,0,0,0,0,0,0,0,0,0,0,0,0,0,0,0,0,0,0,0,0,0,0,0,0,0,0,0,0,0,0,0,0,0,0,0,0,0,0,0,0,0,0,0,0,0,0,0,0,0,0,0,0,0,0,0,0,0,0,0,0,0,0,0,0,0,0,0,0,0,0,0,0,0,0,0,0,0,0,0,0,0,0,0,0,0,0,0,0,0,0,0,0,0,0,0,0,0,0,0,0,0,0,0,0,0,0,0,0,0,0,0,0,0,0,0,0,0,0,0,0,0,0,0,0,0,0,0,0,0,0,0,0,0,0,0,0,0,0,0,0,0,0,0,0,0,0,0,0,0,0,0,0,0,0,0,0,0,0,0,0,0,0,0,0,0,0,0,0,0,0,0,0,0,0,0,0,0,0,0,0,0,0,0,0,0,0,0,0,0,0,0,0,0,0,0,0,0,0,0,0,0,0,0,0,0,0,0,0,0,0,0,0,0,0,0,0,0,0,0,0,0,0,0,0,0,0,0,0,0,0,0,0,0,0,0,0,0,0,0,0,0,0,0,0,0,0,0,0,0,0,0,0,0,0,0,0,0,0,0,0,0,0,0,0,0,0,0,0,0,0,0,0,0,0,0,0,0,0,0,0,0,0,0,0,0,0,0,0,0,0,0,0,0,0,0,0,0,0,0,0,0,0,0,0,0,0,0,0,0,0,0,0,0,0,0,0,0,0,0,0,0,0,0,0,0,0,0,0,0,0,0,0,0,0,0,0,0,0,0]
[2,{"$f":"'11 Axle Loads Direction 2-SS'!B989","v":3},{"$f":"'11 Axle Loads Direction 2-SS'!C989","v":0},{"$f":"'11 Axle Loads Direction 2-SS'!D989","v":0},{"$f":"'11 Axle Loads Direction 2-SS'!E989","v":0},{"$f":"'11 Axle Loads Direction 2-SS'!F989","v":0},{"$f":"'11 Axle Loads Direction 2-SS'!G989","v":0},{"$f":"'11 Axle Loads Direction 2-SS'!H989","v":0},{"$f":"'11 Axle Loads Direction 2-SS'!I989","v":0},{"$f":"'11 Axle Loads Direction 2-SS'!J989","v":0},{"$f":"'11 Axle Loads Direction 2-SS'!K989","v":0},0,0,0,0,0,0,0,0,0,0,0,0,0,0,0,0,0,null,0,0,0,0,0,0,0,0,0,0,0,0,0,0,0,0,0,0,0,0,0,0,0,0,0,0,0,0,0,0,0,0,0,0,0,0,0,0,0,0,0,0,0,0,0,0,0,0,0,0,0,0,0,0,0,0,0,0,0,0,0,0,0,0,0,0,0,0,0,0,0,0,0,0,0,0,0,0,0,0,0,0,0,0,0,0,0,0,0,0,0,0,0,0,0,0,0,0,0,0,0,0,0,0,0,0,0,0,0,0,0,0,0,0,0,0,0,0,0,0,0,0,0,0,0,0,0,0,0,0,0,0,0,0,0,0,0,0,0,0,0,0,0,0,0,0,0,0,0,0,0,0,0,0,0,0,0,0,0,0,0,0,0,0,0,0,0,0,0,0,0,0,0,0,0,0,0,0,0,0,0,0,0,0,0,0,0,0,0,0,0,0,0,0,0,0,0,0,0,0,0,0,0,0,0,0,0,0,0,0,0,0,0,0,0,0,0,0,0,0,0,0,0,0,0,0,0,0,0,0,0,0,0,0,0,0,0,0,0,0,0,0,0,0,0,0,0,0,0,0,0,0,0,0,0,0,0,0,0,0,0,0,0,0,0,0,0,0,0,0,0,0,0,0,0,0,0,0,0,0,0,0,0,0,0,0,0,0,0,0,0,0,0,0,0,0,0,0,0,0,0,0,0,0,0,0,0,0,0,0,0,0,0,0,0,0,0,0,0,0,0,0,0,0,0,0,0,0,0,0,0,0,0,0,0,0,0,0,0,0,0,0,0,0,0,0,0,0,0,0,0,0,0,0,0,0,0,0,0,0,0,0,0,0,0,0,0,0,0,0,0,0,0,0,0,0,0,0,0,0,0,0,0,0,0,0,0,0,0,0,0,0,0,0,0,0,0,0,0,0,0,0,0,0,0,0,0,0,0,0,0,0,0,0,0,0,0,0,0,0,0,0,0,0,0,0,0,0,0,0,0,0,0,0,0,0,0,0,0,0,0,0,0,0,0,0,0,0,0,0,0,0,0,0,0,0,0,0,0,0,0,0,0,0,0,0,0,0,0,0,0,0,0,0,0,0,0,0,0,0,0,0,0,0,0,0,0,0,0,0,0,0,0,0,0,0,0,0,0,0,0,0,0,0,0,0,0,0,0,0,0,0,0,0,0,0,0,0,0,0,0,0,0,0,0,0,0,0,0,0]
[2,{"$f":"'11 Axle Loads Direction 2-SS'!B1002","v":7},{"$f":"'11 Axle Loads Direction 2-SS'!C1002","v":0},{"$f":"'11 Axle Loads Direction 2-SS'!D1002","v":0},{"$f":"'11 Axle Loads Direction 2-SS'!E1002","v":0},{"$f":"'11 Axle Loads Direction 2-SS'!F1002","v":0},{"$f":"'11 Axle Loads Direction 2-SS'!G1002","v":0},{"$f":"'11 Axle Loads Direction 2-SS'!H1002","v":0},{"$f":"'11 Axle Loads Direction 2-SS'!I1002","v":0},{"$f":"'11 Axle Loads Direction 2-SS'!J1002","v":0},{"$f":"'11 Axle Loads Direction 2-SS'!K1002","v":0},0,0,0,0,0,0,0,0,0,0,0,0,0,0,0,0,0,null,0,0,0,0,0,0,0,0,0,0,0,0,0,0,0,0,0,0,0,0,0,0,0,0,0,0,0,0,0,0,0,0,0,0,0,0,0,0,0,0,0,0,0,0,0,0,0,0,0,0,0,0,0,0,0,0,0,0,0,0,0,0,0,0,0,0,0,0,0,0,0,0,0,0,0,0,0,0,0,0,0,0,0,0,0,0,0,0,0,0,0,0,0,0,0,0,0,0,0,0,0,0,0,0,0,0,0,0,0,0,0,0,0,0,0,0,0,0,0,0,0,0,0,0,0,0,0,0,0,0,0,0,0,0,0,0,0,0,0,0,0,0,0,0,0,0,0,0,0,0,0,0,0,0,0,0,0,0,0,0,0,0,0,0,0,0,0,0,0,0,0,0,0,0,0,0,0,0,0,0,0,0,0,0,0,0,0,0,0,0,0,0,0,0,0,0,0,0,0,0,0,0,0,0,0,0,0,0,0,0,0,0,0,0,0,0,0,0,0,0,0,0,0,0,0,0,0,0,0,0,0,0,0,0,0,0,0,0,0,0,0,0,0,0,0,0,0,0,0,0,0,0,0,0,0,0,0,0,0,0,0,0,0,0,0,0,0,0,0,0,0,0,0,0,0,0,0,0,0,0,0,0,0,0,0,0,0,0,0,0,0,0,0,0,0,0,0,0,0,0,0,0,0,0,0,0,0,0,0,0,0,0,0,0,0,0,0,0,0,0,0,0,0,0,0,0,0,0,0,0,0,0,0,0,0,0,0,0,0,0,0,0,0,0,0,0,0,0,0,0,0,0,0,0,0,0,0,0,0,0,0,0,0,0,0,0,0,0,0,0,0,0,0,0,0,0,0,0,0,0,0,0,0,0,0,0,0,0,0,0,0,0,0,0,0,0,0,0,0,0,0,0,0,0,0,0,0,0,0,0,0,0,0,0,0,0,0,0,0,0,0,0,0,0,0,0,0,0,0,0,0,0,0,0,0,0,0,0,0,0,0,0,0,0,0,0,0,0,0,0,0,0,0,0,0,0,0,0,0,0,0,0,0,0,0,0,0,0,0,0,0,0,0,0,0,0,0,0,0,0,0,0,0,0,0,0,0,0,0,0,0,0,0,0,0,0,0,0,0,0,0,0,0,0,0,0,0,0,0,0,0,0,0,0,0,0,0,0,0,0,0,0,0,0,0,0,0,0,0,0]
[null,3,"SAST","TADT",null,null,null,null,null,null,null,{"$f":"IFERROR(AVERAGEIF($B$5:$B$1005,B1012,$AU$5:$AU$1005),0)","v":0}]
[null,"3B","SAST","SADT","SADT",null,null,null,null,null,null,0]
[null,4,"SAST","SAST","TADT",null,null,null,null,null,null,0]
[null,5,"SAST","TADT",null,"TADT",null,null,null,null,null,0]
[null,"5B","SAST","TADT",null,"TAST",null,null,null,null,null,0]
[null,"5C","SAST","SADT","TRDT",null,null,null,null,null,null,0]
[null,"5D","SAST","SADT","TRST",null,null,null,null,null,null,0]
[null,6,"SAST","TADT",null,"TRDT",null,null,null,null,null,0]
[null,"6B","SAST","TADT",null,"TRST",null,null,null,null,null,{"$f":"IFERROR(AVERAGEIF($B$5:$B$1005,B1020,$AU$5:$AU$1005),0)","v":0}]
[null,"6C","SAST","TAST",null,"TRST",null,null,null,null,null,0]
[null,7,"SAST","TADT",null,"TADT",null,"TADT",null,null,null,0]
[null,"7B","SAST","TADT",null,"TAST",null,"TAST",null,null,null,{"$f":"IFERROR(AVERAGEIF($B$5:$B$1005,B1023,$AU$5:$AU$1005),0)","v":0}]
[null,"7C","SAST","TAST",null,"TAST",null,"TAST",null,null,null,0]
[null,9,"SAST","TADT",null,"TADT",null,"TADT",null,"TADT",null,0]
[null,"9B","SAST","TADT",null,"TAST",null,"TAST",null,"TAST",null,0]

{"sheet":"18 Concrete HVAG Dir-1","index":19,"n_rows":84,"n_cols":23,"rows_kept":84,"cut":false,"hidden":false,"merged":[[79,0,79,2],[35,0,35,5],[77,0,77,5],[83,0,83,2],[72,0,72,5],[67,0,67,5],[68,0,68,5],[69,0,69,5],[32,0,32,5],[33,0,33,5],[33,6,33,21],[37,0,37,2],[72,22,74,22],[73,0,73,5],[74,0,74,5],[49,38,77,51],[62,0,62,3],[63,6,63,21],[65,0,65,5],[65,22,68,22],[66,0,66,5],[69,22,71,22],[70,0,70,5],[71,0,71,5],[75,0,75,5],[76,0,76,5],[76,6,76,21],[6,38,34,51],[19,0,19,3],[20,6,20,21],[22,0,22,5],[22,22,25,22],[23,0,23,5],[24,0,24,5],[25,0,25,5],[26,0,26,5],[26,22,28,22],[27,0,27,5],[28,0,28,5],[29,0,29,5],[29,22,31,22],[30,0,30,5],[31,0,31,5]]}
["Computation of design cumulative heavy vehicle axle groups"]
[]
["Vehicle ","Vehicle Class","Factor","AADTT/ADTT","AADTT/day"]
["Medium Truck (2 Axles) - Type 2",2,1,{"$f":"'7 ADT Direction 1-SS'!B22","v":47.519999999999996},{"$f":"C4*D4","v":47.519999999999996}]
["Heavy Truck (3 Axles) - Type 3",3,1,{"$f":"'7 ADT Direction 1-SS'!C22","v":47.519999999999996},{"$f":"C5*D5","v":47.519999999999996}]
["Heavy Truck (3 Axles) - Type 3B","3B",1,{"$f":"'7 ADT Direction 1-SS'!D22","v":47.519999999999996},47.519999999999996]
["Heavy Truck (4 Axles) - Type 4",4,1,{"$f":"'7 ADT Direction 1-SS'!E22","v":47.519999999999996},47.519999999999996]
["Semi-Trailers (5 Axles) - Type 5",5,1,{"$f":"'7 ADT Direction 1-SS'!F22","v":47.519999999999996},47.519999999999996]
["Semi-Trailers (5 Axles) - Type 5B","5B",1,{"$f":"'7 ADT Direction 1-SS'!G22","v":47.519999999999996},{"$f":"C9*D9","v":47.519999999999996}]
["Semi-Trailers (5 Axles) - Type 5C","5C",1,{"$f":"'7 ADT Direction 1-SS'!H22","v":47.519999999999996},47.519999999999996]
["Semi-Trailers (5 Axles) - Type 5D","5D",1,{"$f":"'7 ADT Direction 1-SS'!I22","v":47.519999999999996},47.519999999999996]
["Semi-Trailers (6 Axles) - Type 6",6,1,{"$f":"'7 ADT Direction 1-SS'!J22","v":47.519999999999996},47.519999999999996]
["Semi-Trailers (6 Axles) - Type 6B","6B",1,{"$f":"'7 ADT Direction 1-SS'!K22","v":47.519999999999996},47.519999999999996]
["Semi-Trailers (6 Axles) - Type 6C","6C",1,{"$f":"'7 ADT Direction 1-SS'!L22","v":47.519999999999996},47.519999999999996]
["Trailers (7 Axles) - Type 7",7,1,{"$f":"'7 ADT Direction 1-SS'!M22","v":47.519999999999996},47.519999999999996]
["Trailers (7 Axles) - Type 7B","7B",1,{"$f":"'7 ADT Direction 1-SS'!N22","v":47.519999999999996},47.519999999999996]
["Trailers (7 Axles) - Type 7C","7C",1,{"$f":"'7 ADT Direction 1-SS'!O22","v":47.519999999999996},47.519999999999996]
["Trailers (9 Axles) - Type 9",9,1,{"$f":"'7 ADT Direction 1-SS'!P22","v":47.519999999999996},47.519999999999996]
["Trailers (9 Axles) - Type 9B","9B",1,{"$f":"'7 ADT Direction 1-SS'!Q22","v":47.519999999999996},47.519999999999996]
["a - Total AADTT/day (one way)",null,null,null,{"$f":"SUM(E4:E19)","v":760.31999999999982}]
[null,null,null,null,null,null,"Truck Type"]
["Factors",null,null,null,null,null,2,3,"3B",4,5,"5B","5C","5D",6,"6B","6C",7,"7B","7C",9,"9B"]
["a=current average annual daily traffic loading in AADTT/day (one way) in year of count",null,null,null,null,null,{"$f":"E4","v":47.519999999999996},{"$f":"E5","v":47.519999999999996},{"$f":"E6","v":47.519999999999996},{"$f":"E7","v":47.519999999999996},{"$f":"E8","v":47.519999999999996},{"$f":"E9","v":47.519999999999996},{"$f":"E10","v":47.519999999999996},{"$f":"E11","v":47.519999999999996},{"$f":"E12","v":47.519999999999996},{"$f":"E13","v":47.519999999999996},{"$f":"E14","v":47.519999999999996},{"$f":"E15","v":47.519999999999996},{"$f":"E16","v":47.519999999999996},{"$f":"E17","v":47.519999999999996},{"$f":"E18","v":47.519999999999996},{"$f":"E19","v":47.519999999999996},"Growth Period 1"]
["b=annual growth rate (%) for growth Period 1",null,null,null,null,null,5,5,5,5,5,5,5,5,5,5,5,5,5,5,5,5]
["c=design life (years) for growth Period 1",null,null,null,null,null,10,10,10,10,10,10,10,10,10,10,10,10,10,10,10,10]
["d=number of years to start of design life for growth Period 1",null,null,null,null,null,2,2,2,2,2,2,2,2,2,2,2,2,2,2,2,2]
["a=average annual daily traffic loading in AADTT/day (one way) at end of growth Period 1/ beginning of Period 2",null,null,null,null,null,{"$f":"G23*((1+(G24/100))^(G25+G26))","v":85.339092612571577},{"$f":"H23*((1+(H24/100))^(H25+H26))","v":85.339092612571577},85.339092612571577,85.339092612571577,85.339092612571577,85.339092612571577,85.339092612571577,85.339092612571577,85.339092612571577,{"$f":"P23*((1+(P24/100))^(P25+P26))","v":85.339092612571577},85.339092612571577,85.339092612571577,{"$f":"S23*((1+(S24/100))^(S25+S26))","v":85.339092612571577},85.339092612571577,85.339092612571577,85.339092612571577,"Growth Period 2"]
["b=annual growth rate (%) for growth Period 2",null,null,null,null,null,4,4,4,4,4,4,4,4,4,4,4,4,4,4,4,4]
["c=design life (years) for growth Period 2",null,null,null,null,null,5,5,5,5,5,5,5,5,5,5,5,5,5,5,5,5]
["a=average annual daily traffic loading in AADTT/day (one way) at end of growth Period 2/ beginning of Period 3",null,null,null,null,null,{"$f":"G27*((1+(G28/100))^(G29))","v":103.82805471526764},{"$f":"H27*((1+(H28/100))^(H29))","v":103.82805471526764},103.82805471526764,103.82805471526764,103.82805471526764,103.82805471526764,103.82805471526764,103.82805471526764,103.82805471526764,{"$f":"P27*((1+(P28/100))^(P29))","v":103.82805471526764},103.82805471526764,103.82805471526764,{"$f":"S27*((1+(S28/100))^(S29))","v":103.82805471526764},103.82805471526764,103.82805471526764,103.82805471526764,"Growth Period 3"]
["b=annual growth rate (%) for growth Period 3",null,null,null,null,null,3,3,3,3,3,3,3,3,3,3,3,3,3,3,3,3]
["c=design life (years) for growth Period 3",null,null,null,null,null,5,5,5,5,5,5,5,5,5,5,5,5,5,5,5,5]
["Total Cummulative AADTT by Truck Type (one way)",null,null,null,null,null,{"$f":"(((G23*365*100/G24)*(((1+(G24/100))^(G25+G26))-((1+(G24/100))^G26)))/1000000)+(((G27*365*100/G28)*(((1+(G28/100))^G29)-(1)))/1000000)+(((G30*365*100/G31)*(((1+(G31/100))^G32)-(1)))/1000000)","v":0.61043590908945922},{"$f":"(((H23*365*100/H24)*(((1+(H24/100))^(H25+H26))-((1+(H24/100))^H26)))/1000000)+(((H27*365*100/H28)*(((1+(H28/100))^H29)-(1)))/1000000)+(((H30*365*100/H31)*(((1+(H31/100))^H32)-(1)))/1000000)","v":0.61043590908945922},0.61043590908945922,0.61043590908945922,0.61043590908945922,0.61043590908945922,0.61043590908945922,0.61043590908945922,0.61043590908945922,{"$f":"(((P23*365*100/P24)*(((1+(P24/100))^(P25+P26))-((1+(P24/100))^P26)))/1000000)+(((P27*365*100/P28)*(((1+(P28/100))^P29)-(1)))/1000000)+(((P30*365*100/P31)*(((1+(P31/100))^P32)-(1)))/1000000)","v":0.61043590908945922},0.61043590908945922,0.61043590908945922,{"$f":"(((S23*365*100/S24)*(((1+(S24/100))^(S25+S26))-((1+(S24/100))^S26)))/1000000)+(((S27*365*100/S28)*(((1+(S28/100))^S29)-(1)))/1000000)+(((S30*365*100/S31)*(((1+(S31/100))^S32)-(1)))/1000000)","v":0.61043590908945922},0.61043590908945922,0.61043590908945922,0.61043590908945922,"MESA"]
["Total Cummulative Number of Heavy Vehicles (one way) (millions)",null,null,null,null,null,{"$f":"SUM(G33:V33)","v":9.7669745454313475}]
[]
["Assume Average number of axle groups per heavy vehicle",null,null,null,null,null,{"$f":"'16 Axle Loads Concrete Dir-1'!UQ50","v":2.7529411764705882}]
[]
["Pavement Design Cumulative Heavy Vehicle Axle Groups Direction 1",null,null,{"$f":"G34*G36*1000000","v":26887906.395658065}]
[]
[]
[]
[]
[]
["Computation of design value of Equivalent Standard Axle Loads (IF YOU ALREADY HAVE VEF per vehicle class and AADTT OR ADTT)"]
[]
["Vehicle ","Vehicle Class","Factor","AADTT/ADTT","AADTT/day"]
["Medium Truck (2 Axles) - Type 2",2,1,50,{"$f":"C47*D47","v":50}]
["Heavy Truck (3 Axles) - Type 3",3,1,60,{"$f":"C48*D48","v":60}]
["Heavy Truck (3 Axles) - Type 3B","3B",1,10,10]
["Heavy Truck (4 Axles) - Type 4",4,1,10,10]
["Semi-Trailers (5 Axles) - Type 5",5,1,25,25]
["Semi-Trailers (5 Axles) - Type 5B","5B",1,16,16]
["Semi-Trailers (5 Axles) - Type 5C","5C",1,25,25]
["Semi-Trailers (5 Axles) - Type 5D","5D",1,24,24]
["Semi-Trailers (6 Axles) - Type 6",6,1,28,28]
["Semi-Trailers (6 Axles) - Type 6B","6B",1,28,28]
["Semi-Trailers (6 Axles) - Type 6C","6C",1,23,23]
["Trailers (7 Axles) - Type 7",7,1,11,11]
["Trailers (7 Axles) - Type 7B","7B",1,11,11]
["Trailers (7 Axles) - Type 7C","7C",1,12,12]
["Trailers (9 Axles) - Type 9",9,1,20,20]
["Trailers (9 Axles) - Type 9B","9B",1,21,21]
["a - Total AADTT/day (one way)",null,null,null,{"$f":"SUM(E47:E62)","v":374}]
[null,null,null,null,null,null,"Truck Type"]
["Factors",null,null,null,null,null,2,3,"3B",4,5,"5B","5C","5D",6,"6B","6C",7,"7B","7C",9,"9B"]
["a=current average annual daily traffic loading in AADTT/day (one way) in year of count",null,null,null,null,null,{"$f":"E47","v":50},{"$f":"E48","v":60},{"$f":"E49","v":10},{"$f":"E50","v":10},{"$f":"E51","v":25},{"$f":"E52","v":16},{"$f":"E53","v":25},{"$f":"E54","v":24},{"$f":"E55","v":28},{"$f":"E56","v":28},{"$f":"E57","v":23},{"$f":"E58","v":11},{"$f":"E59","v":11},{"$f":"E60","v":12},{"$f":"E61","v":20},{"$f":"E62","v":21},"Growth Period 1"]
["b=annual growth rate (%) for growth Period 1",null,null,null,null,null,5,5,5,5,5,5,5,5,5,5,5,5,5,5,5,5]
["c=design life (years) for growth Period 1",null,null,null,null,null,10,10,10,10,10,10,10,10,10,10,10,10,10,10,10,10]
["d=number of years to start of design life for growth Period 1",null,null,null,null,null,2,2,2,2,2,2,2,2,2,2,2,2,2,2,2,2]
["a=average annual daily traffic loading in AADTT/day (one way) at end of growth Period 1/ beginning of Period 2",null,null,null,null,null,{"$f":"G66*((1+(G67/100))^(G68+G69))","v":89.792816301106456},{"$f":"H66*((1+(H67/100))^(H68+H69))","v":107.75137956132775},17.958563260221293,17.958563260221293,44.896408150553228,28.733701216354067,44.896408150553228,43.100551824531102,50.283977128619618,{"$f":"P66*((1+(P67/100))^(P68+P69))","v":50.283977128619618},41.30469549850897,19.754419586243422,{"$f":"S66*((1+(S67/100))^(S68+S69))","v":19.754419586243422},21.550275912265551,35.917126520442586,37.712982846464712,"Growth Period 2"]
["b=annual growth rate (%) for growth Period 2",null,null,null,null,null,4,4,4,4,4,4,4,4,4,4,4,4,4,4,4,4]
["c=design life (years) for growth Period 2",null,null,null,null,null,5,5,5,5,5,5,5,5,5,5,5,5,5,5,5,5]
["a=average annual daily traffic loading in AADTT/day (one way) at end of growth Period 2/ beginning of Period 3",null,null,null,null,null,{"$f":"G70*((1+(G71/100))^(G72))","v":109.24669056741124},{"$f":"H70*((1+(H71/100))^(H72))","v":131.09602868089348},21.849338113482251,21.849338113482251,54.623345283705618,34.958940981571594,54.623345283705618,52.438411472357394,61.178146717750295,{"$f":"P70*((1+(P71/100))^(P72))","v":61.178146717750295},50.253477661009164,24.034271924830474,{"$f":"S70*((1+(S71/100))^(S72))","v":24.034271924830474},26.219205736178697,43.698676226964501,45.883610038312717,"Growth Period 3"]
["b=annual growth rate (%) for growth Period 3",null,null,null,null,null,3,3,3,3,3,3,3,3,3,3,3,3,3,3,3,3]
["c=design life (years) for growth Period 3",null,null,null,null,null,5,5,5,5,5,5,5,5,5,5,5,5,5,5,5,5]
["Total Cummulative AADTT by Truck Type (one way) ",null,null,null,null,null,{"$f":"(((G66*365*100/G67)*(((1+(G67/100))^(G68+G69))-((1+(G67/100))^G69)))/1000000)+(((G70*365*100/G71)*(((1+(G71/100))^G72)-(1)))/1000000)+(((G73*365*100/G74)*(((1+(G74/100))^G75)-(1)))/1000000)","v":0.64229367538874071},{"$f":"(((H66*365*100/H67)*(((1+(H67/100))^(H68+H69))-((1+(H67/100))^H69)))/1000000)+(((H70*365*100/H71)*(((1+(H71/100))^H72)-(1)))/1000000)+(((H73*365*100/H74)*(((1+(H74/100))^H75)-(1)))/1000000)","v":0.7707524104664889},0.12845873507774819,0.12845873507774819,0.32114683769437036,0.20553397612439706,0.32114683769437036,0.30830096418659558,0.3596844582176949,{"$f":"(((P66*365*100/P67)*(((1+(P67/100))^(P68+P69))-((1+(P67/100))^P69)))/1000000)+(((P70*365*100/P71)*(((1+(P71/100))^P72)-(1)))/1000000)+(((P73*365*100/P74)*(((1+(P74/100))^P75)-(1)))/1000000)","v":0.3596844582176949},0.29545509067882075,0.14130460858552296,{"$f":"(((S66*365*100/S67)*(((1+(S67/100))^(S68+S69))-((1+(S67/100))^S69)))/1000000)+(((S70*365*100/S71)*(((1+(S71/100))^S72)-(1)))/1000000)+(((S73*365*100/S74)*(((1+(S74/100))^S75)-(1)))/1000000)","v":0.14130460858552296},0.15415048209329779,0.25691747015549637,0.26976334366327115,"MESA"]
["Total Cummulative Number of Heavy Vehicles (one way) (millions)",null,null,null,null,null,{"$f":"SUM(G76:V76)","v":4.804356691907782}]
["Average number of axle groups per heavy vehicle",null,null,null,null,null,{"$f":"'16 Axle Loads Concrete Dir-1'!UR50","v":2.5445292620865136}]
[]
["Pavement Design Cumulative Heavy Vehicle Axle Groups Direction 1",null,null,{"$f":"G77*G78*1000000","v":12224826.188060513}]
[]
[]
[]
["Determinant Pavement Design Cumulative Heavy Vehicle Axle Groups Direction 1",null,null,{"$f":"IF(D38>D80,D38,D80)","v":26887906.395658065}]

{"sheet":"19 Concrete HVAG Dir-2","index":20,"n_rows":84,"n_cols":23,"rows_kept":84,"cut":false,"hidden":false,"merged":[[79,0,79,2],[83,0,83,2],[72,0,72,5],[72,22,74,22],[73,0,73,5],[74,0,74,5],[75,0,75,5],[76,0,76,5],[76,6,76,21],[32,0,32,5],[33,0,33,5],[33,6,33,21],[35,0,35,5],[37,0,37,2],[49,38,77,51],[62,0,62,3],[63,6,63,21],[65,0,65,5],[65,22,68,22],[66,0,66,5],[67,0,67,5],[68,0,68,5],[69,0,69,5],[69,22,71,22],[70,0,70,5],[71,0,71,5],[77,0,77,5],[6,38,34,51],[19,0,19,3],[20,6,20,21],[22,0,22,5],[22,22,25,22],[23,0,23,5],[24,0,24,5],[25,0,25,5],[26,0,26,5],[26,22,28,22],[27,0,27,5],[28,0,28,5],[29,0,29,5],[29,22,31,22],[30,0,30,5],[31,0,31,5]]}
["Computation of design cumulative heavy vehicle axle groups"]
[]
["Vehicle ","Vehicle Class","Factor","AADTT/ADTT","AADTT/day"]
["Medium Truck (2 Axles) - Type 2",2,1,{"$f":"'12 Design MESA Direction 2-SS'!D4","v":47.519999999999996},{"$f":"C4*D4","v":47.519999999999996}]
["Heavy Truck (3 Axles) - Type 3",3,1,{"$f":"'12 Design MESA Direction 2-SS'!D5","v":47.519999999999996},{"$f":"C5*D5","v":47.519999999999996}]
["Heavy Truck (3 Axles) - Type 3B","3B",1,{"$f":"'12 Design MESA Direction 2-SS'!D6","v":47.519999999999996},47.519999999999996]
["Heavy Truck (4 Axles) - Type 4",4,1,{"$f":"'12 Design MESA Direction 2-SS'!D7","v":47.519999999999996},47.519999999999996]
["Semi-Trailers (5 Axles) - Type 5",5,1,{"$f":"'12 Design MESA Direction 2-SS'!D8","v":47.519999999999996},47.519999999999996]
["Semi-Trailers (5 Axles) - Type 5B","5B",1,{"$f":"'12 Design MESA Direction 2-SS'!D9","v":47.519999999999996},47.519999999999996]
["Semi-Trailers (5 Axles) - Type 5C","5C",1,{"$f":"'12 Design MESA Direction 2-SS'!D10","v":47.519999999999996},47.519999999999996]
["Semi-Trailers (5 Axles) - Type 5D","5D",1,{"$f":"'12 Design MESA Direction 2-SS'!D11","v":47.519999999999996},47.519999999999996]
["Semi-Trailers (6 Axles) - Type 6",6,1,{"$f":"'12 Design MESA Direction 2-SS'!D12","v":47.519999999999996},47.519999999999996]
["Semi-Trailers (6 Axles) - Type 6B","6B",1,{"$f":"'12 Design MESA Direction 2-SS'!D13","v":47.519999999999996},47.519999999999996]
["Semi-Trailers (6 Axles) - Type 6C","6C",1,{"$f":"'12 Design MESA Direction 2-SS'!D14","v":47.519999999999996},47.519999999999996]
["Trailers (7 Axles) - Type 7",7,1,{"$f":"'12 Design MESA Direction 2-SS'!D15","v":47.519999999999996},47.519999999999996]
["Trailers (7 Axles) - Type 7B","7B",1,{"$f":"'12 Design MESA Direction 2-SS'!D16","v":47.519999999999996},47.519999999999996]
["Trailers (7 Axles) - Type 7C","7C",1,{"$f":"'12 Design MESA Direction 2-SS'!D17","v":47.519999999999996},47.519999999999996]
["Trailers (9 Axles) - Type 9",9,1,{"$f":"'12 Design MESA Direction 2-SS'!D18","v":47.519999999999996},47.519999999999996]
["Trailers (9 Axles) - Type 9B","9B",1,{"$f":"'12 Design MESA Direction 2-SS'!D19","v":47.519999999999996},47.519999999999996]
["a - Total ESA/day (one way)",null,null,null,{"$f":"SUM(E4:E19)","v":760.31999999999982}]
[null,null,null,null,null,null,"Truck Type"]
["Factors",null,null,null,null,null,2,3,"3B",4,5,"5B","5C","5D",6,"6B","6C",7,"7B","7C",9,"9B"]
["a=current average annual daily traffic loading in ESA/day (one way) in year of count",null,null,null,null,null,{"$f":"E4","v":47.519999999999996},{"$f":"E5","v":47.519999999999996},{"$f":"E6","v":47.519999999999996},{"$f":"E7","v":47.519999999999996},{"$f":"E8","v":47.519999999999996},{"$f":"E9","v":47.519999999999996},{"$f":"E10","v":47.519999999999996},{"$f":"E11","v":47.519999999999996},{"$f":"E12","v":47.519999999999996},{"$f":"E13","v":47.519999999999996},{"$f":"E14","v":47.519999999999996},{"$f":"E15","v":47.519999999999996},{"$f":"E16","v":47.519999999999996},{"$f":"E17","v":47.519999999999996},{"$f":"E18","v":47.519999999999996},{"$f":"E19","v":47.519999999999996},"Growth Period 1"]
["b=annual growth rate (%) for growth Period 1",null,null,null,null,null,5,5,5,5,5,5,5,5,5,5,5,5,5,5,5,5]
["c=design life (years) for growth Period 1",null,null,null,null,null,10,10,10,10,10,10,10,10,10,10,10,10,10,10,10,10]
["d=number of years to start of design life for growth Period 1",null,null,null,null,null,2,2,2,2,2,2,2,2,2,2,2,2,2,2,2,2]
["a=average annual daily traffic loading in ESA/day (one way) at end of growth Period 1/ beginning of Period 2",null,null,null,null,null,{"$f":"G23*((1+(G24/100))^(G25+G26))","v":85.339092612571577},{"$f":"H23*((1+(H24/100))^(H25+H26))","v":85.339092612571577},85.339092612571577,85.339092612571577,85.339092612571577,85.339092612571577,85.339092612571577,85.339092612571577,85.339092612571577,{"$f":"P23*((1+(P24/100))^(P25+P26))","v":85.339092612571577},85.339092612571577,85.339092612571577,{"$f":"S23*((1+(S24/100))^(S25+S26))","v":85.339092612571577},85.339092612571577,85.339092612571577,85.339092612571577,"Growth Period 2"]
["b=annual growth rate (%) for growth Period 2",null,null,null,null,null,4,4,4,4,4,4,4,4,4,4,4,4,4,4,4,4]
["c=design life (years) for growth Period 2",null,null,null,null,null,5,5,5,5,5,5,5,5,5,5,5,5,5,5,5,5]
["a=average annual daily traffic loading in ESA/day (one way) at end of growth Period 2/ beginning of Period 3",null,null,null,null,null,{"$f":"G27*((1+(G28/100))^(G29))","v":103.82805471526764},{"$f":"H27*((1+(H28/100))^(H29))","v":103.82805471526764},103.82805471526764,103.82805471526764,103.82805471526764,103.82805471526764,103.82805471526764,103.82805471526764,103.82805471526764,{"$f":"P27*((1+(P28/100))^(P29))","v":103.82805471526764},103.82805471526764,103.82805471526764,{"$f":"S27*((1+(S28/100))^(S29))","v":103.82805471526764},103.82805471526764,103.82805471526764,103.82805471526764,"Growth Period 3"]
["b=annual growth rate (%) for growth Period 3",null,null,null,null,null,3,3,3,3,3,3,3,3,3,3,3,3,3,3,3,3]
["c=design life (years) for growth Period 3",null,null,null,null,null,5,5,5,5,5,5,5,5,5,5,5,5,5,5,5,5]
["Total Cummulative ESA by Truck Type (one way)",null,null,null,null,null,{"$f":"(((G23*365*100/G24)*(((1+(G24/100))^(G25+G26))-((1+(G24/100))^G26)))/1000000)+(((G27*365*100/G28)*(((1+(G28/100))^G29)-(1)))/1000000)+(((G30*365*100/G31)*(((1+(G31/100))^G32)-(1)))/1000000)","v":0.61043590908945922},{"$f":"(((H23*365*100/H24)*(((1+(H24/100))^(H25+H26))-((1+(H24/100))^H26)))/1000000)+(((H27*365*100/H28)*(((1+(H28/100))^H29)-(1)))/1000000)+(((H30*365*100/H31)*(((1+(H31/100))^H32)-(1)))/1000000)","v":0.61043590908945922},0.61043590908945922,0.61043590908945922,0.61043590908945922,0.61043590908945922,0.61043590908945922,0.61043590908945922,0.61043590908945922,{"$f":"(((P23*365*100/P24)*(((1+(P24/100))^(P25+P26))-((1+(P24/100))^P26)))/1000000)+(((P27*365*100/P28)*(((1+(P28/100))^P29)-(1)))/1000000)+(((P30*365*100/P31)*(((1+(P31/100))^P32)-(1)))/1000000)","v":0.61043590908945922},0.61043590908945922,0.61043590908945922,{"$f":"(((S23*365*100/S24)*(((1+(S24/100))^(S25+S26))-((1+(S24/100))^S26)))/1000000)+(((S27*365*100/S28)*(((1+(S28/100))^S29)-(1)))/1000000)+(((S30*365*100/S31)*(((1+(S31/100))^S32)-(1)))/1000000)","v":0.61043590908945922},0.61043590908945922,0.61043590908945922,0.61043590908945922,"MESA"]
["Total Cummulative Number of Heavy Vehicles (one way) (millions)",null,null,null,null,null,{"$f":"SUM(G33:V33)","v":9.7669745454313475}]
[]
["Average number of axle groups per heavy vehicle",null,null,null,null,null,{"$f":"'17 Axle Loads Concrete Dir-2'!UQ50","v":2.7647058823529407}]
[]
["Pavement Design Cumulative Heavy Vehicle Axle Groups Direction 2",null,null,{"$f":"G34*G36*1000000","v":27002811.978545483}]
[]
[]
[]
[]
[]
["Computation of design value of Equivalent Standard Axle Loads (IF YOU ALREADY HAVE VEF per vehicle class and AADTT OR ADTT)"]
[]
["Vehicle ","Vehicle Class","Factor","AADTT/ADTT","AADTT/day"]
["Medium Truck (2 Axles) - Type 2",2,1,50,{"$f":"C47*D47","v":50}]
["Heavy Truck (3 Axles) - Type 3",3,1,60,{"$f":"C48*D48","v":60}]
["Heavy Truck (3 Axles) - Type 3B","3B",1,10,10]
["Heavy Truck (4 Axles) - Type 4",4,1,10,10]
["Semi-Trailers (5 Axles) - Type 5",5,1,25,25]
["Semi-Trailers (5 Axles) - Type 5B","5B",1,16,16]
["Semi-Trailers (5 Axles) - Type 5C","5C",1,25,25]
["Semi-Trailers (5 Axles) - Type 5D","5D",1,24,24]
["Semi-Trailers (6 Axles) - Type 6",6,1,28,28]
["Semi-Trailers (6 Axles) - Type 6B","6B",1,28,28]
["Semi-Trailers (6 Axles) - Type 6C","6C",1,23,23]
["Trailers (7 Axles) - Type 7",7,1,11,11]
["Trailers (7 Axles) - Type 7B","7B",1,11,11]
["Trailers (7 Axles) - Type 7C","7C",1,12,12]
["Trailers (9 Axles) - Type 9",9,1,20,20]
["Trailers (9 Axles) - Type 9B","9B",1,21,21]
["a - Total ESA/day (one way)",null,null,null,{"$f":"SUM(E47:E62)","v":374}]
[null,null,null,null,null,null,"Truck Type"]
["Factors",null,null,null,null,null,2,3,"3B",4,5,"5B","5C","5D",6,"6B","6C",7,"7B","7C",9,"9B"]
["a=current average annual daily traffic loading in ESA/day (one way) in year of count",null,null,null,null,null,{"$f":"E47","v":50},{"$f":"E48","v":60},{"$f":"E49","v":10},{"$f":"E50","v":10},{"$f":"E51","v":25},{"$f":"E52","v":16},{"$f":"E53","v":25},{"$f":"E54","v":24},{"$f":"E55","v":28},{"$f":"E56","v":28},{"$f":"E57","v":23},{"$f":"E58","v":11},{"$f":"E59","v":11},{"$f":"E60","v":12},{"$f":"E61","v":20},{"$f":"E62","v":21},"Growth Period 1"]
["b=annual growth rate (%) for growth Period 1",null,null,null,null,null,5,5,5,5,5,5,5,5,5,5,5,5,5,5,5,5]
["c=design life (years) for growth Period 1",null,null,null,null,null,10,10,10,10,10,10,10,10,10,10,10,10,10,10,10,10]
["d=number of years to start of design life for growth Period 1",null,null,null,null,null,2,2,2,2,2,2,2,2,2,2,2,2,2,2,2,2]
["a=average annual daily traffic loading in ESA/day (one way) at end of growth Period 1/ beginning of Period 2",null,null,null,null,null,{"$f":"G66*((1+(G67/100))^(G68+G69))","v":89.792816301106456},{"$f":"H66*((1+(H67/100))^(H68+H69))","v":107.75137956132775},17.958563260221293,17.958563260221293,44.896408150553228,28.733701216354067,44.896408150553228,43.100551824531102,50.283977128619618,{"$f":"P66*((1+(P67/100))^(P68+P69))","v":50.283977128619618},41.30469549850897,19.754419586243422,{"$f":"S66*((1+(S67/100))^(S68+S69))","v":19.754419586243422},21.550275912265551,35.917126520442586,37.712982846464712,"Growth Period 2"]
["b=annual growth rate (%) for growth Period 2",null,null,null,null,null,4,4,4,4,4,4,4,4,4,4,4,4,4,4,4,4]
["c=design life (years) for growth Period 2",null,null,null,null,null,5,5,5,5,5,5,5,5,5,5,5,5,5,5,5,5]
["a=average annual daily traffic loading in ESA/day (one way) at end of growth Period 2/ beginning of Period 3",null,null,null,null,null,{"$f":"G70*((1+(G71/100))^(G72))","v":109.24669056741124},{"$f":"H70*((1+(H71/100))^(H72))","v":131.09602868089348},21.849338113482251,21.849338113482251,54.623345283705618,34.958940981571594,54.623345283705618,52.438411472357394,61.178146717750295,{"$f":"P70*((1+(P71/100))^(P72))","v":61.178146717750295},50.253477661009164,24.034271924830474,{"$f":"S70*((1+(S71/100))^(S72))","v":24.034271924830474},26.219205736178697,43.698676226964501,45.883610038312717,"Growth Period 3"]
["b=annual growth rate (%) for growth Period 3",null,null,null,null,null,3,3,3,3,3,3,3,3,3,3,3,3,3,3,3,3]
["c=design life (years) for growth Period 3",null,null,null,null,null,5,5,5,5,5,5,5,5,5,5,5,5,5,5,5,5]
["Total Cummulative MESA by Truck Type (one way) ",null,null,null,null,null,{"$f":"(((G66*365*100/G67)*(((1+(G67/100))^(G68+G69))-((1+(G67/100))^G69)))/1000000)+(((G70*365*100/G71)*(((1+(G71/100))^G72)-(1)))/1000000)+(((G73*365*100/G74)*(((1+(G74/100))^G75)-(1)))/1000000)","v":0.64229367538874071},{"$f":"(((H66*365*100/H67)*(((1+(H67/100))^(H68+H69))-((1+(H67/100))^H69)))/1000000)+(((H70*365*100/H71)*(((1+(H71/100))^H72)-(1)))/1000000)+(((H73*365*100/H74)*(((1+(H74/100))^H75)-(1)))/1000000)","v":0.7707524104664889},0.12845873507774819,0.12845873507774819,0.32114683769437036,0.20553397612439706,0.32114683769437036,0.30830096418659558,0.3596844582176949,{"$f":"(((P66*365*100/P67)*(((1+(P67/100))^(P68+P69))-((1+(P67/100))^P69)))/1000000)+(((P70*365*100/P71)*(((1+(P71/100))^P72)-(1)))/1000000)+(((P73*365*100/P74)*(((1+(P74/100))^P75)-(1)))/1000000)","v":0.3596844582176949},0.29545509067882075,0.14130460858552296,{"$f":"(((S66*365*100/S67)*(((1+(S67/100))^(S68+S69))-((1+(S67/100))^S69)))/1000000)+(((S70*365*100/S71)*(((1+(S71/100))^S72)-(1)))/1000000)+(((S73*365*100/S74)*(((1+(S74/100))^S75)-(1)))/1000000)","v":0.14130460858552296},0.15415048209329779,0.25691747015549637,0.26976334366327115,"MESA"]
["Total Cummulative Number of Heavy Vehicles (one way) (millions)",null,null,null,null,null,{"$f":"SUM(G76:V76)","v":4.804356691907782}]
["Assume Average number of axle groups per heavy vehicle",null,null,null,null,null,{"$f":"'17 Axle Loads Concrete Dir-2'!UR50","v":2.5445292620865136}]
[]
["Pavement Design Cumulative Heavy Vehicle Axle Groups Direction 2",null,null,{"$f":"G77*G78*1000000","v":12224826.188060513}]
[]
[]
[]
["Determinant Pavement Design Cumulative Heavy Vehicle Axle Groups Direction 2",null,null,{"$f":"IF(D38>D80,D38,D80)","v":27002811.978545483}]

{"sheet":"20 Concrete Pavement-Undowelled","index":21,"n_rows":370,"n_cols":47,"rows_kept":370,"cut":false,"hidden":false,"merged":[[63,39,63,42],[63,43,63,46],[78,38,80,38],[78,39,78,42],[78,43,78,46],[79,39,79,42],[79,43,79,46],[32,1,32,2],[32,3,32,4],[37,2,37,3],[38,2,38,3],[39,2,39,3],[46,38,48,38],[41,2,41,3],[42,2,42,3],[43,2,43,3],[46,43,46,46],[46,39,46,42],[47,39,47,42],[47,43,47,46],[62,39,62,42],[62,43,62,46],[55,26,55,30],[55,25,56,25],[84,12,84,13],[84,11,85,11],[84,10,85,10],[84,9,85,9],[84,7,84,8],[84,4,84,6],[84,3,85,3],[84,2,85,2],[47,12,47,18],[48,12,48,13],[48,14,48,15],[48,16,49,16],[48,17,49,17],[48,18,49,18],[84,14,84,15],[84,16,85,16],[84,17,85,17],[84,18,85,18],[120,12,120,13],[120,14,120,15],[120,16,121,16],[120,17,121,17],[120,18,121,18],[47,4,47,11],[238,9,239,9],[238,10,239,10],[238,11,239,11],[156,12,156,13],[156,14,156,15],[156,16,157,16],[156,17,157,17],[156,18,157,18],[238,12,238,13],[238,14,238,15],[238,16,239,16],[238,17,239,17],[238,18,239,18],[48,9,49,9],[48,10,49,10],[48,11,49,11],[197,12,197,13],[197,14,197,15],[238,1,239,1],[238,2,239,2],[238,3,239,3],[120,9,121,9],[120,10,121,10],[120,11,121,11],[156,9,157,9],[156,10,157,10],[156,11,157,11],[238,4,238,6],[238,7,238,8],[197,1,198,1],[197,2,198,2],[197,3,198,3],[197,4,197,6],[197,7,197,8],[197,9,198,9],[197,10,198,10],[197,11,198,11],[40,2,40,3],[120,1,121,1],[120,2,121,2],[120,3,121,3],[120,4,120,6],[120,7,120,8],[156,1,157,1],[156,2,157,2],[156,3,157,3],[156,4,156,6],[156,7,156,8],[48,1,49,1],[48,2,49,2],[48,3,49,3],[48,4,48,6],[48,7,48,8],[84,1,85,1],[197,16,198,16],[197,17,198,17],[197,18,198,18],[2,22,4,22],[2,23,2,26],[2,27,2,30],[3,23,3,26],[3,27,3,30],[39,23,39,26],[39,27,39,30],[40,23,40,26],[40,27,40,30],[19,22,21,22],[19,23,19,26],[19,27,19,30],[20,23,20,26],[20,27,20,30],[39,22,41,22]]}
[null,"Base Thickness Desgin Procedure",null,null,null,null,null,null,null,null,null,null,null,null,null,null,null,null,null,null,null,null,null,null,null,null,null,null,null,null,null,null,null,"TAG","F1","F4","P"]
[null,null,null,null,null,null,null,null,null,null,null,null,null,null,null,null,null,null,null,null,null,null,null,null,null,null,null,null,null,null,null,null,null,"SAST < 375",9,9,53]
[null,"Subgrade information",null,null,null,null,null,null,null,null,null,null,null,null,null,null,null,null,null,null,null,null,9.4,"Without concrete shoulders",null,null,null,"Concrete shoulders",null,null,null,null,null,"375 < SAST < 450",9,9,58]
[null,null,null,null,null,null,null,null,null,null,null,null,null,null,null,null,null,null,null,null,null,null,null,"Axel group type",null,null,null,"Axel group type",null,null,null,null,null,"SAST > 450",9,9,71]
[null,"Subgrade Layers","Thickness (m)","CBR (%)","hi*CBRi^0.333",null,null,"Effective Subgrade Strength (CBR %)",null,null,null,null,null,null,null,null,null,null,null,null,null,null,null,"SAST","SADT","TADT & TAST","TRDT & QADT","SAST","SADT","TADT & TAST","TRDT & QADT",null,null,"SADT",18,18,80]
[null,"Layer 1",0.4,5,{"$f":"C6*(D6^0.333)","v":0.68362353040033885},null,null,"Design Subgrade Strength (CBR %)","Sub-base",null,null,null,null,null,null,null,null,null,null,null,null,null,"a",0.11799999999999999,0.56000000000000005,0.219,8.8999999999999996E-2,-5.0999999999999997E-2,0.33,8.7999999999999995E-2,-0.14499999999999999,null,null,"TAST < 375",18,18,89]
[null,"Layer 2",0.1,6,{"$f":"C7*(D7^0.333)","v":0.18160356358517363},null,null,null,"150 mm Lean-mix Concrete","125 mm Lean-mix Concrete","100 mm Lean-mix Concrete or ≥ 150 mm HBM","125 mm HBM",null,null,null,null,null,null,null,null,null,null,"b",125.4,184.4,399.6,336.4,26,206.5,301.5,258.60000000000002,null,null,"375 < TAST < 450",18,18,98]
[null,"Layer 3",0.1,5,{"$f":"C8*(D8^0.333)","v":0.17090588260008471},null,null,1,5,4,3,2,null,null,null,null,null,null,null,null,null,null,"c",-0.23960000000000001,-0.6663,-0.37419999999999998,-0.13400000000000001,8.9899999999999994E-2,-0.46839999999999998,-0.18459999999999999,8.0000000000000002E-3,null,null,"TAST > 450",18,18,119]
[null,"Layer 4",null,null,{"$f":"C9*(D9^0.333)","v":0},null,null,2,25,20,14,9,null,null,null,null,null,null,null,null,null,null,"d",26969,44405,-38,-10007,35774,28661,4418,1408,null,null,"TADT",36,36,135]
[null,"Layer 5",null,null,{"$f":"C10*(D10^0.333)","v":0},null,null,3,40,30,20,13,null,null,null,null,null,null,null,null,null,null,"e",8.9599999999999999E-2,0.22539999999999999,0.16800000000000001,8.3000000000000004E-2,3.7600000000000001E-2,0.16500000000000001,9.3899999999999997E-2,3.1199999999999999E-2,null,null,"TRDT",54,54,182]
[null,"Sum ",{"$f":"IF(SUM(C6:C10)<1, SUM(C6:C10), \"MUST BE =<1\")","v":0.6},null,{"$f":"SUM(E6:E10)","v":1.0361329765855971},null,null,4,58,40,27,17,null,null,null,null,null,null,null,null,null,null,"f",0.19,19.75,-71.09,-83.14,14.57,2.82,-59.93,-61.25,null,null,"QADT",72,54,226]
[null,"CBRE",null,{"$f":"ROUNDDOWN((E11/C11)^3,0)","v":5},null,null,null,5,72,50,35,22,null,null,null,null,null,null,null,null,null,null,"g",-352174,-942585,681381,1215750,-861548,-686510,280297,488079]
[null,null,null,null,null,null,null,6,75,60,40,26,null,null,null,null,null,null,null,null,null,null,"h",-1.04E-2,-2.4799999999999999E-2,-2.18E-2,-1.2E-2,3.0999999999999999E-3,-1.8599999999999998E-2,-1.2800000000000001E-2,-5.7999999999999996E-3,null,null,"Shoulder","F2"]
[null,"Design Iteration",{"$f":"_xlfn.CONCAT((_xlfn.XLOOKUP(C19,AH39:AH42,AI39:AI42)),(_xlfn.XLOOKUP(D12,AJ39:AJ53,AK39:AK53)))","v":"I12"},null,null,null,null,7,75,70,50,30,null,null,null,null,null,null,null,null,null,null,"i",-1.2536,-4.6657000000000002,3.6501000000000001,5.2724000000000002,1.3098000000000001,-1.9605999999999999,4.1791,4.7427999999999999,null,null,"Without concrete shoulders",0.06]
[null,null,null,null,null,null,null,8,75,75,55,35,null,null,null,null,null,null,null,null,null,null,"j",-1709,-4082,2003,4400,-4009,2717,1768,2564,null,null,"With concrete shoulders",0.94]
[null,"LSF",{"$f":"_xlfn.XLOOKUP(C17,AA57:AE57,AA58:AE58)","v":1.3},null,null,null,null,9,75,75,60,37]
[null,"Design Reliability (80%-97.5%)",0.95,null,null,null,null,10,75,75,65,40,null,null,null,null,null,null,null,null,null,null,null,null,null,null,null,null,null,null,null,null,null,"SAST < 375","Without concrete shoulders",{"$f":"_xlfn.CONCAT(AH17,\"-\",AI17)","v":"SAST < 375-Without concrete shoulders"},"R"]
[null,"fcf",4.5,null,null,null,null,11,75,75,72,42,null,null,null,null,null,null,null,null,null,null,null,null,null,null,null,null,null,null,null,null,null,"375 < SAST < 450","Without concrete shoulders",{"$f":"_xlfn.CONCAT(AH18,\"-\",AI18)","v":"375 < SAST < 450-Without concrete shoulders"},"R"]
[null,"Sub-base Type","150 mm Lean-mix Concrete",null,null,null,null,12,75,75,75,50,null,null,null,null,null,null,null,null,null,null,null,null,null,null,null,null,null,null,null,null,null,"SAST > 450","Without concrete shoulders","SAST > 450-Without concrete shoulders","R"]
[null," Effective Subgrade Strength Ef",{"$f":"INDIRECT(C14)","v":72},null,null,null,null,13,75,75,75,52,null,null,null,null,null,null,null,null,null,null,9.5,"Without concrete shoulders",null,null,null,"Concrete shoulders",null,null,null,null,null,"SADT","Without concrete shoulders","SADT-Without concrete shoulders","S"]
[null,"Trial slab thickness D (mm)",215,"Iterate this thickness until percentages in cells B35 and C35, OR D35 and E35 are each less than 100",null,null,null,14,75,75,75,55,null,null,null,null,null,null,null,null,null,null,null,"Axel group type",null,null,null,"Axel group type",null,null,null,null,null,"TAST < 375","Without concrete shoulders","TAST < 375-Without concrete shoulders","T"]
[null,null,null,null,null,null,null,"≥15",75,75,75,60,null,null,null,null,null,null,null,null,null,null,null,"SAST","SADT","TADT & TAST","TRDT & QADT","SAST","SADT","TADT & TAST","TRDT & QADT",null,null,"375 < TAST < 450","Without concrete shoulders","375 < TAST < 450-Without concrete shoulders","T"]
[null,"Minimum Permissible Base Thickness (mm)",null,null,null,null,null,null,null,null,null,null,null,null,null,null,null,null,null,null,null,null,"a",0.745,1.33,1.907,2.0339999999999998,0.34499999999999997,-0.91400000000000003,1.5640000000000001,2.1040000000000001,null,null,"TAST > 450","Without concrete shoulders","TAST > 450-Without concrete shoulders","T"]
[null,"Pavement type (base)","Design Traffic",null,null,null,null,null,null,null,null,null,null,null,null,null,null,null,null,null,null,null,"b",533.79999999999995,537.5,448.3,440.3,534.6,539.79999999999995,-404.1,245.4,null,null,"TADT","Without concrete shoulders",{"$f":"_xlfn.CONCAT(AH24,\"-\",AI24)","v":"TADT-Without concrete shoulders"},"T"]
[null,null,"1 x 106≤HVAG<1 X 107","1 x 107≤HVAG<5X 107","HVAG≥5 X 107",null,null,null,null,null,null,null,null,null,null,null,null,null,null,null,null,null,"c",-0.20710000000000001,-0.19289999999999999,-0.1749,-0.27760000000000001,0.1711,-0.1416,-0.1226,-0.24729999999999999,null,null,"TRDT","Without concrete shoulders",{"$f":"_xlfn.CONCAT(AH25,\"-\",AI25)","v":"TRDT-Without concrete shoulders"},"U"]
[null,"Plain concrete",150,200,250,null,null,null,null,null,null,null,null,null,null,null,null,null,null,null,null,null,"d",-42419,-43035,-35827,-36194,44908,-44900,-32024,-15007,null,null,"QADT","Without concrete shoulders",{"$f":"_xlfn.CONCAT(AH26,\"-\",AI26)","v":"QADT-Without concrete shoulders"},"U"]
[null,"Jointed Reinforced and dowelled",150,180,230,null,null,null,null,null,null,null,null,null,null,null,null,null,null,null,null,null,"e",4.0500000000000001E-2,3.6499999999999998E-2,3.8199999999999998E-2,6.7299999999999999E-2,3.4700000000000002E-2,2.75E-2,-2.5600000000000001E-2,4.6899999999999997E-2,null,null,"SAST < 375","With concrete shoulders",{"$f":"_xlfn.CONCAT(AH27,\"-\",AI27)","v":"SAST < 375-With concrete shoulders"},"V"]
[null,"Steel fibre reinforced concrete",125,180,230,null,null,null,null,null,null,null,null,null,null,null,null,null,null,null,null,null,"f",27.27,26.44,0.64,15.77,20.49,16.37,-9.7899999999999991,8.86,null,null,"375 < SAST < 450","With concrete shoulders",{"$f":"_xlfn.CONCAT(AH28,\"-\",AI28)","v":"375 < SAST < 450-With concrete shoulders"},"V"]
[null,"Continuously reinforced concrete",150,180,230,null,null,null,null,null,null,null,null,null,null,null,null,null,null,null,null,null,"g",1547570,1586100,1291870,1315330,1676710,1654590,-1150280,518916,null,null,"SAST > 450","With concrete shoulders","SAST > 450-With concrete shoulders","V"]
[null,null,null,null,null,null,null,null,null,null,null,null,null,null,null,null,null,null,null,null,null,null,"h",-4.4000000000000003E-3,-3.8999999999999998E-3,-6.0000000000000001E-3,-8.3999999999999995E-3,3.8E-3,3.2000000000000002E-3,-5.1999999999999998E-3,-7.4999999999999997E-3,null,null,"SADT","With concrete shoulders",{"$f":"_xlfn.CONCAT(AH30,\"-\",AI30)","v":"SADT-With concrete shoulders"},"W"]
[null,null,null,null,null,null,null,null,null,null,null,null,null,null,null,null,null,null,null,null,null,null,"i",-1.4656,-1.4547000000000001,1.0741000000000001,-1.2068000000000001,-1.3829,-0.95840000000000003,2.1997,1.5517000000000001,null,null,"TAST < 375","With concrete shoulders",{"$f":"_xlfn.CONCAT(AH31,\"-\",AI31)","v":"TAST < 375-With concrete shoulders"},"X"]
[null,"Sum of Damages",null,null,null,null,null,null,null,null,null,null,null,null,null,null,null,null,null,null,null,null,"j",-1384,-1344,50,-625,-913,-765,469,-599,null,null,"375 < TAST < 450","With concrete shoulders",{"$f":"_xlfn.CONCAT(AH32,\"-\",AI32)","v":"375 < TAST < 450-With concrete shoulders"},"X"]
[null,"Without Shoulders",null,"With Shoulders",null,null,null,null,null,null,null,null,null,null,null,null,null,null,null,null,null,null,null,null,null,null,null,null,null,null,null,null,null,"TAST > 450","With concrete shoulders","TAST > 450-With concrete shoulders","X"]
[null,"Fatigue Analysis","Erosion Analysis","Fatigue Analysis","Erosion Analysis",null,null,null,null,null,null,null,null,null,null,null,null,null,null,null,null,null,null,null,null,null,null,null,null,null,null,null,null,"TADT","With concrete shoulders",{"$f":"_xlfn.CONCAT(AH34,\"-\",AI34)","v":"TADT-With concrete shoulders"},"X",null,null,null,null," "]
[null,{"$f":"G81+G117+G153+G194+G235+G271","v":3.7100466386251765},{"$f":"I81+I117+I153+I194+I235+I271","v":18656724.155320615},{"$f":"N81+N117+N153+N194+N235+N271","v":0.32783381396246941},{"$f":"P81+P117+P153+P194+P235+P271","v":77.752919044121512},null,null,null,null,null,null,null,null,null,null,null,null,null,null,null,null,null,null,null,null,null,null,null,null,null,null,null,null,"TRDT","With concrete shoulders",{"$f":"_xlfn.CONCAT(AH35,\"-\",AI35)","v":"TRDT-With concrete shoulders"},"Y",null,null,null,null," "]
[null,null,null,null,null,null,null,null,null,null,null,null,null,null,null,null,null,null,null,null,null,null,null,null,null,null,null,null,null,null,null,null,null,"QADT","With concrete shoulders",{"$f":"_xlfn.CONCAT(AH36,\"-\",AI36)","v":"QADT-With concrete shoulders"},"Y"]
[null,"Reinforcement Requirement"]
[null,"D","thickness of the base (mm), including any asphalt surfacing",null,250]
[null,"fs","the allowable tensile stress of the reinforcing steel (MPa). Usually 0.6 times the characteristic yield strength",null,360,null,null,null,null,null,null,null,null,null,null,null,null,null,null,null,null,null,null,null,null,null,null,null,null,null,null,null,null,"150 mm Lean-mix Concrete","I",1,8,null,null,null,null," "]
[null,"g","acceleration due to gravity (m/s2)",null,9.8000000000000007,null,null,null,null,null,null,null,null,null,null,null,null,null,null,null,null,null,9.6,"Without concrete shoulders",null,null,null,"Concrete shoulders",null,null,null,null,null,"125 mm Lean-mix Concrete","J",2,9]
[null,"L","distance to the untied joints or edges of the base (m)",null,0.6,null,null,null,null,null,null,null,null,null,null,null,null,null,null,null,null,null,null,"Axel group type",null,null,null,"Axel group type",null,null,null,null,null,"100 mm Lean-mix Concrete or ≥ 150 mm HBM","K",3,10]
[null,"ρ","mass per unit volume of the base (kg/m3)",null,2400,null,null,null,null,null,null,null,null,null,null,null,null,null,null,null,null,null,null,"SAST","SADT","TADT & TAST","TRDT & QADT","SAST","SADT","TADT & TAST","TRDT & QADT",null,null,"125 mm HBM","L",4,11]
[null,"µ","coefficient of friction between the concrete base and the sub-base(1.5-2.0)",null,1.5,null,null,null,null,null,null,null,null,null,null,null,null,null,null,null,null,null,"a",7.1999999999999995E-2,0.64300000000000002,1.41,2.089,"–0.184",0.44,0.95199999999999996,1.65,null,null,null,null,5,12]
[null,"As","the required area of steel (mm2/m width of slab)",null,{"$f":"E43*E41*E42*E40*E38/(1000*E39)","v":14.7},null,null,null,null,null,null,null,null,null,null,null,null,null,null,null,null,null,"b",679.9,684.5,498.9,351.3,602.29999999999995,609.79999999999995,544.9,359.4,null,null,null,null,6,13]
[null,null,null,null,null,null,null,null,null,null,null,null,null,null,null,null,null,null,null,null,null,null,"c","–0.0789","–0.0576","–0.1680",-0.33429999999999999,"–0.0085","–0.0484","–0.0404","–0.1765",null,null,null,null,7,14]
[null,null,null,null,null,null,null,null,null,null,null,null,null,null,null,null,null,null,null,null,null,null,"d","–58.342","–58.371","–39.430","–25.576","–50.996","–52.519","–47.500","–28.901",null,null,null,null,8,15,null,null,"Coefficients for equivalent stress"]
[null,null,null,null,null,null,null,null,null,null,null,null,null,null,null,null,null,null,null,null,null,null,"e",1.7899999999999999E-2,1.2800000000000001E-2,3.2199999999999999E-2,7.2300000000000003E-2,"–0.0122",1.6999999999999999E-3,1.7899999999999999E-2,4.3499999999999997E-2,null,null,null,null,9,16,null,"Coefficient","Without Concrete Shoulders",null,null,null,"With Concrete Shoulders"]
[null,"SAST",null,null,"Without Shoulders",null,null,null,null,null,null,null,"With Shoulders",null,null,null,null,null,null,null,null,null,"f",6.7,4.6100000000000003,13.8,29.58,8.99,9.6199999999999992,"–31.54","–15.97",null,null,null,null,10,17,null,null,"Axle Group Type",null,null,null,"Axle Group Type"]
[null,"Axle Group Load, P (kN)","Design Load, P*LSF (kN)","Expected Load Repetitions","Fatigue Analysis",null,null,"Erosion Analysis",null,"Sr","F3","Se","Fatigue Analysis",null,"Erosion Analysis",null,"Sr","F3","Se",null,null,null,"g",139330,2131390,1437580,923081,1874370,1949350,1719950,1085800,null,null,null,null,11,18,null,null,"SAST & TAST","SADT","TADT","TRDT&QADT","SAST&TAST","SADT","TADT","TRDT&QADT"]
[null,null,null,null,"Allowable Repetitions",null,"Damage (%)","Allowable Repetitions","Damage (%)",null,null,null,"Allowable Repetitions","Damage (%)","Allowable Repetitions","Damage (%)",null,null,null,null,null,null,"h",-2.0999999999999999E-3,"–0.0017","–0.0044","–0.0086",8.0000000000000004E-4,"–0.0007","–0.0051","–0.0084",null,null,null,null,12,19,null,"a",0.11799999999999999,0.56000000000000005,0.219,8.8999999999999996E-2,-5.0999999999999997E-2,0.33,8.7999999999999995E-2,-0.14499999999999999]
[null,10,{"$f":"$C$16*B51","v":13},{"$f":"IF('18 Concrete HVAG Dir-1'!$D$84>'19 Concrete HVAG Dir-2'!$D$84,'18 Concrete HVAG Dir-1'!$D$84*'16 Axle Loads Concrete Dir-1'!UR5*'16 Axle Loads Concrete Dir-1'!$UQ$43/100,'19 Concrete HVAG Dir-2'!$D$84*'17 Axle Loads Concrete Dir-2'!UR5*'17 Axle Loads Concrete Dir-2'!$UQ$43/100)","v":0},{"$f":"IF(J51>0.55,10^((0.9719-J51)/(0.0828)),IF((0.45<=J51)*(J51<=0.55),(4.258/(J51-0.4325))^3.268,\"3000000000\"))","v":"3000000000"},null,{"$f":"D51/E51","v":0},{"$f":"(10^(14.524-6.777*(MAX(0,(C51/(4.45*$L$54))^2*((10^$L$51)/(41.35))-9))^0.103))/$K$54","v":5569917333768566},{"$f":"D51/H51","v":0},{"$f":"($K$51/(0.944*$C$18))*((C51/(4.45*$K$57))^0.94)","v":6.4488379377420468E-2},{"$f":"($AN$50)+($AN$51/$C$21)+($AN$52*LN($C$20))+($AN$53/($C$21^2))+($AN$54*((LN($C$20))^2))+($AN$55*((LN($C$20))/$C$21))+($AN$56/($C$21^3))+($AN$57*((LN($C$20))^3))+($AN$58*((LN($C$20))^2)/($C$21))+($AN$59*(LN($C$20))/($C$21^2))","v":0.78887026992272524},{"$f":"($AN$66)+($AN$67/$C$21)+($AN$68*LN($C$20))+($AN$69/($C$21^2))+($AN$70*((LN($C$20))^2))+($AN$71*((LN($C$20))/$C$21))+($AN$72/($C$21^3))+($AN$73*((LN($C$20))^3))+($AN$74*((LN($C$20))^2)/($C$21))+($AN$75*(LN($C$20))/($C$21^2))","v":2.2664368635765588},{"$f":"IF(Q51>0.55,10^((0.9719-Q51)/(0.0828)),IF((0.45<=Q51)*(Q51<=0.55),(4.258/(Q51-0.4325))^3.268,\"3000000000\"))","v":"3000000000"},{"$f":"D51/M51","v":0},{"$f":"(10^(14.524-6.777*(MAX(0,(C51/(4.45*$S$54))^2*((10^$S$51)/(41.35))-9))^0.103))/$R$54","v":355526638325653.13},{"$f":"D51/O51","v":0},{"$f":"($R$51/(0.944*$C$18))*((C51/(4.45*$R$57))^0.94)","v":5.9409474861609114E-2},{"$f":"($AR$50)+($AR$51/$C$21)+($AR$52*LN($C$20))+($AR$53/($C$21^2))+($AR$54*((LN($C$20))^2))+($AR$55*((LN($C$20))/$C$21))+($AR$56/($C$21^3))+($AR$57*((LN($C$20))^3))+($AR$58*((LN($C$20))^2)/($C$21))+($AR$59*(LN($C$20))/($C$21^2))","v":0.72674129699798939},{"$f":"($AR$66)+($AR$67/$C$21)+($AR$68*LN($C$20))+($AR$69/($C$21^2))+($AR$70*((LN($C$20))^2))+($AR$71*((LN($C$20))/$C$21))+($AR$72/($C$21^3))+($AR$73*((LN($C$20))^3))+($AR$74*((LN($C$20))^2)/($C$21))+($AR$75*(LN($C$20))/($C$21^2))","v":1.839864322646358},null,null,null,"i","–0.5199","–0.2056","–0.0380","–1.6301","–0.4759","–0.6314",3.3788999999999998,3.2907999999999999,null,null,null,null,13,20,null,"b",125.4,184.4,399.6,336.4,26,206.5,301.5,258.60000000000002]
[null,20,26,{"$f":"IF('18 Concrete HVAG Dir-1'!$D$84>'19 Concrete HVAG Dir-2'!$D$84,'18 Concrete HVAG Dir-1'!$D$84*'16 Axle Loads Concrete Dir-1'!UR6*'16 Axle Loads Concrete Dir-1'!$UQ$43/100,'19 Concrete HVAG Dir-2'!$D$84*'17 Axle Loads Concrete Dir-2'!UR6*'17 Axle Loads Concrete Dir-2'!$UQ$43/100)","v":0},{"$f":"IF(J52>0.55,10^((0.9719-J52)/(0.0828)),IF((0.45<=J52)*(J52<=0.55),(4.258/(J52-0.4325))^3.268,\"3000000000\"))","v":"3000000000"},null,0,{"$f":"(10^(14.524-6.777*(MAX(0,(C52/(4.45*$L$54))^2*((10^$L$51)/(41.35))-9))^0.103))/$K$54","v":5569917333768566},{"$f":"D52/H52","v":0},0.12372277690038956,null,null,{"$f":"IF(Q52>0.55,10^((0.9719-Q52)/(0.0828)),IF((0.45<=Q52)*(Q52<=0.55),(4.258/(Q52-0.4325))^3.268,\"3000000000\"))","v":"3000000000"},{"$f":"D52/M52","v":0},355526638325653.13,{"$f":"D52/O52","v":0},0.11397875516539578,null,null,null,null,null,"j","–187","–185","–697",-1327,"–374–",3261,675,758,null,null,null,null,14,21,null,"c",-0.23960000000000001,-0.6663,-0.34720000000000001,-0.13400000000000001,8.9899999999999994E-2,-0.46839999999999998,-0.18459999999999999,8.0000000000000002E-3]
[null,30,39,{"$f":"IF('18 Concrete HVAG Dir-1'!$D$84>'19 Concrete HVAG Dir-2'!$D$84,'18 Concrete HVAG Dir-1'!$D$84*'16 Axle Loads Concrete Dir-1'!UR7*'16 Axle Loads Concrete Dir-1'!$UQ$43/100,'19 Concrete HVAG Dir-2'!$D$84*'17 Axle Loads Concrete Dir-2'!UR7*'17 Axle Loads Concrete Dir-2'!$UQ$43/100)","v":0},"3000000000",null,0,5569917333768566,0,0.18112376719248516,"F2","F4","3000000000",0,355526638325653.13,0,0.16685902169886888,"F2","F4",null,null,null,null,null,null,null,null,null,null,null,null,null,null,null,null,15,22,null,"d",26969,44405,-38,-10007,35774,28661,4418,1408]
[null,40,52,{"$f":"IF('18 Concrete HVAG Dir-1'!$D$84>'19 Concrete HVAG Dir-2'!$D$84,'18 Concrete HVAG Dir-1'!$D$84*'16 Axle Loads Concrete Dir-1'!UR8*'16 Axle Loads Concrete Dir-1'!$UQ$43/100,'19 Concrete HVAG Dir-2'!$D$84*'17 Axle Loads Concrete Dir-2'!UR8*'17 Axle Loads Concrete Dir-2'!$UQ$43/100)","v":3747520.2092782147},"3000000000",null,1.2491734030927383E-3,5569917333768566,6.7281433183186388E-10,0.23736564124765672,0.06,9,"3000000000",1.2491734030927383E-3,355526638325653.13,1.0540757865365869E-8,0.21867146039104665,0.94,9,null,null,null,null,null,null,null,null,null,null,null,null,null,null,null,null,null,null,null,"e",8.9599999999999999E-2,0.22539999999999999,0.16800000000000001,8.3000000000000004E-2,-3.7600000000000001E-2,0.16500000000000001,9.3899999999999997E-2,3.1199999999999999E-2]
[null,50,65,{"$f":"IF('18 Concrete HVAG Dir-1'!$D$84>'19 Concrete HVAG Dir-2'!$D$84,'18 Concrete HVAG Dir-1'!$D$84*'16 Axle Loads Concrete Dir-1'!UR9*'16 Axle Loads Concrete Dir-1'!$UQ$43/100,'19 Concrete HVAG Dir-2'!$D$84*'17 Axle Loads Concrete Dir-2'!UR9*'17 Axle Loads Concrete Dir-2'!$UQ$43/100)","v":1639540.0915592187},"3000000000",null,5.4651336385307288E-4,166139603.11211061,9.8684483461349125E-3,0.2927610304684129,null,null,"3000000000",5.4651336385307288E-4,355526638325653.13,4.6115815660975667E-9,0.26970408076593327,null,null,null,null,null,null,null,null,null,null,null,null,null,null,null,null,null,null,null,null,null,"f",0.19,19.75,-71.09,-83.14,14.57,2.82,-59.93,-61.25]
[null,60,78,{"$f":"IF('18 Concrete HVAG Dir-1'!$D$84>'19 Concrete HVAG Dir-2'!$D$84,'18 Concrete HVAG Dir-1'!$D$84*'16 Axle Loads Concrete Dir-1'!UR10*'16 Axle Loads Concrete Dir-1'!$UQ$43/100,'19 Concrete HVAG Dir-2'!$D$84*'17 Axle Loads Concrete Dir-2'!UR10*'17 Axle Loads Concrete Dir-2'!$UQ$43/100)","v":4215960.2354379911},"3000000000",null,1.4053200784793303E-3,22727015.862274967,0.18550434694051271,0.34749106204954699,"F1",null,"3000000000",1.4053200784793303E-3,355526638325653.13,1.1858352598536601E-8,0.32012374500288121,"F1",null,null,null,null,"Axle Group Type","Load (kN)",null,"Pavement Type","Reliability",null,null,null,null,null,null,null,null,null,null,null,"g",-352174,-942585,681381,1215750,-861548,-686510,280297,488079]
[null,70,91,{"$f":"IF('18 Concrete HVAG Dir-1'!$D$84>'19 Concrete HVAG Dir-2'!$D$84,'18 Concrete HVAG Dir-1'!$D$84*'16 Axle Loads Concrete Dir-1'!UR11*'16 Axle Loads Concrete Dir-1'!$UQ$43/100,'19 Concrete HVAG Dir-2'!$D$84*'17 Axle Loads Concrete Dir-2'!UR11*'17 Axle Loads Concrete Dir-2'!$UQ$43/100)","v":163954.00915592187},"3000000000",null,5.4651336385307293E-5,7049743.5219335854,2.3256733900434579E-2,0.40167390706853867,9,null,"3000000000",5.4651336385307293E-5,355526638325653.13,4.6115815660975669E-10,0.37003931739224288,9,null,null,null,null,"SAST<375",53,null,null,0.8,0.85,0.9,0.95,0.97499999999999998,null,null,null,null,null,null,null,"h",-1.04E-2,-2.4799999999999999E-2,-2.18E-2,-1.2E-2,3.0999999999999999E-3,-1.8599999999999998E-2,-1.2800000000000001E-2,-5.7999999999999996E-3]
[null,80,104,{"$f":"IF('18 Concrete HVAG Dir-1'!$D$84>'19 Concrete HVAG Dir-2'!$D$84,'18 Concrete HVAG Dir-1'!$D$84*'16 Axle Loads Concrete Dir-1'!UR12*'16 Axle Loads Concrete Dir-1'!$UQ$43/100,'19 Concrete HVAG Dir-2'!$D$84*'17 Axle Loads Concrete Dir-2'!UR12*'17 Axle Loads Concrete Dir-2'!$UQ$43/100)","v":0},26106889.276894607,null,0,2933465.8151189741,0,0.45539268561902013,null,null,"3000000000",0,14926413.283556569,0,0.41952737174717358,null,null,null,null,null,"375<SAST<450",58,null,"PCP",1.1499999999999999,1.1499999999999999,1.2,1.3,1.35,null,null,null,null,null,null,null,"i",-1.2536,-4.6657000000000002,3.6501000000000001,5.2724000000000002,1.3098000000000001,-1.9605999999999999,4.1791,4.7427999999999999]
[null,90,117,{"$f":"IF('18 Concrete HVAG Dir-1'!$D$84>'19 Concrete HVAG Dir-2'!$D$84,'18 Concrete HVAG Dir-1'!$D$84*'16 Axle Loads Concrete Dir-1'!UR13*'16 Axle Loads Concrete Dir-1'!$UQ$43/100,'19 Concrete HVAG Dir-2'!$D$84*'17 Axle Loads Concrete Dir-2'!UR13*'17 Axle Loads Concrete Dir-2'!$UQ$43/100)","v":0},512681.44958637533,null,0,1429707.7573768958,0,0.50870900088836735,null,null,5868888.2727086842,0,3219766.2118005916,0,0.46864465957929657,null,null,null,null,null,"SAST>450",71,null,"Dowelled and CRCP",1.1499999999999999,1.1499999999999999,1.2,1.3,1.35,null,null,null,null,null,null,null,"j",-1709,-4082,2003,4400,-4009,-2717,1768,2564]
[null,100,130,{"$f":"IF('18 Concrete HVAG Dir-1'!$D$84>'19 Concrete HVAG Dir-2'!$D$84,'18 Concrete HVAG Dir-1'!$D$84*'16 Axle Loads Concrete Dir-1'!UR14*'16 Axle Loads Concrete Dir-1'!$UQ$43/100,'19 Concrete HVAG Dir-2'!$D$84*'17 Axle Loads Concrete Dir-2'!UR14*'17 Axle Loads Concrete Dir-2'!$UQ$43/100)","v":0},90046.103772554939,null,0,770966.66227673774,0,0.5616703041300779,null,null,359741.49479861779,0,1230644.3899601153,0,0.51743489502872586,null,null,null,null,null,"TAST<375",89]
[null,110,143,{"$f":"IF('18 Concrete HVAG Dir-1'!$D$84>'19 Concrete HVAG Dir-2'!$D$84,'18 Concrete HVAG Dir-1'!$D$84*'16 Axle Loads Concrete Dir-1'!UR15*'16 Axle Loads Concrete Dir-1'!$UQ$43/100,'19 Concrete HVAG Dir-2'!$D$84*'17 Axle Loads Concrete Dir-2'!UR15*'17 Axle Loads Concrete Dir-2'!$UQ$43/100)","v":0},20829.004832980187,null,0,446495.14665907557,0,0.6143142464822211,null,null,79980.836623467505,0,593108.24541183922,0,0.56593276394680736,null,null,null,null,null,"375<TAST<450",98,null,null,null,null,null,null,null," "]
[null,120,156,{"$f":"IF('18 Concrete HVAG Dir-1'!$D$84>'19 Concrete HVAG Dir-2'!$D$84,'18 Concrete HVAG Dir-1'!$D$84*'16 Axle Loads Concrete Dir-1'!UR16*'16 Axle Loads Concrete Dir-1'!$UQ$43/100,'19 Concrete HVAG Dir-2'!$D$84*'17 Axle Loads Concrete Dir-2'!UR16*'17 Axle Loads Concrete Dir-2'!$UQ$43/100)","v":0},4856.6361141819971,null,0,272831.71289590374,0,0.66667141522071893,null,null,20914.792827937414,0,325270.98408759915,0,0.61416644465058878,null,null,null,null,null,"TAST>450",119,null,null,null,null,null,null,null,null,null,null,null,null,null,null,null,"Coefficients for prediction of erosion factors for undowelled bases"]
[null,130,169,{"$f":"IF('18 Concrete HVAG Dir-1'!$D$84>'19 Concrete HVAG Dir-2'!$D$84,'18 Concrete HVAG Dir-1'!$D$84*'16 Axle Loads Concrete Dir-1'!UR17*'16 Axle Loads Concrete Dir-1'!$UQ$43/100,'19 Concrete HVAG Dir-2'!$D$84*'17 Axle Loads Concrete Dir-2'!UR17*'17 Axle Loads Concrete Dir-2'!$UQ$43/100)","v":0},1140.6703266631846,null,0,173889.4505790032,0,0.71876714007838904,null,null,5505.9219225277311,0,193954.21560981619,0,0.66215927198178237,null,null,null,null,null,"TRST<375",121,null,null,null,null,null,null,null,null,null," ",null,null,null,null,"Coefficient","Without Concrete Shoulders",null,null,null,"With Concrete Shoulders"]
[null,140,182,{"$f":"IF('18 Concrete HVAG Dir-1'!$D$84>'19 Concrete HVAG Dir-2'!$D$84,'18 Concrete HVAG Dir-1'!$D$84*'16 Axle Loads Concrete Dir-1'!UR18*'16 Axle Loads Concrete Dir-1'!$UQ$43/100,'19 Concrete HVAG Dir-2'!$D$84*'17 Axle Loads Concrete Dir-2'!UR18*'17 Axle Loads Concrete Dir-2'!$UQ$43/100)","v":0},269.70243149130567,null,{"$f":"D64/E64","v":0},114682.99833321157,0,0.77062273344007981,null,null,1458.4053974686594,0,122714.685477413,0,{"$f":"($R$51/(0.944*$C$18))*((C64/(4.45*$R$57))^0.94)","v":0.70993087982798386},null,null,null,null,null,null,null,null,null,null,null,null,null,null,null,null,null,null,null,null,null,null,"Axle Group Type",null,null,null,"Axle Group Type"]
[null,150,195,{"$f":"IF('18 Concrete HVAG Dir-1'!$D$84>'19 Concrete HVAG Dir-2'!$D$84,'18 Concrete HVAG Dir-1'!$D$84*'16 Axle Loads Concrete Dir-1'!UR19*'16 Axle Loads Concrete Dir-1'!$UQ$43/100,'19 Concrete HVAG Dir-2'!$D$84*'17 Axle Loads Concrete Dir-2'!UR19*'17 Axle Loads Concrete Dir-2'!$UQ$43/100)","v":0},64.163821058152251,null,0,77816.505774415316,0,0.82225636986869355,null,null,388.50445015558938,0,81180.045736345288,0,0.75749801137995509,null,null,null,null,null,null,null,null,null,null,null,null,null,null,null,null,null,null,null,null,null,null,"SAST ","SADT","TADT & TAST","TRDT&QADT","SAST","SADT","TADT &TAST","TRDT&QADT"]
[null,160,208,{"$f":"IF('18 Concrete HVAG Dir-1'!$D$84>'19 Concrete HVAG Dir-2'!$D$84,'18 Concrete HVAG Dir-1'!$D$84*'16 Axle Loads Concrete Dir-1'!UR20*'16 Axle Loads Concrete Dir-1'!$UQ$43/100,'19 Concrete HVAG Dir-2'!$D$84*'17 Axle Loads Concrete Dir-2'!UR20*'17 Axle Loads Concrete Dir-2'!$UQ$43/100)","v":0},15.352774516414053,null,0,54089.522515753386,0,0.87368372703499253,null,null,104.04203100032873,0,55614.332260683215,0,0.80487510958379038,null,null,null,null,null,null,null,null,null,null,null,null,null,null,null,null,null,null,null,null,null,"a",0.745,1.33,1.907,2.0339999999999998,0.34499999999999997,0.91400000000000003,1.5640000000000001,2.1040000000000001]
[null,170,221,{"$f":"IF('18 Concrete HVAG Dir-1'!$D$84>'19 Concrete HVAG Dir-2'!$D$84,'18 Concrete HVAG Dir-1'!$D$84*'16 Axle Loads Concrete Dir-1'!UR21*'16 Axle Loads Concrete Dir-1'!$UQ$43/100,'19 Concrete HVAG Dir-2'!$D$84*'17 Axle Loads Concrete Dir-2'!UR21*'17 Axle Loads Concrete Dir-2'!$UQ$43/100)","v":0},3.6932597968052208,null,0,38385.826695017437,0,0.92491846371474207,null,null,28.000434111472018,0,39194.192538846364,0,0.85207475749248773,null,null,null,null,null,null,null,null,null,null,null,null,null,null,null,null,null,null,null,null,null,"b",533.79999999999995,537.5,448.3,440.3,534.6,539.79999999999995,404.1,245.4]
[null,180,234,{"$f":"IF('18 Concrete HVAG Dir-1'!$D$84>'19 Concrete HVAG Dir-2'!$D$84,'18 Concrete HVAG Dir-1'!$D$84*'16 Axle Loads Concrete Dir-1'!UR22*'16 Axle Loads Concrete Dir-1'!$UQ$43/100,'19 Concrete HVAG Dir-2'!$D$84*'17 Axle Loads Concrete Dir-2'!UR22*'17 Axle Loads Concrete Dir-2'!$UQ$43/100)","v":0},0.8929234106110383,null,0,27739.252350497474,0,0.97597258346002991,null,null,7.5705995430615163,0,28279.022758127958,0,0.89910801329564483,null,null,null,null,null,null,null,null,null,null,null,null,null,null,null,null,null,null,null,null,null,"c",-0.20710000000000001,-0.19289999999999999,-0.1749,-0.27760000000000001,-0.1711,-0.1416,-0.1226,-0.24729999999999999]
[null,190,247,{"$f":"IF('18 Concrete HVAG Dir-1'!$D$84>'19 Concrete HVAG Dir-2'!$D$84,'18 Concrete HVAG Dir-1'!$D$84*'16 Axle Loads Concrete Dir-1'!UR23*'16 Axle Loads Concrete Dir-1'!$UQ$43/100,'19 Concrete HVAG Dir-2'!$D$84*'17 Axle Loads Concrete Dir-2'!UR23*'17 Axle Loads Concrete Dir-2'!$UQ$43/100)","v":0},0.21690598932612143,null,0,20368.338363128383,0,1.0268567161439539,null,null,2.0558294402679924,0,20813.622614416388,0,0.9459846696905615,null,null,null,null,null,null,null,null,null,null,null,null,null,null,null,null,null,null,null,null,null,"d",-42419,-43035,35827,-36194,-44908,-44900,-32024,-15007]
[null,200,260,{"$f":"IF('18 Concrete HVAG Dir-1'!$D$84>'19 Concrete HVAG Dir-2'!$D$84,'18 Concrete HVAG Dir-1'!$D$84*'16 Axle Loads Concrete Dir-1'!UR24*'16 Axle Loads Concrete Dir-1'!$UQ$43/100,'19 Concrete HVAG Dir-2'!$D$84*'17 Axle Loads Concrete Dir-2'!UR24*'17 Axle Loads Concrete Dir-2'!$UQ$43/100)","v":0},5.2925796175829355E-2,null,0,15170.166034703832,0,1.0775803392849852,null,null,0.56056985166579665,0,15583.409759528578,0,0.99271345777578268,null,null,null,null,null,null,null,null,null,null,null,null,null,null,null,null,null,null,null,null,null,"e",4.0500000000000001E-2,3.6499999999999998E-2,3.8199999999999998E-2,6.7299999999999999E-2,3.4700000000000002E-2,2.75E-2,2.5600000000000001E-2,4.6899999999999997E-2]
[null,210,273,{"$f":"IF('18 Concrete HVAG Dir-1'!$D$84>'19 Concrete HVAG Dir-2'!$D$84,'18 Concrete HVAG Dir-1'!$D$84*'16 Axle Loads Concrete Dir-1'!UR25*'16 Axle Loads Concrete Dir-1'!$UQ$43/100,'19 Concrete HVAG Dir-2'!$D$84*'17 Axle Loads Concrete Dir-2'!UR25*'17 Axle Loads Concrete Dir-2'!$UQ$43/100)","v":0},1.2968779353210435E-2,null,0,11443.613678637395,0,1.1281519544070149,null,null,0.1534488553344211,0,11842.783154473587,0,1.0393022095215763,null,null,null,null,null,null,null,null,null,null,null,null,null,null,null,null,null,null,null,null,null,"f",27.27,26.44,0.64,15.77,20.49,16.37,-9.7899999999999991,8.86]
[null,220,286,{"$f":"IF('18 Concrete HVAG Dir-1'!$D$84>'19 Concrete HVAG Dir-2'!$D$84,'18 Concrete HVAG Dir-1'!$D$84*'16 Axle Loads Concrete Dir-1'!UR26*'16 Axle Loads Concrete Dir-1'!$UQ$43/100,'19 Concrete HVAG Dir-2'!$D$84*'17 Axle Loads Concrete Dir-2'!UR26*'17 Axle Loads Concrete Dir-2'!$UQ$43/100)","v":0},3.1906123543765895E-3,null,0,8732.4869856819278,0,1.1785792292814623,null,null,4.21602829404756E-2,0,9119.102060772233,0,1.0857579888094937,null,null,null,null,null,null,null,null,null,null,null,null,null,null,null,null,null,null,null,null,null,"g",1547570,1586100,1291870,1315330,1676710,1654590,1150280,518916]
[null,230,299,{"$f":"IF('18 Concrete HVAG Dir-1'!$D$84>'19 Concrete HVAG Dir-2'!$D$84,'18 Concrete HVAG Dir-1'!$D$84*'16 Axle Loads Concrete Dir-1'!UR27*'16 Axle Loads Concrete Dir-1'!$UQ$43/100,'19 Concrete HVAG Dir-2'!$D$84*'17 Axle Loads Concrete Dir-2'!UR27*'17 Axle Loads Concrete Dir-2'!$UQ$43/100)","v":0},7.8796746540293883E-4,null,0,6733.7576500644091,0,1.22886911390595,null,null,1.1624438963631563E-2,0,7104.3929958404897,0,1.1320871982769256,null,null,null,null,null,null,null,null,null,null,null,null,null,null,null,null,null,null,null,null,null,"h",-4.4000000000000003E-3,-3.8999999999999998E-3,-6.0000000000000001E-3,-8.3999999999999995E-3,-3.8E-3,-3.2000000000000002E-3,-5.1999999999999998E-3,-7.4999999999999997E-3]
[null,240,312,{"$f":"IF('18 Concrete HVAG Dir-1'!$D$84>'19 Concrete HVAG Dir-2'!$D$84,'18 Concrete HVAG Dir-1'!$D$84*'16 Axle Loads Concrete Dir-1'!UR28*'16 Axle Loads Concrete Dir-1'!$UQ$43/100,'19 Concrete HVAG Dir-2'!$D$84*'17 Axle Loads Concrete Dir-2'!UR28*'17 Axle Loads Concrete Dir-2'!$UQ$43/100)","v":0},1.953104185006807E-4,null,0,5242.378785831721,0,1.2790279360020613,null,null,3.2158716282917449E-3,0,5593.1245874071374,0,1.1782956672937515,null,null,null,null,null,null,null,null,null,null,null,null,null,null,null,null,null,null,null,null,null,"i",-1.4656,-1.4547000000000001,1.0741000000000001,-1.2068000000000001,-1.3829,-0.95840000000000003,2.1997,1.5517000000000001]
[null,250,325,{"$f":"IF('18 Concrete HVAG Dir-1'!$D$84>'19 Concrete HVAG Dir-2'!$D$84,'18 Concrete HVAG Dir-1'!$D$84*'16 Axle Loads Concrete Dir-1'!UR29*'16 Axle Loads Concrete Dir-1'!$UQ$43/100,'19 Concrete HVAG Dir-2'!$D$84*'17 Axle Loads Concrete Dir-2'!UR29*'17 Axle Loads Concrete Dir-2'!$UQ$43/100)","v":0},4.8579780847647924E-5,null,0,4117.269626204582,0,1.3290614803531038,null,null,8.9252268375537283E-4,0,4445.2235948641464,0,1.224388725051708,null,null,null,null,null,null,null,null,null,null,null,null,null,null,null,null,null,null,null,null,null,"j",-1384,-1344,50,-625,-913,-765,469,-599]
[null,260,338,{"$f":"IF('18 Concrete HVAG Dir-1'!$D$84>'19 Concrete HVAG Dir-2'!$D$84,'18 Concrete HVAG Dir-1'!$D$84*'16 Axle Loads Concrete Dir-1'!UR30*'16 Axle Loads Concrete Dir-1'!$UQ$43/100,'19 Concrete HVAG Dir-2'!$D$84*'17 Axle Loads Concrete Dir-2'!UR30*'17 Axle Loads Concrete Dir-2'!$UQ$43/100)","v":0},1.2123683728702201E-5,null,0,3259.8810187191079,0,1.3789750552544695,null,null,2.4847037541649838E-4,0,3563.4368211359697,0,1.2703712617813254]
[null,270,351,{"$f":"IF('18 Concrete HVAG Dir-1'!$D$84>'19 Concrete HVAG Dir-2'!$D$84,'18 Concrete HVAG Dir-1'!$D$84*'16 Axle Loads Concrete Dir-1'!UR31*'16 Axle Loads Concrete Dir-1'!$UQ$43/100,'19 Concrete HVAG Dir-2'!$D$84*'17 Axle Loads Concrete Dir-2'!UR31*'17 Axle Loads Concrete Dir-2'!$UQ$43/100)","v":0},3.0353132623596722E-6,null,0,2600.4171919951632,0,1.4287735485858313,null,null,6.9376179769746772E-5,0,2879.1111303448897,0,1.3162477804080506]
[null,280,364,{"$f":"IF('18 Concrete HVAG Dir-1'!$D$84>'19 Concrete HVAG Dir-2'!$D$84,'18 Concrete HVAG Dir-1'!$D$84*'16 Axle Loads Concrete Dir-1'!UR32*'16 Axle Loads Concrete Dir-1'!$UQ$43/100,'19 Concrete HVAG Dir-2'!$D$84*'17 Axle Loads Concrete Dir-2'!UR32*'17 Axle Loads Concrete Dir-2'!$UQ$43/100)","v":0},7.622681683813997E-7,null,0,2088.81772082613,0,1.4784614754508516,null,null,1.9425684154455122E-5,0,2343.0540101272786,0,1.3620224404400014,null,null,null,null,null,null,null,null,null,null,null,null,null,null,null,null,null,null,null,null,null,null,"Coefficients for prediction of erosion factors for dowelled or CRCP bases"]
[null,290,377,{"$f":"IF('18 Concrete HVAG Dir-1'!$D$84>'19 Concrete HVAG Dir-2'!$D$84,'18 Concrete HVAG Dir-1'!$D$84*'16 Axle Loads Concrete Dir-1'!UR33*'16 Axle Loads Concrete Dir-1'!$UQ$43/100,'19 Concrete HVAG Dir-2'!$D$84*'17 Axle Loads Concrete Dir-2'!UR33*'17 Axle Loads Concrete Dir-2'!$UQ$43/100)","v":0},1.9199807440564699E-7,null,0,1688.7571530539826,0,1.5280430189087491,null,null,5.4541352075111263E-6,0,1919.5378611236163,0,1.4076990954916417,null,null,null,null,null,null,null,null,null,null,null,null,null,null,null,null,null,null,null,null,null,"Coefficient","Without Concrete Shoulders",null,null,null,"With Concrete Shoulders"]
[null,300,390,{"$f":"IF('18 Concrete HVAG Dir-1'!$D$84>'19 Concrete HVAG Dir-2'!$D$84,'18 Concrete HVAG Dir-1'!$D$84*'16 Axle Loads Concrete Dir-1'!UR34*'16 Axle Loads Concrete Dir-1'!$UQ$43/100,'19 Concrete HVAG Dir-2'!$D$84*'17 Axle Loads Concrete Dir-2'!UR34*'17 Axle Loads Concrete Dir-2'!$UQ$43/100)","v":0},4.8498002616914758E-8,null,0,1373.5918472944229,0,1.5775220650033628,null,null,1.5353799851614513E-6,0,1582.293461491395,0,1.453281325554064,null,null,null,null,null,null,null,null,null,null,null,null,null,null,null,null,null,null,null,null,null,null,"Axle Group Type",null,null,null,"Axle Group Type"]
[null,"Totals",null,{"$f":"SUM(D51:D80)","v":9766974.5454313457},{"$f":"SUM(E51:E80)","v":26736797.233776834},{"$f":"SUM(F51:F63)","v":0},{"$f":"SUM(G51:G80)","v":3.2556581818104489E-3},{"$f":"SUM(H51:H80)","v":2.2279669537413512E+16},{"$f":"SUM(I51:I80)","v":0.21862952985989653},null,null,null,{"$f":"SUM(M51:M80)","v":6337020.6698790388},{"$f":"SUM(N51:N80)","v":3.2556581818104489E-3},{"$f":"SUM(O51:O80)","v":2488686489182499.5},{"$f":"SUM(P51:P80)","v":2.7471850186609793E-8},null,null,null,null,null,null,"375<TRST<450",132,null,null,null,null,null,null,null," ",null,null,null,null,null,null,null,"SAST","SADT","TADT& TAST","TRDT&QADT","SAST","SADT","TADT &TAST","TRDT&QADT"]
[null,null,null,null,null,null,null,null,null,null,null,null,null,null,null,null,null,null,null,null,null,null,"TRST>450",162,null,null,null,null,null,null," ",null,null,null,null,null,null,null,"a",7.1999999999999995E-2,0.64300000000000002,1.41,2.089,-0.184,0.44,0.95199999999999996,1.65]
[null,null,null,null,null,null,null,null,null,null,null,null,null,null,null,null,null,null,null,null,null,null,"QAST<375",150,null,null,null,null,null,null,null," ",null," ",null,null,null,null,"b",679.9,684.5,498.9,351.3,602.29999999999995,609.79999999999995,544.9,359.4]
[null,"SADT",null,null,null,null,null,null,null,null,null,null,null,null,null,null,null,null,null,null,null,null,"375<QAST<450",164,null,null,null,null,null,null,null,null," ",null,null,null,null,null,"c",-7.8899999999999998E-2,-5.7599999999999998E-2,-0.16800000000000001,-0.33429999999999999,-8.5000000000000006E-3,-4.8399999999999999E-2,-4.0399999999999998E-2,-0.17649999999999999]
[null,"Axle Group Load, P (kN)","Design Load, P*LSF (kN)","Expected Load Repetitions","Fatigue Analysis",null,null,"Erosion Analysis",null,"Sr","F3","Se","Fatigue Analysis",null,"Erosion Analysis",null,"Sr","F3","Se",null,null,null,"QAST>450",201,null,null,null,null,null,null,null,null,null,null,null,null,null,null,"d",-58342,-58371,-39430,-25576,-50996,-52519,-47500,-28901]
[null,null,null,null,"Allowable Repetitions",null,"Damage (%)","Allowable Repetitions","Damage (%)",null,null,null,"Allowable Repetitions","Damage (%)","Allowable Repetitions","Damage (%)",null,null,null,null,null,null,null,null,null,null,null,null,null,null," ",null," ",null,null,null,null,null,"e",1.7899999999999999E-2,1.2800000000000001E-2,3.2199999999999999E-2,7.2300000000000003E-2,-1.2200000000000001E-2,1.6999999999999999E-3,1.7899999999999999E-2,4.3499999999999997E-2]
[null,10,{"$f":"$C$16*B87","v":13},{"$f":"IF('18 Concrete HVAG Dir-1'!$D$84>'19 Concrete HVAG Dir-2'!$D$84,'18 Concrete HVAG Dir-1'!$D$84*'16 Axle Loads Concrete Dir-1'!UU5*'16 Axle Loads Concrete Dir-1'!$UQ$44/100,'19 Concrete HVAG Dir-2'!$D$84*'17 Axle Loads Concrete Dir-2'!UU5*'17 Axle Loads Concrete Dir-2'!$UQ$44/100)","v":0},{"$f":"IF(J87>0.55,10^((0.9719-J87)/(0.0828)),IF((0.45<=J87)*(J87<=0.55),(4.258/(J87-0.4325))^3.268,\"3000000000\"))","v":"3000000000"},null,{"$f":"D87/E87","v":0},{"$f":"(10^(14.524-6.777*(MAX(0,(C87/(4.45*$L$95))^2*((10^$L$92)/(41.35))-9))^0.103))/$K$95","v":5569917333768566},{"$f":"D87/H87","v":0},{"$f":"($K$92/(0.944*$C$18))*((C87/(4.45*$K$98))^0.94)","v":5.2618382951653948E-2},null,null,{"$f":"IF(Q87>0.55,10^((0.9719-Q87)/(0.0828)),IF((0.45<=Q87)*(Q87<=0.55),(4.258/(Q87-0.4325))^3.268,\"3000000000\"))","v":"3000000000"},{"$f":"D87/M87","v":0},{"$f":"(10^(14.524-6.777*(MAX(0,(C87/(4.45*$S$95))^2*((10^$S$92)/(41.35))-9))^0.103))/$R$95","v":355526638325653.13},{"$f":"D87/O87","v":0},{"$f":"($R$92/(0.944*$C$18))*((C87/(4.45*$R$98))^0.94)","v":4.427600369984161E-2},null,null,null,null,null,null,null,null,null,null,null,null,null,null,null,null,null,null,null,null,null,"f",6.7,4.6100000000000003,13.8,29.58,8.99,9.6199999999999992,-31.54,-15.97]
[null,20,26,{"$f":"IF('18 Concrete HVAG Dir-1'!$D$84>'19 Concrete HVAG Dir-2'!$D$84,'18 Concrete HVAG Dir-1'!$D$84*'16 Axle Loads Concrete Dir-1'!UU6*'16 Axle Loads Concrete Dir-1'!$UQ$44/100,'19 Concrete HVAG Dir-2'!$D$84*'17 Axle Loads Concrete Dir-2'!UU6*'17 Axle Loads Concrete Dir-2'!$UQ$44/100)","v":0},{"$f":"IF(J88>0.55,10^((0.9719-J88)/(0.0828)),IF((0.45<=J88)*(J88<=0.55),(4.258/(J88-0.4325))^3.268,\"3000000000\"))","v":"3000000000"},null,0,{"$f":"(10^(14.524-6.777*(MAX(0,(C88/(4.45*$L$95))^2*((10^$L$92)/(41.35))-9))^0.103))/$K$95","v":5569917333768566},0,0.10094985356487567,null,null,{"$f":"IF(Q88>0.55,10^((0.9719-Q88)/(0.0828)),IF((0.45<=Q88)*(Q88<=0.55),(4.258/(Q88-0.4325))^3.268,\"3000000000\"))","v":"3000000000"},{"$f":"D88/M88","v":0},355526638325653.13,{"$f":"D88/O88","v":0},8.4944763392741415E-2,null,null,null,null,null,null,null,null,null,null,null,null,null,null,null,null,null,null,null,null,null,"g",2139330,2131390,1437580,923081,1874370,1949350,1719950,1085800]
[null,30,39,{"$f":"IF('18 Concrete HVAG Dir-1'!$D$84>'19 Concrete HVAG Dir-2'!$D$84,'18 Concrete HVAG Dir-1'!$D$84*'16 Axle Loads Concrete Dir-1'!UU7*'16 Axle Loads Concrete Dir-1'!$UQ$44/100,'19 Concrete HVAG Dir-2'!$D$84*'17 Axle Loads Concrete Dir-2'!UU7*'17 Axle Loads Concrete Dir-2'!$UQ$44/100)","v":0},"3000000000",null,0,5569917333768566,0,0.14778538142512737,null,null,"3000000000",0,355526638325653.13,0,0.12435475451181204,null,null,null,null,null,null,null,null,null,null,null,null,null,null,null,null,null,null,null,null,null,"h",-2.0999999999999999E-3,-1.6999999999999999E-3,-4.4000000000000003E-3,-8.6E-3,8.0000000000000004E-4,-6.9999999999999999E-4,-5.1000000000000004E-3,-8.3999999999999995E-3]
[null,40,52,{"$f":"IF('18 Concrete HVAG Dir-1'!$D$84>'19 Concrete HVAG Dir-2'!$D$84,'18 Concrete HVAG Dir-1'!$D$84*'16 Axle Loads Concrete Dir-1'!UU8*'16 Axle Loads Concrete Dir-1'!$UQ$44/100,'19 Concrete HVAG Dir-2'!$D$84*'17 Axle Loads Concrete Dir-2'!UU8*'17 Axle Loads Concrete Dir-2'!$UQ$44/100)","v":0},"3000000000",null,0,5569917333768566,0,0.19367514475184969,null,null,"3000000000",0,355526638325653.13,0,0.16296892729446208,null,null,null,null,null,null,null,null,null,null,null,null,null,null,null,null,null,null,null,null,null,"i",-0.51990000000000003,-0.2056,-3.7999999999999999E-2,-1.6301000000000001,-0.47589999999999999,-0.63139999999999996,3.3788999999999998,3.2907999999999999]
[null,50,65,{"$f":"IF('18 Concrete HVAG Dir-1'!$D$84>'19 Concrete HVAG Dir-2'!$D$84,'18 Concrete HVAG Dir-1'!$D$84*'16 Axle Loads Concrete Dir-1'!UU9*'16 Axle Loads Concrete Dir-1'!$UQ$44/100,'19 Concrete HVAG Dir-2'!$D$84*'17 Axle Loads Concrete Dir-2'!UU9*'17 Axle Loads Concrete Dir-2'!$UQ$44/100)","v":0},"3000000000",null,0,151163385.37594804,0,0.23887423072538011,null,null,"3000000000",0,355526638325653.13,0,0.20100192613504289,null,null,null,null,null,null,null,null,null,null,null,null,null,null,null,null,null,null,null,null,null,"j",-187,-185,-697,-1327,-374,-326,1675,758]
[null,60,{"$f":"$C$16*B92","v":78},{"$f":"IF('18 Concrete HVAG Dir-1'!$D$84>'19 Concrete HVAG Dir-2'!$D$84,'18 Concrete HVAG Dir-1'!$D$84*'16 Axle Loads Concrete Dir-1'!UU10*'16 Axle Loads Concrete Dir-1'!$UQ$44/100,'19 Concrete HVAG Dir-2'!$D$84*'17 Axle Loads Concrete Dir-2'!UU10*'17 Axle Loads Concrete Dir-2'!$UQ$44/100)","v":0},"3000000000",null,{"$f":"D92/E92","v":0},21544792.187380806,{"$f":"D92/H92","v":0},{"$f":"($K$92/(0.944*$C$18))*((C92/(4.45*$K$98))^0.94)","v":0.28353042752384616},{"$f":"($AO$50)+($AO$51/$C$21)+($AO$52*LN($C$20))+($AO$53/($C$21^2))+($AO$54*((LN($C$20))^2))+($AO$55*((LN($C$20))/$C$21))+($AO$56/($C$21^3))+($AO$57*((LN($C$20))^3))+($AO$58*((LN($C$20))^2)/($C$21))+($AO$59*(LN($C$20))/($C$21^2))","v":1.2348943949158442},{"$f":"($AO$66)+($AO$67/$C$21)+($AO$68*LN($C$20))+($AO$69/($C$21^2))+($AO$70*((LN($C$20))^2))+($AO$71*((LN($C$20))/$C$21))+($AO$72/($C$21^3))+($AO$73*((LN($C$20))^3))+($AO$74*((LN($C$20))^2)/($C$21))+($AO$75*(LN($C$20))/($C$21^2))","v":2.8739940141519935},"3000000000",{"$f":"D92/M92","v":0},355526638325653.13,{"$f":"D92/O92","v":0},{"$f":"($R$92/(0.944*$C$18))*((C92/(4.45*$R$98))^0.94)","v":0.23857810814136562},{"$f":"($AS$50)+($AS$51/$C$21)+($AS$52*LN($C$20))+($AS$53/($C$21^2))+($AS$54*((LN($C$20))^2))+($AS$55*((LN($C$20))/$C$21))+($AS$56/($C$21^3))+($AS$57*((LN($C$20))^3))+($AS$58*((LN($C$20))^2)/($C$21))+($AS$59*(LN($C$20))/($C$21^2))","v":1.0391081164247171},{"$f":"($AS$66)+($AS$67/$C$21)+($AS$68*LN($C$20))+($AS$69/($C$21^2))+($AS$70*((LN($C$20))^2))+($AS$71*((LN($C$20))/$C$21))+($AS$72/($C$21^3))+($AS$73*((LN($C$20))^3))+($AS$74*((LN($C$20))^2)/($C$21))+($AS$75*(LN($C$20))/($C$21^2))","v":2.4402558333396036},null,null,null,null,null,null,null,null,null,null,null,null," ",null," "]
[null,70,91,{"$f":"IF('18 Concrete HVAG Dir-1'!$D$84>'19 Concrete HVAG Dir-2'!$D$84,'18 Concrete HVAG Dir-1'!$D$84*'16 Axle Loads Concrete Dir-1'!UU11*'16 Axle Loads Concrete Dir-1'!$UQ$44/100,'19 Concrete HVAG Dir-2'!$D$84*'17 Axle Loads Concrete Dir-2'!UU11*'17 Axle Loads Concrete Dir-2'!$UQ$44/100)","v":0},"3000000000",null,{"$f":"D93/E93","v":0},6748436.3759154221,{"$f":"D93/H93","v":0},0.32774015517002825,null,null,"3000000000",{"$f":"D93/M93","v":0},355526638325653.13,{"$f":"D93/O93","v":0},0.27577860642786456]
[null,80,104,{"$f":"IF('18 Concrete HVAG Dir-1'!$D$84>'19 Concrete HVAG Dir-2'!$D$84,'18 Concrete HVAG Dir-1'!$D$84*'16 Axle Loads Concrete Dir-1'!UU12*'16 Axle Loads Concrete Dir-1'!$UQ$44/100,'19 Concrete HVAG Dir-2'!$D$84*'17 Axle Loads Concrete Dir-2'!UU12*'17 Axle Loads Concrete Dir-2'!$UQ$44/100)","v":1272800.3027530441},"3000000000",null,4.2426676758434805E-4,2819415.8198345909,0.45144114387061807,0.37157123433115241,"F2","F4","3000000000",4.2426676758434805E-4,15434820.098741528,8.2462917909669795E-2,0.31266048903701044,"F2","F4"]
[null,90,117,{"$f":"IF('18 Concrete HVAG Dir-1'!$D$84>'19 Concrete HVAG Dir-2'!$D$84,'18 Concrete HVAG Dir-1'!$D$84*'16 Axle Loads Concrete Dir-1'!UU13*'16 Axle Loads Concrete Dir-1'!$UQ$44/100,'19 Concrete HVAG Dir-2'!$D$84*'17 Axle Loads Concrete Dir-2'!UU13*'17 Axle Loads Concrete Dir-2'!$UQ$44/100)","v":0},"3000000000",null,0,1376882.0943268647,0,0.41507392925847914,0.06,18,"3000000000",0,3284442.5473429463,0,0.3492660510765192,0.94,18]
[null,100,130,{"$f":"IF('18 Concrete HVAG Dir-1'!$D$84>'19 Concrete HVAG Dir-2'!$D$84,'18 Concrete HVAG Dir-1'!$D$84*'16 Axle Loads Concrete Dir-1'!UU14*'16 Axle Loads Concrete Dir-1'!$UQ$44/100,'19 Concrete HVAG Dir-2'!$D$84*'17 Axle Loads Concrete Dir-2'!UU14*'17 Axle Loads Concrete Dir-2'!$UQ$44/100)","v":795500.18922065257},17692474.00392523,null,4.496263151462955E-2,743282.02999883599,1.0702534934443368,0.45828695713256351,null,null,"3000000000",2.6516672974021753E-4,1250218.8833157443,0.63628873298640454,0.38562787131322751]
[null,110,143,{"$f":"IF('18 Concrete HVAG Dir-1'!$D$84>'19 Concrete HVAG Dir-2'!$D$84,'18 Concrete HVAG Dir-1'!$D$84*'16 Axle Loads Concrete Dir-1'!UU15*'16 Axle Loads Concrete Dir-1'!$UQ$44/100,'19 Concrete HVAG Dir-2'!$D$84*'17 Axle Loads Concrete Dir-2'!UU15*'17 Axle Loads Concrete Dir-2'!$UQ$44/100)","v":0},718161.13941319077,null,0,430714.52295033296,0,0.50124103886809779,"F1",null,"3000000000",0,601382.07018570113,0,0.421771800015735,"F1"]
[null,120,156,{"$f":"IF('18 Concrete HVAG Dir-1'!$D$84>'19 Concrete HVAG Dir-2'!$D$84,'18 Concrete HVAG Dir-1'!$D$84*'16 Axle Loads Concrete Dir-1'!UU16*'16 Axle Loads Concrete Dir-1'!$UQ$44/100,'19 Concrete HVAG Dir-2'!$D$84*'17 Axle Loads Concrete Dir-2'!UU16*'17 Axle Loads Concrete Dir-2'!$UQ$44/100)","v":0},147994.18731569193,null,0,263267.98591444688,0,0.5439611317211559,18,null,19028588.545703974,0,329451.69215986668,0,0.45771883759302956,18]
[null,130,169,{"$f":"IF('18 Concrete HVAG Dir-1'!$D$84>'19 Concrete HVAG Dir-2'!$D$84,'18 Concrete HVAG Dir-1'!$D$84*'16 Axle Loads Concrete Dir-1'!UU17*'16 Axle Loads Concrete Dir-1'!$UQ$44/100,'19 Concrete HVAG Dir-2'!$D$84*'17 Axle Loads Concrete Dir-2'!UU17*'17 Axle Loads Concrete Dir-2'!$UQ$44/100)","v":0},45183.203092409603,null,0,167814.69912992089,0,0.58646790312972163,null,null,1061947.966233084,0,196315.68951046214,0,0.49348637476503265]
[null,140,182,{"$f":"IF('18 Concrete HVAG Dir-1'!$D$84>'19 Concrete HVAG Dir-2'!$D$84,'18 Concrete HVAG Dir-1'!$D$84*'16 Axle Loads Concrete Dir-1'!UU18*'16 Axle Loads Concrete Dir-1'!$UQ$44/100,'19 Concrete HVAG Dir-2'!$D$84*'17 Axle Loads Concrete Dir-2'!UU18*'17 Axle Loads Concrete Dir-2'!$UQ$44/100)","v":0},13930.815429003138,null,0,110677.59986443126,0,0.62877874263340516,null,null,236319.63943766165,0,124154.41731591032,0,0.52908904404754831]
[null,150,195,{"$f":"IF('18 Concrete HVAG Dir-1'!$D$84>'19 Concrete HVAG Dir-2'!$D$84,'18 Concrete HVAG Dir-1'!$D$84*'16 Axle Loads Concrete Dir-1'!UU19*'16 Axle Loads Concrete Dir-1'!$UQ$44/100,'19 Concrete HVAG Dir-2'!$D$84*'17 Axle Loads Concrete Dir-2'!UU19*'17 Axle Loads Concrete Dir-2'!$UQ$44/100)","v":0},4316.8135474384571,null,0,75093.665613070509,0,0.6709084795102872,null,null,83140.940354827864,0,82108.146260537993,0,0.56453932361140469]
[null,160,208,{"$f":"IF('18 Concrete HVAG Dir-1'!$D$84>'19 Concrete HVAG Dir-2'!$D$84,'18 Concrete HVAG Dir-1'!$D$84*'16 Axle Loads Concrete Dir-1'!UU20*'16 Axle Loads Concrete Dir-1'!$UQ$44/100,'19 Concrete HVAG Dir-2'!$D$84*'17 Axle Loads Concrete Dir-2'!UU20*'17 Axle Loads Concrete Dir-2'!$UQ$44/100)","v":0},1343.9489768005003,null,0,52190.701987950772,0,0.71286990573454867,null,null,31144.539679824058,0,56238.66726803191,0,0.59984797732778861]
[null,170,221,{"$f":"IF('18 Concrete HVAG Dir-1'!$D$84>'19 Concrete HVAG Dir-2'!$D$84,'18 Concrete HVAG Dir-1'!$D$84*'16 Axle Loads Concrete Dir-1'!UU21*'16 Axle Loads Concrete Dir-1'!$UQ$44/100,'19 Concrete HVAG Dir-2'!$D$84*'17 Axle Loads Concrete Dir-2'!UU21*'17 Axle Loads Concrete Dir-2'!$UQ$44/100)","v":0},420.24292511873745,null,0,37032.566539974068,0,0.7546741659914924,null,null,11709.708923918321,0,39628.591661919301,0,0.63502438294835328]
[null,180,234,{"$f":"IF('18 Concrete HVAG Dir-1'!$D$84>'19 Concrete HVAG Dir-2'!$D$84,'18 Concrete HVAG Dir-1'!$D$84*'16 Axle Loads Concrete Dir-1'!UU22*'16 Axle Loads Concrete Dir-1'!$UQ$44/100,'19 Concrete HVAG Dir-2'!$D$84*'17 Axle Loads Concrete Dir-2'!UU22*'17 Axle Loads Concrete Dir-2'!$UQ$44/100)","v":0},131.94650575522263,null,0,26756.53357449915,0,0.79633105441002394,null,null,4417.8193123549208,0,28589.674538650303,0,0.67007678179225982]
[null,190,247,{"$f":"IF('18 Concrete HVAG Dir-1'!$D$84>'19 Concrete HVAG Dir-2'!$D$84,'18 Concrete HVAG Dir-1'!$D$84*'16 Axle Loads Concrete Dir-1'!UU23*'16 Axle Loads Concrete Dir-1'!$UQ$44/100,'19 Concrete HVAG Dir-2'!$D$84*'17 Axle Loads Concrete Dir-2'!UU23*'17 Axle Loads Concrete Dir-2'!$UQ$44/100)","v":0},41.588234071288731,null,{"$f":"D105/E105","v":0},19642.892750540337,{"$f":"D105/H105","v":0},{"$f":"($K$92/(0.944*$C$18))*((C105/(4.45*$K$98))^0.94)","v":0.83784924428506613},null,null,1672.1657473599198,{"$f":"D105/M105","v":0},21040.903492835234,{"$f":"D105/O105","v":0},{"$f":"($R$92/(0.944*$C$18))*((C105/(4.45*$R$98))^0.94)","v":0.70501247204726247}]
[null,200,260,{"$f":"IF('18 Concrete HVAG Dir-1'!$D$84>'19 Concrete HVAG Dir-2'!$D$84,'18 Concrete HVAG Dir-1'!$D$84*'16 Axle Loads Concrete Dir-1'!UU24*'16 Axle Loads Concrete Dir-1'!$UQ$44/100,'19 Concrete HVAG Dir-2'!$D$84*'17 Axle Loads Concrete Dir-2'!UU24*'17 Axle Loads Concrete Dir-2'!$UQ$44/100)","v":0},13.15602755976607,null,0,14626.817267245378,0,0.87923646866404725,null,null,634.8653634135253,0,15752.935216101143,0,0.73983796072511898]
[null,210,273,{"$f":"IF('18 Concrete HVAG Dir-1'!$D$84>'19 Concrete HVAG Dir-2'!$D$84,'18 Concrete HVAG Dir-1'!$D$84*'16 Axle Loads Concrete Dir-1'!UU25*'16 Axle Loads Concrete Dir-1'!$UQ$44/100,'19 Concrete HVAG Dir-2'!$D$84*'17 Axle Loads Concrete Dir-2'!UU25*'17 Axle Loads Concrete Dir-2'!$UQ$44/100)","v":0},4.1761587745076163,null,0,11031.357141205272,0,0.92049966424539431,null,null,241.73770078392954,0,11971.344227999494,0,0.77455908474570401]
[null,220,286,{"$f":"IF('18 Concrete HVAG Dir-1'!$D$84>'19 Concrete HVAG Dir-2'!$D$84,'18 Concrete HVAG Dir-1'!$D$84*'16 Axle Loads Concrete Dir-1'!UU26*'16 Axle Loads Concrete Dir-1'!$UQ$44/100,'19 Concrete HVAG Dir-2'!$D$84*'17 Axle Loads Concrete Dir-2'!UU26*'17 Axle Loads Concrete Dir-2'!$UQ$44/100)","v":0},1.3299998775377069,null,0,8416.0399623056819,0,0.96164508743897281,null,null,92.300489120999842,0,9218.0145624811357,0,0.80918110859665104]
[null,230,299,{"$f":"IF('18 Concrete HVAG Dir-1'!$D$84>'19 Concrete HVAG Dir-2'!$D$84,'18 Concrete HVAG Dir-1'!$D$84*'16 Axle Loads Concrete Dir-1'!UU27*'16 Axle Loads Concrete Dir-1'!$UQ$44/100,'19 Concrete HVAG Dir-2'!$D$84*'17 Axle Loads Concrete Dir-2'!UU27*'17 Axle Loads Concrete Dir-2'!$UQ$44/100)","v":0},0.42489349730925191,null,0,6488.2883987278019,0,1.0026784089972489,null,null,35.334817347943556,0,7181.466539517869,0,0.84370880396122172]
[null,240,312,{"$f":"IF('18 Concrete HVAG Dir-1'!$D$84>'19 Concrete HVAG Dir-2'!$D$84,'18 Concrete HVAG Dir-1'!$D$84*'16 Axle Loads Concrete Dir-1'!UU28*'16 Axle Loads Concrete Dir-1'!$UQ$44/100,'19 Concrete HVAG Dir-2'!$D$84*'17 Axle Loads Concrete Dir-2'!UU28*'17 Axle Loads Concrete Dir-2'!$UQ$44/100)","v":0},0.13614449877974394,null,0,5050.1385457960687,0,1.0436047919353375,null,null,13.560898417442301,0,5653.8616121454197,0,0.87814651528452248]
[null,250,325,{"$f":"IF('18 Concrete HVAG Dir-1'!$D$84>'19 Concrete HVAG Dir-2'!$D$84,'18 Concrete HVAG Dir-1'!$D$84*'16 Axle Loads Concrete Dir-1'!UU29*'16 Axle Loads Concrete Dir-1'!$UQ$44/100,'19 Concrete HVAG Dir-2'!$D$84*'17 Axle Loads Concrete Dir-2'!UU29*'17 Axle Loads Concrete Dir-2'!$UQ$44/100)","v":0},4.3747640486841592E-2,null,0,3965.3940142693241,0,1.0844289562655314,null,null,5.2169043172442136,0,4493.571994143259,0,0.9124982142447009]
[null,260,338,{"$f":"IF('18 Concrete HVAG Dir-1'!$D$84>'19 Concrete HVAG Dir-2'!$D$84,'18 Concrete HVAG Dir-1'!$D$84*'16 Axle Loads Concrete Dir-1'!UU30*'16 Axle Loads Concrete Dir-1'!$UQ$44/100,'19 Concrete HVAG Dir-2'!$D$84*'17 Axle Loads Concrete Dir-2'!UU30*'17 Axle Loads Concrete Dir-2'!$UQ$44/100)","v":0},1.4095853787573257E-2,null,0,3138.9270088796834,0,1.125155233216534,null,null,2.0115556906601948,0,3602.2750421112642,0,0.94676754537599295]
[null,270,351,{"$f":"IF('18 Concrete HVAG Dir-1'!$D$84>'19 Concrete HVAG Dir-2'!$D$84,'18 Concrete HVAG Dir-1'!$D$84*'16 Axle Loads Concrete Dir-1'!UU31*'16 Axle Loads Concrete Dir-1'!$UQ$44/100,'19 Concrete HVAG Dir-2'!$D$84*'17 Axle Loads Concrete Dir-2'!UU31*'17 Axle Loads Concrete Dir-2'!$UQ$44/100)","v":0},4.5536766229896022E-3,null,0,2503.372588237482,0,1.1657876109847747,null,null,0.77733012774070098,0,2910.5682109965783,0,0.98095786456639744]
[null,280,364,{"$f":"IF('18 Concrete HVAG Dir-1'!$D$84>'19 Concrete HVAG Dir-2'!$D$84,'18 Concrete HVAG Dir-1'!$D$84*'16 Axle Loads Concrete Dir-1'!UU32*'16 Axle Loads Concrete Dir-1'!$UQ$44/100,'19 Concrete HVAG Dir-2'!$D$84*'17 Axle Loads Concrete Dir-2'!UU32*'17 Axle Loads Concrete Dir-2'!$UQ$44/100)","v":0},1.4747640453693133E-3,null,0,2010.4199181213467,0,1.2063297736053611,null,null,0.30102027739462611,0,2368.7251305975419,0,1.0150722717658349]
[null,290,377,{"$f":"IF('18 Concrete HVAG Dir-1'!$D$84>'19 Concrete HVAG Dir-2'!$D$84,'18 Concrete HVAG Dir-1'!$D$84*'16 Axle Loads Concrete Dir-1'!UU33*'16 Axle Loads Concrete Dir-1'!$UQ$44/100,'19 Concrete HVAG Dir-2'!$D$84*'17 Axle Loads Concrete Dir-2'!UU33*'17 Axle Loads Concrete Dir-2'!$UQ$44/100)","v":0},4.7877474058407877E-4,null,0,1625.0178559612798,0,1.2467851341864202,null,null,0.11680680061824748,0,1940.6322298168527,0,1.0491136389513522]
[null,300,390,{"$f":"IF('18 Concrete HVAG Dir-1'!$D$84>'19 Concrete HVAG Dir-2'!$D$84,'18 Concrete HVAG Dir-1'!$D$84*'16 Axle Loads Concrete Dir-1'!UU34*'16 Axle Loads Concrete Dir-1'!$UQ$44/100,'19 Concrete HVAG Dir-2'!$D$84*'17 Axle Loads Concrete Dir-2'!UU34*'17 Axle Loads Concrete Dir-2'!$UQ$44/100)","v":0},1.5579372374492517E-4,null,0,1321.461099750057,0,1.2871568634905757,null,null,4.5414068270160791E-2,0,1599.7374779117181,0,1.083084634177149]
[null,"Totals",null,{"$f":"SUM(D87:D116)","v":2068300.4919736967},{"$f":"SUM(E87:E116)","v":18624017.177095424},{"$f":"SUM(F92:F109)","v":0},{"$f":"SUM(G87:G116)","v":4.53868982822139E-2},{"$f":"SUM(H87:H116)","v":2.2279669520713832E+16},{"$f":"SUM(I87:I116)","v":1.5216946373149549},null,null,null,{"$f":"SUM(M87:M116)","v":20459967.593693364},{"$f":"SUM(N87:N116)","v":6.8943349732456557E-4},{"$f":"SUM(O87:O116)","v":2488686489794655},{"$f":"SUM(P87:P116)","v":0.71875165089607429}]
[]
[]
[null,"TADT"]
[null,"Axle Group Load, P (kN)","Design Load, P*LSF (kN)","Expected Load Repetitions","Fatigue Analysis",null,null,"Erosion Analysis",null,"Sr","F3","Se","Fatigue Analysis",null,"Erosion Analysis",null,"Sr","F3","Se"]
[null,null,null,null,"Allowable Repetitions",null,"Damage (%)","Allowable Repetitions","Damage (%)",null,null,null,"Allowable Repetitions","Damage (%)","Allowable Repetitions","Damage (%)"]
[null,10,{"$f":"$C$16*B123","v":13},{"$f":"IF('18 Concrete HVAG Dir-1'!$D$84>'19 Concrete HVAG Dir-2'!$D$84,'18 Concrete HVAG Dir-1'!$D$84*'16 Axle Loads Concrete Dir-1'!VA5*'16 Axle Loads Concrete Dir-1'!$UQ$46/100,'19 Concrete HVAG Dir-2'!$D$84*'17 Axle Loads Concrete Dir-2'!VA5*'17 Axle Loads Concrete Dir-2'!$UQ$46/100)","v":0},{"$f":"IF(J123>0.55,10^((0.9719-J123)/(0.0828)),IF((0.45<=J123)*(J123<=0.55),(4.258/(J123-0.4325))^3.268,\"3000000000\"))","v":"3000000000"},null,{"$f":"D123/E123","v":0},{"$f":"(10^(14.524-6.777*(MAX(0,(C123/(4.45*$L$131))^2*((10^$L$128)/(41.35))-9))^0.103))/$K$131","v":5569917333768566},{"$f":"D123/H123","v":0},{"$f":"($K$128/(0.944*$C$18))*((C123/(4.45*$K$134))^0.94)","v":2.4646704208647025E-2},null,null,{"$f":"IF(Q123>0.55,10^((0.9719-Q123)/(0.0828)),IF((0.45<=Q123)*(Q123<=0.55),(4.258/(Q123-0.4325))^3.268,\"3000000000\"))","v":"3000000000"},{"$f":"D123/M123","v":0},{"$f":"(10^(14.524-6.777*(MAX(0,(C123/(4.45*$S$131))^2*((10^$S$128)/(41.35))-9))^0.103))/$R$131","v":355526638325653.13},{"$f":"D123/O123","v":0},{"$f":"($R$128/(0.944*$C$18))*((C123/(4.45*$R$134))^0.94)","v":1.9274081711417496E-2}]
[null,20,26,{"$f":"IF('18 Concrete HVAG Dir-1'!$D$84>'19 Concrete HVAG Dir-2'!$D$84,'18 Concrete HVAG Dir-1'!$D$84*'16 Axle Loads Concrete Dir-1'!VA6*'16 Axle Loads Concrete Dir-1'!$UQ$46/100,'19 Concrete HVAG Dir-2'!$D$84*'17 Axle Loads Concrete Dir-2'!VA6*'17 Axle Loads Concrete Dir-2'!$UQ$46/100)","v":0},{"$f":"IF(J124>0.55,10^((0.9719-J124)/(0.0828)),IF((0.45<=J124)*(J124<=0.55),(4.258/(J124-0.4325))^3.268,\"3000000000\"))","v":"3000000000"},null,0,{"$f":"(10^(14.524-6.777*(MAX(0,(C124/(4.45*$L$131))^2*((10^$L$128)/(41.35))-9))^0.103))/$K$131","v":12778903.151129957},{"$f":"D124/H124","v":0},4.7285398013956155E-2,null,null,{"$f":"IF(Q124>0.55,10^((0.9719-Q124)/(0.0828)),IF((0.45<=Q124)*(Q124<=0.55),(4.258/(Q124-0.4325))^3.268,\"3000000000\"))","v":"3000000000"},0,355526638325653.13,0,3.697787003741218E-2]
[null,30,39,{"$f":"IF('18 Concrete HVAG Dir-1'!$D$84>'19 Concrete HVAG Dir-2'!$D$84,'18 Concrete HVAG Dir-1'!$D$84*'16 Axle Loads Concrete Dir-1'!VA7*'16 Axle Loads Concrete Dir-1'!$UQ$46/100,'19 Concrete HVAG Dir-2'!$D$84*'17 Axle Loads Concrete Dir-2'!VA7*'17 Axle Loads Concrete Dir-2'!$UQ$46/100)","v":0},"3000000000",null,0,936200.50724033534,0,6.9223385022946643E-2,null,null,"3000000000",0,355526638325653.13,0,5.4133695441725319E-2]
[null,40,52,{"$f":"IF('18 Concrete HVAG Dir-1'!$D$84>'19 Concrete HVAG Dir-2'!$D$84,'18 Concrete HVAG Dir-1'!$D$84*'16 Axle Loads Concrete Dir-1'!VA8*'16 Axle Loads Concrete Dir-1'!$UQ$46/100,'19 Concrete HVAG Dir-2'!$D$84*'17 Axle Loads Concrete Dir-2'!VA8*'17 Axle Loads Concrete Dir-2'!$UQ$46/100)","v":0},"3000000000",null,0,182024.57833631625,0,9.0718371365604525E-2,null,null,"3000000000",0,355526638325653.13,0,7.0943087871924562E-2]
[null,50,65,{"$f":"IF('18 Concrete HVAG Dir-1'!$D$84>'19 Concrete HVAG Dir-2'!$D$84,'18 Concrete HVAG Dir-1'!$D$84*'16 Axle Loads Concrete Dir-1'!VA9*'16 Axle Loads Concrete Dir-1'!$UQ$46/100,'19 Concrete HVAG Dir-2'!$D$84*'17 Axle Loads Concrete Dir-2'!VA9*'17 Axle Loads Concrete Dir-2'!$UQ$46/100)","v":0},"3000000000",null,0,51885.295501596927,0,0.11188984110678542,null,null,"3000000000",0,355526638325653.13,0,8.7499485607211214E-2]
[null,60,{"$f":"$C$16*B128","v":78},{"$f":"IF('18 Concrete HVAG Dir-1'!$D$84>'19 Concrete HVAG Dir-2'!$D$84,'18 Concrete HVAG Dir-1'!$D$84*'16 Axle Loads Concrete Dir-1'!VA10*'16 Axle Loads Concrete Dir-1'!$UQ$46/100,'19 Concrete HVAG Dir-2'!$D$84*'17 Axle Loads Concrete Dir-2'!VA10*'17 Axle Loads Concrete Dir-2'!$UQ$46/100)","v":0},"3000000000",null,{"$f":"D128/E128","v":0},18387.925766665037,0,{"$f":"($K$128/(0.944*$C$18))*((C128/(4.45*$K$134))^0.94)","v":0.13280701894150121},{"$f":"($AP$50)+($AP$51/$C$21)+($AP$52*LN($C$20))+($AP$53/($C$21^2))+($AP$54*((LN($C$20))^2))+($AP$55*((LN($C$20))/$C$21))+($AP$56/($C$21^3))+($AP$57*((LN($C$20))^3))+($AP$58*((LN($C$20))^2)/($C$21))+($AP$59*(LN($C$20))/($C$21^2))","v":1.1097352235710201},{"$f":"($AP$66)+($AP$67/$C$21)+($AP$68*LN($C$20))+($AP$69/($C$21^2))+($AP$70*((LN($C$20))^2))+($AP$71*((LN($C$20))/$C$21))+($AP$72/($C$21^3))+($AP$73*((LN($C$20))^3))+($AP$74*((LN($C$20))^2)/($C$21))+($AP$75*(LN($C$20))/($C$21^2))","v":4.4872565499089818},"3000000000",{"$f":"D128/M128","v":0},{"$f":"(10^(14.524-6.777*(MAX(0,(C128/(4.45*$S$131))^2*((10^$S$128)/(41.35))-9))^0.103))/$R$131","v":355526638325653.13},{"$f":"D128/O128","v":0},{"$f":"($R$128/(0.944*$C$18))*((C128/(4.45*$R$134))^0.94)","v":0.10385702336745743},{"$f":"($AT$50)+($AT$51/$C$21)+($AT$52*LN($C$20))+($AT$53/($C$21^2))+($AT$54*((LN($C$20))^2))+($AT$55*((LN($C$20))/$C$21))+($AT$56/($C$21^3))+($AT$57*((LN($C$20))^3))+($AT$58*((LN($C$20))^2)/($C$21))+($AT$59*(LN($C$20))/($C$21^2))","v":0.86782910997251572},{"$f":"($AT$66)+($AT$67/$C$21)+($AT$68*LN($C$20))+($AT$69/($C$21^2))+($AT$70*((LN($C$20))^2))+($AT$71*((LN($C$20))/$C$21))+($AT$72/($C$21^3))+($AT$73*((LN($C$20))^3))+($AT$74*((LN($C$20))^2)/($C$21))+($AT$75*(LN($C$20))/($C$21^2))","v":2.4394303312865966}]
[null,70,91,{"$f":"IF('18 Concrete HVAG Dir-1'!$D$84>'19 Concrete HVAG Dir-2'!$D$84,'18 Concrete HVAG Dir-1'!$D$84*'16 Axle Loads Concrete Dir-1'!VA11*'16 Axle Loads Concrete Dir-1'!$UQ$46/100,'19 Concrete HVAG Dir-2'!$D$84*'17 Axle Loads Concrete Dir-2'!VA11*'17 Axle Loads Concrete Dir-2'!$UQ$46/100)","v":0},"3000000000",null,{"$f":"D129/E129","v":0},7529.3083698276087,0,0.15351506847319144,null,null,"3000000000",{"$f":"D129/M129","v":0},355526638325653.13,{"$f":"D129/O129","v":0},0.12005101974843596]
[null,80,104,{"$f":"IF('18 Concrete HVAG Dir-1'!$D$84>'19 Concrete HVAG Dir-2'!$D$84,'18 Concrete HVAG Dir-1'!$D$84*'16 Axle Loads Concrete Dir-1'!VA12*'16 Axle Loads Concrete Dir-1'!$UQ$46/100,'19 Concrete HVAG Dir-2'!$D$84*'17 Axle Loads Concrete Dir-2'!VA12*'17 Axle Loads Concrete Dir-2'!$UQ$46/100)","v":0},"3000000000",null,0,3422.0641372354485,0,0.17404575722929777,"F2","F4","3000000000",0,355526638325653.13,0,0.13610631741935308,"F2","F4"]
[null,90,117,{"$f":"IF('18 Concrete HVAG Dir-1'!$D$84>'19 Concrete HVAG Dir-2'!$D$84,'18 Concrete HVAG Dir-1'!$D$84*'16 Axle Loads Concrete Dir-1'!VA13*'16 Axle Loads Concrete Dir-1'!$UQ$46/100,'19 Concrete HVAG Dir-2'!$D$84*'17 Axle Loads Concrete Dir-2'!VA13*'17 Axle Loads Concrete Dir-2'!$UQ$46/100)","v":0},"3000000000",null,0,1684.1710824728827,0,0.19442262922739725,0.06,36,"3000000000",0,355526638325653.13,0,0.15204132814491184,0.94,36]
[null,100,130,{"$f":"IF('18 Concrete HVAG Dir-1'!$D$84>'19 Concrete HVAG Dir-2'!$D$84,'18 Concrete HVAG Dir-1'!$D$84*'16 Axle Loads Concrete Dir-1'!VA14*'16 Axle Loads Concrete Dir-1'!$UQ$46/100,'19 Concrete HVAG Dir-2'!$D$84*'17 Axle Loads Concrete Dir-2'!VA14*'17 Axle Loads Concrete Dir-2'!$UQ$46/100)","v":1280749.8915011615},"3000000000",null,4.2691663050038715E-4,882.8373376934577,1450.7201234230859,0.21466381978148855,null,null,"3000000000",4.2691663050038715E-4,355526638325653.13,3.602402052157982E-9,0.1678702340048302]
[null,110,143,{"$f":"IF('18 Concrete HVAG Dir-1'!$D$84>'19 Concrete HVAG Dir-2'!$D$84,'18 Concrete HVAG Dir-1'!$D$84*'16 Axle Loads Concrete Dir-1'!VA15*'16 Axle Loads Concrete Dir-1'!$UQ$46/100,'19 Concrete HVAG Dir-2'!$D$84*'17 Axle Loads Concrete Dir-2'!VA15*'17 Axle Loads Concrete Dir-2'!$UQ$46/100)","v":0},"3000000000",null,0,487.20921909443388,0,0.23478371871609621,"F1",null,"3000000000",0,355526638325653.13,0,0.18360428805149812,"F1"]
[null,120,156,{"$f":"IF('18 Concrete HVAG Dir-1'!$D$84>'19 Concrete HVAG Dir-2'!$D$84,'18 Concrete HVAG Dir-1'!$D$84*'16 Axle Loads Concrete Dir-1'!VA16*'16 Axle Loads Concrete Dir-1'!$UQ$46/100,'19 Concrete HVAG Dir-2'!$D$84*'17 Axle Loads Concrete Dir-2'!VA16*'17 Axle Loads Concrete Dir-2'!$UQ$46/100)","v":3183578.3017314579},"3000000000",null,1.0611927672438193E-3,280.65492148726787,11343.390256122351,0.2547940161302657,36,null,"3000000000",1.0611927672438193E-3,355526638325653.13,8.9545422439355537E-9,0.1992526321126549,36]
[null,130,169,{"$f":"IF('18 Concrete HVAG Dir-1'!$D$84>'19 Concrete HVAG Dir-2'!$D$84,'18 Concrete HVAG Dir-1'!$D$84*'16 Axle Loads Concrete Dir-1'!VA17*'16 Axle Loads Concrete Dir-1'!$UQ$46/100,'19 Concrete HVAG Dir-2'!$D$84*'17 Axle Loads Concrete Dir-2'!VA17*'17 Axle Loads Concrete Dir-2'!$UQ$46/100)","v":832487.42947575497},"3000000000",null,2.7749580982525167E-4,167.65944960217519,4965.3475032340466,0.27470439275157088,null,null,"3000000000",2.7749580982525167E-4,355526638325653.13,2.3415613339026884E-9,0.21482283665827917]
[null,140,182,{"$f":"IF('18 Concrete HVAG Dir-1'!$D$84>'19 Concrete HVAG Dir-2'!$D$84,'18 Concrete HVAG Dir-1'!$D$84*'16 Axle Loads Concrete Dir-1'!VA18*'16 Axle Loads Concrete Dir-1'!$UQ$46/100,'19 Concrete HVAG Dir-2'!$D$84*'17 Axle Loads Concrete Dir-2'!VA18*'17 Axle Loads Concrete Dir-2'!$UQ$46/100)","v":1793049.8481016264},"3000000000",null,5.9768328270054212E-4,103.34270532168965,17350.521669818332,0.29452299392418729,null,null,"3000000000",5.9768328270054212E-4,355526638325653.13,5.0433628730211759E-9,0.23032127146616668]
[null,150,195,{"$f":"IF('18 Concrete HVAG Dir-1'!$D$84>'19 Concrete HVAG Dir-2'!$D$84,'18 Concrete HVAG Dir-1'!$D$84*'16 Axle Loads Concrete Dir-1'!VA19*'16 Axle Loads Concrete Dir-1'!$UQ$46/100,'19 Concrete HVAG Dir-2'!$D$84*'17 Axle Loads Concrete Dir-2'!VA19*'17 Axle Loads Concrete Dir-2'!$UQ$46/100)","v":0},"3000000000",null,0,65.459752873291549,0,0.3142567657534488,null,null,"3000000000",0,76132753.346022904,0,0.24575336849187013]
[null,160,208,{"$f":"IF('18 Concrete HVAG Dir-1'!$D$84>'19 Concrete HVAG Dir-2'!$D$84,'18 Concrete HVAG Dir-1'!$D$84*'16 Axle Loads Concrete Dir-1'!VA20*'16 Axle Loads Concrete Dir-1'!$UQ$46/100,'19 Concrete HVAG Dir-2'!$D$84*'17 Axle Loads Concrete Dir-2'!VA20*'17 Axle Loads Concrete Dir-2'!$UQ$46/100)","v":0},"3000000000",null,0,42.470725167331338,0,0.33391170006172222,null,null,"3000000000",0,15695351.074740818,0,0.26112381342776125]
[null,170,221,{"$f":"IF('18 Concrete HVAG Dir-1'!$D$84>'19 Concrete HVAG Dir-2'!$D$84,'18 Concrete HVAG Dir-1'!$D$84*'16 Axle Loads Concrete Dir-1'!VA21*'16 Axle Loads Concrete Dir-1'!$UQ$46/100,'19 Concrete HVAG Dir-2'!$D$84*'17 Axle Loads Concrete Dir-2'!VA21*'17 Axle Loads Concrete Dir-2'!$UQ$46/100)","v":933117.77809370344},"3000000000",null,3.1103925936456779E-4,28.148490288644698,33149.833917385251,0.35349301707332387,null,null,"3000000000",3.1103925936456779E-4,6382945.8232250679,0.14618920541334524,0.27643668856529663]
[null,180,234,{"$f":"IF('18 Concrete HVAG Dir-1'!$D$84>'19 Concrete HVAG Dir-2'!$D$84,'18 Concrete HVAG Dir-1'!$D$84*'16 Axle Loads Concrete Dir-1'!VA22*'16 Axle Loads Concrete Dir-1'!$UQ$46/100,'19 Concrete HVAG Dir-2'!$D$84*'17 Axle Loads Concrete Dir-2'!VA22*'17 Axle Loads Concrete Dir-2'!$UQ$46/100)","v":1152674.902351045},"3000000000",null,3.8422496745034836E-4,19.014905691381461,60619.543481275163,0.37300530440544327,null,null,"3000000000",3.8422496745034836E-4,3317056.0689288247,0.34749937245506912,0.29169558148794478]
[null,190,247,{"$f":"IF('18 Concrete HVAG Dir-1'!$D$84>'19 Concrete HVAG Dir-2'!$D$84,'18 Concrete HVAG Dir-1'!$D$84*'16 Axle Loads Concrete Dir-1'!VA23*'16 Axle Loads Concrete Dir-1'!$UQ$46/100,'19 Concrete HVAG Dir-2'!$D$84*'17 Axle Loads Concrete Dir-2'!VA23*'17 Axle Loads Concrete Dir-2'!$UQ$46/100)","v":0},"3000000000",null,0,13.067215208046964,0,0.3924526246712296,null,null,"3000000000",0,1962892.7601431906,0,0.30690366921836698]
[null,200,260,{"$f":"IF('18 Concrete HVAG Dir-1'!$D$84>'19 Concrete HVAG Dir-2'!$D$84,'18 Concrete HVAG Dir-1'!$D$84*'16 Axle Loads Concrete Dir-1'!VA24*'16 Axle Loads Concrete Dir-1'!$UQ$46/100,'19 Concrete HVAG Dir-2'!$D$84*'17 Axle Loads Concrete Dir-2'!VA24*'17 Axle Loads Concrete Dir-2'!$UQ$46/100)","v":1280749.8915011615},"3000000000",null,4.2691663050038715E-4,9.120521052041445,140425.07924637612,0.41183860006737377,null,null,"3000000000",4.2691663050038715E-4,1260042.1732732842,1.0164341469413549,0.32206378436713901]
[null,210,273,{"$f":"IF('18 Concrete HVAG Dir-1'!$D$84>'19 Concrete HVAG Dir-2'!$D$84,'18 Concrete HVAG Dir-1'!$D$84*'16 Axle Loads Concrete Dir-1'!VA25*'16 Axle Loads Concrete Dir-1'!$UQ$46/100,'19 Concrete HVAG Dir-2'!$D$84*'17 Axle Loads Concrete Dir-2'!VA25*'17 Axle Loads Concrete Dir-2'!$UQ$46/100)","v":0},"3000000000",null,0,6.4565478680022723,0,0.4311664797768554,null,null,"3000000000",0,855613.0449739201,0,0.33717846784268052]
[null,220,286,{"$f":"IF('18 Concrete HVAG Dir-1'!$D$84>'19 Concrete HVAG Dir-2'!$D$84,'18 Concrete HVAG Dir-1'!$D$84*'16 Axle Loads Concrete Dir-1'!VA26*'16 Axle Loads Concrete Dir-1'!$UQ$46/100,'19 Concrete HVAG Dir-2'!$D$84*'17 Axle Loads Concrete Dir-2'!VA26*'17 Axle Loads Concrete Dir-2'!$UQ$46/100)","v":0},57918338.8433645,null,0,4.630225108623506,0,0.4504391943322133,null,null,"3000000000",0,605524.85740568698,0,0.35225001136412504]
[null,230,299,{"$f":"IF('18 Concrete HVAG Dir-1'!$D$84>'19 Concrete HVAG Dir-2'!$D$84,'18 Concrete HVAG Dir-1'!$D$84*'16 Axle Loads Concrete Dir-1'!VA27*'16 Axle Loads Concrete Dir-1'!$UQ$46/100,'19 Concrete HVAG Dir-2'!$D$84*'17 Axle Loads Concrete Dir-2'!VA27*'17 Axle Loads Concrete Dir-2'!$UQ$46/100)","v":0},5361170.275393758,null,0,3.3602242152808803,0,0.46965939994123684,null,null,"3000000000",0,442407.40950515965,0,0.36728049212465591]
[null,240,{"$f":"$C$16*B146","v":312},{"$f":"IF('18 Concrete HVAG Dir-1'!$D$84>'19 Concrete HVAG Dir-2'!$D$84,'18 Concrete HVAG Dir-1'!$D$84*'16 Axle Loads Concrete Dir-1'!VA28*'16 Axle Loads Concrete Dir-1'!$UQ$46/100,'19 Concrete HVAG Dir-2'!$D$84*'17 Axle Loads Concrete Dir-2'!VA28*'17 Axle Loads Concrete Dir-2'!$UQ$46/100)","v":0},1376698.3779488702,null,{"$f":"D146/E146","v":0},2.4654587434493362,0,{"$f":"($K$128/(0.944*$C$18))*((C146/(4.45*$K$134))^0.94)","v":0.48882951498509308},null,null,"3000000000",{"$f":"D146/M146","v":0},{"$f":"(10^(14.524-6.777*(MAX(0,(C146/(4.45*$S$131))^2*((10^$S$128)/(41.35))-9))^0.103))/$R$131","v":331542.3393116488},{"$f":"D146/O146","v":0},{"$f":"($R$128/(0.944*$C$18))*((C146/(4.45*$R$134))^0.94)","v":0.38227180133357358}]
[null,250,325,{"$f":"IF('18 Concrete HVAG Dir-1'!$D$84>'19 Concrete HVAG Dir-2'!$D$84,'18 Concrete HVAG Dir-1'!$D$84*'16 Axle Loads Concrete Dir-1'!VA29*'16 Axle Loads Concrete Dir-1'!$UQ$46/100,'19 Concrete HVAG Dir-2'!$D$84*'17 Axle Loads Concrete Dir-2'!VA29*'17 Axle Loads Concrete Dir-2'!$UQ$46/100)","v":0},529688.75444449112,null,0,1.8274106276385127,0,0.50795175034029161,null,null,"3000000000",0,253675.22103378878,0,0.39722566792851349]
[null,260,338,{"$f":"IF('18 Concrete HVAG Dir-1'!$D$84>'19 Concrete HVAG Dir-2'!$D$84,'18 Concrete HVAG Dir-1'!$D$84*'16 Axle Loads Concrete Dir-1'!VA30*'16 Axle Loads Concrete Dir-1'!$UQ$46/100,'19 Concrete HVAG Dir-2'!$D$84*'17 Axle Loads Concrete Dir-2'!VA30*'17 Axle Loads Concrete Dir-2'!$UQ$46/100)","v":0},253577.34488595554,null,0,1.3673152156672359,0,0.52702813477523436,null,null,"3000000000",0,197495.64454486792,0,0.41214367843591854]
[null,270,351,{"$f":"IF('18 Concrete HVAG Dir-1'!$D$84>'19 Concrete HVAG Dir-2'!$D$84,'18 Concrete HVAG Dir-1'!$D$84*'16 Axle Loads Concrete Dir-1'!VA31*'16 Axle Loads Concrete Dir-1'!$UQ$46/100,'19 Concrete HVAG Dir-2'!$D$84*'17 Axle Loads Concrete Dir-2'!VA31*'17 Axle Loads Concrete Dir-2'!$UQ$46/100)","v":0},139238.97875560209,null,0,1.03208198166837,0,0.54606053638035379,null,null,"3000000000",0,156044.52336229326,0,0.42702729372971859]
[null,280,364,{"$f":"IF('18 Concrete HVAG Dir-1'!$D$84>'19 Concrete HVAG Dir-2'!$D$84,'18 Concrete HVAG Dir-1'!$D$84*'16 Axle Loads Concrete Dir-1'!VA32*'16 Axle Loads Concrete Dir-1'!$UQ$46/100,'19 Concrete HVAG Dir-2'!$D$84*'17 Axle Loads Concrete Dir-2'!VA32*'17 Axle Loads Concrete Dir-2'!$UQ$46/100)","v":0},81967.015270875636,null,0,0.78545404409498376,0,0.56505068077545129,null,null,"3000000000",0,124873.4206278226,0,0.44187786326973499]
[null,290,377,{"$f":"IF('18 Concrete HVAG Dir-1'!$D$84>'19 Concrete HVAG Dir-2'!$D$84,'18 Concrete HVAG Dir-1'!$D$84*'16 Axle Loads Concrete Dir-1'!VA33*'16 Axle Loads Concrete Dir-1'!$UQ$46/100,'19 Concrete HVAG Dir-2'!$D$84*'17 Axle Loads Concrete Dir-2'!VA33*'17 Axle Loads Concrete Dir-2'!$UQ$46/100)","v":0},48392.782688760519,null,0,0.60236742330571891,0,0.58400016667682653,null,null,21783752.856696304,0,101046.23194854037,0,0.45669663727540183]
[null,300,390,{"$f":"IF('18 Concrete HVAG Dir-1'!$D$84>'19 Concrete HVAG Dir-2'!$D$84,'18 Concrete HVAG Dir-1'!$D$84*'16 Axle Loads Concrete Dir-1'!VA34*'16 Axle Loads Concrete Dir-1'!$UQ$46/100,'19 Concrete HVAG Dir-2'!$D$84*'17 Axle Loads Concrete Dir-2'!VA34*'17 Axle Loads Concrete Dir-2'!$UQ$46/100)","v":0},28601.919350207947,null,0,0.46529798476646933,0,0.60291047928497576,null,null,4583519.0719942655,0,82571.467223434287,0,0.47148477719514192]
[null,"Totals",null,{"$f":"SUM(D123:D152)","v":10456408.042755911},{"$f":"SUM(E123:E152)","v":65737674.292103015},{"$f":"SUM(F128:F145)","v":0},{"$f":"SUM(G123:G152)","v":3.4854693475853036E-3},{"$f":"SUM(H123:H152)","v":5569917347750723},{"$f":"SUM(I123:I152)","v":269304.43619763432},null,null,null,{"$f":"SUM(M123:M152)","v":26367271.928690568},{"$f":"SUM(N123:N152)","v":3.4854693475853036E-3},{"$f":"SUM(O123:O152)","v":4977373044460977},{"$f":"SUM(P123:P152)","v":1.5101227447516377}]
[]
[]
[null,"TRDT"]
[null,"Axle Group Load, P (kN)","Design Load, P*LSF (kN)","Expected Load Repetitions","Fatigue Analysis",null,null,"Erosion Analysis",null,"Sr","F3","Se","Fatigue Analysis",null,"Erosion Analysis",null,"Sr","F3","Se"]
[null,null,null,null,"Allowable Repetitions",null,"Damage (%)","Allowable Repetitions","Damage (%)",null,null,null,"Allowable Repetitions","Damage (%)","Allowable Repetitions","Damage (%)"]
[null,10,{"$f":"$C$16*B159","v":13},{"$f":"IF('18 Concrete HVAG Dir-1'!$D$84>'19 Concrete HVAG Dir-2'!$D$84,'18 Concrete HVAG Dir-1'!$D$84*'16 Axle Loads Concrete Dir-1'!VD5*'16 Axle Loads Concrete Dir-1'!$UQ$47/100,'19 Concrete HVAG Dir-2'!$D$84*'17 Axle Loads Concrete Dir-2'!VD5*'17 Axle Loads Concrete Dir-2'!$UQ$47/100)","v":0},{"$f":"IF(J159>0.55,10^((0.9719-J159)/(0.0828)),IF((0.45<=J159)*(J159<=0.55),(4.258/(J159-0.4325))^3.268,\"3000000000\"))","v":"3000000000"},null,{"$f":"D159/E159","v":0},{"$f":"(10^(14.524-6.777*(MAX(0,(C159/(4.45*$L$181))^2*((10^$L$178)/(41.35))-9))^0.103))/$K$181","v":5569917333768566},{"$f":"D159/H159","v":0},{"$f":"($K$178/(0.944*$C$18))*((C159/(4.45*$K$184))^0.94)","v":1.1646286784789878E-2},null,null,{"$f":"IF(Q159>0.55,10^((0.9719-Q159)/(0.0828)),IF((0.45<=Q159)*(Q159<=0.55),(4.258/(Q159-0.4325))^3.268,\"3000000000\"))","v":"3000000000"},{"$f":"D159/M159","v":0},{"$f":"(10^(14.524-6.777*(MAX(0,(C159/(4.45*$S$181))^2*((10^$S$178)/(41.35))-9))^0.103))/$R$181","v":355526638325653.13},{"$f":"D159/O159","v":0},{"$f":"($R$178/(0.944*$C$18))*((C159/(4.45*$R$184))^0.94)","v":1.0784672817702077E-2}]
[null,20,26,{"$f":"IF('18 Concrete HVAG Dir-1'!$D$84>'19 Concrete HVAG Dir-2'!$D$84,'18 Concrete HVAG Dir-1'!$D$84*'16 Axle Loads Concrete Dir-1'!VD6*'16 Axle Loads Concrete Dir-1'!$UQ$47/100,'19 Concrete HVAG Dir-2'!$D$84*'17 Axle Loads Concrete Dir-2'!VD6*'17 Axle Loads Concrete Dir-2'!$UQ$47/100)","v":0},{"$f":"IF(J160>0.55,10^((0.9719-J160)/(0.0828)),IF((0.45<=J160)*(J160<=0.55),(4.258/(J160-0.4325))^3.268,\"3000000000\"))","v":"3000000000"},null,0,{"$f":"(10^(14.524-6.777*(MAX(0,(C160/(4.45*$L$181))^2*((10^$L$178)/(41.35))-9))^0.103))/$K$181","v":5569917333768566},0,2.2343730072041851E-2,null,null,{"$f":"IF(Q160>0.55,10^((0.9719-Q160)/(0.0828)),IF((0.45<=Q160)*(Q160<=0.55),(4.258/(Q160-0.4325))^3.268,\"3000000000\"))","v":"3000000000"},0,355526638325653.13,0,2.0690699345368199E-2]
[null,30,{"$f":"$C$16*B161","v":39},{"$f":"IF('18 Concrete HVAG Dir-1'!$D$84>'19 Concrete HVAG Dir-2'!$D$84,'18 Concrete HVAG Dir-1'!$D$84*'16 Axle Loads Concrete Dir-1'!VD7*'16 Axle Loads Concrete Dir-1'!$UQ$47/100,'19 Concrete HVAG Dir-2'!$D$84*'17 Axle Loads Concrete Dir-2'!VD7*'17 Axle Loads Concrete Dir-2'!$UQ$47/100)","v":0},"3000000000",null,{"$f":"D161/E161","v":0},5569917333768566,{"$f":"D161/H161","v":0},{"$f":"($K$178/(0.944*$C$18))*((C161/(4.45*$K$184))^0.94)","v":3.271006895552063E-2},null,null,"3000000000",0,355526638325653.13,0,3.0290117189152539E-2]
[null,40,52,{"$f":"IF('18 Concrete HVAG Dir-1'!$D$84>'19 Concrete HVAG Dir-2'!$D$84,'18 Concrete HVAG Dir-1'!$D$84*'16 Axle Loads Concrete Dir-1'!VD8*'16 Axle Loads Concrete Dir-1'!$UQ$47/100,'19 Concrete HVAG Dir-2'!$D$84*'17 Axle Loads Concrete Dir-2'!VD8*'17 Axle Loads Concrete Dir-2'!$UQ$47/100)","v":0},"3000000000",null,0,5569917333768566,0,4.2867077099997306E-2,null,null,"3000000000",0,355526638325653.13,0,3.96956909715169E-2]
[null,50,65,{"$f":"IF('18 Concrete HVAG Dir-1'!$D$84>'19 Concrete HVAG Dir-2'!$D$84,'18 Concrete HVAG Dir-1'!$D$84*'16 Axle Loads Concrete Dir-1'!VD9*'16 Axle Loads Concrete Dir-1'!$UQ$47/100,'19 Concrete HVAG Dir-2'!$D$84*'17 Axle Loads Concrete Dir-2'!VD9*'17 Axle Loads Concrete Dir-2'!$UQ$47/100)","v":0},"3000000000",null,0,5569917333768566,0,5.2871214211960046E-2,null,null,"3000000000",0,355526638325653.13,0,4.8959703404806446E-2]
[null,60,78,{"$f":"IF('18 Concrete HVAG Dir-1'!$D$84>'19 Concrete HVAG Dir-2'!$D$84,'18 Concrete HVAG Dir-1'!$D$84*'16 Axle Loads Concrete Dir-1'!VD10*'16 Axle Loads Concrete Dir-1'!$UQ$47/100,'19 Concrete HVAG Dir-2'!$D$84*'17 Axle Loads Concrete Dir-2'!VD10*'17 Axle Loads Concrete Dir-2'!$UQ$47/100)","v":0},"3000000000",null,0,5569917333768566,0,6.2755190979372336E-2,null,null,"3000000000",0,355526638325653.13,0,5.8112445179422927E-2]
[null,70,91,{"$f":"IF('18 Concrete HVAG Dir-1'!$D$84>'19 Concrete HVAG Dir-2'!$D$84,'18 Concrete HVAG Dir-1'!$D$84*'16 Axle Loads Concrete Dir-1'!VD11*'16 Axle Loads Concrete Dir-1'!$UQ$47/100,'19 Concrete HVAG Dir-2'!$D$84*'17 Axle Loads Concrete Dir-2'!VD11*'17 Axle Loads Concrete Dir-2'!$UQ$47/100)","v":0},"3000000000",null,0,5569917333768566,0,7.2540348522468323E-2,null,null,"3000000000",0,355526638325653.13,0,6.7173678559815223E-2]
[null,80,104,{"$f":"IF('18 Concrete HVAG Dir-1'!$D$84>'19 Concrete HVAG Dir-2'!$D$84,'18 Concrete HVAG Dir-1'!$D$84*'16 Axle Loads Concrete Dir-1'!VD12*'16 Axle Loads Concrete Dir-1'!$UQ$47/100,'19 Concrete HVAG Dir-2'!$D$84*'17 Axle Loads Concrete Dir-2'!VD12*'17 Axle Loads Concrete Dir-2'!$UQ$47/100)","v":0},"3000000000",null,0,5569917333768566,0,8.2241697924754248E-2,null,null,"3000000000",0,355526638325653.13,0,7.6157304081600014E-2]
[null,90,117,{"$f":"IF('18 Concrete HVAG Dir-1'!$D$84>'19 Concrete HVAG Dir-2'!$D$84,'18 Concrete HVAG Dir-1'!$D$84*'16 Axle Loads Concrete Dir-1'!VD13*'16 Axle Loads Concrete Dir-1'!$UQ$47/100,'19 Concrete HVAG Dir-2'!$D$84*'17 Axle Loads Concrete Dir-2'!VD13*'17 Axle Loads Concrete Dir-2'!$UQ$47/100)","v":0},"3000000000",null,0,5569917333768566,0,9.1870364421411485E-2,null,null,"3000000000",0,355526638325653.13,0,8.5073623914358756E-2]
[null,100,130,{"$f":"IF('18 Concrete HVAG Dir-1'!$D$84>'19 Concrete HVAG Dir-2'!$D$84,'18 Concrete HVAG Dir-1'!$D$84*'16 Axle Loads Concrete Dir-1'!VD14*'16 Axle Loads Concrete Dir-1'!$UQ$47/100,'19 Concrete HVAG Dir-2'!$D$84*'17 Axle Loads Concrete Dir-2'!VD14*'17 Axle Loads Concrete Dir-2'!$UQ$47/100)","v":0},"3000000000",null,0,5569917333768566,0,0.10143491747738652,null,null,"3000000000",0,355526638325653.13,0,9.3930573538075601E-2]
[null,110,143,{"$f":"IF('18 Concrete HVAG Dir-1'!$D$84>'19 Concrete HVAG Dir-2'!$D$84,'18 Concrete HVAG Dir-1'!$D$84*'16 Axle Loads Concrete Dir-1'!VD15*'16 Axle Loads Concrete Dir-1'!$UQ$47/100,'19 Concrete HVAG Dir-2'!$D$84*'17 Axle Loads Concrete Dir-2'!VD15*'17 Axle Loads Concrete Dir-2'!$UQ$47/100)","v":0},"3000000000",null,0,5569917333768566,0,0.11094215670457776,null,null,"3000000000",0,355526638325653.13,0,0.1027344495167084]
[null,120,156,{"$f":"IF('18 Concrete HVAG Dir-1'!$D$84>'19 Concrete HVAG Dir-2'!$D$84,'18 Concrete HVAG Dir-1'!$D$84*'16 Axle Loads Concrete Dir-1'!VD16*'16 Axle Loads Concrete Dir-1'!$UQ$47/100,'19 Concrete HVAG Dir-2'!$D$84*'17 Axle Loads Concrete Dir-2'!VD16*'17 Axle Loads Concrete Dir-2'!$UQ$47/100)","v":0},"3000000000",null,0,2453901853.2116284,0,0.12039760601583274,null,null,"3000000000",0,355526638325653.13,0,0.11149036709375366]
[null,130,169,{"$f":"IF('18 Concrete HVAG Dir-1'!$D$84>'19 Concrete HVAG Dir-2'!$D$84,'18 Concrete HVAG Dir-1'!$D$84*'16 Axle Loads Concrete Dir-1'!VD17*'16 Axle Loads Concrete Dir-1'!$UQ$47/100,'19 Concrete HVAG Dir-2'!$D$84*'17 Axle Loads Concrete Dir-2'!VD17*'17 Axle Loads Concrete Dir-2'!$UQ$47/100)","v":0},"3000000000",null,0,250163137.42030045,0,0.12980583983735697,null,null,"3000000000",0,355526638325653.13,0,0.12020256227085434]
[null,140,182,{"$f":"IF('18 Concrete HVAG Dir-1'!$D$84>'19 Concrete HVAG Dir-2'!$D$84,'18 Concrete HVAG Dir-1'!$D$84*'16 Axle Loads Concrete Dir-1'!VD18*'16 Axle Loads Concrete Dir-1'!$UQ$47/100,'19 Concrete HVAG Dir-2'!$D$84*'17 Axle Loads Concrete Dir-2'!VD18*'17 Axle Loads Concrete Dir-2'!$UQ$47/100)","v":0},"3000000000",null,0,85637402.727189213,0,0.13917070708190665,null,null,"3000000000",0,355526638325653.13,0,0.12887459921103911]
[null,150,195,{"$f":"IF('18 Concrete HVAG Dir-1'!$D$84>'19 Concrete HVAG Dir-2'!$D$84,'18 Concrete HVAG Dir-1'!$D$84*'16 Axle Loads Concrete Dir-1'!VD19*'16 Axle Loads Concrete Dir-1'!$UQ$47/100,'19 Concrete HVAG Dir-2'!$D$84*'17 Axle Loads Concrete Dir-2'!VD19*'17 Axle Loads Concrete Dir-2'!$UQ$47/100)","v":0},"3000000000",null,0,40670742.470445849,0,0.14849548998689868,null,null,"3000000000",0,355526638325653.13,0,0.13750951732569336]
[null,160,208,{"$f":"IF('18 Concrete HVAG Dir-1'!$D$84>'19 Concrete HVAG Dir-2'!$D$84,'18 Concrete HVAG Dir-1'!$D$84*'16 Axle Loads Concrete Dir-1'!VD20*'16 Axle Loads Concrete Dir-1'!$UQ$47/100,'19 Concrete HVAG Dir-2'!$D$84*'17 Axle Loads Concrete Dir-2'!VD20*'17 Axle Loads Concrete Dir-2'!$UQ$47/100)","v":0},"3000000000",null,0,22655838.793460954,0,0.15778301986320759,null,null,"3000000000",0,355526638325653.13,0,0.14610993846004477]
[null,170,221,{"$f":"IF('18 Concrete HVAG Dir-1'!$D$84>'19 Concrete HVAG Dir-2'!$D$84,'18 Concrete HVAG Dir-1'!$D$84*'16 Axle Loads Concrete Dir-1'!VD21*'16 Axle Loads Concrete Dir-1'!$UQ$47/100,'19 Concrete HVAG Dir-2'!$D$84*'17 Axle Loads Concrete Dir-2'!VD21*'17 Axle Loads Concrete Dir-2'!$UQ$47/100)","v":0},"3000000000",null,0,13890839.004171554,0,0.16703576341911838,null,null,"3000000000",0,355526638325653.13,0,0.15467814683070955]
[null,180,234,{"$f":"IF('18 Concrete HVAG Dir-1'!$D$84>'19 Concrete HVAG Dir-2'!$D$84,'18 Concrete HVAG Dir-1'!$D$84*'16 Axle Loads Concrete Dir-1'!VD22*'16 Axle Loads Concrete Dir-1'!$UQ$47/100,'19 Concrete HVAG Dir-2'!$D$84*'17 Axle Loads Concrete Dir-2'!VD22*'17 Axle Loads Concrete Dir-2'!$UQ$47/100)","v":0},"3000000000",null,0,9085414.7391673587,0,0.17625588843759279,null,null,"3000000000",0,355526638325653.13,0,0.16321614984403221]
[null,190,247,{"$f":"IF('18 Concrete HVAG Dir-1'!$D$84>'19 Concrete HVAG Dir-2'!$D$84,'18 Concrete HVAG Dir-1'!$D$84*'16 Axle Loads Concrete Dir-1'!VD23*'16 Axle Loads Concrete Dir-1'!$UQ$47/100,'19 Concrete HVAG Dir-2'!$D$84*'17 Axle Loads Concrete Dir-2'!VD23*'17 Axle Loads Concrete Dir-2'!$UQ$47/100)","v":0},"3000000000",null,0,6227320.5177438697,0,0.18544531462186706,null,null,"3000000000",0,355526638325653.13,0,0.17172572518003151]
[null,200,{"$f":"$C$16*B178","v":260},{"$f":"IF('18 Concrete HVAG Dir-1'!$D$84>'19 Concrete HVAG Dir-2'!$D$84,'18 Concrete HVAG Dir-1'!$D$84*'16 Axle Loads Concrete Dir-1'!VD24*'16 Axle Loads Concrete Dir-1'!$UQ$47/100,'19 Concrete HVAG Dir-2'!$D$84*'17 Axle Loads Concrete Dir-2'!VD24*'17 Axle Loads Concrete Dir-2'!$UQ$47/100)","v":0},"3000000000",null,{"$f":"D178/E178","v":0},4423453.3094683299,{"$f":"D178/H178","v":0},{"$f":"($K$178/(0.944*$C$18))*((C178/(4.45*$K$184))^0.94)","v":0.1946057535655521},{"$f":"($AQ$50)+($AQ$51/$C$21)+($AQ$52*LN($C$20))+($AQ$53/($C$21^2))+($AQ$54*((LN($C$20))^2))+($AQ$55*((LN($C$20))/$C$21))+($AQ$56/($C$21^3))+($AQ$57*((LN($C$20))^3))+($AQ$58*((LN($C$20))^2)/($C$21))+($AQ$59*(LN($C$20))/($C$21^2))","v":0.76766860828081573},{"$f":"($AQ$66)+($AQ$67/$C$21)+($AQ$68*LN($C$20))+($AQ$69/($C$21^2))+($AQ$70*((LN($C$20))^2))+($AQ$71*((LN($C$20))/$C$21))+($AQ$72/($C$21^3))+($AQ$73*((LN($C$20))^3))+($AQ$74*((LN($C$20))^2)/($C$21))+($AQ$75*(LN($C$20))/($C$21^2))","v":2.9711229508048063},"3000000000",{"$f":"D178/M178","v":0},355526638325653.13,{"$f":"D178/O178","v":0},{"$f":"($R$178/(0.944*$C$18))*((C178/(4.45*$R$184))^0.94)","v":0.18020845780543815},{"$f":"($AU$50)+($AU$51/$C$21)+($AU$52*LN($C$20))+($AU$53/($C$21^2))+($AU$54*((LN($C$20))^2))+($AU$55*((LN($C$20))/$C$21))+($AU$56/($C$21^3))+($AU$57*((LN($C$20))^3))+($AU$58*((LN($C$20))^2)/($C$21))+($AU$59*(LN($C$20))/($C$21^2))","v":0.71087505620605129},{"$f":"($AU$66)+($AU$67/$C$21)+($AU$68*LN($C$20))+($AU$69/($C$21^2))+($AU$70*((LN($C$20))^2))+($AU$71*((LN($C$20))/$C$21))+($AU$72/($C$21^3))+($AU$73*((LN($C$20))^3))+($AU$74*((LN($C$20))^2)/($C$21))+($AU$75*(LN($C$20))/($C$21^2))","v":2.4393071711841445}]
[null,210,273,{"$f":"IF('18 Concrete HVAG Dir-1'!$D$84>'19 Concrete HVAG Dir-2'!$D$84,'18 Concrete HVAG Dir-1'!$D$84*'16 Axle Loads Concrete Dir-1'!VD25*'16 Axle Loads Concrete Dir-1'!$UQ$47/100,'19 Concrete HVAG Dir-2'!$D$84*'17 Axle Loads Concrete Dir-2'!VD25*'17 Axle Loads Concrete Dir-2'!$UQ$47/100)","v":0},"3000000000",null,{"$f":"D179/E179","v":0},3232116.2177791237,0,0.20373874060239783,null,null,"3000000000",{"$f":"D179/M179","v":0},355526638325653.13,{"$f":"D179/O179","v":0},0.18866576946715444]
[null,220,286,{"$f":"IF('18 Concrete HVAG Dir-1'!$D$84>'19 Concrete HVAG Dir-2'!$D$84,'18 Concrete HVAG Dir-1'!$D$84*'16 Axle Loads Concrete Dir-1'!VD26*'16 Axle Loads Concrete Dir-1'!$UQ$47/100,'19 Concrete HVAG Dir-2'!$D$84*'17 Axle Loads Concrete Dir-2'!VD26*'17 Axle Loads Concrete Dir-2'!$UQ$47/100)","v":0},"3000000000",null,0,2416555.2384332507,0,0.21284566049452455,"F2","F4","3000000000",0,225411006.77886498,0,0.19709894248002227,"F2","F4"]
[null,230,299,{"$f":"IF('18 Concrete HVAG Dir-1'!$D$84>'19 Concrete HVAG Dir-2'!$D$84,'18 Concrete HVAG Dir-1'!$D$84*'16 Axle Loads Concrete Dir-1'!VD27*'16 Axle Loads Concrete Dir-1'!$UQ$47/100,'19 Concrete HVAG Dir-2'!$D$84*'17 Axle Loads Concrete Dir-2'!VD27*'17 Axle Loads Concrete Dir-2'!$UQ$47/100)","v":0},"3000000000",null,0,1841702.418186472,0,0.22192776837760542,0.06,54,"3000000000",0,38946930.757431038,0,0.20550913912244226,0.94,54]
[null,240,312,{"$f":"IF('18 Concrete HVAG Dir-1'!$D$84>'19 Concrete HVAG Dir-2'!$D$84,'18 Concrete HVAG Dir-1'!$D$84*'16 Axle Loads Concrete Dir-1'!VD28*'16 Axle Loads Concrete Dir-1'!$UQ$47/100,'19 Concrete HVAG Dir-2'!$D$84*'17 Axle Loads Concrete Dir-2'!VD28*'17 Axle Loads Concrete Dir-2'!$UQ$47/100)","v":0},"3000000000",null,0,1426564.3610710523,0,0.23098620700729591,null,null,"3000000000",0,15734747.852709498,0,0.21389741760688011]
[null,250,325,{"$f":"IF('18 Concrete HVAG Dir-1'!$D$84>'19 Concrete HVAG Dir-2'!$D$84,'18 Concrete HVAG Dir-1'!$D$84*'16 Axle Loads Concrete Dir-1'!VD29*'16 Axle Loads Concrete Dir-1'!$UQ$47/100,'19 Concrete HVAG Dir-2'!$D$84*'17 Axle Loads Concrete Dir-2'!VD29*'17 Axle Loads Concrete Dir-2'!$UQ$47/100)","v":0},"3000000000",null,0,1120551.2048840618,0,0.24002202108724729,"F1",null,"3000000000",0,8319866.502075443,0,0.22226474534786697,"F1"]
[null,260,338,{"$f":"IF('18 Concrete HVAG Dir-1'!$D$84>'19 Concrete HVAG Dir-2'!$D$84,'18 Concrete HVAG Dir-1'!$D$84*'16 Axle Loads Concrete Dir-1'!VD30*'16 Axle Loads Concrete Dir-1'!$UQ$47/100,'19 Concrete HVAG Dir-2'!$D$84*'17 Axle Loads Concrete Dir-2'!VD30*'17 Axle Loads Concrete Dir-2'!$UQ$47/100)","v":0},"3000000000",null,0,890969.23456683627,0,0.24903616926971711,54,null,"3000000000",0,5042390.1764439261,0,0.23061201007478266,54]
[null,270,351,{"$f":"IF('18 Concrete HVAG Dir-1'!$D$84>'19 Concrete HVAG Dir-2'!$D$84,'18 Concrete HVAG Dir-1'!$D$84*'16 Axle Loads Concrete Dir-1'!VD31*'16 Axle Loads Concrete Dir-1'!$UQ$47/100,'19 Concrete HVAG Dir-2'!$D$84*'17 Axle Loads Concrete Dir-2'!VD31*'17 Axle Loads Concrete Dir-2'!$UQ$47/100)","v":804339.08021199319},"3000000000",null,2.6811302673733104E-4,716071.13501881668,1.1232670064139048,0.25802953428193443,null,null,"3000000000",2.6811302673733104E-4,3321957.2575265076,0.24212806422768218,0.23894002920905327]
[null,280,364,{"$f":"IF('18 Concrete HVAG Dir-1'!$D$84>'19 Concrete HVAG Dir-2'!$D$84,'18 Concrete HVAG Dir-1'!$D$84*'16 Axle Loads Concrete Dir-1'!VD32*'16 Axle Loads Concrete Dir-1'!$UQ$47/100,'19 Concrete HVAG Dir-2'!$D$84*'17 Axle Loads Concrete Dir-2'!VD32*'17 Axle Loads Concrete Dir-2'!$UQ$47/100)","v":0},"3000000000",null,0,581027.40747922531,0,0.26700293152959903,null,null,"3000000000",0,2316113.4564394592,0,0.24724955783114766]
[null,290,377,{"$f":"IF('18 Concrete HVAG Dir-1'!$D$84>'19 Concrete HVAG Dir-2'!$D$84,'18 Concrete HVAG Dir-1'!$D$84*'16 Axle Loads Concrete Dir-1'!VD33*'16 Axle Loads Concrete Dir-1'!$UQ$47/100,'19 Concrete HVAG Dir-2'!$D$84*'17 Axle Loads Concrete Dir-2'!VD33*'17 Axle Loads Concrete Dir-2'!$UQ$47/100)","v":0},"3000000000",null,0,475505.20958770561,0,0.27595711645280352,null,null,"3000000000",0,1682712.1983349994,0,0.25554129549229465]
[null,300,390,{"$f":"IF('18 Concrete HVAG Dir-1'!$D$84>'19 Concrete HVAG Dir-2'!$D$84,'18 Concrete HVAG Dir-1'!$D$84*'16 Axle Loads Concrete Dir-1'!VD34*'16 Axle Loads Concrete Dir-1'!$UQ$47/100,'19 Concrete HVAG Dir-2'!$D$84*'17 Axle Loads Concrete Dir-2'!VD34*'17 Axle Loads Concrete Dir-2'!$UQ$47/100)","v":0},"3000000000",null,0,392167.11964411667,0,0.28489279085211194,null,null,"3000000000",0,1261515.7102028842,0,0.2638158920725468]
[null,310,403,{"$f":"IF('18 Concrete HVAG Dir-1'!$D$84>'19 Concrete HVAG Dir-2'!$D$84,'18 Concrete HVAG Dir-1'!$D$84*'16 Axle Loads Concrete Dir-1'!VD35*'16 Axle Loads Concrete Dir-1'!$UQ$47/100,'19 Concrete HVAG Dir-2'!$D$84*'17 Axle Loads Concrete Dir-2'!VD35*'17 Axle Loads Concrete Dir-2'!$UQ$47/100)","v":0},"3000000000",null,0,325714.5842976417,0,0.29381060835852935,null,null,"3000000000",0,969488.80642066407,0,0.27207395284607105]
[null,320,416,{"$f":"IF('18 Concrete HVAG Dir-1'!$D$84>'19 Concrete HVAG Dir-2'!$D$84,'18 Concrete HVAG Dir-1'!$D$84*'16 Axle Loads Concrete Dir-1'!VD36*'16 Axle Loads Concrete Dir-1'!$UQ$47/100,'19 Concrete HVAG Dir-2'!$D$84*'17 Axle Loads Concrete Dir-2'!VD36*'17 Axle Loads Concrete Dir-2'!$UQ$47/100)","v":0},"3000000000",null,0,272263.61543614371,0,0.30271117918712109,null,null,"3000000000",0,760210.1633325984,0,0.28031604288308687]
[null,330,429,{"$f":"IF('18 Concrete HVAG Dir-1'!$D$84>'19 Concrete HVAG Dir-2'!$D$84,'18 Concrete HVAG Dir-1'!$D$84*'16 Axle Loads Concrete Dir-1'!VD37*'16 Axle Loads Concrete Dir-1'!$UQ$47/100,'19 Concrete HVAG Dir-2'!$D$84*'17 Axle Loads Concrete Dir-2'!VD37*'17 Axle Loads Concrete Dir-2'!$UQ$47/100)","v":0},"3000000000",null,0,228928.55151627332,0,0.31159507428756728,null,null,"3000000000",0,606145.75738809432,0,0.2885426908933546]
[null,340,442,{"$f":"IF('18 Concrete HVAG Dir-1'!$D$84>'19 Concrete HVAG Dir-2'!$D$84,'18 Concrete HVAG Dir-1'!$D$84*'16 Axle Loads Concrete Dir-1'!VD38*'16 Axle Loads Concrete Dir-1'!$UQ$47/100,'19 Concrete HVAG Dir-2'!$D$84*'17 Axle Loads Concrete Dir-2'!VD38*'17 Axle Loads Concrete Dir-2'!$UQ$47/100)","v":0},"3000000000",null,0,193539.19775858021,0,0.32046282898412759,null,null,"3000000000",0,490169.81534322753,0,0.29675439259684905]
[null,350,455,{"$f":"IF('18 Concrete HVAG Dir-1'!$D$84>'19 Concrete HVAG Dir-2'!$D$84,'18 Concrete HVAG Dir-1'!$D$84*'16 Axle Loads Concrete Dir-1'!VD39*'16 Axle Loads Concrete Dir-1'!$UQ$47/100,'19 Concrete HVAG Dir-2'!$D$84*'17 Axle Loads Concrete Dir-2'!VD39*'17 Axle Loads Concrete Dir-2'!$UQ$47/100)","v":0},"3000000000",null,0,164445.27809016587,0,0.32931494618100787,null,null,"3000000000",0,401206.60419956123,0,0.3049516136919872]
[null,"Totals",null,{"$f":"SUM(D159:D193)","v":804339.08021199319},{"$f":"SUM(E157:E193)","v":0},null,{"$f":"SUM(G178:G193)","v":2.6811302673733104E-4},{"$f":"SUM(H157:H193)","v":6.1269093572388368E+16},{"$f":"SUM(I178:I193)","v":1.1232670064139048},null,null,null,{"$f":"SUM(M157:M193)","v":0},{"$f":"SUM(N157:N193)","v":2.6811302673733104E-4},{"$f":"SUM(O157:O193)","v":7466059710103177},{"$f":"SUM(P157:P193)","v":0.24212806422768218}]
[]
[]
[null,"QADT/TRST"]
[null,"Axle Group Load, P (kN)","Design Load, P*LSF (kN)","Expected Load Repetitions","Fatigue Analysis",null,null,"Erosion Analysis",null,"Sr","F3","Se","Fatigue Analysis",null,"Erosion Analysis",null,"Sr","F3","Se"]
[null,null,null,null,"Allowable Repetitions",null,"Damage (%)","Allowable Repetitions","Damage (%)",null,null,null,"Allowable Repetitions","Damage (%)","Allowable Repetitions","Damage (%)"]
[null,10,{"$f":"$C$16*B200","v":13},{"$f":"IF('18 Concrete HVAG Dir-1'!$D$84>'19 Concrete HVAG Dir-2'!$D$84,'18 Concrete HVAG Dir-1'!$D$84*'16 Axle Loads Concrete Dir-1'!VG5*'16 Axle Loads Concrete Dir-1'!$UQ$48/100,'19 Concrete HVAG Dir-2'!$D$84*'17 Axle Loads Concrete Dir-2'!VG5*'17 Axle Loads Concrete Dir-2'!$UQ$48/100)","v":0},{"$f":"IF(J200>0.55,10^((0.9719-J200)/(0.0828)),IF((0.45<=J200)*(J200<=0.55),(4.258/(J200-0.4325))^3.268,\"3000000000\"))","v":"3000000000"},null,{"$f":"D200/E200","v":0},{"$f":"(10^(14.524-6.777*(MAX(0,(C200/(4.45*$L$222))^2*((10^$L$219)/(41.35))-9))^0.103))/$K$222","v":5569917333768566},{"$f":"D200/H200","v":0},{"$f":"($K$219/(0.944*$C$18))*((C200/(4.45*$K$225))^0.94)","v":8.8867930723988998E-3},null,null,{"$f":"IF(Q200>0.55,10^((0.9719-Q200)/(0.0828)),IF((0.45<=Q200)*(Q200<=0.55),(4.258/(Q200-0.4325))^3.268,\"3000000000\"))","v":"3000000000"},{"$f":"D200/M200","v":0},{"$f":"(10^(14.524-6.777*(MAX(0,(C200/(4.45*$S$222))^2*((10^$S$219)/(41.35))-9))^0.103))/$R$222","v":355526638325653.13},{"$f":"D200/O200","v":0},{"$f":"($R$219/(0.944*$C$18))*((C200/(4.45*$R$225))^0.94)","v":8.22933158486297E-3}]
[null,20,26,{"$f":"IF('18 Concrete HVAG Dir-1'!$D$84>'19 Concrete HVAG Dir-2'!$D$84,'18 Concrete HVAG Dir-1'!$D$84*'16 Axle Loads Concrete Dir-1'!VG6*'16 Axle Loads Concrete Dir-1'!$UQ$48/100,'19 Concrete HVAG Dir-2'!$D$84*'17 Axle Loads Concrete Dir-2'!VG6*'17 Axle Loads Concrete Dir-2'!$UQ$48/100)","v":0},{"$f":"IF(J201>0.55,10^((0.9719-J201)/(0.0828)),IF((0.45<=J201)*(J201<=0.55),(4.258/(J201-0.4325))^3.268,\"3000000000\"))","v":"3000000000"},null,0,{"$f":"(10^(14.524-6.777*(MAX(0,(C201/(4.45*$L$222))^2*((10^$L$219)/(41.35))-9))^0.103))/$K$222","v":5569917333768566},0,{"$f":"($K$219/(0.944*$C$18))*((C201/(4.45*$K$225))^0.94)","v":1.7049563460441178E-2},null,null,{"$f":"IF(Q201>0.55,10^((0.9719-Q201)/(0.0828)),IF((0.45<=Q201)*(Q201<=0.55),(4.258/(Q201-0.4325))^3.268,\"3000000000\"))","v":"3000000000"},0,{"$f":"(10^(14.524-6.777*(MAX(0,(C201/(4.45*$S$222))^2*((10^$S$219)/(41.35))-9))^0.103))/$R$222","v":355526638325653.13},0,{"$f":"($R$219/(0.944*$C$18))*((C201/(4.45*$R$225))^0.94)","v":1.5788205030778314E-2}]
[null,30,39,{"$f":"IF('18 Concrete HVAG Dir-1'!$D$84>'19 Concrete HVAG Dir-2'!$D$84,'18 Concrete HVAG Dir-1'!$D$84*'16 Axle Loads Concrete Dir-1'!VG7*'16 Axle Loads Concrete Dir-1'!$UQ$48/100,'19 Concrete HVAG Dir-2'!$D$84*'17 Axle Loads Concrete Dir-2'!VG7*'17 Axle Loads Concrete Dir-2'!$UQ$48/100)","v":0},"3000000000",null,0,5569917333768566,0,2.4959681962430369E-2,null,null,"3000000000",0,355526638325653.13,0,2.3113118247291058E-2]
[null,40,52,{"$f":"IF('18 Concrete HVAG Dir-1'!$D$84>'19 Concrete HVAG Dir-2'!$D$84,'18 Concrete HVAG Dir-1'!$D$84*'16 Axle Loads Concrete Dir-1'!VG8*'16 Axle Loads Concrete Dir-1'!$UQ$48/100,'19 Concrete HVAG Dir-2'!$D$84*'17 Axle Loads Concrete Dir-2'!VG8*'17 Axle Loads Concrete Dir-2'!$UQ$48/100)","v":0},"3000000000",null,0,5569917333768566,0,3.271006895552063E-2,null,null,"3000000000",0,355526638325653.13,0,3.0290117189152539E-2]
[null,50,65,{"$f":"IF('18 Concrete HVAG Dir-1'!$D$84>'19 Concrete HVAG Dir-2'!$D$84,'18 Concrete HVAG Dir-1'!$D$84*'16 Axle Loads Concrete Dir-1'!VG9*'16 Axle Loads Concrete Dir-1'!$UQ$48/100,'19 Concrete HVAG Dir-2'!$D$84*'17 Axle Loads Concrete Dir-2'!VG9*'17 Axle Loads Concrete Dir-2'!$UQ$48/100)","v":0},"3000000000",null,0,5569917333768566,0,4.0343806474162983E-2,null,null,"3000000000",0,355526638325653.13,0,3.7359096601740485E-2]
[null,60,78,{"$f":"IF('18 Concrete HVAG Dir-1'!$D$84>'19 Concrete HVAG Dir-2'!$D$84,'18 Concrete HVAG Dir-1'!$D$84*'16 Axle Loads Concrete Dir-1'!VG10*'16 Axle Loads Concrete Dir-1'!$UQ$48/100,'19 Concrete HVAG Dir-2'!$D$84*'17 Axle Loads Concrete Dir-2'!VG10*'17 Axle Loads Concrete Dir-2'!$UQ$48/100)","v":0},"3000000000",null,0,5569917333768566,0,4.7885854672658906E-2,null,null,"3000000000",0,355526638325653.13,0,4.4343170040696711E-2]
[null,70,91,{"$f":"IF('18 Concrete HVAG Dir-1'!$D$84>'19 Concrete HVAG Dir-2'!$D$84,'18 Concrete HVAG Dir-1'!$D$84*'16 Axle Loads Concrete Dir-1'!VG11*'16 Axle Loads Concrete Dir-1'!$UQ$48/100,'19 Concrete HVAG Dir-2'!$D$84*'17 Axle Loads Concrete Dir-2'!VG11*'17 Axle Loads Concrete Dir-2'!$UQ$48/100)","v":0},"3000000000",null,0,5569917333768566,0,5.5352498064944751E-2,null,null,"3000000000",0,355526638325653.13,0,5.1257417261315261E-2]
[null,80,104,{"$f":"IF('18 Concrete HVAG Dir-1'!$D$84>'19 Concrete HVAG Dir-2'!$D$84,'18 Concrete HVAG Dir-1'!$D$84*'16 Axle Loads Concrete Dir-1'!VG12*'16 Axle Loads Concrete Dir-1'!$UQ$48/100,'19 Concrete HVAG Dir-2'!$D$84*'17 Axle Loads Concrete Dir-2'!VG12*'17 Axle Loads Concrete Dir-2'!$UQ$48/100)","v":0},"3000000000",null,0,5569917333768566,0,6.2755190979372336E-2,null,null,"3000000000",0,355526638325653.13,0,5.8112445179422927E-2]
[null,90,117,{"$f":"IF('18 Concrete HVAG Dir-1'!$D$84>'19 Concrete HVAG Dir-2'!$D$84,'18 Concrete HVAG Dir-1'!$D$84*'16 Axle Loads Concrete Dir-1'!VG13*'16 Axle Loads Concrete Dir-1'!$UQ$48/100,'19 Concrete HVAG Dir-2'!$D$84*'17 Axle Loads Concrete Dir-2'!VG13*'17 Axle Loads Concrete Dir-2'!$UQ$48/100)","v":0},"3000000000",null,0,5569917333768566,0,7.010242261638519E-2,null,null,"3000000000",0,355526638325653.13,0,6.4916114948618195E-2]
[null,100,130,{"$f":"IF('18 Concrete HVAG Dir-1'!$D$84>'19 Concrete HVAG Dir-2'!$D$84,'18 Concrete HVAG Dir-1'!$D$84*'16 Axle Loads Concrete Dir-1'!VG14*'16 Axle Loads Concrete Dir-1'!$UQ$48/100,'19 Concrete HVAG Dir-2'!$D$84*'17 Axle Loads Concrete Dir-2'!VG14*'17 Axle Loads Concrete Dir-2'!$UQ$48/100)","v":0},"3000000000",null,0,5569917333768566,0,7.7400731975333717E-2,null,null,"3000000000",0,355526638325653.13,0,7.167448180091214E-2]
[null,110,143,{"$f":"IF('18 Concrete HVAG Dir-1'!$D$84>'19 Concrete HVAG Dir-2'!$D$84,'18 Concrete HVAG Dir-1'!$D$84*'16 Axle Loads Concrete Dir-1'!VG15*'16 Axle Loads Concrete Dir-1'!$UQ$48/100,'19 Concrete HVAG Dir-2'!$D$84*'17 Axle Loads Concrete Dir-2'!VG15*'17 Axle Loads Concrete Dir-2'!$UQ$48/100)","v":0},"3000000000",null,0,5569917333768566,0,8.4655307554924078E-2,null,null,"3000000000",0,355526638325653.13,0,7.8392350380222159E-2]
[null,120,156,{"$f":"IF('18 Concrete HVAG Dir-1'!$D$84>'19 Concrete HVAG Dir-2'!$D$84,'18 Concrete HVAG Dir-1'!$D$84*'16 Axle Loads Concrete Dir-1'!VG16*'16 Axle Loads Concrete Dir-1'!$UQ$48/100,'19 Concrete HVAG Dir-2'!$D$84*'17 Axle Loads Concrete Dir-2'!VG16*'17 Axle Loads Concrete Dir-2'!$UQ$48/100)","v":0},"3000000000",null,0,2453901853.2116284,0,9.1870364421411485E-2,null,null,"3000000000",0,355526638325653.13,0,8.5073623914358756E-2]
[null,130,169,{"$f":"IF('18 Concrete HVAG Dir-1'!$D$84>'19 Concrete HVAG Dir-2'!$D$84,'18 Concrete HVAG Dir-1'!$D$84*'16 Axle Loads Concrete Dir-1'!VG17*'16 Axle Loads Concrete Dir-1'!$UQ$48/100,'19 Concrete HVAG Dir-2'!$D$84*'17 Axle Loads Concrete Dir-2'!VG17*'17 Axle Loads Concrete Dir-2'!$UQ$48/100)","v":0},"3000000000",null,0,250163137.42030045,0,9.9049393127610311E-2,null,null,"3000000000",0,355526638325653.13,0,9.1721534718544079E-2]
[null,140,182,{"$f":"IF('18 Concrete HVAG Dir-1'!$D$84>'19 Concrete HVAG Dir-2'!$D$84,'18 Concrete HVAG Dir-1'!$D$84*'16 Axle Loads Concrete Dir-1'!VG18*'16 Axle Loads Concrete Dir-1'!$UQ$48/100,'19 Concrete HVAG Dir-2'!$D$84*'17 Axle Loads Concrete Dir-2'!VG18*'17 Axle Loads Concrete Dir-2'!$UQ$48/100)","v":0},"3000000000",null,0,85637402.727189213,0,0.10619533061744525,null,null,"3000000000",0,355526638325653.13,0,9.8338802456126376E-2]
[null,150,195,{"$f":"IF('18 Concrete HVAG Dir-1'!$D$84>'19 Concrete HVAG Dir-2'!$D$84,'18 Concrete HVAG Dir-1'!$D$84*'16 Axle Loads Concrete Dir-1'!VG19*'16 Axle Loads Concrete Dir-1'!$UQ$48/100,'19 Concrete HVAG Dir-2'!$D$84*'17 Axle Loads Concrete Dir-2'!VG19*'17 Axle Loads Concrete Dir-2'!$UQ$48/100)","v":0},"3000000000",null,0,40670742.470445849,0,0.11331068142865248,null,null,"3000000000",0,355526638325653.13,0,0.1049277463744798]
[null,160,208,{"$f":"IF('18 Concrete HVAG Dir-1'!$D$84>'19 Concrete HVAG Dir-2'!$D$84,'18 Concrete HVAG Dir-1'!$D$84*'16 Axle Loads Concrete Dir-1'!VG20*'16 Axle Loads Concrete Dir-1'!$UQ$48/100,'19 Concrete HVAG Dir-2'!$D$84*'17 Axle Loads Concrete Dir-2'!VG20*'17 Axle Loads Concrete Dir-2'!$UQ$48/100)","v":0},"3000000000",null,0,22655838.793460954,0,0.12039760601583274,null,null,"3000000000",0,355526638325653.13,0,0.11149036709375366]
[null,170,221,{"$f":"IF('18 Concrete HVAG Dir-1'!$D$84>'19 Concrete HVAG Dir-2'!$D$84,'18 Concrete HVAG Dir-1'!$D$84*'16 Axle Loads Concrete Dir-1'!VG21*'16 Axle Loads Concrete Dir-1'!$UQ$48/100,'19 Concrete HVAG Dir-2'!$D$84*'17 Axle Loads Concrete Dir-2'!VG21*'17 Axle Loads Concrete Dir-2'!$UQ$48/100)","v":0},"3000000000",null,0,13890839.004171554,0,0.12745798662063984,null,null,"3000000000",0,355526638325653.13,0,0.11802840760386185]
[null,180,234,{"$f":"IF('18 Concrete HVAG Dir-1'!$D$84>'19 Concrete HVAG Dir-2'!$D$84,'18 Concrete HVAG Dir-1'!$D$84*'16 Axle Loads Concrete Dir-1'!VG22*'16 Axle Loads Concrete Dir-1'!$UQ$48/100,'19 Concrete HVAG Dir-2'!$D$84*'17 Axle Loads Concrete Dir-2'!VG22*'17 Axle Loads Concrete Dir-2'!$UQ$48/100)","v":0},"3000000000",null,0,9085414.7391673587,0,0.13449347738734849,null,null,"3000000000",0,355526638325653.13,0,0.12454339967240773]
[null,190,247,{"$f":"IF('18 Concrete HVAG Dir-1'!$D$84>'19 Concrete HVAG Dir-2'!$D$84,'18 Concrete HVAG Dir-1'!$D$84*'16 Axle Loads Concrete Dir-1'!VG23*'16 Axle Loads Concrete Dir-1'!$UQ$48/100,'19 Concrete HVAG Dir-2'!$D$84*'17 Axle Loads Concrete Dir-2'!VG23*'17 Axle Loads Concrete Dir-2'!$UQ$48/100)","v":0},"3000000000",null,0,6227320.5177438697,0,0.14150554316099781,null,null,"3000000000",0,355526638325653.13,0,0.13103669977246871]
[null,200,260,{"$f":"IF('18 Concrete HVAG Dir-1'!$D$84>'19 Concrete HVAG Dir-2'!$D$84,'18 Concrete HVAG Dir-1'!$D$84*'16 Axle Loads Concrete Dir-1'!VG24*'16 Axle Loads Concrete Dir-1'!$UQ$48/100,'19 Concrete HVAG Dir-2'!$D$84*'17 Axle Loads Concrete Dir-2'!VG24*'17 Axle Loads Concrete Dir-2'!$UQ$48/100)","v":0},"3000000000",null,{"$f":"D219/E219","v":0},4423453.3094683299,0,0.14849548998689865,{"$f":"($AQ$50)+($AQ$51/$C$21)+($AQ$52*LN($C$20))+($AQ$53/($C$21^2))+($AQ$54*((LN($C$20))^2))+($AQ$55*((LN($C$20))/$C$21))+($AQ$56/($C$21^3))+($AQ$57*((LN($C$20))^3))+($AQ$58*((LN($C$20))^2)/($C$21))+($AQ$59*(LN($C$20))/($C$21^2))","v":0.76766860828081573},{"$f":"($AQ$66)+($AQ$67/$C$21)+($AQ$68*LN($C$20))+($AQ$69/($C$21^2))+($AQ$70*((LN($C$20))^2))+($AQ$71*((LN($C$20))/$C$21))+($AQ$72/($C$21^3))+($AQ$73*((LN($C$20))^3))+($AQ$74*((LN($C$20))^2)/($C$21))+($AQ$75*(LN($C$20))/($C$21^2))","v":2.9711229508048063},"3000000000",{"$f":"D219/M219","v":0},355526638325653.13,{"$f":"D219/O219","v":0},0.13750951732569333,{"$f":"($AU$50)+($AU$51/$C$21)+($AU$52*LN($C$20))+($AU$53/($C$21^2))+($AU$54*((LN($C$20))^2))+($AU$55*((LN($C$20))/$C$21))+($AU$56/($C$21^3))+($AU$57*((LN($C$20))^3))+($AU$58*((LN($C$20))^2)/($C$21))+($AU$59*(LN($C$20))/($C$21^2))","v":0.71087505620605129},{"$f":"($AU$66)+($AU$67/$C$21)+($AU$68*LN($C$20))+($AU$69/($C$21^2))+($AU$70*((LN($C$20))^2))+($AU$71*((LN($C$20))/$C$21))+($AU$72/($C$21^3))+($AU$73*((LN($C$20))^3))+($AU$74*((LN($C$20))^2)/($C$21))+($AU$75*(LN($C$20))/($C$21^2))","v":2.4393071711841445}]
[null,210,273,{"$f":"IF('18 Concrete HVAG Dir-1'!$D$84>'19 Concrete HVAG Dir-2'!$D$84,'18 Concrete HVAG Dir-1'!$D$84*'16 Axle Loads Concrete Dir-1'!VG25*'16 Axle Loads Concrete Dir-1'!$UQ$48/100,'19 Concrete HVAG Dir-2'!$D$84*'17 Axle Loads Concrete Dir-2'!VG25*'17 Axle Loads Concrete Dir-2'!$UQ$48/100)","v":0},"3000000000",null,{"$f":"D220/E220","v":0},3232116.2177791237,0,0.15546448941385327,null,null,"3000000000",{"$f":"D220/M220","v":0},355526638325653.13,{"$f":"D220/O220","v":0},0.14396293720752348]
[null,220,286,{"$f":"IF('18 Concrete HVAG Dir-1'!$D$84>'19 Concrete HVAG Dir-2'!$D$84,'18 Concrete HVAG Dir-1'!$D$84*'16 Axle Loads Concrete Dir-1'!VG26*'16 Axle Loads Concrete Dir-1'!$UQ$48/100,'19 Concrete HVAG Dir-2'!$D$84*'17 Axle Loads Concrete Dir-2'!VG26*'17 Axle Loads Concrete Dir-2'!$UQ$48/100)","v":0},"3000000000",null,0,2416555.2384332507,0,0.16241359809576728,"F2","F4","3000000000",0,225411006.77886498,0,0.1503979378986427,"F2","F4"]
[null,230,299,{"$f":"IF('18 Concrete HVAG Dir-1'!$D$84>'19 Concrete HVAG Dir-2'!$D$84,'18 Concrete HVAG Dir-1'!$D$84*'16 Axle Loads Concrete Dir-1'!VG27*'16 Axle Loads Concrete Dir-1'!$UQ$48/100,'19 Concrete HVAG Dir-2'!$D$84*'17 Axle Loads Concrete Dir-2'!VG27*'17 Axle Loads Concrete Dir-2'!$UQ$48/100)","v":0},"3000000000",null,0,1841702.418186472,0,0.16934377377404022,0.06,54,"3000000000",0,38946930.757431038,0,0.15681540628495969,0.94,54]
[null,240,312,{"$f":"IF('18 Concrete HVAG Dir-1'!$D$84>'19 Concrete HVAG Dir-2'!$D$84,'18 Concrete HVAG Dir-1'!$D$84*'16 Axle Loads Concrete Dir-1'!VG28*'16 Axle Loads Concrete Dir-1'!$UQ$48/100,'19 Concrete HVAG Dir-2'!$D$84*'17 Axle Loads Concrete Dir-2'!VG28*'17 Axle Loads Concrete Dir-2'!$UQ$48/100)","v":0},"3000000000",null,0,1426564.3610710523,0,0.17625588843759279,null,null,"3000000000",0,15734747.852709498,0,0.16321614984403221]
[null,250,325,{"$f":"IF('18 Concrete HVAG Dir-1'!$D$84>'19 Concrete HVAG Dir-2'!$D$84,'18 Concrete HVAG Dir-1'!$D$84*'16 Axle Loads Concrete Dir-1'!VG29*'16 Axle Loads Concrete Dir-1'!$UQ$48/100,'19 Concrete HVAG Dir-2'!$D$84*'17 Axle Loads Concrete Dir-2'!VG29*'17 Axle Loads Concrete Dir-2'!$UQ$48/100)","v":0},"3000000000",null,0,1120551.2048840618,0,0.18315073925597272,"F1",null,"3000000000",0,8319866.502075443,0,0.16960090676932157,"F1"]
[null,260,338,{"$f":"IF('18 Concrete HVAG Dir-1'!$D$84>'19 Concrete HVAG Dir-2'!$D$84,'18 Concrete HVAG Dir-1'!$D$84*'16 Axle Loads Concrete Dir-1'!VG30*'16 Axle Loads Concrete Dir-1'!$UQ$48/100,'19 Concrete HVAG Dir-2'!$D$84*'17 Axle Loads Concrete Dir-2'!VG30*'17 Axle Loads Concrete Dir-2'!$UQ$48/100)","v":0},"3000000000",null,0,890969.23456683627,0,0.19002905773651796,72,null,"3000000000",0,5042390.1764439261,0,0.17597035444989165,72]
[null,270,351,{"$f":"IF('18 Concrete HVAG Dir-1'!$D$84>'19 Concrete HVAG Dir-2'!$D$84,'18 Concrete HVAG Dir-1'!$D$84*'16 Axle Loads Concrete Dir-1'!VG31*'16 Axle Loads Concrete Dir-1'!$UQ$48/100,'19 Concrete HVAG Dir-2'!$D$84*'17 Axle Loads Concrete Dir-2'!VG31*'17 Axle Loads Concrete Dir-2'!$UQ$48/100)","v":804339.08021199319},"3000000000",null,2.6811302673733104E-4,716071.13501881668,1.1232670064139048,0.19689151745136083,null,null,"3000000000",2.6811302673733104E-4,3321957.2575265076,0.24212806422768218,0.18232511662575515]
[null,280,364,{"$f":"IF('18 Concrete HVAG Dir-1'!$D$84>'19 Concrete HVAG Dir-2'!$D$84,'18 Concrete HVAG Dir-1'!$D$84*'16 Axle Loads Concrete Dir-1'!VG32*'16 Axle Loads Concrete Dir-1'!$UQ$48/100,'19 Concrete HVAG Dir-2'!$D$84*'17 Axle Loads Concrete Dir-2'!VG32*'17 Axle Loads Concrete Dir-2'!$UQ$48/100)","v":0},"3000000000",null,0,581027.40747922531,0,0.20373874060239783,null,null,"3000000000",0,2316113.4564394592,0,0.18866576946715444]
[null,290,377,{"$f":"IF('18 Concrete HVAG Dir-1'!$D$84>'19 Concrete HVAG Dir-2'!$D$84,'18 Concrete HVAG Dir-1'!$D$84*'16 Axle Loads Concrete Dir-1'!VG33*'16 Axle Loads Concrete Dir-1'!$UQ$48/100,'19 Concrete HVAG Dir-2'!$D$84*'17 Axle Loads Concrete Dir-2'!VG33*'17 Axle Loads Concrete Dir-2'!$UQ$48/100)","v":0},"3000000000",null,0,475505.20958770561,0,0.21057130363428503,null,null,"3000000000",0,1682712.1983349994,0,0.19499284677229736]
[null,300,390,{"$f":"IF('18 Concrete HVAG Dir-1'!$D$84>'19 Concrete HVAG Dir-2'!$D$84,'18 Concrete HVAG Dir-1'!$D$84*'16 Axle Loads Concrete Dir-1'!VG34*'16 Axle Loads Concrete Dir-1'!$UQ$48/100,'19 Concrete HVAG Dir-2'!$D$84*'17 Axle Loads Concrete Dir-2'!VG34*'17 Axle Loads Concrete Dir-2'!$UQ$48/100)","v":0},"3000000000",null,0,392167.11964411667,0,0.21738974206160386,null,null,"3000000000",0,1261515.7102028842,0,0.20130684443740013]
[null,310,403,{"$f":"IF('18 Concrete HVAG Dir-1'!$D$84>'19 Concrete HVAG Dir-2'!$D$84,'18 Concrete HVAG Dir-1'!$D$84*'16 Axle Loads Concrete Dir-1'!VG35*'16 Axle Loads Concrete Dir-1'!$UQ$48/100,'19 Concrete HVAG Dir-2'!$D$84*'17 Axle Loads Concrete Dir-2'!VG35*'17 Axle Loads Concrete Dir-2'!$UQ$48/100)","v":0},"3000000000",null,0,325714.5842976417,0,0.22419455464276486,null,null,"3000000000",0,969488.80642066407,0,0.20760822432179804]
[null,320,416,{"$f":"IF('18 Concrete HVAG Dir-1'!$D$84>'19 Concrete HVAG Dir-2'!$D$84,'18 Concrete HVAG Dir-1'!$D$84*'16 Axle Loads Concrete Dir-1'!VG36*'16 Axle Loads Concrete Dir-1'!$UQ$48/100,'19 Concrete HVAG Dir-2'!$D$84*'17 Axle Loads Concrete Dir-2'!VG36*'17 Axle Loads Concrete Dir-2'!$UQ$48/100)","v":0},"3000000000",null,0,272263.61543614371,0,0.23098620700729591,null,null,"3000000000",0,760210.1633325984,0,0.21389741760688011]
[null,330,429,{"$f":"IF('18 Concrete HVAG Dir-1'!$D$84>'19 Concrete HVAG Dir-2'!$D$84,'18 Concrete HVAG Dir-1'!$D$84*'16 Axle Loads Concrete Dir-1'!VG37*'16 Axle Loads Concrete Dir-1'!$UQ$48/100,'19 Concrete HVAG Dir-2'!$D$84*'17 Axle Loads Concrete Dir-2'!VG37*'17 Axle Loads Concrete Dir-2'!$UQ$48/100)","v":0},"3000000000",null,0,228928.55151627332,0,0.23776513482295575,null,null,"3000000000",0,606145.75738809432,0,0.22017482772889352]
[null,340,442,{"$f":"IF('18 Concrete HVAG Dir-1'!$D$84>'19 Concrete HVAG Dir-2'!$D$84,'18 Concrete HVAG Dir-1'!$D$84*'16 Axle Loads Concrete Dir-1'!VG38*'16 Axle Loads Concrete Dir-1'!$UQ$48/100,'19 Concrete HVAG Dir-2'!$D$84*'17 Axle Loads Concrete Dir-2'!VG38*'17 Axle Loads Concrete Dir-2'!$UQ$48/100)","v":0},"3000000000",null,0,193539.19775858021,0,0.24453174657323878,null,null,"3000000000",0,490169.81534322753,0,0.22644083295096373]
[null,350,455,{"$f":"IF('18 Concrete HVAG Dir-1'!$D$84>'19 Concrete HVAG Dir-2'!$D$84,'18 Concrete HVAG Dir-1'!$D$84*'16 Axle Loads Concrete Dir-1'!VG39*'16 Axle Loads Concrete Dir-1'!$UQ$48/100,'19 Concrete HVAG Dir-2'!$D$84*'17 Axle Loads Concrete Dir-2'!VG39*'17 Axle Loads Concrete Dir-2'!$UQ$48/100)","v":0},"3000000000",null,0,164445.27809016587,0,0.25128642600325579,null,null,"3000000000",0,401206.60419956123,0,0.23269578862802423]
[null,"Totals",null,{"$f":"SUM(D200:D234)","v":804339.08021199319},{"$f":"SUM(E198:E234)","v":0},null,{"$f":"SUM(G219:G234)","v":2.6811302673733104E-4},{"$f":"SUM(H198:H234)","v":6.1269093572388368E+16},{"$f":"SUM(I219:I234)","v":1.1232670064139048},null,null,null,{"$f":"SUM(M198:M234)","v":0},{"$f":"SUM(N198:N234)","v":2.6811302673733104E-4},{"$f":"SUM(O198:O234)","v":7466059710103177},{"$f":"SUM(P198:P234)","v":0.24212806422768218}]
[]
[]
[null,"TAST"]
[null,"Axle Group Load, P (kN)","Design Load, P*LSF (kN)","Expected Load Repetitions","Fatigue Analysis",null,null,"Erosion Analysis",null,"Sr","F3","Se","Fatigue Analysis",null,"Erosion Analysis",null,"Sr","F3","Se"]
[null,null,null,null,"Allowable Repetitions",null,"Damage (%)","Allowable Repetitions","Damage (%)",null,null,null,"Allowable Repetitions","Damage (%)","Allowable Repetitions","Damage (%)"]
[null,10,{"$f":"$C$16*B241","v":13},{"$f":"IF('18 Concrete HVAG Dir-1'!$D$84>'19 Concrete HVAG Dir-2'!$D$84,'18 Concrete HVAG Dir-1'!$D$84*'16 Axle Loads Concrete Dir-1'!UX5*'16 Axle Loads Concrete Dir-1'!$UQ$45/100,'19 Concrete HVAG Dir-2'!$D$84*'17 Axle Loads Concrete Dir-2'!UX5*'17 Axle Loads Concrete Dir-2'!$UQ$45/100)","v":0},{"$f":"IF(J241>0.55,10^((0.9719-J241)/(0.0828)),IF((0.45<=J241)*(J241<=0.55),(4.258/(J241-0.4325))^3.268,\"3000000000\"))","v":"3000000000"},null,{"$f":"D241/E241","v":0},{"$f":"(10^(14.524-6.777*(MAX(0,(C241/(4.45*$L$249))^2*((10^$L$246)/(41.35))-9))^0.103))/$K$249","v":12778903.151129957},{"$f":"D241/H241","v":0},{"$f":"($K$246/(0.944*$C$18))*((C241/(4.45*$K$252))^0.94)","v":3.3613463736546757E-2},null,null,{"$f":"IF(Q241>0.55,10^((0.9719-Q241)/(0.0828)),IF((0.45<=Q241)*(Q241<=0.55),(4.258/(Q241-0.4325))^3.268,\"3000000000\"))","v":"3000000000"},{"$f":"D241/M241","v":0},{"$f":"(10^(14.524-6.777*(MAX(0,(C241/(4.45*$S$249))^2*((10^$S$246)/(41.35))-9))^0.103))/$R$249","v":355526638325653.13},{"$f":"D241/O241","v":0},{"$f":"($R$246/(0.944*$C$18))*((C241/(4.45*$R$252))^0.94)","v":3.0966171706389409E-2}]
[null,20,26,{"$f":"IF('18 Concrete HVAG Dir-1'!$D$84>'19 Concrete HVAG Dir-2'!$D$84,'18 Concrete HVAG Dir-1'!$D$84*'16 Axle Loads Concrete Dir-1'!UX6*'16 Axle Loads Concrete Dir-1'!$UQ$45/100,'19 Concrete HVAG Dir-2'!$D$84*'17 Axle Loads Concrete Dir-2'!UX6*'17 Axle Loads Concrete Dir-2'!$UQ$45/100)","v":0},{"$f":"IF(J242>0.55,10^((0.9719-J242)/(0.0828)),IF((0.45<=J242)*(J242<=0.55),(4.258/(J242-0.4325))^3.268,\"3000000000\"))","v":"3000000000"},null,0,{"$f":"(10^(14.524-6.777*(MAX(0,(C242/(4.45*$L$249))^2*((10^$L$246)/(41.35))-9))^0.103))/$K$249","v":182024.57833631625},{"$f":"D242/H242","v":0},6.4488379377420468E-2,null,null,{"$f":"IF(Q242>0.55,10^((0.9719-Q242)/(0.0828)),IF((0.45<=Q242)*(Q242<=0.55),(4.258/(Q242-0.4325))^3.268,\"3000000000\"))","v":"3000000000"},0,{"$f":"(10^(14.524-6.777*(MAX(0,(C242/(4.45*$S$249))^2*((10^$S$246)/(41.35))-9))^0.103))/$R$249","v":355526638325653.13},{"$f":"D242/O242","v":0},5.9409474861609114E-2]
[null,30,39,{"$f":"IF('18 Concrete HVAG Dir-1'!$D$84>'19 Concrete HVAG Dir-2'!$D$84,'18 Concrete HVAG Dir-1'!$D$84*'16 Axle Loads Concrete Dir-1'!UX7*'16 Axle Loads Concrete Dir-1'!$UQ$45/100,'19 Concrete HVAG Dir-2'!$D$84*'17 Axle Loads Concrete Dir-2'!UX7*'17 Axle Loads Concrete Dir-2'!$UQ$45/100)","v":0},"3000000000",null,0,18387.925766665037,0,9.4407662886362098E-2,null,null,"3000000000",0,355526638325653.13,0,8.6972408504258261E-2]
[null,40,52,{"$f":"IF('18 Concrete HVAG Dir-1'!$D$84>'19 Concrete HVAG Dir-2'!$D$84,'18 Concrete HVAG Dir-1'!$D$84*'16 Axle Loads Concrete Dir-1'!UX8*'16 Axle Loads Concrete Dir-1'!$UQ$45/100,'19 Concrete HVAG Dir-2'!$D$84*'17 Axle Loads Concrete Dir-2'!UX8*'17 Axle Loads Concrete Dir-2'!$UQ$45/100)","v":0},"3000000000",null,0,3422.0641372354485,0,0.12372277690038956,null,null,"3000000000",0,355526638325653.13,0,0.11397875516539578]
[null,50,65,{"$f":"IF('18 Concrete HVAG Dir-1'!$D$84>'19 Concrete HVAG Dir-2'!$D$84,'18 Concrete HVAG Dir-1'!$D$84*'16 Axle Loads Concrete Dir-1'!UX9*'16 Axle Loads Concrete Dir-1'!$UQ$45/100,'19 Concrete HVAG Dir-2'!$D$84*'17 Axle Loads Concrete Dir-2'!UX9*'17 Axle Loads Concrete Dir-2'!$UQ$45/100)","v":0},"3000000000",null,0,882.8373376934577,0,0.15259667518594239,null,null,"3000000000",0,355526638325653.13,0,0.14057863487880695]
[null,60,{"$f":"$C$16*B246","v":78},{"$f":"IF('18 Concrete HVAG Dir-1'!$D$84>'19 Concrete HVAG Dir-2'!$D$84,'18 Concrete HVAG Dir-1'!$D$84*'16 Axle Loads Concrete Dir-1'!UX10*'16 Axle Loads Concrete Dir-1'!$UQ$45/100,'19 Concrete HVAG Dir-2'!$D$84*'17 Axle Loads Concrete Dir-2'!UX10*'17 Axle Loads Concrete Dir-2'!$UQ$45/100)","v":0},"3000000000",null,0,280.65492148726787,0,0.18112376719248516,{"$f":"K51","v":0.78887026992272524},{"$f":"L128","v":4.4872565499089818},"3000000000",0,355526638325653.13,0,0.16685902169886888,{"$f":"R51","v":0.72674129699798939},{"$f":"S128","v":2.4394303312865966}]
[null,70,91,{"$f":"IF('18 Concrete HVAG Dir-1'!$D$84>'19 Concrete HVAG Dir-2'!$D$84,'18 Concrete HVAG Dir-1'!$D$84*'16 Axle Loads Concrete Dir-1'!UX11*'16 Axle Loads Concrete Dir-1'!$UQ$45/100,'19 Concrete HVAG Dir-2'!$D$84*'17 Axle Loads Concrete Dir-2'!UX11*'17 Axle Loads Concrete Dir-2'!$UQ$45/100)","v":0},"3000000000",null,0,103.34270532168965,0,0.20936564757111509,null,null,"3000000000",0,355526638325653.13,0,0.1928766592732169]
[null,80,104,{"$f":"IF('18 Concrete HVAG Dir-1'!$D$84>'19 Concrete HVAG Dir-2'!$D$84,'18 Concrete HVAG Dir-1'!$D$84*'16 Axle Loads Concrete Dir-1'!UX12*'16 Axle Loads Concrete Dir-1'!$UQ$45/100,'19 Concrete HVAG Dir-2'!$D$84*'17 Axle Loads Concrete Dir-2'!UX12*'17 Axle Loads Concrete Dir-2'!$UQ$45/100)","v":0},"3000000000",null,0,42.470725167331338,0,0.23736564124765672,"F2","F4","3000000000",0,15695351.074740818,0,0.21867146039104665,"F2","F4"]
[null,90,117,{"$f":"IF('18 Concrete HVAG Dir-1'!$D$84>'19 Concrete HVAG Dir-2'!$D$84,'18 Concrete HVAG Dir-1'!$D$84*'16 Axle Loads Concrete Dir-1'!UX13*'16 Axle Loads Concrete Dir-1'!$UQ$45/100,'19 Concrete HVAG Dir-2'!$D$84*'17 Axle Loads Concrete Dir-2'!UX13*'17 Axle Loads Concrete Dir-2'!$UQ$45/100)","v":0},"3000000000",null,0,19.014905691381461,0,0.26515585782890932,0.06,18,"3000000000",0,3317056.0689288247,0,0.24427300580622993,0.94,18]
[null,100,130,{"$f":"IF('18 Concrete HVAG Dir-1'!$D$84>'19 Concrete HVAG Dir-2'!$D$84,'18 Concrete HVAG Dir-1'!$D$84*'16 Axle Loads Concrete Dir-1'!UX14*'16 Axle Loads Concrete Dir-1'!$UQ$45/100,'19 Concrete HVAG Dir-2'!$D$84*'17 Axle Loads Concrete Dir-2'!UX14*'17 Axle Loads Concrete Dir-2'!$UQ$45/100)","v":446395.78963461076},"3000000000",null,1.4879859654487026E-4,9.120521052041445,48944.110439248871,0.2927610304684129,null,null,"3000000000",1.4879859654487026E-4,1260042.1732732842,0.35427051498997264,0.26970408076593327]
[null,110,143,{"$f":"IF('18 Concrete HVAG Dir-1'!$D$84>'19 Concrete HVAG Dir-2'!$D$84,'18 Concrete HVAG Dir-1'!$D$84*'16 Axle Loads Concrete Dir-1'!UX15*'16 Axle Loads Concrete Dir-1'!$UQ$45/100,'19 Concrete HVAG Dir-2'!$D$84*'17 Axle Loads Concrete Dir-2'!UX15*'17 Axle Loads Concrete Dir-2'!$UQ$45/100)","v":0},"3000000000",null,0,4.630225108623506,0,0.3202007841773144,"F1",null,"3000000000",0,605524.85740568698,0,0.2949827646763637,"F1"]
[null,120,156,{"$f":"IF('18 Concrete HVAG Dir-1'!$D$84>'19 Concrete HVAG Dir-2'!$D$84,'18 Concrete HVAG Dir-1'!$D$84*'16 Axle Loads Concrete Dir-1'!UX16*'16 Axle Loads Concrete Dir-1'!$UQ$45/100,'19 Concrete HVAG Dir-2'!$D$84*'17 Axle Loads Concrete Dir-2'!UX16*'17 Axle Loads Concrete Dir-2'!$UQ$45/100)","v":0},"3000000000",null,0,2.4654587434493362,0,0.34749106204954699,18,null,"3000000000",0,331542.3393116488,0,0.32012374500288121,18]
[null,130,169,{"$f":"IF('18 Concrete HVAG Dir-1'!$D$84>'19 Concrete HVAG Dir-2'!$D$84,'18 Concrete HVAG Dir-1'!$D$84*'16 Axle Loads Concrete Dir-1'!UX17*'16 Axle Loads Concrete Dir-1'!$UQ$45/100,'19 Concrete HVAG Dir-2'!$D$84*'17 Axle Loads Concrete Dir-2'!UX17*'17 Axle Loads Concrete Dir-2'!$UQ$45/100)","v":0},"3000000000",null,0,1.3673152156672359,0,0.37464506677470727,null,null,"3000000000",0,197495.64454486792,0,0.34513918463224585]
[null,140,182,{"$f":"IF('18 Concrete HVAG Dir-1'!$D$84>'19 Concrete HVAG Dir-2'!$D$84,'18 Concrete HVAG Dir-1'!$D$84*'16 Axle Loads Concrete Dir-1'!UX18*'16 Axle Loads Concrete Dir-1'!$UQ$45/100,'19 Concrete HVAG Dir-2'!$D$84*'17 Axle Loads Concrete Dir-2'!UX18*'17 Axle Loads Concrete Dir-2'!$UQ$45/100)","v":0},"3000000000",null,0,0.78545404409498376,0,0.40167390706853867,null,null,"3000000000",0,124873.4206278226,0,0.37003931739224288]
[null,150,195,{"$f":"IF('18 Concrete HVAG Dir-1'!$D$84>'19 Concrete HVAG Dir-2'!$D$84,'18 Concrete HVAG Dir-1'!$D$84*'16 Axle Loads Concrete Dir-1'!UX19*'16 Axle Loads Concrete Dir-1'!$UQ$45/100,'19 Concrete HVAG Dir-2'!$D$84*'17 Axle Loads Concrete Dir-2'!UX19*'17 Axle Loads Concrete Dir-2'!$UQ$45/100)","v":781192.63186056877},"3000000000",null,2.603975439535229E-4,0.46529798476646933,1678908.2640292228,0.4285870561108131,null,null,"3000000000",2.603975439535229E-4,82571.467223434287,9.4608059918167662,0.39483287038442072]
[null,160,208,{"$f":"IF('18 Concrete HVAG Dir-1'!$D$84>'19 Concrete HVAG Dir-2'!$D$84,'18 Concrete HVAG Dir-1'!$D$84*'16 Axle Loads Concrete Dir-1'!UX20*'16 Axle Loads Concrete Dir-1'!$UQ$45/100,'19 Concrete HVAG Dir-2'!$D$84*'17 Axle Loads Concrete Dir-2'!UX20*'17 Axle Loads Concrete Dir-2'!$UQ$45/100)","v":0},26106889.276894607,null,0,0.2832239766232591,0,0.45539268561902013,null,null,"3000000000",0,56550.260734121417,0,0.41952737174717358]
[null,170,221,{"$f":"IF('18 Concrete HVAG Dir-1'!$D$84>'19 Concrete HVAG Dir-2'!$D$84,'18 Concrete HVAG Dir-1'!$D$84*'16 Axle Loads Concrete Dir-1'!UX21*'16 Axle Loads Concrete Dir-1'!$UQ$45/100,'19 Concrete HVAG Dir-2'!$D$84*'17 Axle Loads Concrete Dir-2'!UX21*'17 Axle Loads Concrete Dir-2'!$UQ$45/100)","v":0},2086746.1986361267,null,0,0.17661103151188415,0,0.48209791499619492,null,null,"3000000000",0,39845.349500761702,0,0.44412938018146014]
[null,180,234,{"$f":"IF('18 Concrete HVAG Dir-1'!$D$84>'19 Concrete HVAG Dir-2'!$D$84,'18 Concrete HVAG Dir-1'!$D$84*'16 Axle Loads Concrete Dir-1'!UX22*'16 Axle Loads Concrete Dir-1'!$UQ$45/100,'19 Concrete HVAG Dir-2'!$D$84*'17 Axle Loads Concrete Dir-2'!UX22*'17 Axle Loads Concrete Dir-2'!$UQ$45/100)","v":1874862.3164653652},512681.44958637533,null,3.6569731906195937,0.11253970324426112,16659563.35779633,0.50870900088836735,null,null,5868888.2727086842,0.31945783074177603,28744.662251253303,65.224711985739859,0.46864465957929657]
[null,190,247,{"$f":"IF('18 Concrete HVAG Dir-1'!$D$84>'19 Concrete HVAG Dir-2'!$D$84,'18 Concrete HVAG Dir-1'!$D$84*'16 Axle Loads Concrete Dir-1'!UX23*'16 Axle Loads Concrete Dir-1'!$UQ$45/100,'19 Concrete HVAG Dir-2'!$D$84*'17 Axle Loads Concrete Dir-2'!UX23*'17 Axle Loads Concrete Dir-2'!$UQ$45/100)","v":0},193195.42979185886,null,0,7.3125985273920974E-2,0,0.53523148393491116,null,null,1085504.2585666731,0,21154.284463540571,0,0.493078314216504]
[null,200,260,{"$f":"IF('18 Concrete HVAG Dir-1'!$D$84>'19 Concrete HVAG Dir-2'!$D$84,'18 Concrete HVAG Dir-1'!$D$84*'16 Axle Loads Concrete Dir-1'!UX24*'16 Axle Loads Concrete Dir-1'!$UQ$45/100,'19 Concrete HVAG Dir-2'!$D$84*'17 Axle Loads Concrete Dir-2'!UX24*'17 Axle Loads Concrete Dir-2'!$UQ$45/100)","v":0},90046.103772554939,null,0,4.8364581028679195E-2,0,0.5616703041300779,null,null,359741.49479861779,0,15837.497796193689,0,0.51743489502872586]
[null,210,273,{"$f":"IF('18 Concrete HVAG Dir-1'!$D$84>'19 Concrete HVAG Dir-2'!$D$84,'18 Concrete HVAG Dir-1'!$D$84*'16 Axle Loads Concrete Dir-1'!UX25*'16 Axle Loads Concrete Dir-1'!$UQ$45/100,'19 Concrete HVAG Dir-2'!$D$84*'17 Axle Loads Concrete Dir-2'!UX25*'17 Axle Loads Concrete Dir-2'!$UQ$45/100)","v":0},43262.579107512283,null,0,3.2508226319725282E-2,0,0.58802989274765338,null,null,158158.40801368243,0,12035.469335044842,0,0.54171848429638425]
[null,220,286,{"$f":"IF('18 Concrete HVAG Dir-1'!$D$84>'19 Concrete HVAG Dir-2'!$D$84,'18 Concrete HVAG Dir-1'!$D$84*'16 Axle Loads Concrete Dir-1'!UX26*'16 Axle Loads Concrete Dir-1'!$UQ$45/100,'19 Concrete HVAG Dir-2'!$D$84*'17 Axle Loads Concrete Dir-2'!UX26*'17 Axle Loads Concrete Dir-2'!$UQ$45/100)","v":0},20829.004832980187,null,0,2.217578249739811E-2,0,0.6143142464822211,null,null,79980.836623467505,0,9267.3492398485578,0,0.56593276394680736]
[null,230,299,{"$f":"IF('18 Concrete HVAG Dir-1'!$D$84>'19 Concrete HVAG Dir-2'!$D$84,'18 Concrete HVAG Dir-1'!$D$84*'16 Axle Loads Concrete Dir-1'!UX27*'16 Axle Loads Concrete Dir-1'!$UQ$45/100,'19 Concrete HVAG Dir-2'!$D$84*'17 Axle Loads Concrete Dir-2'!UX27*'17 Axle Loads Concrete Dir-2'!$UQ$45/100)","v":0},10048.228860918707,null,0,1.5334449901750476E-2,0,0.64052698790106055,null,null,40863.891198570484,0,7219.9075293958676,0,0.59008107124512443]
[null,240,312,{"$f":"IF('18 Concrete HVAG Dir-1'!$D$84>'19 Concrete HVAG Dir-2'!$D$84,'18 Concrete HVAG Dir-1'!$D$84*'16 Axle Loads Concrete Dir-1'!UX28*'16 Axle Loads Concrete Dir-1'!$UQ$45/100,'19 Concrete HVAG Dir-2'!$D$84*'17 Axle Loads Concrete Dir-2'!UX28*'17 Axle Loads Concrete Dir-2'!$UQ$45/100)","v":0},4856.6361141819971,null,0,1.0737587439553539E-2,0,0.66667141522071893,null,null,20914.792827937414,0,5684.1541284058021,0,0.61416644465058878]
[null,250,325,{"$f":"IF('18 Concrete HVAG Dir-1'!$D$84>'19 Concrete HVAG Dir-2'!$D$84,'18 Concrete HVAG Dir-1'!$D$84*'16 Axle Loads Concrete Dir-1'!UX29*'16 Axle Loads Concrete Dir-1'!$UQ$45/100,'19 Concrete HVAG Dir-2'!$D$84*'17 Axle Loads Concrete Dir-2'!UX29*'17 Axle Loads Concrete Dir-2'!$UQ$45/100)","v":0},2351.63678886257,null,0,7.6066328486232319E-3,0,0.69275054366046251,null,null,10722.447740811805,0,4517.6854868096643,0,0.63819166191315957]
[null,260,338,{"$f":"IF('18 Concrete HVAG Dir-1'!$D$84>'19 Concrete HVAG Dir-2'!$D$84,'18 Concrete HVAG Dir-1'!$D$84*'16 Axle Loads Concrete Dir-1'!UX30*'16 Axle Loads Concrete Dir-1'!$UQ$45/100,'19 Concrete HVAG Dir-2'!$D$84*'17 Axle Loads Concrete Dir-2'!UX30*'17 Axle Loads Concrete Dir-2'!$UQ$45/100)","v":0},1140.6703266631846,null,0,5.4471308149128253E-3,0,0.71876714007838904,null,null,5505.9219225277311,0,3621.6453455789606,0,0.66215927198178237]
[null,270,351,{"$f":"IF('18 Concrete HVAG Dir-1'!$D$84>'19 Concrete HVAG Dir-2'!$D$84,'18 Concrete HVAG Dir-1'!$D$84*'16 Axle Loads Concrete Dir-1'!UX31*'16 Axle Loads Concrete Dir-1'!$UQ$45/100,'19 Concrete HVAG Dir-2'!$D$84*'17 Axle Loads Concrete Dir-2'!UX31*'17 Axle Loads Concrete Dir-2'!$UQ$45/100)","v":0},554.21016916711494,null,0,3.940153549534124E-3,0,0.74472375219809872,null,null,2831.6107444730492,0,2926.2572716515815,0,0.68607162192925775]
[null,280,364,{"$f":"IF('18 Concrete HVAG Dir-1'!$D$84>'19 Concrete HVAG Dir-2'!$D$84,'18 Concrete HVAG Dir-1'!$D$84*'16 Axle Loads Concrete Dir-1'!UX32*'16 Axle Loads Concrete Dir-1'!$UQ$45/100,'19 Concrete HVAG Dir-2'!$D$84*'17 Axle Loads Concrete Dir-2'!UX32*'17 Axle Loads Concrete Dir-2'!$UQ$45/100)","v":0},269.70243149130567,null,0,2.8770113472318471E-3,0,0.77062273344007981,null,null,1458.4053974686594,0,2381.5285716116196,0,0.70993087982798386]
[null,290,377,{"$f":"IF('18 Concrete HVAG Dir-1'!$D$84>'19 Concrete HVAG Dir-2'!$D$84,'18 Concrete HVAG Dir-1'!$D$84*'16 Axle Loads Concrete Dir-1'!UX33*'16 Axle Loads Concrete Dir-1'!$UQ$45/100,'19 Concrete HVAG Dir-2'!$D$84*'17 Axle Loads Concrete Dir-2'!UX33*'17 Axle Loads Concrete Dir-2'!$UQ$45/100)","v":0},131.45131217874328,null,0,2.1193101024831913E-3,0,0.79646626415233657,null,null,752.21142217787144,0,1951.153140833587,0,0.73373905430852637]
[null,300,390,{"$f":"IF('18 Concrete HVAG Dir-1'!$D$84>'19 Concrete HVAG Dir-2'!$D$84,'18 Concrete HVAG Dir-1'!$D$84*'16 Axle Loads Concrete Dir-1'!UX34*'16 Axle Loads Concrete Dir-1'!$UQ$45/100,'19 Concrete HVAG Dir-2'!$D$84*'17 Axle Loads Concrete Dir-2'!UX34*'17 Axle Loads Concrete Dir-2'!$UQ$45/100)","v":0},64.163821058152251,null,0,1.5741206652125886E-3,0,0.82225636986869355,null,null,388.50445015558938,0,1608.4378843273794,0,0.75749801137995509]
[null,"Totals",null,{"$f":"SUM(D241:D270)","v":3102450.7379605449},{"$f":"SUM(E241:E270)","v":29073066.742446538},{"$f":"SUM(F246:F263)","v":0},{"$f":"SUM(G241:G270)","v":3.6573823867600921},{"$f":"SUM(H241:H270)","v":12984085.67242337},{"$f":"SUM(I241:I270)","v":18387415.732264802},null,null,null,{"$f":"SUM(M241:M270)","v":7635711.0564152477},{"$f":"SUM(N241:N270)","v":0.31986702688227442},{"$f":"SUM(O241:O270)","v":2488686490107374.5},{"$f":"SUM(P241:P270)","v":75.039788492546592}]
[]
[]
[]
[]
[]
[]
[]
[]
[]
[]
[]
[]
[]
[]
[]
[]
[]
[]
[]
[]
[]
[]
[]
[]
[]
[]
[]
[]
[]
[]
[]
[]
[]
[]
[]
[]
[]
[]
[]
[]
[]
[]
[]
[]
[]
[]
[]
[]
[]
[]
[]
[]
[]
[]
[]
[]
[]
[]
[]
[]
[]
[]
[]
[]
[]
[]
[]
[]
[]
[]
[]
[]
[]
[]
[]
[]
[]
[]
[]
[]
[]
[]
[]
[]
[]
[]
[]
[]
[]
[]
[]
[]
[]
[]
[]
[]
[]
[]
[null,null,null,null,null,null,null,null,null,null,null,null," "]

{"sheet":"21 Concrete Pavement-CRCP+Dowel","index":22,"n_rows":370,"n_cols":47,"rows_kept":370,"cut":false,"hidden":false,"merged":[[2,22,4,22],[2,23,2,26],[2,27,2,30],[3,23,3,26],[3,27,3,30],[19,22,21,22],[19,23,19,26],[19,27,19,30],[20,23,20,26],[20,27,20,30],[40,2,40,3],[40,23,40,26],[40,27,40,30],[41,2,41,3],[32,1,32,2],[32,3,32,4],[37,2,37,3],[38,2,38,3],[39,2,39,3],[39,22,41,22],[46,39,46,42],[46,43,46,46],[47,4,47,11],[47,12,47,18],[47,39,47,42],[47,43,47,46],[48,10,49,10],[39,23,39,26],[39,27,39,30],[48,1,49,1],[48,2,49,2],[48,3,49,3],[48,4,48,6],[48,7,48,8],[48,9,49,9],[42,2,42,3],[43,2,43,3],[46,38,48,38],[55,25,56,25],[55,26,55,30],[62,39,62,42],[62,43,62,46],[63,39,63,42],[63,43,63,46],[48,11,49,11],[48,12,48,13],[48,14,48,15],[48,16,49,16],[48,17,49,17],[48,18,49,18],[84,9,85,9],[84,10,85,10],[84,11,85,11],[78,38,80,38],[78,39,78,42],[78,43,78,46],[79,39,79,42],[79,43,79,46],[84,1,85,1],[84,2,85,2],[84,3,85,3],[84,4,84,6],[84,7,84,8],[84,17,85,17],[84,18,85,18],[84,12,84,13],[84,14,84,15],[84,16,85,16],[120,12,120,13],[120,14,120,15],[120,16,121,16],[120,17,121,17],[120,18,121,18],[156,1,157,1],[156,2,157,2],[156,3,157,3],[156,4,156,6],[156,7,156,8],[120,1,121,1],[120,2,121,2],[120,3,121,3],[120,4,120,6],[120,7,120,8],[120,9,121,9],[120,10,121,10],[120,11,121,11],[238,1,239,1],[238,2,239,2],[238,3,239,3],[238,4,238,6],[238,7,238,8],[156,17,157,17],[156,18,157,18],[197,1,198,1],[197,2,198,2],[197,3,198,3],[197,4,197,6],[197,7,197,8],[197,9,198,9],[197,10,198,10],[197,11,198,11],[156,9,157,9],[156,10,157,10],[156,11,157,11],[156,12,156,13],[156,14,156,15],[156,16,157,16],[238,17,239,17],[238,18,239,18],[238,9,239,9],[197,18,198,18],[238,10,239,10],[238,11,239,11],[238,12,238,13],[238,14,238,15],[238,16,239,16],[197,12,197,13],[197,14,197,15],[197,16,198,16],[197,17,198,17]]}
[null,"Base Thickness Desgin Procedure",null,null,null,null,null,null,null,null,null,null,null,null,null,null,null,null,null,null,null,null,null,null,null,null,null,null,null,null,null,null,null,"TAG","F1","F4","P"]
[null,null,null,null,null,null,null,null,null,null,null,null,null,null,null,null,null,null,null,null,null,null,null,null,null,null,null,null,null,null,null,null,null,"SAST < 375",9,9,53]
[null,"Subgrade information",null,null,null,null,null,null,null,null,null,null,null,null,null,null,null,null,null,null,null,null,9.4,"Without concrete shoulders",null,null,null,"Concrete shoulders",null,null,null,null,null,"375 < SAST < 450",9,9,58]
[null,null,null,null,null,null,null,null,null,null,null,null,null,null,null,null,null,null,null,null,null,null,null,"Axel group type",null,null,null,"Axel group type",null,null,null,null,null,"SAST > 450",9,9,71]
[null,"Subgrade Layers","Thickness (m)","CBR (%)","hi*CBRi^0.333",null,null,"Effective Subgrade Strength (CBR %)",null,null,null,null,null,null,null,null,null,null,null,null,null,null,null,"SAST","SADT","TADT & TAST","TRDT & QADT","SAST","SADT","TADT & TAST","TRDT & QADT",null,null,"SADT",18,18,80]
[null,"Layer 1",0.4,5,{"$f":"C6*(D6^0.333)","v":0.68362353040033885},null,null,"Design Subgrade Strength (CBR %)","Sub-base",null,null,null,null,null,null,null,null,null,null,null,null,null,"a",0.11799999999999999,0.56000000000000005,0.219,8.8999999999999996E-2,-5.0999999999999997E-2,0.33,8.7999999999999995E-2,-0.14499999999999999,null,null,"TAST < 375",18,18,89]
[null,"Layer 2",0.1,6,{"$f":"C7*(D7^0.333)","v":0.18160356358517363},null,null,null,"150 mm Lean-mix Concrete","125 mm Lean-mix Concrete","100 mm Lean-mix Concrete or ≥ 150 mm HBM","125 mm HBM",null,null,null,null,null,null,null,null,null,null,"b",125.4,184.4,399.6,336.4,26,206.5,301.5,258.60000000000002,null,null,"375 < TAST < 450",18,18,98]
[null,"Layer 3",0.1,5,{"$f":"C8*(D8^0.333)","v":0.17090588260008471},null,null,1,5,4,3,2,null,null,null,null,null,null,null,null,null,null,"c",-0.23960000000000001,-0.6663,-0.37419999999999998,-0.13400000000000001,8.9899999999999994E-2,-0.46839999999999998,-0.18459999999999999,8.0000000000000002E-3,null,null,"TAST > 450",18,18,119]
[null,"Layer 4",null,null,{"$f":"C9*(D9^0.333)","v":0},null,null,2,25,20,14,9,null,null,null,null,null,null,null,null,null,null,"d",26969,44405,-38,-10007,35774,28661,4418,1408,null,null,"TADT",36,36,135]
[null,"Layer 5",null,null,{"$f":"C10*(D10^0.333)","v":0},null,null,3,40,30,20,13,null,null,null,null,null,null,null,null,null,null,"e",8.9599999999999999E-2,0.22539999999999999,0.16800000000000001,8.3000000000000004E-2,3.7600000000000001E-2,0.16500000000000001,9.3899999999999997E-2,3.1199999999999999E-2,null,null,"TRDT",54,54,182]
[null,"Sum ",{"$f":"IF(SUM(C6:C10)<1, SUM(C6:C10), \"MUST BE =<1\")","v":0.6},null,{"$f":"SUM(E6:E10)","v":1.0361329765855971},null,null,4,58,40,27,17,null,null,null,null,null,null,null,null,null,null,"f",0.19,19.75,-71.09,-83.14,14.57,2.82,-59.93,-61.25,null,null,"QADT",72,54,226]
[null,"CBRE",null,{"$f":"ROUNDDOWN((E11/C11)^3,0)","v":5},null,null,null,5,72,50,35,22,null,null,null,null,null,null,null,null,null,null,"g",-352174,-942585,681381,1215750,-861548,-686510,280297,488079]
[null,null,null,null,null,null,null,6,75,60,40,26,null,null,null,null,null,null,null,null,null,null,"h",-1.04E-2,-2.4799999999999999E-2,-2.18E-2,-1.2E-2,3.0999999999999999E-3,-1.8599999999999998E-2,-1.2800000000000001E-2,-5.7999999999999996E-3,null,null,"Shoulder","F2"]
[null,"Design Iteration",{"$f":"_xlfn.CONCAT((_xlfn.XLOOKUP(C19,AH39:AH42,AI39:AI42)),(_xlfn.XLOOKUP(D12,AJ39:AJ53,AK39:AK53)))","v":"I12"},null,null,null,null,7,75,70,50,30,null,null,null,null,null,null,null,null,null,null,"i",-1.2536,-4.6657000000000002,3.6501000000000001,5.2724000000000002,1.3098000000000001,-1.9605999999999999,4.1791,4.7427999999999999,null,null,"Without concrete shoulders",0.06]
[null,null,null,null,null,null,null,8,75,75,55,35,null,null,null,null,null,null,null,null,null,null,"j",-1709,-4082,2003,4400,-4009,2717,1768,2564,null,null,"With concrete shoulders",0.94]
[null,"LSF",{"$f":"_xlfn.XLOOKUP(C17,AA57:AE57,AA58:AE58)","v":1.2},null,null,null,null,9,75,75,60,37]
[null,"Design Reliability (80%-97.5%)",0.95,null,null,null,null,10,75,75,65,40,null,null,null,null,null,null,null,null,null,null,null,null,null,null,null,null,null,null,null,null,null,"SAST < 375","Without concrete shoulders",{"$f":"_xlfn.CONCAT(AH17,\"-\",AI17)","v":"SAST < 375-Without concrete shoulders"},"R"]
[null,"fcf",4.5,null,null,null,null,11,75,75,72,42,null,null,null,null,null,null,null,null,null,null,null,null,null,null,null,null,null,null,null,null,null,"375 < SAST < 450","Without concrete shoulders",{"$f":"_xlfn.CONCAT(AH18,\"-\",AI18)","v":"375 < SAST < 450-Without concrete shoulders"},"R"]
[null,"Sub-base Type","150 mm Lean-mix Concrete",null,null,null,null,12,75,75,75,50,null,null,null,null,null,null,null,null,null,null,null,null,null,null,null,null,null,null,null,null,null,"SAST > 450","Without concrete shoulders","SAST > 450-Without concrete shoulders","R"]
[null," Effective Subgrade Strength Ef",{"$f":"IF(D12>15,75,INDIRECT(C14))","v":72},null,null,null,null,13,75,75,75,52,null,null,null,null,null,null,null,null,null,null,9.5,"Without concrete shoulders",null,null,null,"Concrete shoulders",null,null,null,null,null,"SADT","Without concrete shoulders","SADT-Without concrete shoulders","S"]
[null,"Trial slab thickness D (mm)",290,"Iterate this thickness until percentages in cells B35 and C35, OR D35 and E35 are each less than 100",null,null,null,14,75,75,75,55,null,null,null,null,null,null,null,null,null,null,null,"Axel group type",null,null,null,"Axel group type",null,null,null,null,null,"TAST < 375","Without concrete shoulders","TAST < 375-Without concrete shoulders","T"]
[null,null,null,null,null,null,null,"≥15",75,75,75,60,null,null,null,null,null,null,null,null,null,null,null,"SAST","SADT","TADT & TAST","TRDT & QADT","SAST","SADT","TADT & TAST","TRDT & QADT",null,null,"375 < TAST < 450","Without concrete shoulders","375 < TAST < 450-Without concrete shoulders","T"]
[null,"Minimum Permissible Base Thickness (mm)",null,null,null,null,null,null,null,null,null,null,null,null,null,null,null,null,null,null,null,null,"a",0.745,1.33,1.907,2.0339999999999998,0.34499999999999997,-0.91400000000000003,1.5640000000000001,2.1040000000000001,null,null,"TAST > 450","Without concrete shoulders","TAST > 450-Without concrete shoulders","T"]
[null,"Pavement type (base)","Design Traffic",null,null,null,null,null,null,null,null,null,null,null,null,null,null,null,null,null,null,null,"b",533.79999999999995,537.5,448.3,440.3,534.6,539.79999999999995,-404.1,245.4,null,null,"TADT","Without concrete shoulders",{"$f":"_xlfn.CONCAT(AH24,\"-\",AI24)","v":"TADT-Without concrete shoulders"},"T"]
[null,null,"1 x 106≤HVAG<1 X 107","1 x 107≤HVAG<5X 107","HVAG≥5 X 107",null,null,null,null,null,null,null,null,null,null,null,null,null,null,null,null,null,"c",-0.20710000000000001,-0.19289999999999999,-0.1749,-0.27760000000000001,0.1711,-0.1416,-0.1226,-0.24729999999999999,null,null,"TRDT","Without concrete shoulders",{"$f":"_xlfn.CONCAT(AH25,\"-\",AI25)","v":"TRDT-Without concrete shoulders"},"U"]
[null,"Plain concrete",150,200,250,null,null,null,null,null,null,null,null,null,null,null,null,null,null,null,null,null,"d",-42419,-43035,-35827,-36194,44908,-44900,-32024,-15007,null,null,"QADT","Without concrete shoulders",{"$f":"_xlfn.CONCAT(AH26,\"-\",AI26)","v":"QADT-Without concrete shoulders"},"U"]
[null,"Jointed Reinforced and dowelled",150,180,230,null,null,null,null,null,null,null,null,null,null,null,null,null,null,null,null,null,"e",4.0500000000000001E-2,3.6499999999999998E-2,3.8199999999999998E-2,6.7299999999999999E-2,3.4700000000000002E-2,2.75E-2,-2.5600000000000001E-2,4.6899999999999997E-2,null,null,"SAST < 375","With concrete shoulders",{"$f":"_xlfn.CONCAT(AH27,\"-\",AI27)","v":"SAST < 375-With concrete shoulders"},"V"]
[null,"Steel fibre reinforced concrete",125,180,230,null,null,null,null,null,null,null,null,null,null,null,null,null,null,null,null,null,"f",27.27,26.44,0.64,15.77,20.49,16.37,-9.7899999999999991,8.86,null,null,"375 < SAST < 450","With concrete shoulders",{"$f":"_xlfn.CONCAT(AH28,\"-\",AI28)","v":"375 < SAST < 450-With concrete shoulders"},"V"]
[null,"Continuously reinforced concrete",150,180,230,null,null,null,null,null,null,null,null,null,null,null,null,null,null,null,null,null,"g",1547570,1586100,1291870,1315330,1676710,1654590,-1150280,518916,null,null,"SAST > 450","With concrete shoulders","SAST > 450-With concrete shoulders","V"]
[null,null,null,null,null,null,null,null,null,null,null,null,null,null,null,null,null,null,null,null,null,null,"h",-4.4000000000000003E-3,-3.8999999999999998E-3,-6.0000000000000001E-3,-8.3999999999999995E-3,3.8E-3,3.2000000000000002E-3,-5.1999999999999998E-3,-7.4999999999999997E-3,null,null,"SADT","With concrete shoulders",{"$f":"_xlfn.CONCAT(AH30,\"-\",AI30)","v":"SADT-With concrete shoulders"},"W"]
[null,null,null,null,null,null,null,null,null,null,null,null,null,null,null,null,null,null,null,null,null,null,"i",-1.4656,-1.4547000000000001,1.0741000000000001,-1.2068000000000001,-1.3829,-0.95840000000000003,2.1997,1.5517000000000001,null,null,"TAST < 375","With concrete shoulders",{"$f":"_xlfn.CONCAT(AH31,\"-\",AI31)","v":"TAST < 375-With concrete shoulders"},"X"]
[null,"Sum of Damages",null,null,null,null,null,null,null,null,null,null,null,null,null,null,null,null,null,null,null,null,"j",-1384,-1344,50,-625,-913,-765,469,-599,null,null,"375 < TAST < 450","With concrete shoulders",{"$f":"_xlfn.CONCAT(AH32,\"-\",AI32)","v":"375 < TAST < 450-With concrete shoulders"},"X"]
[null,"Without Shoulders",null,"With Shoulders",null,null,null,null,null,null,null,null,null,null,null,null,null,null,null,null,null,null,null,null,null,null,null,null,null,null,null,null,null,"TAST > 450","With concrete shoulders","TAST > 450-With concrete shoulders","X"]
[null,"Fatigue Analysis","Erosion Analysis","Fatigue Analysis","Erosion Analysis",null,null,null,null,null,null,null,null,null,null,null,null,null,null,null,null,null,null,null,null,null,null,null,null,null,null,null,null,"TADT","With concrete shoulders",{"$f":"_xlfn.CONCAT(AH34,\"-\",AI34)","v":"TADT-With concrete shoulders"},"X",null,null,null,null," "]
[null,{"$f":"G81+G117+G153+G194+G235+G271","v":9.0009373261818286E-3},{"$f":"I81+I117+I153+I194+I235+I271","v":2.5826429394092645},{"$f":"N81+N117+N153+N194+N235+N271","v":9.0009373261818286E-3},{"$f":"P81+P117+P153+P194+P235+P271","v":0.72191855145967898},null,null,null,null,null,null,null,null,null,null,null,null,null,null,null,null,null,null,null,null,null,null,null,null,null,null,null,null,"TRDT","With concrete shoulders",{"$f":"_xlfn.CONCAT(AH35,\"-\",AI35)","v":"TRDT-With concrete shoulders"},"Y",null,null,null,null," "]
[null,null,null,null,null,null,null,null,null,null,null,null,null,null,null,null,null,null,null,null,null,null,null,null,null,null,null,null,null,null,null,null,null,"QADT","With concrete shoulders",{"$f":"_xlfn.CONCAT(AH36,\"-\",AI36)","v":"QADT-With concrete shoulders"},"Y"]
[null,"Reinforcement Requirement"]
[null,"D","thickness of the base (mm), including any asphalt surfacing",null,250]
[null,"fs","the allowable tensile stress of the reinforcing steel (MPa). Usually 0.6 times the characteristic yield strength",null,360,null,null,null,null,null,null,null,null,null,null,null,null,null,null,null,null,null,null,null,null,null,null,null,null,null,null,null,null,"150 mm Lean-mix Concrete","I",1,8,null,null,null,null," "]
[null,"g","acceleration due to gravity (m/s2)",null,9.8000000000000007,null,null,null,null,null,null,null,null,null,null,null,null,null,null,null,null,null,9.6,"Without concrete shoulders",null,null,null,"Concrete shoulders",null,null,null,null,null,"125 mm Lean-mix Concrete","J",2,9]
[null,"L","distance to the untied joints or edges of the base (m)",null,0.6,null,null,null,null,null,null,null,null,null,null,null,null,null,null,null,null,null,null,"Axel group type",null,null,null,"Axel group type",null,null,null,null,null,"100 mm Lean-mix Concrete or ≥ 150 mm HBM","K",3,10]
[null,"ρ","mass per unit volume of the base (kg/m3)",null,2400,null,null,null,null,null,null,null,null,null,null,null,null,null,null,null,null,null,null,"SAST","SADT","TADT & TAST","TRDT & QADT","SAST","SADT","TADT & TAST","TRDT & QADT",null,null,"125 mm HBM","L",4,11]
[null,"µ","coefficient of friction between the concrete base and the sub-base(1.5-2.0)",null,1.5,null,null,null,null,null,null,null,null,null,null,null,null,null,null,null,null,null,"a",7.1999999999999995E-2,0.64300000000000002,1.41,2.089,"–0.184",0.44,0.95199999999999996,1.65,null,null,null,null,5,12]
[null,"As","the required area of steel (mm2/m width of slab)",null,{"$f":"E43*E41*E42*E40*E38/(1000*E39)","v":14.7},null,null,null,null,null,null,null,null,null,null,null,null,null,null,null,null,null,"b",679.9,684.5,498.9,351.3,602.29999999999995,609.79999999999995,544.9,359.4,null,null,null,null,6,13]
[null,null,null,null,null,null,null,null,null,null,null,null,null,null,null,null,null,null,null,null,null,null,"c","–0.0789","–0.0576","–0.1680",-0.33429999999999999,"–0.0085","–0.0484","–0.0404","–0.1765",null,null,null,null,7,14]
[null,null,null,null,null,null,null,null,null,null,null,null,null,null,null,null,null,null,null,null,null,null,"d","–58.342","–58.371","–39.430","–25.576","–50.996","–52.519","–47.500","–28.901",null,null,null,null,8,15,null,null,"Coefficients for equivalent stress"]
[null,null,null,null,null,null,null,null,null,null,null,null,null,null,null,null,null,null,null,null,null,null,"e",1.7899999999999999E-2,1.2800000000000001E-2,3.2199999999999999E-2,7.2300000000000003E-2,"–0.0122",1.6999999999999999E-3,1.7899999999999999E-2,4.3499999999999997E-2,null,null,null,null,9,16,null,"Coefficient","Without Concrete Shoulders",null,null,null,"With Concrete Shoulders"]
[null,"SAST",null,null,"Without Shoulders",null,null,null,null,null,null,null,"With Shoulders",null,null,null,null,null,null,null,null,null,"f",6.7,4.6100000000000003,13.8,29.58,8.99,9.6199999999999992,"–31.54","–15.97",null,null,null,null,10,17,null,null,"Axle Group Type",null,null,null,"Axle Group Type"]
[null,"Axle Group Load, P (kN)","Design Load, P*LSF (kN)","Expected Load Repetitions","Fatigue Analysis",null,null,"Erosion Analysis",null,"Sr","F3","Se","Fatigue Analysis",null,"Erosion Analysis",null,"Sr","F3","Se",null,null,null,"g",139330,2131390,1437580,923081,1874370,1949350,1719950,1085800,null,null,null,null,11,18,null,null,"SAST & TAST","SADT","TADT","TRDT&QADT","SAST&TAST","SADT","TADT","TRDT&QADT"]
[null,null,null,null,"Allowable Repetitions",null,"Damage (%)","Allowable Repetitions","Damage (%)",null,null,null,"Allowable Repetitions","Damage (%)","Allowable Repetitions","Damage (%)",null,null,null,null,null,null,"h",-2.0999999999999999E-3,"–0.0017","–0.0044","–0.0086",8.0000000000000004E-4,"–0.0007","–0.0051","–0.0084",null,null,null,null,12,19,null,"a",0.11799999999999999,0.56000000000000005,0.219,8.8999999999999996E-2,-5.0999999999999997E-2,0.33,8.7999999999999995E-2,-0.14499999999999999]
[null,10,{"$f":"$C$16*B51","v":12},{"$f":"IF('18 Concrete HVAG Dir-1'!$D$84>'19 Concrete HVAG Dir-2'!$D$84,'18 Concrete HVAG Dir-1'!$D$84*'16 Axle Loads Concrete Dir-1'!UR5*'16 Axle Loads Concrete Dir-1'!$UQ$43/100,'19 Concrete HVAG Dir-2'!$D$84*'17 Axle Loads Concrete Dir-2'!UR5*'17 Axle Loads Concrete Dir-2'!$UQ$43/100)","v":0},{"$f":"IF(J51>0.55,10^((0.9719-J51)/(0.0828)),IF((0.45<=J51)*(J51<=0.55),(4.258/(J51-0.4325))^3.268,\"3000000000\"))","v":"3000000000"},null,{"$f":"D51/E51","v":0},{"$f":"(10^(14.524-6.777*(MAX(0,(C51/(4.45*$L$54))^2*((10^$L$51)/(41.35))-9))^0.103))/$K$54","v":5569917333768566},{"$f":"D51/H51","v":0},{"$f":"($K$51/(0.944*$C$18))*((C51/(4.45*$K$57))^0.94)","v":3.746275528782618E-2},{"$f":"($AN$50)+($AN$51/$C$21)+($AN$52*LN($C$20))+($AN$53/($C$21^2))+($AN$54*((LN($C$20))^2))+($AN$55*((LN($C$20))/$C$21))+($AN$56/($C$21^3))+($AN$57*((LN($C$20))^3))+($AN$58*((LN($C$20))^2)/($C$21))+($AN$59*(LN($C$20))/($C$21^2))","v":0.49408335281626187},{"$f":"($AN$82)+($AN$83/$C$21)+($AN$84*LN($C$20))+($AN$85/($C$21^2))+($AN$86*((LN($C$20))^2))+($AN$87*((LN($C$20))/$C$21))+($AN$88/($C$21^3))+($AN$89*((LN($C$20))^3))+($AN$90*((LN($C$20))^2)/($C$21))+($AN$91*(LN($C$20))/($C$21^2))","v":1.6926834988316661},{"$f":"IF(Q51>0.55,10^((0.9719-Q51)/(0.0828)),IF((0.45<=Q51)*(Q51<=0.55),(4.258/(Q51-0.4325))^3.268,\"3000000000\"))","v":"3000000000"},{"$f":"D51/M51","v":0},{"$f":"(10^(14.524-6.777*(MAX(0,(C51/(4.45*$S$54))^2*((10^$S$51)/(41.35))-9))^0.103))/$R$54","v":355526638325653.13},{"$f":"D51/O51","v":0},{"$f":"($R$51/(0.944*$C$18))*((C51/(4.45*$R$57))^0.94)","v":3.4997124656106562E-2},{"$f":"($AR$50)+($AR$51/$C$21)+($AR$52*LN($C$20))+($AR$53/($C$21^2))+($AR$54*((LN($C$20))^2))+($AR$55*((LN($C$20))/$C$21))+($AR$56/($C$21^3))+($AR$57*((LN($C$20))^3))+($AR$58*((LN($C$20))^2)/($C$21))+($AR$59*(LN($C$20))/($C$21^2))","v":0.4615650011903103},{"$f":"($AR$82)+($AR$83/$C$21)+($AR$84*LN($C$20))+($AR$85/($C$21^2))+($AR$86*((LN($C$20))^2))+($AR$87*((LN($C$20))/$C$21))+($AR$88/($C$21^3))+($AR$89*((LN($C$20))^3))+($AR$90*((LN($C$20))^2)/($C$21))+($AR$91*(LN($C$20))/($C$21^2))","v":1.2500075387071929},null,null,null,"i","–0.5199","–0.2056","–0.0380","–1.6301","–0.4759","–0.6314",3.3788999999999998,3.2907999999999999,null,null,null,null,13,20,null,"b",125.4,184.4,399.6,336.4,26,206.5,301.5,258.60000000000002]
[null,20,24,{"$f":"IF('18 Concrete HVAG Dir-1'!$D$84>'19 Concrete HVAG Dir-2'!$D$84,'18 Concrete HVAG Dir-1'!$D$84*'16 Axle Loads Concrete Dir-1'!UR6*'16 Axle Loads Concrete Dir-1'!$UQ$43/100,'19 Concrete HVAG Dir-2'!$D$84*'17 Axle Loads Concrete Dir-2'!UR6*'17 Axle Loads Concrete Dir-2'!$UQ$43/100)","v":0},{"$f":"IF(J52>0.55,10^((0.9719-J52)/(0.0828)),IF((0.45<=J52)*(J52<=0.55),(4.258/(J52-0.4325))^3.268,\"3000000000\"))","v":"3000000000"},null,0,{"$f":"(10^(14.524-6.777*(MAX(0,(C52/(4.45*$L$54))^2*((10^$L$51)/(41.35))-9))^0.103))/$K$54","v":5569917333768566},{"$f":"D52/H52","v":0},7.1873353917348948E-2,null,null,{"$f":"IF(Q52>0.55,10^((0.9719-Q52)/(0.0828)),IF((0.45<=Q52)*(Q52<=0.55),(4.258/(Q52-0.4325))^3.268,\"3000000000\"))","v":"3000000000"},{"$f":"D52/M52","v":0},355526638325653.13,{"$f":"D52/O52","v":0},6.7142971924313108E-2,null,null,null,null,null,"j","–187","–185","–697",-1327,"–374–",3261,675,758,null,null,null,null,14,21,null,"c",-0.23960000000000001,-0.6663,-0.34720000000000001,-0.13400000000000001,8.9899999999999994E-2,-0.46839999999999998,-0.18459999999999999,8.0000000000000002E-3]
[null,30,36,{"$f":"IF('18 Concrete HVAG Dir-1'!$D$84>'19 Concrete HVAG Dir-2'!$D$84,'18 Concrete HVAG Dir-1'!$D$84*'16 Axle Loads Concrete Dir-1'!UR7*'16 Axle Loads Concrete Dir-1'!$UQ$43/100,'19 Concrete HVAG Dir-2'!$D$84*'17 Axle Loads Concrete Dir-2'!UR7*'17 Axle Loads Concrete Dir-2'!$UQ$43/100)","v":0},"3000000000",null,0,5569917333768566,0,0.10521888490063475,"F2","F4","3000000000",0,355526638325653.13,0,9.8293849524747956E-2,"F2","F4",null,null,null,null,null,null,null,null,null,null,null,null,null,null,null,null,15,22,null,"d",26969,44405,-38,-10007,35774,28661,4418,1408]
[null,40,48,{"$f":"IF('18 Concrete HVAG Dir-1'!$D$84>'19 Concrete HVAG Dir-2'!$D$84,'18 Concrete HVAG Dir-1'!$D$84*'16 Axle Loads Concrete Dir-1'!UR8*'16 Axle Loads Concrete Dir-1'!$UQ$43/100,'19 Concrete HVAG Dir-2'!$D$84*'17 Axle Loads Concrete Dir-2'!UR8*'17 Axle Loads Concrete Dir-2'!$UQ$43/100)","v":3747520.2092782147},"3000000000",null,1.2491734030927383E-3,5569917333768566,6.7281433183186388E-10,0.13789105909695756,0.06,9,"3000000000",1.2491734030927383E-3,355526638325653.13,1.0540757865365869E-8,0.12881568766371432,0.94,9,null,null,null,null,null,null,null,null,null,null,null,null,null,null,null,null,null,null,null,"e",8.9599999999999999E-2,0.22539999999999999,0.16800000000000001,8.3000000000000004E-2,-3.7600000000000001E-2,0.16500000000000001,9.3899999999999997E-2,3.1199999999999999E-2]
[null,50,60,{"$f":"IF('18 Concrete HVAG Dir-1'!$D$84>'19 Concrete HVAG Dir-2'!$D$84,'18 Concrete HVAG Dir-1'!$D$84*'16 Axle Loads Concrete Dir-1'!UR9*'16 Axle Loads Concrete Dir-1'!$UQ$43/100,'19 Concrete HVAG Dir-2'!$D$84*'17 Axle Loads Concrete Dir-2'!UR9*'17 Axle Loads Concrete Dir-2'!$UQ$43/100)","v":1639540.0915592187},"3000000000",null,5.4651336385307288E-4,5569917333768566,2.943562701764404E-10,0.17007149114511805,null,null,"3000000000",5.4651336385307288E-4,355526638325653.13,4.6115815660975667E-9,0.15887814791854812,null,null,null,null,null,null,null,null,null,null,null,null,null,null,null,null,null,null,null,null,null,"f",0.19,19.75,-71.09,-83.14,14.57,2.82,-59.93,-61.25]
[null,60,72,{"$f":"IF('18 Concrete HVAG Dir-1'!$D$84>'19 Concrete HVAG Dir-2'!$D$84,'18 Concrete HVAG Dir-1'!$D$84*'16 Axle Loads Concrete Dir-1'!UR10*'16 Axle Loads Concrete Dir-1'!$UQ$43/100,'19 Concrete HVAG Dir-2'!$D$84*'17 Axle Loads Concrete Dir-2'!UR10*'17 Axle Loads Concrete Dir-2'!$UQ$43/100)","v":4215960.2354379911},"3000000000",null,1.4053200784793303E-3,5569917333768566,7.5691612331084685E-10,0.20186540192118752,"F1",null,"3000000000",1.4053200784793303E-3,355526638325653.13,1.1858352598536601E-8,0.18857952599889483,"F1",null,null,null,null,"Axle Group Type","Load (kN)",null,"Pavement Type","Reliability",null,null,null,null,null,null,null,null,null,null,null,"g",-352174,-942585,681381,1215750,-861548,-686510,280297,488079]
[null,70,84,{"$f":"IF('18 Concrete HVAG Dir-1'!$D$84>'19 Concrete HVAG Dir-2'!$D$84,'18 Concrete HVAG Dir-1'!$D$84*'16 Axle Loads Concrete Dir-1'!UR11*'16 Axle Loads Concrete Dir-1'!$UQ$43/100,'19 Concrete HVAG Dir-2'!$D$84*'17 Axle Loads Concrete Dir-2'!UR11*'17 Axle Loads Concrete Dir-2'!$UQ$43/100)","v":163954.00915592187},"3000000000",null,5.4651336385307293E-5,5569917333768566,2.943562701764404E-11,0.23334143967157039,9,null,"3000000000",5.4651336385307293E-5,355526638325653.13,4.6115815660975669E-10,0.21798395203128626,9,null,null,null,null,"SAST<375",53,null,null,0.8,0.85,0.9,0.95,0.97499999999999998,null,null,null,null,null,null,null,"h",-1.04E-2,-2.4799999999999999E-2,-2.18E-2,-1.2E-2,3.0999999999999999E-3,-1.8599999999999998E-2,-1.2800000000000001E-2,-5.7999999999999996E-3]
[null,80,96,{"$f":"IF('18 Concrete HVAG Dir-1'!$D$84>'19 Concrete HVAG Dir-2'!$D$84,'18 Concrete HVAG Dir-1'!$D$84*'16 Axle Loads Concrete Dir-1'!UR12*'16 Axle Loads Concrete Dir-1'!$UQ$43/100,'19 Concrete HVAG Dir-2'!$D$84*'17 Axle Loads Concrete Dir-2'!UR12*'17 Axle Loads Concrete Dir-2'!$UQ$43/100)","v":0},"3000000000",null,0,5569917333768566,0,0.26454789073494195,null,null,"3000000000",0,355526638325653.13,0,0.24713653436402253,null,null,null,null,null,"375<SAST<450",58,null,"PCP",1.05,1.05,1.1000000000000001,1.2,1.25,null,null,null,null,null,null,null,"i",-1.2536,-4.6657000000000002,3.6501000000000001,5.2724000000000002,1.3098000000000001,-1.9605999999999999,4.1791,4.7427999999999999]
[null,90,108,{"$f":"IF('18 Concrete HVAG Dir-1'!$D$84>'19 Concrete HVAG Dir-2'!$D$84,'18 Concrete HVAG Dir-1'!$D$84*'16 Axle Loads Concrete Dir-1'!UR13*'16 Axle Loads Concrete Dir-1'!$UQ$43/100,'19 Concrete HVAG Dir-2'!$D$84*'17 Axle Loads Concrete Dir-2'!UR13*'17 Axle Loads Concrete Dir-2'!$UQ$43/100)","v":0},"3000000000",null,0,5569917333768566,0,0.29552054179342863,null,null,"3000000000",0,355526638325653.13,0,0.27607070436022102,null,null,null,null,null,"SAST>450",71,null,"Dowelled and CRCP",1.05,1.05,1.1000000000000001,1.2,1.25,null,null,null,null,null,null,null,"j",-1709,-4082,2003,4400,-4009,-2717,1768,2564]
[null,100,120,{"$f":"IF('18 Concrete HVAG Dir-1'!$D$84>'19 Concrete HVAG Dir-2'!$D$84,'18 Concrete HVAG Dir-1'!$D$84*'16 Axle Loads Concrete Dir-1'!UR14*'16 Axle Loads Concrete Dir-1'!$UQ$43/100,'19 Concrete HVAG Dir-2'!$D$84*'17 Axle Loads Concrete Dir-2'!UR14*'17 Axle Loads Concrete Dir-2'!$UQ$43/100)","v":0},"3000000000",null,0,387561749.23887473,0,0.32628695835131233,null,null,"3000000000",0,355526638325653.13,0,0.30481221328623032,null,null,null,null,null,"TAST<375",89]
[null,110,132,{"$f":"IF('18 Concrete HVAG Dir-1'!$D$84>'19 Concrete HVAG Dir-2'!$D$84,'18 Concrete HVAG Dir-1'!$D$84*'16 Axle Loads Concrete Dir-1'!UR15*'16 Axle Loads Concrete Dir-1'!$UQ$43/100,'19 Concrete HVAG Dir-2'!$D$84*'17 Axle Loads Concrete Dir-2'!UR15*'17 Axle Loads Concrete Dir-2'!$UQ$43/100)","v":0},"3000000000",null,0,87000273.579005077,0,0.35686901280460337,null,null,"3000000000",0,355526638325653.13,0,0.333381493994995,null,null,null,null,null,"375<TAST<450",98,null,null,null,null,null,null,null," "]
[null,120,144,{"$f":"IF('18 Concrete HVAG Dir-1'!$D$84>'19 Concrete HVAG Dir-2'!$D$84,'18 Concrete HVAG Dir-1'!$D$84*'16 Axle Loads Concrete Dir-1'!UR16*'16 Axle Loads Concrete Dir-1'!$UQ$43/100,'19 Concrete HVAG Dir-2'!$D$84*'17 Axle Loads Concrete Dir-2'!UR16*'17 Axle Loads Concrete Dir-2'!$UQ$43/100)","v":0},"3000000000",null,0,34670889.784770936,0,0.38728447399233695,null,null,"3000000000",0,355526638325653.13,0,0.36179514586021128,null,null,null,null,null,"TAST>450",119,null,null,null,null,null,null,null,null,null,null,null,null,null,null,null,"Coefficients for prediction of erosion factors for undowelled bases"]
[null,130,156,{"$f":"IF('18 Concrete HVAG Dir-1'!$D$84>'19 Concrete HVAG Dir-2'!$D$84,'18 Concrete HVAG Dir-1'!$D$84*'16 Axle Loads Concrete Dir-1'!UR17*'16 Axle Loads Concrete Dir-1'!$UQ$43/100,'19 Concrete HVAG Dir-2'!$D$84*'17 Axle Loads Concrete Dir-2'!UR17*'17 Axle Loads Concrete Dir-2'!$UQ$43/100)","v":0},"3000000000",null,0,17367284.174460601,0,0.41754805652807914,null,null,"3000000000",0,355526638325653.13,0,0.39006691504553637,null,null,null,null,null,"TRST<375",121,null,null,null,null,null,null,null,null,null," ",null,null,null,null,"Coefficient","Without Concrete Shoulders",null,null,null,"With Concrete Shoulders"]
[null,140,168,{"$f":"IF('18 Concrete HVAG Dir-1'!$D$84>'19 Concrete HVAG Dir-2'!$D$84,'18 Concrete HVAG Dir-1'!$D$84*'16 Axle Loads Concrete Dir-1'!UR18*'16 Axle Loads Concrete Dir-1'!$UQ$43/100,'19 Concrete HVAG Dir-2'!$D$84*'17 Axle Loads Concrete Dir-2'!UR18*'17 Axle Loads Concrete Dir-2'!$UQ$43/100)","v":0},"3000000000",null,0,9869412.8879155684,0,0.44767214125727661,null,null,"3000000000",0,355526638325653.13,0,0.41820836754466501,null,null,null,null,null,null,null,null,null,null,null,null,null,null,null,null,null,null,null,null,null,null,"Axle Group Type",null,null,null,"Axle Group Type"]
[null,150,180,{"$f":"IF('18 Concrete HVAG Dir-1'!$D$84>'19 Concrete HVAG Dir-2'!$D$84,'18 Concrete HVAG Dir-1'!$D$84*'16 Axle Loads Concrete Dir-1'!UR19*'16 Axle Loads Concrete Dir-1'!$UQ$43/100,'19 Concrete HVAG Dir-2'!$D$84*'17 Axle Loads Concrete Dir-2'!UR19*'17 Axle Loads Concrete Dir-2'!$UQ$43/100)","v":0},2833213.2474356047,null,0,6082112.1407553898,0,0.47766728619377691,null,null,"3000000000",0,355526638325653.13,0,0.44622936649029799,null,null,null,null,null,null,null,null,null,null,null,null,null,null,null,null,null,null,null,null,null,null,"SAST ","SADT","TADT & TAST","TRDT&QADT","SAST","SADT","TADT &TAST","TRDT&QADT"]
[null,160,192,{"$f":"IF('18 Concrete HVAG Dir-1'!$D$84>'19 Concrete HVAG Dir-2'!$D$84,'18 Concrete HVAG Dir-1'!$D$84*'16 Axle Loads Concrete Dir-1'!UR20*'16 Axle Loads Concrete Dir-1'!$UQ$43/100,'19 Concrete HVAG Dir-2'!$D$84*'17 Axle Loads Concrete Dir-2'!UR20*'17 Axle Loads Concrete Dir-2'!$UQ$43/100)","v":0},539185.22307899327,null,0,3968073.1464283983,0,0.50754259885042075,null,null,3696042.0773821827,0,72352309.460428119,0,0.47413841997960399,null,null,null,null,null,null,null,null,null,null,null,null,null,null,null,null,null,null,null,null,null,"a",0.745,1.33,1.907,2.0339999999999998,0.34499999999999997,0.91400000000000003,1.5640000000000001,2.1040000000000001]
[null,170,204,{"$f":"IF('18 Concrete HVAG Dir-1'!$D$84>'19 Concrete HVAG Dir-2'!$D$84,'18 Concrete HVAG Dir-1'!$D$84*'16 Axle Loads Concrete Dir-1'!UR21*'16 Axle Loads Concrete Dir-1'!$UQ$43/100,'19 Concrete HVAG Dir-2'!$D$84*'17 Axle Loads Concrete Dir-2'!UR21*'17 Axle Loads Concrete Dir-2'!$UQ$43/100)","v":0},180976.41185996149,null,0,2701510.8230762365,0,0.53730601391837185,null,null,694709.83833043522,0,16410018.642421678,0,0.50194294047794041,null,null,null,null,null,null,null,null,null,null,null,null,null,null,null,null,null,null,null,null,null,"b",533.79999999999995,537.5,448.3,440.3,534.6,539.79999999999995,404.1,245.4]
[null,180,216,{"$f":"IF('18 Concrete HVAG Dir-1'!$D$84>'19 Concrete HVAG Dir-2'!$D$84,'18 Concrete HVAG Dir-1'!$D$84*'16 Axle Loads Concrete Dir-1'!UR22*'16 Axle Loads Concrete Dir-1'!$UQ$43/100,'19 Concrete HVAG Dir-2'!$D$84*'17 Axle Loads Concrete Dir-2'!UR22*'17 Axle Loads Concrete Dir-2'!$UQ$43/100)","v":0},77718.66063658963,null,0,1901376.5183051389,0,0.56696450453199654,null,null,231893.80685193033,0,6892268.0145418886,0,0.52964944217922572,null,null,null,null,null,null,null,null,null,null,null,null,null,null,null,null,null,null,null,null,null,"c",-0.20710000000000001,-0.19289999999999999,-0.1749,-0.27760000000000001,-0.1711,-0.1416,-0.1226,-0.24729999999999999]
[null,190,228,{"$f":"IF('18 Concrete HVAG Dir-1'!$D$84>'19 Concrete HVAG Dir-2'!$D$84,'18 Concrete HVAG Dir-1'!$D$84*'16 Axle Loads Concrete Dir-1'!UR23*'16 Axle Loads Concrete Dir-1'!$UQ$43/100,'19 Concrete HVAG Dir-2'!$D$84*'17 Axle Loads Concrete Dir-2'!UR23*'17 Axle Loads Concrete Dir-2'!$UQ$43/100)","v":0},34160.451422231206,null,0,1374553.3174709494,0,0.59652424582452734,null,null,101785.25230936239,0,3649598.3555727499,0,0.55726369379710206,null,null,null,null,null,null,null,null,null,null,null,null,null,null,null,null,null,null,null,null,null,"d",-42419,-43035,35827,-36194,-44908,-44900,-32024,-15007]
[null,200,240,{"$f":"IF('18 Concrete HVAG Dir-1'!$D$84>'19 Concrete HVAG Dir-2'!$D$84,'18 Concrete HVAG Dir-1'!$D$84*'16 Axle Loads Concrete Dir-1'!UR24*'16 Axle Loads Concrete Dir-1'!$UQ$43/100,'19 Concrete HVAG Dir-2'!$D$84*'17 Axle Loads Concrete Dir-2'!UR24*'17 Axle Loads Concrete Dir-2'!$UQ$43/100)","v":0},15053.865287929644,null,0,1015939.5371169059,0,0.62599074350038175,null,null,47340.344822775114,0,2188841.2547521479,0,0.58479083867520076,null,null,null,null,null,null,null,null,null,null,null,null,null,null,null,null,null,null,null,null,null,"e",4.0500000000000001E-2,3.6499999999999998E-2,3.8199999999999998E-2,6.7299999999999999E-2,3.4700000000000002E-2,2.75E-2,2.5600000000000001E-2,4.6899999999999997E-2]
[null,210,252,{"$f":"IF('18 Concrete HVAG Dir-1'!$D$84>'19 Concrete HVAG Dir-2'!$D$84,'18 Concrete HVAG Dir-1'!$D$84*'16 Axle Loads Concrete Dir-1'!UR25*'16 Axle Loads Concrete Dir-1'!$UQ$43/100,'19 Concrete HVAG Dir-2'!$D$84*'17 Axle Loads Concrete Dir-2'!UR25*'17 Axle Loads Concrete Dir-2'!$UQ$43/100)","v":0},6650.2647290469813,null,0,765031.79944425065,0,0.65536893628669424,null,null,22068.573899065188,0,1420113.096019736,0,0.61223549049577353,null,null,null,null,null,null,null,null,null,null,null,null,null,null,null,null,null,null,null,null,null,"f",27.27,26.44,0.64,15.77,20.49,16.37,-9.7899999999999991,8.86]
[null,220,264,{"$f":"IF('18 Concrete HVAG Dir-1'!$D$84>'19 Concrete HVAG Dir-2'!$D$84,'18 Concrete HVAG Dir-1'!$D$84*'16 Axle Loads Concrete Dir-1'!UR26*'16 Axle Loads Concrete Dir-1'!$UQ$43/100,'19 Concrete HVAG Dir-2'!$D$84*'17 Axle Loads Concrete Dir-2'!UR26*'17 Axle Loads Concrete Dir-2'!$UQ$43/100)","v":0},2944.7099880091173,null,0,585380.57730318303,0,0.68466327856496878,null,null,10310.106668895112,0,972986.5854403472,0,0.63960181047289966,null,null,null,null,null,null,null,null,null,null,null,null,null,null,null,null,null,null,null,null,null,"g",1547570,1586100,1291870,1315330,1676710,1654590,1150280,518916]
[null,230,276,{"$f":"IF('18 Concrete HVAG Dir-1'!$D$84>'19 Concrete HVAG Dir-2'!$D$84,'18 Concrete HVAG Dir-1'!$D$84*'16 Axle Loads Concrete Dir-1'!UR27*'16 Axle Loads Concrete Dir-1'!$UQ$43/100,'19 Concrete HVAG Dir-2'!$D$84*'17 Axle Loads Concrete Dir-2'!UR27*'17 Axle Loads Concrete Dir-2'!$UQ$43/100)","v":0},1306.8027850808423,null,0,454185.38205741695,0,0.71387780774570742,null,null,4826.7247428335859,0,694009.47178057837,0,0.66689357029281926,null,null,null,null,null,null,null,null,null,null,null,null,null,null,null,null,null,null,null,null,null,"h",-4.4000000000000003E-3,-3.8999999999999998E-3,-6.0000000000000001E-3,-8.3999999999999995E-3,-3.8E-3,-3.2000000000000002E-3,-5.1999999999999998E-3,-7.4999999999999997E-3]
[null,240,288,{"$f":"IF('18 Concrete HVAG Dir-1'!$D$84>'19 Concrete HVAG Dir-2'!$D$84,'18 Concrete HVAG Dir-1'!$D$84*'16 Axle Loads Concrete Dir-1'!UR28*'16 Axle Loads Concrete Dir-1'!$UQ$43/100,'19 Concrete HVAG Dir-2'!$D$84*'17 Axle Loads Concrete Dir-2'!UR28*'17 Axle Loads Concrete Dir-2'!$UQ$43/100)","v":0},581.16185929998915,null,0,356724.31763902423,0,0.74301619974521471,null,null,2264.1277030021802,0,510632.98416216107,0,0.69411420393950218,null,null,null,null,null,null,null,null,null,null,null,null,null,null,null,null,null,null,null,null,null,"i",-1.4656,-1.4547000000000001,1.0741000000000001,-1.2068000000000001,-1.3829,-0.95840000000000003,2.1997,1.5517000000000001]
[null,250,300,{"$f":"IF('18 Concrete HVAG Dir-1'!$D$84>'19 Concrete HVAG Dir-2'!$D$84,'18 Concrete HVAG Dir-1'!$D$84*'16 Axle Loads Concrete Dir-1'!UR29*'16 Axle Loads Concrete Dir-1'!$UQ$43/100,'19 Concrete HVAG Dir-2'!$D$84*'17 Axle Loads Concrete Dir-2'!UR29*'17 Axle Loads Concrete Dir-2'!$UQ$43/100)","v":0},258.97813734836524,null,0,283230.48848897271,0,0.77208181507469487,null,null,1064.0704962482077,0,385134.15070935868,0,0.72126685075036867,null,null,null,null,null,null,null,null,null,null,null,null,null,null,null,null,null,null,null,null,null,"j",-1384,-1344,50,-625,-913,-765,469,-599]
[null,260,312,{"$f":"IF('18 Concrete HVAG Dir-1'!$D$84>'19 Concrete HVAG Dir-2'!$D$84,'18 Concrete HVAG Dir-1'!$D$84*'16 Axle Loads Concrete Dir-1'!UR30*'16 Axle Loads Concrete Dir-1'!$UQ$43/100,'19 Concrete HVAG Dir-2'!$D$84*'17 Axle Loads Concrete Dir-2'!UR30*'17 Axle Loads Concrete Dir-2'!$UQ$43/100)","v":0},115.63007406709296,null,0,227070.36828281087,0,0.80107773744276711,null,null,500.98669231492249,0,296433.14664846152,0,0.7483543914781583]
[null,270,324,{"$f":"IF('18 Concrete HVAG Dir-1'!$D$84>'19 Concrete HVAG Dir-2'!$D$84,'18 Concrete HVAG Dir-1'!$D$84*'16 Axle Loads Concrete Dir-1'!UR31*'16 Axle Loads Concrete Dir-1'!$UQ$43/100,'19 Concrete HVAG Dir-2'!$D$84*'17 Axle Loads Concrete Dir-2'!UR31*'17 Axle Loads Concrete Dir-2'!$UQ$43/100)","v":0},51.723262885843937,null,0,183645.03065174722,0,0.8300068063290672,null,null,236.28505168392547,0,232064.98234239544,0,0.77537947872068513]
[null,280,336,{"$f":"IF('18 Concrete HVAG Dir-1'!$D$84>'19 Concrete HVAG Dir-2'!$D$84,'18 Concrete HVAG Dir-1'!$D$84*'16 Axle Loads Concrete Dir-1'!UR32*'16 Axle Loads Concrete Dir-1'!$UQ$43/100,'19 Concrete HVAG Dir-2'!$D$84*'17 Axle Loads Concrete Dir-2'!UR32*'17 Axle Loads Concrete Dir-2'!$UQ$43/100)","v":0},23.178042524433661,null,0,149707.69331343804,0,0.85887164465923349,null,null,111.6274441104876,0,184314.52794437695,0,0.80234456277437893,null,null,null,null,null,null,null,null,null,null,null,null,null,null,null,null,null,null,null,null,null,null,"Coefficients for prediction of erosion factors for dowelled or CRCP bases"]
[null,290,348,{"$f":"IF('18 Concrete HVAG Dir-1'!$D$84>'19 Concrete HVAG Dir-2'!$D$84,'18 Concrete HVAG Dir-1'!$D$84*'16 Axle Loads Concrete Dir-1'!UR33*'16 Axle Loads Concrete Dir-1'!$UQ$43/100,'19 Concrete HVAG Dir-2'!$D$84*'17 Axle Loads Concrete Dir-2'!UR33*'17 Axle Loads Concrete Dir-2'!$UQ$43/100)","v":0},10.404326678729351,null,0,122928.79930993236,0,0.88767468246679049,null,null,52.820556705512352,0,148223.28780180943,0,0.82925191373884977,null,null,null,null,null,null,null,null,null,null,null,null,null,null,null,null,null,null,null,null,null,"Coefficient","Without Concrete Shoulders",null,null,null,"With Concrete Shoulders"]
[null,300,360,{"$f":"IF('18 Concrete HVAG Dir-1'!$D$84>'19 Concrete HVAG Dir-2'!$D$84,'18 Concrete HVAG Dir-1'!$D$84*'16 Axle Loads Concrete Dir-1'!UR34*'16 Axle Loads Concrete Dir-1'!$UQ$43/100,'19 Concrete HVAG Dir-2'!$D$84*'17 Axle Loads Concrete Dir-2'!UR34*'17 Axle Loads Concrete Dir-2'!$UQ$43/100)","v":0},4.6781088546059646,null,0,101612.4693529971,0,0.9164181772423251,null,null,25.032645948476631,0,120502.06574279781,0,0.8561036405267729,null,null,null,null,null,null,null,null,null,null,null,null,null,null,null,null,null,null,null,null,null,null,"Axle Group Type",null,null,null,"Axle Group Type"]
[null,"Totals",null,{"$f":"SUM(D51:D80)","v":9766974.5454313457},{"$f":"SUM(E51:E80)","v":3692255.391035107},{"$f":"SUM(F51:F63)","v":0},{"$f":"SUM(G51:G80)","v":3.2556581818104489E-3},{"$f":"SUM(H51:H80)","v":5.0129256560659808E+16},{"$f":"SUM(I51:I80)","v":1.753522352336795E-9},null,null,null,{"$f":"SUM(M51:M80)","v":4813231.6755974935},{"$f":"SUM(N51:N80)","v":3.2556581818104489E-3},{"$f":"SUM(O51:O80)","v":5332899681342245},{"$f":"SUM(P51:P80)","v":2.7471850186609793E-8},null,null,null,null,null,null,"375<TRST<450",132,null,null,null,null,null,null,null," ",null,null,null,null,null,null,null,"SAST","SADT","TADT& TAST","TRDT&QADT","SAST","SADT","TADT &TAST","TRDT&QADT"]
[null,null,null,null,null,null,null,null,null,null,null,null,null,null,null,null,null,null,null,null,null,null,"TRST>450",162,null,null,null,null,null,null," ",null,null,null,null,null,null,null,"a",7.1999999999999995E-2,0.64300000000000002,1.41,2.089,-0.184,0.44,0.95199999999999996,1.65]
[null,null,null,null,null,null,null,null,null,null,null,null,null,null,null,null,null,null,null,null,null,null,"QAST<375",150,null,null,null,null,null,null,null," ",null," ",null,null,null,null,"b",679.9,684.5,498.9,351.3,602.29999999999995,609.79999999999995,544.9,359.4]
[null,"SADT",null,null,null,null,null,null,null,null,null,null,null,null,null,null,null,null,null,null,null,null,"375<QAST<450",164,null,null,null,null,null,null,null,null," ",null,null,null,null,null,"c",-7.8899999999999998E-2,-5.7599999999999998E-2,-0.16800000000000001,-0.33429999999999999,-8.5000000000000006E-3,-4.8399999999999999E-2,-4.0399999999999998E-2,-0.17649999999999999]
[null,"Axle Group Load, P (kN)","Design Load, P*LSF (kN)","Expected Load Repetitions","Fatigue Analysis",null,null,"Erosion Analysis",null,"Sr","F3","Se","Fatigue Analysis",null,"Erosion Analysis",null,"Sr","F3","Se",null,null,null,"QAST>450",201,null,null,null,null,null,null,null,null,null,null,null,null,null,null,"d",-58342,-58371,-39430,-25576,-50996,-52519,-47500,-28901]
[null,null,null,null,"Allowable Repetitions",null,"Damage (%)","Allowable Repetitions","Damage (%)",null,null,null,"Allowable Repetitions","Damage (%)","Allowable Repetitions","Damage (%)",null,null,null,null,null,null,null,null,null,null,null,null,null,null," ",null," ",null,null,null,null,null,"e",1.7899999999999999E-2,1.2800000000000001E-2,3.2199999999999999E-2,7.2300000000000003E-2,-1.2200000000000001E-2,1.6999999999999999E-3,1.7899999999999999E-2,4.3499999999999997E-2]
[null,10,{"$f":"$C$16*B87","v":12},{"$f":"IF('18 Concrete HVAG Dir-1'!$D$84>'19 Concrete HVAG Dir-2'!$D$84,'18 Concrete HVAG Dir-1'!$D$84*'16 Axle Loads Concrete Dir-1'!UU5*'16 Axle Loads Concrete Dir-1'!$UQ$44/100,'19 Concrete HVAG Dir-2'!$D$84*'17 Axle Loads Concrete Dir-2'!UU5*'17 Axle Loads Concrete Dir-2'!$UQ$44/100)","v":0},{"$f":"IF(J87>0.55,10^((0.9719-J87)/(0.0828)),IF((0.45<=J87)*(J87<=0.55),(4.258/(J87-0.4325))^3.268,\"3000000000\"))","v":"3000000000"},null,{"$f":"D87/E87","v":0},{"$f":"(10^(14.524-6.777*(MAX(0,(C87/(4.45*$L$95))^2*((10^$L$92)/(41.35))-9))^0.103))/$K$95","v":5569917333768566},{"$f":"D87/H87","v":0},{"$f":"($K$92/(0.944*$C$18))*((C87/(4.45*$K$98))^0.94)","v":3.1924583021276105E-2},null,null,{"$f":"IF(Q87>0.55,10^((0.9719-Q87)/(0.0828)),IF((0.45<=Q87)*(Q87<=0.55),(4.258/(Q87-0.4325))^3.268,\"3000000000\"))","v":"3000000000"},{"$f":"D87/M87","v":0},{"$f":"(10^(14.524-6.777*(MAX(0,(C87/(4.45*$S$95))^2*((10^$S$92)/(41.35))-9))^0.103))/$R$95","v":355526638325653.13},{"$f":"D87/O87","v":0},{"$f":"($R$92/(0.944*$C$18))*((C87/(4.45*$R$98))^0.94)","v":2.743724511113968E-2},null,null,null,null,null,null,null,null,null,null,null,null,null,null,null,null,null,null,null,null,null,"f",6.7,4.6100000000000003,13.8,29.58,8.99,9.6199999999999992,-31.54,-15.97]
[null,20,24,{"$f":"IF('18 Concrete HVAG Dir-1'!$D$84>'19 Concrete HVAG Dir-2'!$D$84,'18 Concrete HVAG Dir-1'!$D$84*'16 Axle Loads Concrete Dir-1'!UU6*'16 Axle Loads Concrete Dir-1'!$UQ$44/100,'19 Concrete HVAG Dir-2'!$D$84*'17 Axle Loads Concrete Dir-2'!UU6*'17 Axle Loads Concrete Dir-2'!$UQ$44/100)","v":0},{"$f":"IF(J88>0.55,10^((0.9719-J88)/(0.0828)),IF((0.45<=J88)*(J88<=0.55),(4.258/(J88-0.4325))^3.268,\"3000000000\"))","v":"3000000000"},null,0,{"$f":"(10^(14.524-6.777*(MAX(0,(C88/(4.45*$L$95))^2*((10^$L$92)/(41.35))-9))^0.103))/$K$95","v":5569917333768566},0,6.124821403346143E-2,null,null,{"$f":"IF(Q88>0.55,10^((0.9719-Q88)/(0.0828)),IF((0.45<=Q88)*(Q88<=0.55),(4.258/(Q88-0.4325))^3.268,\"3000000000\"))","v":"3000000000"},{"$f":"D88/M88","v":0},355526638325653.13,{"$f":"D88/O88","v":0},5.2639129536497638E-2,null,null,null,null,null,null,null,null,null,null,null,null,null,null,null,null,null,null,null,null,null,"g",2139330,2131390,1437580,923081,1874370,1949350,1719950,1085800]
[null,30,36,{"$f":"IF('18 Concrete HVAG Dir-1'!$D$84>'19 Concrete HVAG Dir-2'!$D$84,'18 Concrete HVAG Dir-1'!$D$84*'16 Axle Loads Concrete Dir-1'!UU7*'16 Axle Loads Concrete Dir-1'!$UQ$44/100,'19 Concrete HVAG Dir-2'!$D$84*'17 Axle Loads Concrete Dir-2'!UU7*'17 Axle Loads Concrete Dir-2'!$UQ$44/100)","v":0},"3000000000",null,0,5569917333768566,0,8.9664227860676474E-2,null,null,"3000000000",0,355526638325653.13,0,7.7060971974948031E-2,null,null,null,null,null,null,null,null,null,null,null,null,null,null,null,null,null,null,null,null,null,"h",-2.0999999999999999E-3,-1.6999999999999999E-3,-4.4000000000000003E-3,-8.6E-3,8.0000000000000004E-4,-6.9999999999999999E-4,-5.1000000000000004E-3,-8.3999999999999995E-3]
[null,40,48,{"$f":"IF('18 Concrete HVAG Dir-1'!$D$84>'19 Concrete HVAG Dir-2'!$D$84,'18 Concrete HVAG Dir-1'!$D$84*'16 Axle Loads Concrete Dir-1'!UU8*'16 Axle Loads Concrete Dir-1'!$UQ$44/100,'19 Concrete HVAG Dir-2'!$D$84*'17 Axle Loads Concrete Dir-2'!UU8*'17 Axle Loads Concrete Dir-2'!$UQ$44/100)","v":0},"3000000000",null,0,5569917333768566,0,0.11750642819010736,null,null,"3000000000",0,355526638325653.13,0,0.10098965647375384,null,null,null,null,null,null,null,null,null,null,null,null,null,null,null,null,null,null,null,null,null,"i",-0.51990000000000003,-0.2056,-3.7999999999999999E-2,-1.6301000000000001,-0.47589999999999999,-0.63139999999999996,3.3788999999999998,3.2907999999999999]
[null,50,60,{"$f":"IF('18 Concrete HVAG Dir-1'!$D$84>'19 Concrete HVAG Dir-2'!$D$84,'18 Concrete HVAG Dir-1'!$D$84*'16 Axle Loads Concrete Dir-1'!UU9*'16 Axle Loads Concrete Dir-1'!$UQ$44/100,'19 Concrete HVAG Dir-2'!$D$84*'17 Axle Loads Concrete Dir-2'!UU9*'17 Axle Loads Concrete Dir-2'!$UQ$44/100)","v":0},"3000000000",null,0,5569917333768566,0,0.14492958131082503,null,null,"3000000000",0,355526638325653.13,0,0.12455819528260843,null,null,null,null,null,null,null,null,null,null,null,null,null,null,null,null,null,null,null,null,null,"j",-187,-185,-697,-1327,-374,-326,1675,758]
[null,60,72,{"$f":"IF('18 Concrete HVAG Dir-1'!$D$84>'19 Concrete HVAG Dir-2'!$D$84,'18 Concrete HVAG Dir-1'!$D$84*'16 Axle Loads Concrete Dir-1'!UU10*'16 Axle Loads Concrete Dir-1'!$UQ$44/100,'19 Concrete HVAG Dir-2'!$D$84*'17 Axle Loads Concrete Dir-2'!UU10*'17 Axle Loads Concrete Dir-2'!$UQ$44/100)","v":0},"3000000000",null,{"$f":"D92/E92","v":0},5569917333768566,{"$f":"D92/H92","v":0},0.17202335314750331,{"$f":"($AO$50)+($AO$51/$C$21)+($AO$52*LN($C$20))+($AO$53/($C$21^2))+($AO$54*((LN($C$20))^2))+($AO$55*((LN($C$20))/$C$21))+($AO$56/($C$21^3))+($AO$57*((LN($C$20))^3))+($AO$58*((LN($C$20))^2)/($C$21))+($AO$59*(LN($C$20))/($C$21^2))","v":0.8077815609439285},{"$f":"($AO$82)+($AO$83/$C$21)+($AO$84*LN($C$20))+($AO$85/($C$21^2))+($AO$86*((LN($C$20))^2))+($AO$87*((LN($C$20))/$C$21))+($AO$88/($C$21^3))+($AO$89*((LN($C$20))^3))+($AO$90*((LN($C$20))^2)/($C$21))+($AO$91*(LN($C$20))/($C$21^2))","v":2.2970803437206166},"3000000000",{"$f":"D92/M92","v":0},355526638325653.13,{"$f":"D92/O92","v":0},0.14784365083179479,{"$f":"($AS$50)+($AS$51/$C$21)+($AS$52*LN($C$20))+($AS$53/($C$21^2))+($AS$54*((LN($C$20))^2))+($AS$55*((LN($C$20))/$C$21))+($AS$56/($C$21^3))+($AS$57*((LN($C$20))^3))+($AS$58*((LN($C$20))^2)/($C$21))+($AS$59*(LN($C$20))/($C$21^2))","v":0.6942393161128172},{"$f":"($AS$82)+($AS$83/$C$21)+($AS$84*LN($C$20))+($AS$85/($C$21^2))+($AS$86*((LN($C$20))^2))+($AS$87*((LN($C$20))/$C$21))+($AS$88/($C$21^3))+($AS$89*((LN($C$20))^3))+($AS$90*((LN($C$20))^2)/($C$21))+($AS$91*(LN($C$20))/($C$21^2))","v":1.8530197236150634},null,null,null,null,null,null,null,null,null,null,null,null," ",null," "]
[null,70,84,{"$f":"IF('18 Concrete HVAG Dir-1'!$D$84>'19 Concrete HVAG Dir-2'!$D$84,'18 Concrete HVAG Dir-1'!$D$84*'16 Axle Loads Concrete Dir-1'!UU11*'16 Axle Loads Concrete Dir-1'!$UQ$44/100,'19 Concrete HVAG Dir-2'!$D$84*'17 Axle Loads Concrete Dir-2'!UU11*'17 Axle Loads Concrete Dir-2'!$UQ$44/100)","v":0},"3000000000",null,{"$f":"D93/E93","v":0},5569917333768566,{"$f":"D93/H93","v":0},0.19884624357888211,null,null,"3000000000",{"$f":"D93/M93","v":0},355526638325653.13,{"$f":"D93/O93","v":0},0.17089630022315921]
[null,80,96,{"$f":"IF('18 Concrete HVAG Dir-1'!$D$84>'19 Concrete HVAG Dir-2'!$D$84,'18 Concrete HVAG Dir-1'!$D$84*'16 Axle Loads Concrete Dir-1'!UU12*'16 Axle Loads Concrete Dir-1'!$UQ$44/100,'19 Concrete HVAG Dir-2'!$D$84*'17 Axle Loads Concrete Dir-2'!UU12*'17 Axle Loads Concrete Dir-2'!$UQ$44/100)","v":1272800.3027530441},"3000000000",null,4.2426676758434805E-4,5569917333768566,2.2851332012352802E-10,0.22543940070568147,"F2","F4","3000000000",4.2426676758434805E-4,355526638325653.13,3.5800420152686062E-9,0.1937515077565129,"F2","F4"]
[null,90,108,{"$f":"IF('18 Concrete HVAG Dir-1'!$D$84>'19 Concrete HVAG Dir-2'!$D$84,'18 Concrete HVAG Dir-1'!$D$84*'16 Axle Loads Concrete Dir-1'!UU13*'16 Axle Loads Concrete Dir-1'!$UQ$44/100,'19 Concrete HVAG Dir-2'!$D$84*'17 Axle Loads Concrete Dir-2'!UU13*'17 Axle Loads Concrete Dir-2'!$UQ$44/100)","v":0},"3000000000",null,0,5569917333768566,0,0.25183332081403476,0.06,18,"3000000000",0,355526638325653.13,0,0.21643548314231828,0.94,18]
[null,100,120,{"$f":"IF('18 Concrete HVAG Dir-1'!$D$84>'19 Concrete HVAG Dir-2'!$D$84,'18 Concrete HVAG Dir-1'!$D$84*'16 Axle Loads Concrete Dir-1'!UU14*'16 Axle Loads Concrete Dir-1'!$UQ$44/100,'19 Concrete HVAG Dir-2'!$D$84*'17 Axle Loads Concrete Dir-2'!UU14*'17 Axle Loads Concrete Dir-2'!$UQ$44/100)","v":795500.18922065257},"3000000000",null,2.6516672974021753E-4,366162308.81260931,2.1725343381198891E-3,0.27805149436061577,null,null,"3000000000",2.6516672974021753E-4,355526638325653.13,2.237526259542879E-9,0.23896841500503138]
[null,110,132,{"$f":"IF('18 Concrete HVAG Dir-1'!$D$84>'19 Concrete HVAG Dir-2'!$D$84,'18 Concrete HVAG Dir-1'!$D$84*'16 Axle Loads Concrete Dir-1'!UU15*'16 Axle Loads Concrete Dir-1'!$UQ$44/100,'19 Concrete HVAG Dir-2'!$D$84*'17 Axle Loads Concrete Dir-2'!UU15*'17 Axle Loads Concrete Dir-2'!$UQ$44/100)","v":0},"3000000000",null,0,84217250.615999028,0,0.3041125603141,"F1",null,"3000000000",0,355526638325653.13,0,0.26136632240907742,"F1"]
[null,120,144,{"$f":"IF('18 Concrete HVAG Dir-1'!$D$84>'19 Concrete HVAG Dir-2'!$D$84,'18 Concrete HVAG Dir-1'!$D$84*'16 Axle Loads Concrete Dir-1'!UU16*'16 Axle Loads Concrete Dir-1'!$UQ$44/100,'19 Concrete HVAG Dir-2'!$D$84*'17 Axle Loads Concrete Dir-2'!UU16*'17 Axle Loads Concrete Dir-2'!$UQ$44/100)","v":0},"3000000000",null,0,33811370.822549142,0,0.33003166072083745,18,null,"3000000000",0,355526638325653.13,0,0.28364221902598707,18]
[null,130,156,{"$f":"IF('18 Concrete HVAG Dir-1'!$D$84>'19 Concrete HVAG Dir-2'!$D$84,'18 Concrete HVAG Dir-1'!$D$84*'16 Axle Loads Concrete Dir-1'!UU17*'16 Axle Loads Concrete Dir-1'!$UQ$44/100,'19 Concrete HVAG Dir-2'!$D$84*'17 Axle Loads Concrete Dir-2'!UU17*'17 Axle Loads Concrete Dir-2'!$UQ$44/100)","v":0},"3000000000",null,0,16996745.269190542,0,0.35582133491219359,null,null,"3000000000",0,355526638325653.13,0,0.30580688165143449]
[null,140,168,{"$f":"IF('18 Concrete HVAG Dir-1'!$D$84>'19 Concrete HVAG Dir-2'!$D$84,'18 Concrete HVAG Dir-1'!$D$84*'16 Axle Loads Concrete Dir-1'!UU18*'16 Axle Loads Concrete Dir-1'!$UQ$44/100,'19 Concrete HVAG Dir-2'!$D$84*'17 Axle Loads Concrete Dir-2'!UU18*'17 Axle Loads Concrete Dir-2'!$UQ$44/100)","v":0},"3000000000",null,0,9678487.4846016709,0,0.38149213345566674,null,null,"3000000000",0,355526638325653.13,0,0.32786937785902964]
[null,150,180,{"$f":"IF('18 Concrete HVAG Dir-1'!$D$84>'19 Concrete HVAG Dir-2'!$D$84,'18 Concrete HVAG Dir-1'!$D$84*'16 Axle Loads Concrete Dir-1'!UU19*'16 Axle Loads Concrete Dir-1'!$UQ$44/100,'19 Concrete HVAG Dir-2'!$D$84*'17 Axle Loads Concrete Dir-2'!UU19*'17 Axle Loads Concrete Dir-2'!$UQ$44/100)","v":0},"3000000000",null,0,5972158.3112192666,0,0.40705305355893762,null,null,"3000000000",0,355526638325653.13,0,0.34983744020372198]
[null,160,192,{"$f":"IF('18 Concrete HVAG Dir-1'!$D$84>'19 Concrete HVAG Dir-2'!$D$84,'18 Concrete HVAG Dir-1'!$D$84*'16 Axle Loads Concrete Dir-1'!UU20*'16 Axle Loads Concrete Dir-1'!$UQ$44/100,'19 Concrete HVAG Dir-2'!$D$84*'17 Axle Loads Concrete Dir-2'!UU20*'17 Axle Loads Concrete Dir-2'!$UQ$44/100)","v":0},"3000000000",null,0,3899742.2010573777,0,0.43251185635830192,null,null,"3000000000",0,69617782.991705582,0,0.37171773891198701]
[null,170,204,{"$f":"IF('18 Concrete HVAG Dir-1'!$D$84>'19 Concrete HVAG Dir-2'!$D$84,'18 Concrete HVAG Dir-1'!$D$84*'16 Axle Loads Concrete Dir-1'!UU21*'16 Axle Loads Concrete Dir-1'!$UQ$44/100,'19 Concrete HVAG Dir-2'!$D$84*'17 Axle Loads Concrete Dir-2'!UU21*'17 Axle Loads Concrete Dir-2'!$UQ$44/100)","v":0},18647822.858836737,null,0,2656625.7855497231,0,0.45787530354827077,null,null,"3000000000",0,16090794.194247983,0,0.39351608525063264]
[null,180,216,{"$f":"IF('18 Concrete HVAG Dir-1'!$D$84>'19 Concrete HVAG Dir-2'!$D$84,'18 Concrete HVAG Dir-1'!$D$84*'16 Axle Loads Concrete Dir-1'!UU22*'16 Axle Loads Concrete Dir-1'!$UQ$44/100,'19 Concrete HVAG Dir-2'!$D$84*'17 Axle Loads Concrete Dir-2'!UU22*'17 Axle Loads Concrete Dir-2'!$UQ$44/100)","v":0},1948484.7556860368,null,0,1870620.4324991168,0,0.4831493374148636,null,null,"3000000000",0,6794673.7167606344,0,0.41523758625450807]
[null,190,228,{"$f":"IF('18 Concrete HVAG Dir-1'!$D$84>'19 Concrete HVAG Dir-2'!$D$84,'18 Concrete HVAG Dir-1'!$D$84*'16 Axle Loads Concrete Dir-1'!UU23*'16 Axle Loads Concrete Dir-1'!$UQ$44/100,'19 Concrete HVAG Dir-2'!$D$84*'17 Axle Loads Concrete Dir-2'!UU23*'17 Axle Loads Concrete Dir-2'!$UQ$44/100)","v":0},520895.92095713469,null,0,1352764.8291308265,0,0.50833922021260591,null,null,"3000000000",0,3607126.5778340348,0,0.43688676451258979]
[null,200,240,{"$f":"IF('18 Concrete HVAG Dir-1'!$D$84>'19 Concrete HVAG Dir-2'!$D$84,'18 Concrete HVAG Dir-1'!$D$84*'16 Axle Loads Concrete Dir-1'!UU24*'16 Axle Loads Concrete Dir-1'!$UQ$44/100,'19 Concrete HVAG Dir-2'!$D$84*'17 Axle Loads Concrete Dir-2'!UU24*'17 Axle Loads Concrete Dir-2'!$UQ$44/100)","v":0},204564.20000110258,null,0,1000081.7121511579,0,0.53344964372981962,null,null,17293307.466680154,0,2166585.5605493202,0,0.45846765233271136]
[null,210,252,{"$f":"IF('18 Concrete HVAG Dir-1'!$D$84>'19 Concrete HVAG Dir-2'!$D$84,'18 Concrete HVAG Dir-1'!$D$84*'16 Axle Loads Concrete Dir-1'!UU25*'16 Axle Loads Concrete Dir-1'!$UQ$44/100,'19 Concrete HVAG Dir-2'!$D$84*'17 Axle Loads Concrete Dir-2'!UU25*'17 Axle Loads Concrete Dir-2'!$UQ$44/100)","v":0},98386.836732357566,null,0,753229.5344086379,0,0.55848481659459981,null,null,2405977.1866876958,0,1407030.9159100931,0,0.47998386677576138]
[null,220,264,{"$f":"IF('18 Concrete HVAG Dir-1'!$D$84>'19 Concrete HVAG Dir-2'!$D$84,'18 Concrete HVAG Dir-1'!$D$84*'16 Axle Loads Concrete Dir-1'!UU26*'16 Axle Loads Concrete Dir-1'!$UQ$44/100,'19 Concrete HVAG Dir-2'!$D$84*'17 Axle Loads Concrete Dir-2'!UU26*'17 Axle Loads Concrete Dir-2'!$UQ$44/100)","v":0},49140.86736270479,null,0,576429.62102100498,0,0.58344853469091285,null,null,711454.81823641784,0,964671.62929435342,0,0.50143867017405352]
[null,230,276,{"$f":"IF('18 Concrete HVAG Dir-1'!$D$84>'19 Concrete HVAG Dir-2'!$D$84,'18 Concrete HVAG Dir-1'!$D$84*'16 Axle Loads Concrete Dir-1'!UU27*'16 Axle Loads Concrete Dir-1'!$UQ$44/100,'19 Concrete HVAG Dir-2'!$D$84*'17 Axle Loads Concrete Dir-2'!UU27*'17 Axle Loads Concrete Dir-2'!$UQ$44/100)","v":0},24590.653229013835,null,0,447286.53360987519,0,0.60834423857313813,null,null,294107.57726815686,0,688416.67242702853,0,0.52283501947564759]
[null,240,288,{"$f":"IF('18 Concrete HVAG Dir-1'!$D$84>'19 Concrete HVAG Dir-2'!$D$84,'18 Concrete HVAG Dir-1'!$D$84*'16 Axle Loads Concrete Dir-1'!UU28*'16 Axle Loads Concrete Dir-1'!$UQ$44/100,'19 Concrete HVAG Dir-2'!$D$84*'17 Axle Loads Concrete Dir-2'!UU28*'17 Axle Loads Concrete Dir-2'!$UQ$44/100)","v":0},12327.667408443229,null,0,351332.25783927605,0,0.63317506074165708,null,null,147067.35904160235,0,506706.20138660475,0,0.54417560687485445]
[null,250,300,{"$f":"IF('18 Concrete HVAG Dir-1'!$D$84>'19 Concrete HVAG Dir-2'!$D$84,'18 Concrete HVAG Dir-1'!$D$84*'16 Axle Loads Concrete Dir-1'!UU29*'16 Axle Loads Concrete Dir-1'!$UQ$44/100,'19 Concrete HVAG Dir-2'!$D$84*'17 Axle Loads Concrete Dir-2'!UU29*'17 Axle Loads Concrete Dir-2'!$UQ$44/100)","v":0},6190.7142995101995,null,0,278964.16588081548,0,0.65794386491853518,null,null,81032.773872607111,0,382282.72161866818,0,0.56546289356730439]
[null,260,312,{"$f":"IF('18 Concrete HVAG Dir-1'!$D$84>'19 Concrete HVAG Dir-2'!$D$84,'18 Concrete HVAG Dir-1'!$D$84*'16 Axle Loads Concrete Dir-1'!UU30*'16 Axle Loads Concrete Dir-1'!$UQ$44/100,'19 Concrete HVAG Dir-2'!$D$84*'17 Axle Loads Concrete Dir-2'!UU30*'17 Axle Loads Concrete Dir-2'!$UQ$44/100)","v":0},3113.9948297181372,null,0,223657.96176500348,0,0.68265327894337069,null,null,44893.588702137458,0,294305.67343750491,0,0.58669913802193729]
[null,270,324,{"$f":"IF('18 Concrete HVAG Dir-1'!$D$84>'19 Concrete HVAG Dir-2'!$D$84,'18 Concrete HVAG Dir-1'!$D$84*'16 Axle Loads Concrete Dir-1'!UU31*'16 Axle Loads Concrete Dir-1'!$UQ$44/100,'19 Concrete HVAG Dir-2'!$D$84*'17 Axle Loads Concrete Dir-2'!UU31*'17 Axle Loads Concrete Dir-2'!$UQ$44/100)","v":0},1568.8559213324079,null,0,180889.09913706602,0,0.70730572253149671,null,null,24905.730095832827,0,230441.83190235862,0,0.60788641983749536]
[null,280,336,{"$f":"IF('18 Concrete HVAG Dir-1'!$D$84>'19 Concrete HVAG Dir-2'!$D$84,'18 Concrete HVAG Dir-1'!$D$84*'16 Axle Loads Concrete Dir-1'!UU32*'16 Axle Loads Concrete Dir-1'!$UQ$44/100,'19 Concrete HVAG Dir-2'!$D$84*'17 Axle Loads Concrete Dir-2'!UU32*'17 Axle Loads Concrete Dir-2'!$UQ$44/100)","v":0},791.60638617258815,null,0,147462.51217776196,0,0.73190343085773291,null,null,13835.102053066286,0,183052.77147198725,0,0.6290266600113289]
[null,290,348,{"$f":"IF('18 Concrete HVAG Dir-1'!$D$84>'19 Concrete HVAG Dir-2'!$D$84,'18 Concrete HVAG Dir-1'!$D$84*'16 Axle Loads Concrete Dir-1'!UU33*'16 Axle Loads Concrete Dir-1'!$UQ$44/100,'19 Concrete HVAG Dir-2'!$D$84*'17 Axle Loads Concrete Dir-2'!UU33*'17 Axle Loads Concrete Dir-2'!$UQ$44/100)","v":0},400.01065652517008,null,0,121085.27240844342,0,0.75644847472029975,null,null,7695.0615545128394,0,147226.73469329884,0,0.650121638269059]
[null,300,360,{"$f":"IF('18 Concrete HVAG Dir-1'!$D$84>'19 Concrete HVAG Dir-2'!$D$84,'18 Concrete HVAG Dir-1'!$D$84*'16 Axle Loads Concrete Dir-1'!UU34*'16 Axle Loads Concrete Dir-1'!$UQ$44/100,'19 Concrete HVAG Dir-2'!$D$84*'17 Axle Loads Concrete Dir-2'!UU34*'17 Axle Loads Concrete Dir-2'!$UQ$44/100)","v":0},202.41684153251146,null,0,100087.87334011466,0,0.78094277788174804,null,null,4285.1744105146363,0,119704.11465437975,0,0.67117300796805646]
[null,"Totals",null,{"$f":"SUM(D87:D116)","v":2068300.4919736967},{"$f":"SUM(E87:E116)","v":21518481.35914832},{"$f":"SUM(F92:F109)","v":0},{"$f":"SUM(G87:G116)","v":6.8943349732456557E-4},{"$f":"SUM(H87:H116)","v":5.0129256534715704E+16},{"$f":"SUM(I87:I116)","v":2.1725345666332094E-3},null,null,null,{"$f":"SUM(M87:M116)","v":21028561.838602699},{"$f":"SUM(N87:N116)","v":6.8943349732456557E-4},{"$f":"SUM(O87:O116)","v":5332899678085601},{"$f":"SUM(P87:P116)","v":5.8175682748114852E-9}]
[]
[]
[null,"TADT"]
[null,"Axle Group Load, P (kN)","Design Load, P*LSF (kN)","Expected Load Repetitions","Fatigue Analysis",null,null,"Erosion Analysis",null,"Sr","F3","Se","Fatigue Analysis",null,"Erosion Analysis",null,"Sr","F3","Se"]
[null,null,null,null,"Allowable Repetitions",null,"Damage (%)","Allowable Repetitions","Damage (%)",null,null,null,"Allowable Repetitions","Damage (%)","Allowable Repetitions","Damage (%)"]
[null,10,{"$f":"$C$16*B123","v":12},{"$f":"IF('18 Concrete HVAG Dir-1'!$D$84>'19 Concrete HVAG Dir-2'!$D$84,'18 Concrete HVAG Dir-1'!$D$84*'16 Axle Loads Concrete Dir-1'!VA5*'16 Axle Loads Concrete Dir-1'!$UQ$46/100,'19 Concrete HVAG Dir-2'!$D$84*'17 Axle Loads Concrete Dir-2'!VA5*'17 Axle Loads Concrete Dir-2'!$UQ$46/100)","v":0},{"$f":"IF(J123>0.55,10^((0.9719-J123)/(0.0828)),IF((0.45<=J123)*(J123<=0.55),(4.258/(J123-0.4325))^3.268,\"3000000000\"))","v":"3000000000"},null,{"$f":"D123/E123","v":0},{"$f":"(10^(14.524-6.777*(MAX(0,(C123/(4.45*$L$131))^2*((10^$L$128)/(41.35))-9))^0.103))/$K$131","v":5569917333768566},{"$f":"D123/H123","v":0},{"$f":"($K$128/(0.944*$C$18))*((C123/(4.45*$K$134))^0.94)","v":1.6289473046289363E-2},null,null,{"$f":"IF(Q123>0.55,10^((0.9719-Q123)/(0.0828)),IF((0.45<=Q123)*(Q123<=0.55),(4.258/(Q123-0.4325))^3.268,\"3000000000\"))","v":"3000000000"},{"$f":"D123/M123","v":0},{"$f":"(10^(14.524-6.777*(MAX(0,(C123/(4.45*$S$131))^2*((10^$S$128)/(41.35))-9))^0.103))/$R$131","v":355526638325653.13},{"$f":"D123/O123","v":0},{"$f":"($R$128/(0.944*$C$18))*((C123/(4.45*$R$134))^0.94)","v":1.2114670129576814E-2}]
[null,20,24,{"$f":"IF('18 Concrete HVAG Dir-1'!$D$84>'19 Concrete HVAG Dir-2'!$D$84,'18 Concrete HVAG Dir-1'!$D$84*'16 Axle Loads Concrete Dir-1'!VA6*'16 Axle Loads Concrete Dir-1'!$UQ$46/100,'19 Concrete HVAG Dir-2'!$D$84*'17 Axle Loads Concrete Dir-2'!VA6*'17 Axle Loads Concrete Dir-2'!$UQ$46/100)","v":0},{"$f":"IF(J124>0.55,10^((0.9719-J124)/(0.0828)),IF((0.45<=J124)*(J124<=0.55),(4.258/(J124-0.4325))^3.268,\"3000000000\"))","v":"3000000000"},null,0,{"$f":"(10^(14.524-6.777*(MAX(0,(C124/(4.45*$L$131))^2*((10^$L$128)/(41.35))-9))^0.103))/$K$131","v":5569917333768566},{"$f":"D124/H124","v":0},3.1251814032042795E-2,null,null,{"$f":"IF(Q124>0.55,10^((0.9719-Q124)/(0.0828)),IF((0.45<=Q124)*(Q124<=0.55),(4.258/(Q124-0.4325))^3.268,\"3000000000\"))","v":"3000000000"},0,355526638325653.13,0,2.3242336745529175E-2]
[null,30,36,{"$f":"IF('18 Concrete HVAG Dir-1'!$D$84>'19 Concrete HVAG Dir-2'!$D$84,'18 Concrete HVAG Dir-1'!$D$84*'16 Axle Loads Concrete Dir-1'!VA7*'16 Axle Loads Concrete Dir-1'!$UQ$46/100,'19 Concrete HVAG Dir-2'!$D$84*'17 Axle Loads Concrete Dir-2'!VA7*'17 Axle Loads Concrete Dir-2'!$UQ$46/100)","v":0},"3000000000",null,0,5569917333768566,0,4.5751044641035181E-2,null,null,"3000000000",0,355526638325653.13,0,3.4025582800294503E-2]
[null,40,48,{"$f":"IF('18 Concrete HVAG Dir-1'!$D$84>'19 Concrete HVAG Dir-2'!$D$84,'18 Concrete HVAG Dir-1'!$D$84*'16 Axle Loads Concrete Dir-1'!VA8*'16 Axle Loads Concrete Dir-1'!$UQ$46/100,'19 Concrete HVAG Dir-2'!$D$84*'17 Axle Loads Concrete Dir-2'!VA8*'17 Axle Loads Concrete Dir-2'!$UQ$46/100)","v":0},"3000000000",null,0,5569917333768566,0,5.9957487729528934E-2,null,null,"3000000000",0,355526638325653.13,0,4.4591079378522552E-2]
[null,50,60,{"$f":"IF('18 Concrete HVAG Dir-1'!$D$84>'19 Concrete HVAG Dir-2'!$D$84,'18 Concrete HVAG Dir-1'!$D$84*'16 Axle Loads Concrete Dir-1'!VA9*'16 Axle Loads Concrete Dir-1'!$UQ$46/100,'19 Concrete HVAG Dir-2'!$D$84*'17 Axle Loads Concrete Dir-2'!VA9*'17 Axle Loads Concrete Dir-2'!$UQ$46/100)","v":0},"3000000000",null,0,5569917333768566,0,7.3950112576233698E-2,null,null,"3000000000",0,355526638325653.13,0,5.4997556849158913E-2]
[null,60,72,{"$f":"IF('18 Concrete HVAG Dir-1'!$D$84>'19 Concrete HVAG Dir-2'!$D$84,'18 Concrete HVAG Dir-1'!$D$84*'16 Axle Loads Concrete Dir-1'!VA10*'16 Axle Loads Concrete Dir-1'!$UQ$46/100,'19 Concrete HVAG Dir-2'!$D$84*'17 Axle Loads Concrete Dir-2'!VA10*'17 Axle Loads Concrete Dir-2'!$UQ$46/100)","v":0},"3000000000",null,{"$f":"D128/E128","v":0},5569917333768566,0,8.7774671091586945E-2,{"$f":"($AP$50)+($AP$51/$C$21)+($AP$52*LN($C$20))+($AP$53/($C$21^2))+($AP$54*((LN($C$20))^2))+($AP$55*((LN($C$20))/$C$21))+($AP$56/($C$21^3))+($AP$57*((LN($C$20))^3))+($AP$58*((LN($C$20))^2)/($C$21))+($AP$59*(LN($C$20))/($C$21^2))","v":0.79075861709168216},{"$f":"($AP$82)+($AP$83/$C$21)+($AP$84*LN($C$20))+($AP$85/($C$21^2))+($AP$86*((LN($C$20))^2))+($AP$87*((LN($C$20))/$C$21))+($AP$88/($C$21^3))+($AP$89*((LN($C$20))^3))+($AP$90*((LN($C$20))^2)/($C$21))+($AP$91*(LN($C$20))/($C$21^2))","v":2.4123991772431634},"3000000000",{"$f":"D128/M128","v":0},355526638325653.13,{"$f":"D128/O128","v":0},6.5279041438906754E-2,{"$f":"($AT$50)+($AT$51/$C$21)+($AT$52*LN($C$20))+($AT$53/($C$21^2))+($AT$54*((LN($C$20))^2))+($AT$55*((LN($C$20))/$C$21))+($AT$56/($C$21^3))+($AT$57*((LN($C$20))^3))+($AT$58*((LN($C$20))^2)/($C$21))+($AT$59*(LN($C$20))/($C$21^2))","v":0.58809635959146533},{"$f":"($AT$82)+($AT$83/$C$21)+($AT$84*LN($C$20))+($AT$85/($C$21^2))+($AT$86*((LN($C$20))^2))+($AT$87*((LN($C$20))/$C$21))+($AT$88/($C$21^3))+($AT$89*((LN($C$20))^3))+($AT$90*((LN($C$20))^2)/($C$21))+($AT$91*(LN($C$20))/($C$21^2))","v":1.9255296030546178}]
[null,70,84,{"$f":"IF('18 Concrete HVAG Dir-1'!$D$84>'19 Concrete HVAG Dir-2'!$D$84,'18 Concrete HVAG Dir-1'!$D$84*'16 Axle Loads Concrete Dir-1'!VA11*'16 Axle Loads Concrete Dir-1'!$UQ$46/100,'19 Concrete HVAG Dir-2'!$D$84*'17 Axle Loads Concrete Dir-2'!VA11*'17 Axle Loads Concrete Dir-2'!$UQ$46/100)","v":0},"3000000000",null,{"$f":"D129/E129","v":0},5569917333768566,0,0.10146101275544914,null,null,"3000000000",{"$f":"D129/M129","v":0},355526638325653.13,{"$f":"D129/O129","v":0},7.5457732552315318E-2]
[null,80,96,{"$f":"IF('18 Concrete HVAG Dir-1'!$D$84>'19 Concrete HVAG Dir-2'!$D$84,'18 Concrete HVAG Dir-1'!$D$84*'16 Axle Loads Concrete Dir-1'!VA12*'16 Axle Loads Concrete Dir-1'!$UQ$46/100,'19 Concrete HVAG Dir-2'!$D$84*'17 Axle Loads Concrete Dir-2'!VA12*'17 Axle Loads Concrete Dir-2'!$UQ$46/100)","v":0},"3000000000",null,0,5569917333768566,0,0.11503013332764384,"F2","F4","3000000000",0,355526638325653.13,0,8.5549244979602784E-2,"F2","F4"]
[null,90,108,{"$f":"IF('18 Concrete HVAG Dir-1'!$D$84>'19 Concrete HVAG Dir-2'!$D$84,'18 Concrete HVAG Dir-1'!$D$84*'16 Axle Loads Concrete Dir-1'!VA13*'16 Axle Loads Concrete Dir-1'!$UQ$46/100,'19 Concrete HVAG Dir-2'!$D$84*'17 Axle Loads Concrete Dir-2'!VA13*'17 Axle Loads Concrete Dir-2'!$UQ$46/100)","v":0},"3000000000",null,0,5569917333768566,0,0.12849759349476333,0.06,36,"3000000000",0,355526638325653.13,0,9.5565151383955965E-2,0.94,36]
[null,100,120,{"$f":"IF('18 Concrete HVAG Dir-1'!$D$84>'19 Concrete HVAG Dir-2'!$D$84,'18 Concrete HVAG Dir-1'!$D$84*'16 Axle Loads Concrete Dir-1'!VA14*'16 Axle Loads Concrete Dir-1'!$UQ$46/100,'19 Concrete HVAG Dir-2'!$D$84*'17 Axle Loads Concrete Dir-2'!VA14*'17 Axle Loads Concrete Dir-2'!$UQ$46/100)","v":1280749.8915011615},"3000000000",null,4.2691663050038715E-4,5569917333768566,2.2994055652072224E-10,0.14187537922888996,null,null,"3000000000",4.2691663050038715E-4,355526638325653.13,3.602402052157982E-9,0.10551436587189918]
[null,110,132,{"$f":"IF('18 Concrete HVAG Dir-1'!$D$84>'19 Concrete HVAG Dir-2'!$D$84,'18 Concrete HVAG Dir-1'!$D$84*'16 Axle Loads Concrete Dir-1'!VA15*'16 Axle Loads Concrete Dir-1'!$UQ$46/100,'19 Concrete HVAG Dir-2'!$D$84*'17 Axle Loads Concrete Dir-2'!VA15*'17 Axle Loads Concrete Dir-2'!$UQ$46/100)","v":0},"3000000000",null,0,5569917333768566,0,0.15517300103726028,"F1",null,"3000000000",0,355526638325653.13,0,0.11540396151802537,"F1"]
[null,120,144,{"$f":"IF('18 Concrete HVAG Dir-1'!$D$84>'19 Concrete HVAG Dir-2'!$D$84,'18 Concrete HVAG Dir-1'!$D$84*'16 Axle Loads Concrete Dir-1'!VA16*'16 Axle Loads Concrete Dir-1'!$UQ$46/100,'19 Concrete HVAG Dir-2'!$D$84*'17 Axle Loads Concrete Dir-2'!VA16*'17 Axle Loads Concrete Dir-2'!$UQ$46/100)","v":3183578.3017314579},"3000000000",null,1.0611927672438193E-3,5569917333768566,5.7156652620865227E-10,0.16839818512747176,36,null,"3000000000",1.0611927672438193E-3,355526638325653.13,8.9545422439355537E-9,0.12523968439258062,36]
[null,130,156,{"$f":"IF('18 Concrete HVAG Dir-1'!$D$84>'19 Concrete HVAG Dir-2'!$D$84,'18 Concrete HVAG Dir-1'!$D$84*'16 Axle Loads Concrete Dir-1'!VA17*'16 Axle Loads Concrete Dir-1'!$UQ$46/100,'19 Concrete HVAG Dir-2'!$D$84*'17 Axle Loads Concrete Dir-2'!VA17*'17 Axle Loads Concrete Dir-2'!$UQ$46/100)","v":832487.42947575497},"3000000000",null,2.7749580982525167E-4,5569917333768566,1.4946136173846947E-10,0.18155732967550567,null,null,"3000000000",2.7749580982525167E-4,355526638325653.13,2.3415613339026884E-9,0.13502629289328744]
[null,140,168,{"$f":"IF('18 Concrete HVAG Dir-1'!$D$84>'19 Concrete HVAG Dir-2'!$D$84,'18 Concrete HVAG Dir-1'!$D$84*'16 Axle Loads Concrete Dir-1'!VA18*'16 Axle Loads Concrete Dir-1'!$UQ$46/100,'19 Concrete HVAG Dir-2'!$D$84*'17 Axle Loads Concrete Dir-2'!VA18*'17 Axle Loads Concrete Dir-2'!$UQ$46/100)","v":1793049.8481016264},"3000000000",null,5.9768328270054212E-4,5569917333768566,3.2191677912901122E-10,0.19465581809341062,null,null,"3000000000",5.9768328270054212E-4,355526638325653.13,5.0433628730211759E-9,0.14476779072615614]
[null,150,180,{"$f":"IF('18 Concrete HVAG Dir-1'!$D$84>'19 Concrete HVAG Dir-2'!$D$84,'18 Concrete HVAG Dir-1'!$D$84*'16 Axle Loads Concrete Dir-1'!VA19*'16 Axle Loads Concrete Dir-1'!$UQ$46/100,'19 Concrete HVAG Dir-2'!$D$84*'17 Axle Loads Concrete Dir-2'!VA19*'17 Axle Loads Concrete Dir-2'!$UQ$46/100)","v":0},"3000000000",null,0,5569917333768566,0,0.20769824119359945,null,null,"3000000000",0,355526638325653.13,0,0.15446759213165051]
[null,160,192,{"$f":"IF('18 Concrete HVAG Dir-1'!$D$84>'19 Concrete HVAG Dir-2'!$D$84,'18 Concrete HVAG Dir-1'!$D$84*'16 Axle Loads Concrete Dir-1'!VA20*'16 Axle Loads Concrete Dir-1'!$UQ$46/100,'19 Concrete HVAG Dir-2'!$D$84*'17 Axle Loads Concrete Dir-2'!VA20*'17 Axle Loads Concrete Dir-2'!$UQ$46/100)","v":0},"3000000000",null,0,5569917333768566,0,0.22068855908482002,null,null,"3000000000",0,355526638325653.13,0,0.16412864228859991]
[null,170,204,{"$f":"IF('18 Concrete HVAG Dir-1'!$D$84>'19 Concrete HVAG Dir-2'!$D$84,'18 Concrete HVAG Dir-1'!$D$84*'16 Axle Loads Concrete Dir-1'!VA21*'16 Axle Loads Concrete Dir-1'!$UQ$46/100,'19 Concrete HVAG Dir-2'!$D$84*'17 Axle Loads Concrete Dir-2'!VA21*'17 Axle Loads Concrete Dir-2'!$UQ$46/100)","v":933117.77809370344},"3000000000",null,3.1103925936456779E-4,757467936.82896817,1.2318907939523728E-3,0.23363022191207244,null,null,"3000000000",3.1103925936456779E-4,355526638325653.13,2.6246072094293871E-9,0.17375350710987686]
[null,180,216,{"$f":"IF('18 Concrete HVAG Dir-1'!$D$84>'19 Concrete HVAG Dir-2'!$D$84,'18 Concrete HVAG Dir-1'!$D$84*'16 Axle Loads Concrete Dir-1'!VA22*'16 Axle Loads Concrete Dir-1'!$UQ$46/100,'19 Concrete HVAG Dir-2'!$D$84*'17 Axle Loads Concrete Dir-2'!VA22*'17 Axle Loads Concrete Dir-2'!$UQ$46/100)","v":1152674.902351045},"3000000000",null,3.8422496745034836E-4,219327309.46842128,5.2555010369878591E-3,0.24652626171833994,null,null,"3000000000",3.8422496745034836E-4,355526638325653.13,3.242161846942183E-9,0.18334444156103216]
[null,190,228,{"$f":"IF('18 Concrete HVAG Dir-1'!$D$84>'19 Concrete HVAG Dir-2'!$D$84,'18 Concrete HVAG Dir-1'!$D$84*'16 Axle Loads Concrete Dir-1'!VA23*'16 Axle Loads Concrete Dir-1'!$UQ$46/100,'19 Concrete HVAG Dir-2'!$D$84*'17 Axle Loads Concrete Dir-2'!VA23*'17 Axle Loads Concrete Dir-2'!$UQ$46/100)","v":0},"3000000000",null,0,99920518.300897136,0,0.25937936356150409,null,null,"3000000000",0,355526638325653.13,0,0.19290344255077013]
[null,200,240,{"$f":"IF('18 Concrete HVAG Dir-1'!$D$84>'19 Concrete HVAG Dir-2'!$D$84,'18 Concrete HVAG Dir-1'!$D$84*'16 Axle Loads Concrete Dir-1'!VA24*'16 Axle Loads Concrete Dir-1'!$UQ$46/100,'19 Concrete HVAG Dir-2'!$D$84*'17 Axle Loads Concrete Dir-2'!VA24*'17 Axle Loads Concrete Dir-2'!$UQ$46/100)","v":1280749.8915011615},"3000000000",null,4.2691663050038715E-4,55232080.423630349,2.318851438652687E-2,0.27219192141987802,null,null,"3000000000",4.2691663050038715E-4,355526638325653.13,3.602402052157982E-9,0.2024322905085422]
[null,210,252,{"$f":"IF('18 Concrete HVAG Dir-1'!$D$84>'19 Concrete HVAG Dir-2'!$D$84,'18 Concrete HVAG Dir-1'!$D$84*'16 Axle Loads Concrete Dir-1'!VA25*'16 Axle Loads Concrete Dir-1'!$UQ$46/100,'19 Concrete HVAG Dir-2'!$D$84*'17 Axle Loads Concrete Dir-2'!VA25*'17 Axle Loads Concrete Dir-2'!$UQ$46/100)","v":0},"3000000000",null,0,34053257.21240744,0,0.28496608273995694,null,null,"3000000000",0,355526638325653.13,0,0.21193258251522609]
[null,220,264,{"$f":"IF('18 Concrete HVAG Dir-1'!$D$84>'19 Concrete HVAG Dir-2'!$D$84,'18 Concrete HVAG Dir-1'!$D$84*'16 Axle Loads Concrete Dir-1'!VA26*'16 Axle Loads Concrete Dir-1'!$UQ$46/100,'19 Concrete HVAG Dir-2'!$D$84*'17 Axle Loads Concrete Dir-2'!VA26*'17 Axle Loads Concrete Dir-2'!$UQ$46/100)","v":0},"3000000000",null,0,22536746.269004844,0,0.29770378436613165,null,null,"3000000000",0,355526638325653.13,0,0.22140575902447063]
[null,230,276,{"$f":"IF('18 Concrete HVAG Dir-1'!$D$84>'19 Concrete HVAG Dir-2'!$D$84,'18 Concrete HVAG Dir-1'!$D$84*'16 Axle Loads Concrete Dir-1'!VA27*'16 Axle Loads Concrete Dir-1'!$UQ$46/100,'19 Concrete HVAG Dir-2'!$D$84*'17 Axle Loads Concrete Dir-2'!VA27*'17 Axle Loads Concrete Dir-2'!$UQ$46/100)","v":0},"3000000000",null,0,15679455.003714481,0,0.31040678183637699,null,null,"3000000000",0,355526638325653.13,0,0.23085312565023922]
[null,240,288,{"$f":"IF('18 Concrete HVAG Dir-1'!$D$84>'19 Concrete HVAG Dir-2'!$D$84,'18 Concrete HVAG Dir-1'!$D$84*'16 Axle Loads Concrete Dir-1'!VA28*'16 Axle Loads Concrete Dir-1'!$UQ$46/100,'19 Concrete HVAG Dir-2'!$D$84*'17 Axle Loads Concrete Dir-2'!VA28*'17 Axle Loads Concrete Dir-2'!$UQ$46/100)","v":0},"3000000000",null,0,11323600.943191178,0,0.3230766735045541,null,null,"3000000000",0,355526638325653.13,0,0.24027587110684587]
[null,250,300,{"$f":"IF('18 Concrete HVAG Dir-1'!$D$84>'19 Concrete HVAG Dir-2'!$D$84,'18 Concrete HVAG Dir-1'!$D$84*'16 Axle Loads Concrete Dir-1'!VA29*'16 Axle Loads Concrete Dir-1'!$UQ$46/100,'19 Concrete HVAG Dir-2'!$D$84*'17 Axle Loads Concrete Dir-2'!VA29*'17 Axle Loads Concrete Dir-2'!$UQ$46/100)","v":0},"3000000000",null,0,8418968.3634564281,0,0.33571492058077068,null,null,"3000000000",0,355526638325653.13,0,0.24967508211320369]
[null,260,312,{"$f":"IF('18 Concrete HVAG Dir-1'!$D$84>'19 Concrete HVAG Dir-2'!$D$84,'18 Concrete HVAG Dir-1'!$D$84*'16 Axle Loads Concrete Dir-1'!VA30*'16 Axle Loads Concrete Dir-1'!$UQ$46/100,'19 Concrete HVAG Dir-2'!$D$84*'17 Axle Loads Concrete Dir-2'!VA30*'17 Axle Loads Concrete Dir-2'!$UQ$46/100)","v":0},"3000000000",null,0,6407216.1659852145,0,0.34832286391644124,null,null,"3000000000",0,355526638325653.13,0,0.25905175587606916]
[null,270,324,{"$f":"IF('18 Concrete HVAG Dir-1'!$D$84>'19 Concrete HVAG Dir-2'!$D$84,'18 Concrete HVAG Dir-1'!$D$84*'16 Axle Loads Concrete Dir-1'!VA31*'16 Axle Loads Concrete Dir-1'!$UQ$46/100,'19 Concrete HVAG Dir-2'!$D$84*'17 Axle Loads Concrete Dir-2'!VA31*'17 Axle Loads Concrete Dir-2'!$UQ$46/100)","v":0},"3000000000",null,0,4970763.209566093,0,0.36090173816787052,null,null,"3000000000",0,355526638325653.13,0,0.26840681062366312]
[null,280,336,{"$f":"IF('18 Concrete HVAG Dir-1'!$D$84>'19 Concrete HVAG Dir-2'!$D$84,'18 Concrete HVAG Dir-1'!$D$84*'16 Axle Loads Concrete Dir-1'!VA32*'16 Axle Loads Concrete Dir-1'!$UQ$46/100,'19 Concrete HVAG Dir-2'!$D$84*'17 Axle Loads Concrete Dir-2'!VA32*'17 Axle Loads Concrete Dir-2'!$UQ$46/100)","v":0},"3000000000",null,0,3919055.8218742986,0,0.37345268382982882,null,null,"3000000000",0,355526638325653.13,0,0.2777410945551807]
[null,290,348,{"$f":"IF('18 Concrete HVAG Dir-1'!$D$84>'19 Concrete HVAG Dir-2'!$D$84,'18 Concrete HVAG Dir-1'!$D$84*'16 Axle Loads Concrete Dir-1'!VA33*'16 Axle Loads Concrete Dir-1'!$UQ$46/100,'19 Concrete HVAG Dir-2'!$D$84*'17 Axle Loads Concrete Dir-2'!VA33*'17 Axle Loads Concrete Dir-2'!$UQ$46/100)","v":0},"3000000000",null,0,3132688.9635041701,0,0.38597675752416061,null,null,"3000000000",0,127740743.2996936,0,0.28705539349254883]
[null,300,360,{"$f":"IF('18 Concrete HVAG Dir-1'!$D$84>'19 Concrete HVAG Dir-2'!$D$84,'18 Concrete HVAG Dir-1'!$D$84*'16 Axle Loads Concrete Dir-1'!VA34*'16 Axle Loads Concrete Dir-1'!$UQ$46/100,'19 Concrete HVAG Dir-2'!$D$84*'17 Axle Loads Concrete Dir-2'!VA34*'17 Axle Loads Concrete Dir-2'!$UQ$46/100)","v":0},"3000000000",null,0,2534101.237089132,0,0.39847494084796897,null,null,"3000000000",0,39340802.788897254,0,0.29635043746092371]
[null,"Totals",null,{"$f":"SUM(D123:D152)","v":10456408.042755911},{"$f":"SUM(E123:E152)","v":0},{"$f":"SUM(F128:F145)","v":0},{"$f":"SUM(G123:G152)","v":3.4854693475853036E-3},{"$f":"SUM(H123:H152)","v":8.9118678585220768E+16},{"$f":"SUM(I123:I152)","v":2.9675907490352326E-2},null,null,null,{"$f":"SUM(M123:M152)","v":0},{"$f":"SUM(N123:N152)","v":3.4854693475853036E-3},{"$f":"SUM(O123:O152)","v":9954746040199834},{"$f":"SUM(P123:P152)","v":2.9411039611546955E-8}]
[]
[]
[null,"TRDT"]
[null,"Axle Group Load, P (kN)","Design Load, P*LSF (kN)","Expected Load Repetitions","Fatigue Analysis",null,null,"Erosion Analysis",null,"Sr","F3","Se","Fatigue Analysis",null,"Erosion Analysis",null,"Sr","F3","Se"]
[null,null,null,null,"Allowable Repetitions",null,"Damage (%)","Allowable Repetitions","Damage (%)",null,null,null,"Allowable Repetitions","Damage (%)","Allowable Repetitions","Damage (%)"]
[null,10,{"$f":"$C$16*B159","v":12},{"$f":"IF('18 Concrete HVAG Dir-1'!$D$84>'19 Concrete HVAG Dir-2'!$D$84,'18 Concrete HVAG Dir-1'!$D$84*'16 Axle Loads Concrete Dir-1'!VD5*'16 Axle Loads Concrete Dir-1'!$UQ$47/100,'19 Concrete HVAG Dir-2'!$D$84*'17 Axle Loads Concrete Dir-2'!VD5*'17 Axle Loads Concrete Dir-2'!$UQ$47/100)","v":0},{"$f":"IF(J159>0.55,10^((0.9719-J159)/(0.0828)),IF((0.45<=J159)*(J159<=0.55),(4.258/(J159-0.4325))^3.268,\"3000000000\"))","v":"3000000000"},null,{"$f":"D159/E159","v":0},{"$f":"(10^(14.524-6.777*(MAX(0,(C159/(4.45*$L$181))^2*((10^$L$178)/(41.35))-9))^0.103))/$K$181","v":5569917333768566},{"$f":"D159/H159","v":0},{"$f":"($K$178/(0.944*$C$18))*((C159/(4.45*$K$184))^0.94)","v":7.266542626246624E-3},null,null,{"$f":"IF(Q159>0.55,10^((0.9719-Q159)/(0.0828)),IF((0.45<=Q159)*(Q159<=0.55),(4.258/(Q159-0.4325))^3.268,\"3000000000\"))","v":"3000000000"},{"$f":"D159/M159","v":0},{"$f":"(10^(14.524-6.777*(MAX(0,(C159/(4.45*$S$181))^2*((10^$S$178)/(41.35))-9))^0.103))/$R$181","v":355526638325653.13},{"$f":"D159/O159","v":0},{"$f":"($R$178/(0.944*$C$18))*((C159/(4.45*$R$184))^0.94)","v":6.485600590232796E-3}]
[null,20,24,{"$f":"IF('18 Concrete HVAG Dir-1'!$D$84>'19 Concrete HVAG Dir-2'!$D$84,'18 Concrete HVAG Dir-1'!$D$84*'16 Axle Loads Concrete Dir-1'!VD6*'16 Axle Loads Concrete Dir-1'!$UQ$47/100,'19 Concrete HVAG Dir-2'!$D$84*'17 Axle Loads Concrete Dir-2'!VD6*'17 Axle Loads Concrete Dir-2'!$UQ$47/100)","v":0},{"$f":"IF(J160>0.55,10^((0.9719-J160)/(0.0828)),IF((0.45<=J160)*(J160<=0.55),(4.258/(J160-0.4325))^3.268,\"3000000000\"))","v":"3000000000"},null,0,{"$f":"(10^(14.524-6.777*(MAX(0,(C160/(4.45*$L$181))^2*((10^$L$178)/(41.35))-9))^0.103))/$K$181","v":5569917333768566},0,1.3941067225811923E-2,null,null,{"$f":"IF(Q160>0.55,10^((0.9719-Q160)/(0.0828)),IF((0.45<=Q160)*(Q160<=0.55),(4.258/(Q160-0.4325))^3.268,\"3000000000\"))","v":"3000000000"},0,355526638325653.13,0,1.2442807876970155E-2]
[null,30,36,{"$f":"IF('18 Concrete HVAG Dir-1'!$D$84>'19 Concrete HVAG Dir-2'!$D$84,'18 Concrete HVAG Dir-1'!$D$84*'16 Axle Loads Concrete Dir-1'!VD7*'16 Axle Loads Concrete Dir-1'!$UQ$47/100,'19 Concrete HVAG Dir-2'!$D$84*'17 Axle Loads Concrete Dir-2'!VD7*'17 Axle Loads Concrete Dir-2'!$UQ$47/100)","v":0},"3000000000",null,0,5569917333768566,0,2.0409003724962408E-2,null,null,"3000000000",0,355526638325653.13,0,1.821562927692473E-2]
[null,40,48,{"$f":"IF('18 Concrete HVAG Dir-1'!$D$84>'19 Concrete HVAG Dir-2'!$D$84,'18 Concrete HVAG Dir-1'!$D$84*'16 Axle Loads Concrete Dir-1'!VD8*'16 Axle Loads Concrete Dir-1'!$UQ$47/100,'19 Concrete HVAG Dir-2'!$D$84*'17 Axle Loads Concrete Dir-2'!VD8*'17 Axle Loads Concrete Dir-2'!$UQ$47/100)","v":0},"3000000000",null,0,5569917333768566,0,2.6746331149645561E-2,null,null,"3000000000",0,355526638325653.13,0,2.3871878280070476E-2]
[null,50,60,{"$f":"IF('18 Concrete HVAG Dir-1'!$D$84>'19 Concrete HVAG Dir-2'!$D$84,'18 Concrete HVAG Dir-1'!$D$84*'16 Axle Loads Concrete Dir-1'!VD9*'16 Axle Loads Concrete Dir-1'!$UQ$47/100,'19 Concrete HVAG Dir-2'!$D$84*'17 Axle Loads Concrete Dir-2'!VD9*'17 Axle Loads Concrete Dir-2'!$UQ$47/100)","v":0},"3000000000",null,0,5569917333768566,0,3.2988276767697298E-2,null,null,"3000000000",0,355526638325653.13,0,2.9442996247288383E-2]
[null,60,72,{"$f":"IF('18 Concrete HVAG Dir-1'!$D$84>'19 Concrete HVAG Dir-2'!$D$84,'18 Concrete HVAG Dir-1'!$D$84*'16 Axle Loads Concrete Dir-1'!VD10*'16 Axle Loads Concrete Dir-1'!$UQ$47/100,'19 Concrete HVAG Dir-2'!$D$84*'17 Axle Loads Concrete Dir-2'!VD10*'17 Axle Loads Concrete Dir-2'!$UQ$47/100)","v":0},"3000000000",null,0,5569917333768566,0,3.9155249969064207E-2,null,null,"3000000000",0,355526638325653.13,0,3.4947199152569407E-2]
[null,70,84,{"$f":"IF('18 Concrete HVAG Dir-1'!$D$84>'19 Concrete HVAG Dir-2'!$D$84,'18 Concrete HVAG Dir-1'!$D$84*'16 Axle Loads Concrete Dir-1'!VD11*'16 Axle Loads Concrete Dir-1'!$UQ$47/100,'19 Concrete HVAG Dir-2'!$D$84*'17 Axle Loads Concrete Dir-2'!VD11*'17 Axle Loads Concrete Dir-2'!$UQ$47/100)","v":0},"3000000000",null,0,5569917333768566,0,4.5260566256166826E-2,null,null,"3000000000",0,355526638325653.13,0,4.0396371469011649E-2]
[null,80,96,{"$f":"IF('18 Concrete HVAG Dir-1'!$D$84>'19 Concrete HVAG Dir-2'!$D$84,'18 Concrete HVAG Dir-1'!$D$84*'16 Axle Loads Concrete Dir-1'!VD12*'16 Axle Loads Concrete Dir-1'!$UQ$47/100,'19 Concrete HVAG Dir-2'!$D$84*'17 Axle Loads Concrete Dir-2'!VD12*'17 Axle Loads Concrete Dir-2'!$UQ$47/100)","v":0},"3000000000",null,0,5569917333768566,0,5.1313591590893264E-2,null,null,"3000000000",0,355526638325653.13,0,4.5798872589943418E-2]
[null,90,108,{"$f":"IF('18 Concrete HVAG Dir-1'!$D$84>'19 Concrete HVAG Dir-2'!$D$84,'18 Concrete HVAG Dir-1'!$D$84*'16 Axle Loads Concrete Dir-1'!VD13*'16 Axle Loads Concrete Dir-1'!$UQ$47/100,'19 Concrete HVAG Dir-2'!$D$84*'17 Axle Loads Concrete Dir-2'!VD13*'17 Axle Loads Concrete Dir-2'!$UQ$47/100)","v":0},"3000000000",null,0,5569917333768566,0,5.7321267412791289E-2,null,null,"3000000000",0,355526638325653.13,0,5.1160897952004063E-2]
[null,100,120,{"$f":"IF('18 Concrete HVAG Dir-1'!$D$84>'19 Concrete HVAG Dir-2'!$D$84,'18 Concrete HVAG Dir-1'!$D$84*'16 Axle Loads Concrete Dir-1'!VD14*'16 Axle Loads Concrete Dir-1'!$UQ$47/100,'19 Concrete HVAG Dir-2'!$D$84*'17 Axle Loads Concrete Dir-2'!VD14*'17 Axle Loads Concrete Dir-2'!$UQ$47/100)","v":0},"3000000000",null,0,5569917333768566,0,6.3288940523246448E-2,null,null,"3000000000",0,355526638325653.13,0,5.6487219730904308E-2]
[null,110,132,{"$f":"IF('18 Concrete HVAG Dir-1'!$D$84>'19 Concrete HVAG Dir-2'!$D$84,'18 Concrete HVAG Dir-1'!$D$84*'16 Axle Loads Concrete Dir-1'!VD15*'16 Axle Loads Concrete Dir-1'!$UQ$47/100,'19 Concrete HVAG Dir-2'!$D$84*'17 Axle Loads Concrete Dir-2'!VD15*'17 Axle Loads Concrete Dir-2'!$UQ$47/100)","v":0},"3000000000",null,0,5569917333768566,0,6.9220853447847827E-2,null,null,"3000000000",0,355526638325653.13,0,6.1781624504096445E-2]
[null,120,144,{"$f":"IF('18 Concrete HVAG Dir-1'!$D$84>'19 Concrete HVAG Dir-2'!$D$84,'18 Concrete HVAG Dir-1'!$D$84*'16 Axle Loads Concrete Dir-1'!VD16*'16 Axle Loads Concrete Dir-1'!$UQ$47/100,'19 Concrete HVAG Dir-2'!$D$84*'17 Axle Loads Concrete Dir-2'!VD16*'17 Axle Loads Concrete Dir-2'!$UQ$47/100)","v":0},"3000000000",null,0,5569917333768566,0,7.5120452757069925E-2,null,null,"3000000000",0,355526638325653.13,0,6.704718843594823E-2]
[null,130,156,{"$f":"IF('18 Concrete HVAG Dir-1'!$D$84>'19 Concrete HVAG Dir-2'!$D$84,'18 Concrete HVAG Dir-1'!$D$84*'16 Axle Loads Concrete Dir-1'!VD17*'16 Axle Loads Concrete Dir-1'!$UQ$47/100,'19 Concrete HVAG Dir-2'!$D$84*'17 Axle Loads Concrete Dir-2'!VD17*'17 Axle Loads Concrete Dir-2'!$UQ$47/100)","v":0},"3000000000",null,0,5569917333768566,0,8.0990592602079248E-2,null,null,"3000000000",0,355526638325653.13,0,7.228645893936872E-2]
[null,140,168,{"$f":"IF('18 Concrete HVAG Dir-1'!$D$84>'19 Concrete HVAG Dir-2'!$D$84,'18 Concrete HVAG Dir-1'!$D$84*'16 Axle Loads Concrete Dir-1'!VD18*'16 Axle Loads Concrete Dir-1'!$UQ$47/100,'19 Concrete HVAG Dir-2'!$D$84*'17 Axle Loads Concrete Dir-2'!VD18*'17 Axle Loads Concrete Dir-2'!$UQ$47/100)","v":0},"3000000000",null,0,5569917333768566,0,8.6833674459769292E-2,null,null,"3000000000",0,355526638325653.13,0,7.750157940231539E-2]
[null,150,180,{"$f":"IF('18 Concrete HVAG Dir-1'!$D$84>'19 Concrete HVAG Dir-2'!$D$84,'18 Concrete HVAG Dir-1'!$D$84*'16 Axle Loads Concrete Dir-1'!VD19*'16 Axle Loads Concrete Dir-1'!$UQ$47/100,'19 Concrete HVAG Dir-2'!$D$84*'17 Axle Loads Concrete Dir-2'!VD19*'17 Axle Loads Concrete Dir-2'!$UQ$47/100)","v":0},"3000000000",null,0,5569917333768566,0,9.2651746237643925E-2,null,null,"3000000000",0,355526638325653.13,0,8.2694377641784486E-2]
[null,160,192,{"$f":"IF('18 Concrete HVAG Dir-1'!$D$84>'19 Concrete HVAG Dir-2'!$D$84,'18 Concrete HVAG Dir-1'!$D$84*'16 Axle Loads Concrete Dir-1'!VD20*'16 Axle Loads Concrete Dir-1'!$UQ$47/100,'19 Concrete HVAG Dir-2'!$D$84*'17 Axle Loads Concrete Dir-2'!VD20*'17 Axle Loads Concrete Dir-2'!$UQ$47/100)","v":0},"3000000000",null,0,5569917333768566,0,9.8446574493709027E-2,null,null,"3000000000",0,355526638325653.13,0,8.7866430362164127E-2]
[null,170,204,{"$f":"IF('18 Concrete HVAG Dir-1'!$D$84>'19 Concrete HVAG Dir-2'!$D$84,'18 Concrete HVAG Dir-1'!$D$84*'16 Axle Loads Concrete Dir-1'!VD21*'16 Axle Loads Concrete Dir-1'!$UQ$47/100,'19 Concrete HVAG Dir-2'!$D$84*'17 Axle Loads Concrete Dir-2'!VD21*'17 Axle Loads Concrete Dir-2'!$UQ$47/100)","v":0},"3000000000",null,0,5569917333768566,0,0.10421969829713146,null,null,"3000000000",0,355526638325653.13,0,9.3019111227438764E-2]
[null,180,216,{"$f":"IF('18 Concrete HVAG Dir-1'!$D$84>'19 Concrete HVAG Dir-2'!$D$84,'18 Concrete HVAG Dir-1'!$D$84*'16 Axle Loads Concrete Dir-1'!VD22*'16 Axle Loads Concrete Dir-1'!$UQ$47/100,'19 Concrete HVAG Dir-2'!$D$84*'17 Axle Loads Concrete Dir-2'!VD22*'17 Axle Loads Concrete Dir-2'!$UQ$47/100)","v":0},"3000000000",null,0,5569917333768566,0,0.10997247020667841,null,null,"3000000000",0,355526638325653.13,0,9.8153627435637783E-2]
[null,190,228,{"$f":"IF('18 Concrete HVAG Dir-1'!$D$84>'19 Concrete HVAG Dir-2'!$D$84,'18 Concrete HVAG Dir-1'!$D$84*'16 Axle Loads Concrete Dir-1'!VD23*'16 Axle Loads Concrete Dir-1'!$UQ$47/100,'19 Concrete HVAG Dir-2'!$D$84*'17 Axle Loads Concrete Dir-2'!VD23*'17 Axle Loads Concrete Dir-2'!$UQ$47/100)","v":0},"3000000000",null,0,5569917333768566,0,0.11570608799513825,null,null,"3000000000",0,355526638325653.13,0,0.10327104803380359]
[null,200,240,{"$f":"IF('18 Concrete HVAG Dir-1'!$D$84>'19 Concrete HVAG Dir-2'!$D$84,'18 Concrete HVAG Dir-1'!$D$84*'16 Axle Loads Concrete Dir-1'!VD24*'16 Axle Loads Concrete Dir-1'!$UQ$47/100,'19 Concrete HVAG Dir-2'!$D$84*'17 Axle Loads Concrete Dir-2'!VD24*'17 Axle Loads Concrete Dir-2'!$UQ$47/100)","v":0},"3000000000",null,{"$f":"D178/E178","v":0},5569917333768566,0,0.12142161958812207,{"$f":"($AQ$50)+($AQ$51/$C$21)+($AQ$52*LN($C$20))+($AQ$53/($C$21^2))+($AQ$54*((LN($C$20))^2))+($AQ$55*((LN($C$20))/$C$21))+($AQ$56/($C$21^3))+($AQ$57*((LN($C$20))^3))+($AQ$58*((LN($C$20))^2)/($C$21))+($AQ$59*(LN($C$20))/($C$21^2))","v":0.51640508116499095},{"$f":"($AQ$82)+($AQ$83/$C$21)+($AQ$84*LN($C$20))+($AQ$85/($C$21^2))+($AQ$86*((LN($C$20))^2))+($AQ$87*((LN($C$20))/$C$21))+($AQ$88/($C$21^3))+($AQ$89*((LN($C$20))^3))+($AQ$90*((LN($C$20))^2)/($C$21))+($AQ$91*(LN($C$20))/($C$21^2))","v":2.5200236288183078},"3000000000",{"$f":"D178/M178","v":0},355526638325653.13,{"$f":"D178/O178","v":0},0.10837232617659723,{"$f":"($AU$50)+($AU$51/$C$21)+($AU$52*LN($C$20))+($AU$53/($C$21^2))+($AU$54*((LN($C$20))^2))+($AU$55*((LN($C$20))/$C$21))+($AU$56/($C$21^3))+($AU$57*((LN($C$20))^3))+($AU$58*((LN($C$20))^2)/($C$21))+($AU$59*(LN($C$20))/($C$21^2))","v":0.46090655095115513},{"$f":"($AU$82)+($AU$83/$C$21)+($AU$84*LN($C$20))+($AU$85/($C$21^2))+($AU$86*((LN($C$20))^2))+($AU$87*((LN($C$20))/$C$21))+($AU$88/($C$21^3))+($AU$89*((LN($C$20))^3))+($AU$90*((LN($C$20))^2)/($C$21))+($AU$91*(LN($C$20))/($C$21^2))","v":1.9844928569139597}]
[null,210,252,{"$f":"IF('18 Concrete HVAG Dir-1'!$D$84>'19 Concrete HVAG Dir-2'!$D$84,'18 Concrete HVAG Dir-1'!$D$84*'16 Axle Loads Concrete Dir-1'!VD25*'16 Axle Loads Concrete Dir-1'!$UQ$47/100,'19 Concrete HVAG Dir-2'!$D$84*'17 Axle Loads Concrete Dir-2'!VD25*'17 Axle Loads Concrete Dir-2'!$UQ$47/100)","v":0},"3000000000",null,{"$f":"D179/E179","v":0},5569917333768566,0,0.12712002293629229,null,null,"3000000000",{"$f":"D179/M179","v":0},355526638325653.13,{"$f":"D179/O179","v":0},0.11345831686284012]
[null,220,264,{"$f":"IF('18 Concrete HVAG Dir-1'!$D$84>'19 Concrete HVAG Dir-2'!$D$84,'18 Concrete HVAG Dir-1'!$D$84*'16 Axle Loads Concrete Dir-1'!VD26*'16 Axle Loads Concrete Dir-1'!$UQ$47/100,'19 Concrete HVAG Dir-2'!$D$84*'17 Axle Loads Concrete Dir-2'!VD26*'17 Axle Loads Concrete Dir-2'!$UQ$47/100)","v":0},"3000000000",null,0,1764739240.802633,0,0.1328021620431859,"F2","F4","3000000000",0,355526638325653.13,0,0.1185297912408125,"F2","F4"]
[null,230,276,{"$f":"IF('18 Concrete HVAG Dir-1'!$D$84>'19 Concrete HVAG Dir-2'!$D$84,'18 Concrete HVAG Dir-1'!$D$84*'16 Axle Loads Concrete Dir-1'!VD27*'16 Axle Loads Concrete Dir-1'!$UQ$47/100,'19 Concrete HVAG Dir-2'!$D$84*'17 Axle Loads Concrete Dir-2'!VD27*'17 Axle Loads Concrete Dir-2'!$UQ$47/100)","v":0},"3000000000",null,0,445665834.96586162,0,0.13846882003367672,0.06,54,"3000000000",0,355526638325653.13,0,0.12358744827223599,0.94,54]
[null,240,288,{"$f":"IF('18 Concrete HVAG Dir-1'!$D$84>'19 Concrete HVAG Dir-2'!$D$84,'18 Concrete HVAG Dir-1'!$D$84*'16 Axle Loads Concrete Dir-1'!VD28*'16 Axle Loads Concrete Dir-1'!$UQ$47/100,'19 Concrete HVAG Dir-2'!$D$84*'17 Axle Loads Concrete Dir-2'!VD28*'17 Axle Loads Concrete Dir-2'!$UQ$47/100)","v":0},"3000000000",null,0,198179101.05075374,0,0.14412070991465162,null,null,"3000000000",0,355526638325653.13,0,0.12863192433648987]
[null,250,300,{"$f":"IF('18 Concrete HVAG Dir-1'!$D$84>'19 Concrete HVAG Dir-2'!$D$84,'18 Concrete HVAG Dir-1'!$D$84*'16 Axle Loads Concrete Dir-1'!VD29*'16 Axle Loads Concrete Dir-1'!$UQ$47/100,'19 Concrete HVAG Dir-2'!$D$84*'17 Axle Loads Concrete Dir-2'!VD29*'17 Axle Loads Concrete Dir-2'!$UQ$47/100)","v":0},"3000000000",null,0,109536042.74333791,0,0.14975848351477944,"F1",null,"3000000000",0,355526638325653.13,0,0.13366380120961494,"F1"]
[null,260,312,{"$f":"IF('18 Concrete HVAG Dir-1'!$D$84>'19 Concrete HVAG Dir-2'!$D$84,'18 Concrete HVAG Dir-1'!$D$84*'16 Axle Loads Concrete Dir-1'!VD30*'16 Axle Loads Concrete Dir-1'!$UQ$47/100,'19 Concrete HVAG Dir-2'!$D$84*'17 Axle Loads Concrete Dir-2'!VD30*'17 Axle Loads Concrete Dir-2'!$UQ$47/100)","v":0},"3000000000",null,0,68104211.356664419,0,0.15538273897212967,54,null,"3000000000",0,355526638325653.13,0,0.13868361274723084,54]
[null,270,324,{"$f":"IF('18 Concrete HVAG Dir-1'!$D$84>'19 Concrete HVAG Dir-2'!$D$84,'18 Concrete HVAG Dir-1'!$D$84*'16 Axle Loads Concrete Dir-1'!VD31*'16 Axle Loads Concrete Dir-1'!$UQ$47/100,'19 Concrete HVAG Dir-2'!$D$84*'17 Axle Loads Concrete Dir-2'!VD31*'17 Axle Loads Concrete Dir-2'!$UQ$47/100)","v":804339.08021199319},"3000000000",null,2.6811302673733104E-4,45618229.965052918,1.7631966010697456E-2,0.16099402705238031,null,null,"3000000000",2.6811302673733104E-4,355526638325653.13,2.2623876624266886E-9,0.14369185052372038]
[null,280,336,{"$f":"IF('18 Concrete HVAG Dir-1'!$D$84>'19 Concrete HVAG Dir-2'!$D$84,'18 Concrete HVAG Dir-1'!$D$84*'16 Axle Loads Concrete Dir-1'!VD32*'16 Axle Loads Concrete Dir-1'!$UQ$47/100,'19 Concrete HVAG Dir-2'!$D$84*'17 Axle Loads Concrete Dir-2'!VD32*'17 Axle Loads Concrete Dir-2'!$UQ$47/100)","v":0},"3000000000",null,0,32177045.482462421,0,0.16659285651685457,null,null,"3000000000",0,355526638325653.13,0,0.14868896862335826]
[null,290,348,{"$f":"IF('18 Concrete HVAG Dir-1'!$D$84>'19 Concrete HVAG Dir-2'!$D$84,'18 Concrete HVAG Dir-1'!$D$84*'16 Axle Loads Concrete Dir-1'!VD33*'16 Axle Loads Concrete Dir-1'!$UQ$47/100,'19 Concrete HVAG Dir-2'!$D$84*'17 Axle Loads Concrete Dir-2'!VD33*'17 Axle Loads Concrete Dir-2'!$UQ$47/100)","v":0},"3000000000",null,0,23578046.713887405,0,0.17217969871214872,null,null,"3000000000",0,355526638325653.13,0,0.1536753877366874]
[null,300,360,{"$f":"IF('18 Concrete HVAG Dir-1'!$D$84>'19 Concrete HVAG Dir-2'!$D$84,'18 Concrete HVAG Dir-1'!$D$84*'16 Axle Loads Concrete Dir-1'!VD34*'16 Axle Loads Concrete Dir-1'!$UQ$47/100,'19 Concrete HVAG Dir-2'!$D$84*'17 Axle Loads Concrete Dir-2'!VD34*'17 Axle Loads Concrete Dir-2'!$UQ$47/100)","v":0},"3000000000",null,0,17792047.247363925,0,0.17775499151720278,null,null,"3000000000",0,355526638325653.13,0,0.15865149868339445]
[null,310,372,{"$f":"IF('18 Concrete HVAG Dir-1'!$D$84>'19 Concrete HVAG Dir-2'!$D$84,'18 Concrete HVAG Dir-1'!$D$84*'16 Axle Loads Concrete Dir-1'!VD35*'16 Axle Loads Concrete Dir-1'!$UQ$47/100,'19 Concrete HVAG Dir-2'!$D$84*'17 Axle Loads Concrete Dir-2'!VD35*'17 Axle Loads Concrete Dir-2'!$UQ$47/100)","v":0},"3000000000",null,0,13743690.930346627,0,0.18331914275621414,null,null,"3000000000",0,355526638325653.13,0,0.16361766545843429]
[null,320,384,{"$f":"IF('18 Concrete HVAG Dir-1'!$D$84>'19 Concrete HVAG Dir-2'!$D$84,'18 Concrete HVAG Dir-1'!$D$84*'16 Axle Loads Concrete Dir-1'!VD36*'16 Axle Loads Concrete Dir-1'!$UQ$47/100,'19 Concrete HVAG Dir-2'!$D$84*'17 Axle Loads Concrete Dir-2'!VD36*'17 Axle Loads Concrete Dir-2'!$UQ$47/100)","v":0},"3000000000",null,0,10821379.680498157,0,0.18887253316459365,null,null,"3000000000",0,355526638325653.13,0,0.16857422787923207]
[null,330,396,{"$f":"IF('18 Concrete HVAG Dir-1'!$D$84>'19 Concrete HVAG Dir-2'!$D$84,'18 Concrete HVAG Dir-1'!$D$84*'16 Axle Loads Concrete Dir-1'!VD37*'16 Axle Loads Concrete Dir-1'!$UQ$47/100,'19 Concrete HVAG Dir-2'!$D$84*'17 Axle Loads Concrete Dir-2'!VD37*'17 Axle Loads Concrete Dir-2'!$UQ$47/100)","v":0},"3000000000",null,0,8657395.8238967322,0,0.19441551897864776,null,null,"3000000000",0,355526638325653.13,0,0.17352150389704996]
[null,340,408,{"$f":"IF('18 Concrete HVAG Dir-1'!$D$84>'19 Concrete HVAG Dir-2'!$D$84,'18 Concrete HVAG Dir-1'!$D$84*'16 Axle Loads Concrete Dir-1'!VD38*'16 Axle Loads Concrete Dir-1'!$UQ$47/100,'19 Concrete HVAG Dir-2'!$D$84*'17 Axle Loads Concrete Dir-2'!VD38*'17 Axle Loads Concrete Dir-2'!$UQ$47/100)","v":0},"3000000000",null,0,7020495.9923808184,0,0.19994843420668512,null,null,"3000000000",0,355526638325653.13,0,0.17845979162401571]
[null,350,420,{"$f":"IF('18 Concrete HVAG Dir-1'!$D$84>'19 Concrete HVAG Dir-2'!$D$84,'18 Concrete HVAG Dir-1'!$D$84*'16 Axle Loads Concrete Dir-1'!VD39*'16 Axle Loads Concrete Dir-1'!$UQ$47/100,'19 Concrete HVAG Dir-2'!$D$84*'17 Axle Loads Concrete Dir-2'!VD39*'17 Axle Loads Concrete Dir-2'!$UQ$47/100)","v":0},"3000000000",null,0,5759765.4716832582,0,0.20547159262896178,null,null,"3000000000",0,355526638325653.13,0,0.18338937111813194]
[null,"Totals",null,{"$f":"SUM(D159:D193)","v":804339.08021199319},{"$f":"SUM(E157:E193)","v":0},null,{"$f":"SUM(G178:G193)","v":2.6811302673733104E-4},{"$f":"SUM(H157:H193)","v":1.1696826676053238E+17},{"$f":"SUM(I178:I193)","v":1.7631966010697456E-2},null,null,null,{"$f":"SUM(M157:M193)","v":0},{"$f":"SUM(N157:N193)","v":2.6811302673733104E-4},{"$f":"SUM(O157:O193)","v":1.2443432341397866E+16},{"$f":"SUM(P157:P193)","v":2.2623876624266886E-9}]
[]
[]
[null,"QADT/TRST"]
[null,"Axle Group Load, P (kN)","Design Load, P*LSF (kN)","Expected Load Repetitions","Fatigue Analysis",null,null,"Erosion Analysis",null,"Sr","F3","Se","Fatigue Analysis",null,"Erosion Analysis",null,"Sr","F3","Se"]
[null,null,null,null,"Allowable Repetitions",null,"Damage (%)","Allowable Repetitions","Damage (%)",null,null,null,"Allowable Repetitions","Damage (%)","Allowable Repetitions","Damage (%)"]
[null,10,{"$f":"$C$16*B200","v":12},{"$f":"IF('18 Concrete HVAG Dir-1'!$D$84>'19 Concrete HVAG Dir-2'!$D$84,'18 Concrete HVAG Dir-1'!$D$84*'16 Axle Loads Concrete Dir-1'!VG5*'16 Axle Loads Concrete Dir-1'!$UQ$48/100,'19 Concrete HVAG Dir-2'!$D$84*'17 Axle Loads Concrete Dir-2'!VG5*'17 Axle Loads Concrete Dir-2'!$UQ$48/100)","v":0},{"$f":"IF(J200>0.55,10^((0.9719-J200)/(0.0828)),IF((0.45<=J200)*(J200<=0.55),(4.258/(J200-0.4325))^3.268,\"3000000000\"))","v":"3000000000"},null,{"$f":"D200/E200","v":0},{"$f":"(10^(14.524-6.777*(MAX(0,(C200/(4.45*$L$222))^2*((10^$L$219)/(41.35))-9))^0.103))/$K$222","v":5569917333768566},{"$f":"D200/H200","v":0},{"$f":"($K$219/(0.944*$C$18))*((C200/(4.45*$K$225))^0.94)","v":5.5447939643352056E-3},null,null,{"$f":"IF(Q200>0.55,10^((0.9719-Q200)/(0.0828)),IF((0.45<=Q200)*(Q200<=0.55),(4.258/(Q200-0.4325))^3.268,\"3000000000\"))","v":"3000000000"},{"$f":"D200/M200","v":0},{"$f":"(10^(14.524-6.777*(MAX(0,(C200/(4.45*$S$222))^2*((10^$S$219)/(41.35))-9))^0.103))/$R$222","v":355526638325653.13},{"$f":"D200/O200","v":0},{"$f":"($R$219/(0.944*$C$18))*((C200/(4.45*$R$225))^0.94)","v":4.9488898445211073E-3}]
[null,20,24,{"$f":"IF('18 Concrete HVAG Dir-1'!$D$84>'19 Concrete HVAG Dir-2'!$D$84,'18 Concrete HVAG Dir-1'!$D$84*'16 Axle Loads Concrete Dir-1'!VG6*'16 Axle Loads Concrete Dir-1'!$UQ$48/100,'19 Concrete HVAG Dir-2'!$D$84*'17 Axle Loads Concrete Dir-2'!VG6*'17 Axle Loads Concrete Dir-2'!$UQ$48/100)","v":0},{"$f":"IF(J201>0.55,10^((0.9719-J201)/(0.0828)),IF((0.45<=J201)*(J201<=0.55),(4.258/(J201-0.4325))^3.268,\"3000000000\"))","v":"3000000000"},null,0,{"$f":"(10^(14.524-6.777*(MAX(0,(C201/(4.45*$L$222))^2*((10^$L$219)/(41.35))-9))^0.103))/$K$222","v":5569917333768566},0,{"$f":"($K$219/(0.944*$C$18))*((C201/(4.45*$K$225))^0.94)","v":1.0637843798076106E-2},null,null,{"$f":"IF(Q201>0.55,10^((0.9719-Q201)/(0.0828)),IF((0.45<=Q201)*(Q201<=0.55),(4.258/(Q201-0.4325))^3.268,\"3000000000\"))","v":"3000000000"},0,{"$f":"(10^(14.524-6.777*(MAX(0,(C201/(4.45*$S$222))^2*((10^$S$219)/(41.35))-9))^0.103))/$R$222","v":355526638325653.13},0,{"$f":"($R$219/(0.944*$C$18))*((C201/(4.45*$R$225))^0.94)","v":9.4945849166845706E-3}]
[null,30,36,{"$f":"IF('18 Concrete HVAG Dir-1'!$D$84>'19 Concrete HVAG Dir-2'!$D$84,'18 Concrete HVAG Dir-1'!$D$84*'16 Axle Loads Concrete Dir-1'!VG7*'16 Axle Loads Concrete Dir-1'!$UQ$48/100,'19 Concrete HVAG Dir-2'!$D$84*'17 Axle Loads Concrete Dir-2'!VG7*'17 Axle Loads Concrete Dir-2'!$UQ$48/100)","v":0},"3000000000",null,0,5569917333768566,0,1.5573254915414794E-2,null,null,"3000000000",0,355526638325653.13,0,1.3899582850645209E-2]
[null,40,48,{"$f":"IF('18 Concrete HVAG Dir-1'!$D$84>'19 Concrete HVAG Dir-2'!$D$84,'18 Concrete HVAG Dir-1'!$D$84*'16 Axle Loads Concrete Dir-1'!VG8*'16 Axle Loads Concrete Dir-1'!$UQ$48/100,'19 Concrete HVAG Dir-2'!$D$84*'17 Axle Loads Concrete Dir-2'!VG8*'17 Axle Loads Concrete Dir-2'!$UQ$48/100)","v":0},"3000000000",null,0,5569917333768566,0,2.0409003724962405E-2,null,null,"3000000000",0,355526638325653.13,0,1.8215629276924727E-2]
[null,50,60,{"$f":"IF('18 Concrete HVAG Dir-1'!$D$84>'19 Concrete HVAG Dir-2'!$D$84,'18 Concrete HVAG Dir-1'!$D$84*'16 Axle Loads Concrete Dir-1'!VG9*'16 Axle Loads Concrete Dir-1'!$UQ$48/100,'19 Concrete HVAG Dir-2'!$D$84*'17 Axle Loads Concrete Dir-2'!VG9*'17 Axle Loads Concrete Dir-2'!$UQ$48/100)","v":0},"3000000000",null,0,5569917333768566,0,2.5171970677591304E-2,null,null,"3000000000",0,355526638325653.13,0,2.2466715779555651E-2]
[null,60,72,{"$f":"IF('18 Concrete HVAG Dir-1'!$D$84>'19 Concrete HVAG Dir-2'!$D$84,'18 Concrete HVAG Dir-1'!$D$84*'16 Axle Loads Concrete Dir-1'!VG10*'16 Axle Loads Concrete Dir-1'!$UQ$48/100,'19 Concrete HVAG Dir-2'!$D$84*'17 Axle Loads Concrete Dir-2'!VG10*'17 Axle Loads Concrete Dir-2'!$UQ$48/100)","v":0},"3000000000",null,0,5569917333768566,0,2.9877729322926417E-2,null,null,"3000000000",0,355526638325653.13,0,2.6666742204425435E-2]
[null,70,84,{"$f":"IF('18 Concrete HVAG Dir-1'!$D$84>'19 Concrete HVAG Dir-2'!$D$84,'18 Concrete HVAG Dir-1'!$D$84*'16 Axle Loads Concrete Dir-1'!VG11*'16 Axle Loads Concrete Dir-1'!$UQ$48/100,'19 Concrete HVAG Dir-2'!$D$84*'17 Axle Loads Concrete Dir-2'!VG11*'17 Axle Loads Concrete Dir-2'!$UQ$48/100)","v":0},"3000000000",null,0,5569917333768566,0,3.4536440162495241E-2,null,null,"3000000000",0,355526638325653.13,0,3.0824777094594125E-2]
[null,80,96,{"$f":"IF('18 Concrete HVAG Dir-1'!$D$84>'19 Concrete HVAG Dir-2'!$D$84,'18 Concrete HVAG Dir-1'!$D$84*'16 Axle Loads Concrete Dir-1'!VG12*'16 Axle Loads Concrete Dir-1'!$UQ$48/100,'19 Concrete HVAG Dir-2'!$D$84*'17 Axle Loads Concrete Dir-2'!VG12*'17 Axle Loads Concrete Dir-2'!$UQ$48/100)","v":0},"3000000000",null,0,5569917333768566,0,3.91552499690642E-2,null,null,"3000000000",0,355526638325653.13,0,3.49471991525694E-2]
[null,90,108,{"$f":"IF('18 Concrete HVAG Dir-1'!$D$84>'19 Concrete HVAG Dir-2'!$D$84,'18 Concrete HVAG Dir-1'!$D$84*'16 Axle Loads Concrete Dir-1'!VG13*'16 Axle Loads Concrete Dir-1'!$UQ$48/100,'19 Concrete HVAG Dir-2'!$D$84*'17 Axle Loads Concrete Dir-2'!VG13*'17 Axle Loads Concrete Dir-2'!$UQ$48/100)","v":0},"3000000000",null,0,5569917333768566,0,4.3739455464071257E-2,null,null,"3000000000",0,355526638325653.13,0,3.9038735856252546E-2]
[null,100,120,{"$f":"IF('18 Concrete HVAG Dir-1'!$D$84>'19 Concrete HVAG Dir-2'!$D$84,'18 Concrete HVAG Dir-1'!$D$84*'16 Axle Loads Concrete Dir-1'!VG14*'16 Axle Loads Concrete Dir-1'!$UQ$48/100,'19 Concrete HVAG Dir-2'!$D$84*'17 Axle Loads Concrete Dir-2'!VG14*'17 Axle Loads Concrete Dir-2'!$UQ$48/100)","v":0},"3000000000",null,0,5569917333768566,0,4.829313656744199E-2,null,null,"3000000000",0,355526638325653.13,0,4.3103028652812937E-2]
[null,110,132,{"$f":"IF('18 Concrete HVAG Dir-1'!$D$84>'19 Concrete HVAG Dir-2'!$D$84,'18 Concrete HVAG Dir-1'!$D$84*'16 Axle Loads Concrete Dir-1'!VG15*'16 Axle Loads Concrete Dir-1'!$UQ$48/100,'19 Concrete HVAG Dir-2'!$D$84*'17 Axle Loads Concrete Dir-2'!VG15*'17 Axle Loads Concrete Dir-2'!$UQ$48/100)","v":0},"3000000000",null,0,5569917333768566,0,5.2819530572548255E-2,null,null,"3000000000",0,355526638325653.13,0,4.7142966920718864E-2]
[null,120,144,{"$f":"IF('18 Concrete HVAG Dir-1'!$D$84>'19 Concrete HVAG Dir-2'!$D$84,'18 Concrete HVAG Dir-1'!$D$84*'16 Axle Loads Concrete Dir-1'!VG16*'16 Axle Loads Concrete Dir-1'!$UQ$48/100,'19 Concrete HVAG Dir-2'!$D$84*'17 Axle Loads Concrete Dir-2'!VG16*'17 Axle Loads Concrete Dir-2'!$UQ$48/100)","v":0},"3000000000",null,0,5569917333768566,0,5.7321267412791282E-2,null,null,"3000000000",0,355526638325653.13,0,5.1160897952004056E-2]
[null,130,156,{"$f":"IF('18 Concrete HVAG Dir-1'!$D$84>'19 Concrete HVAG Dir-2'!$D$84,'18 Concrete HVAG Dir-1'!$D$84*'16 Axle Loads Concrete Dir-1'!VG17*'16 Axle Loads Concrete Dir-1'!$UQ$48/100,'19 Concrete HVAG Dir-2'!$D$84*'17 Axle Loads Concrete Dir-2'!VG17*'17 Axle Loads Concrete Dir-2'!$UQ$48/100)","v":0},"3000000000",null,0,5569917333768566,0,6.1800524971240889E-2,null,null,"3000000000",0,355526638325653.13,0,5.5158765570636745E-2]
[null,140,168,{"$f":"IF('18 Concrete HVAG Dir-1'!$D$84>'19 Concrete HVAG Dir-2'!$D$84,'18 Concrete HVAG Dir-1'!$D$84*'16 Axle Loads Concrete Dir-1'!VG18*'16 Axle Loads Concrete Dir-1'!$UQ$48/100,'19 Concrete HVAG Dir-2'!$D$84*'17 Axle Loads Concrete Dir-2'!VG18*'17 Axle Loads Concrete Dir-2'!$UQ$48/100)","v":0},"3000000000",null,0,5569917333768566,0,6.6259135714211395E-2,null,null,"3000000000",0,355526638325653.13,0,5.9138205306086843E-2]
[null,150,180,{"$f":"IF('18 Concrete HVAG Dir-1'!$D$84>'19 Concrete HVAG Dir-2'!$D$84,'18 Concrete HVAG Dir-1'!$D$84*'16 Axle Loads Concrete Dir-1'!VG19*'16 Axle Loads Concrete Dir-1'!$UQ$48/100,'19 Concrete HVAG Dir-2'!$D$84*'17 Axle Loads Concrete Dir-2'!VG19*'17 Axle Loads Concrete Dir-2'!$UQ$48/100)","v":0},"3000000000",null,0,5569917333768566,0,7.0698662314042468E-2,null,null,"3000000000",0,355526638325653.13,0,6.3100611888856864E-2]
[null,160,192,{"$f":"IF('18 Concrete HVAG Dir-1'!$D$84>'19 Concrete HVAG Dir-2'!$D$84,'18 Concrete HVAG Dir-1'!$D$84*'16 Axle Loads Concrete Dir-1'!VG20*'16 Axle Loads Concrete Dir-1'!$UQ$48/100,'19 Concrete HVAG Dir-2'!$D$84*'17 Axle Loads Concrete Dir-2'!VG20*'17 Axle Loads Concrete Dir-2'!$UQ$48/100)","v":0},"3000000000",null,0,5569917333768566,0,7.5120452757069911E-2,null,null,"3000000000",0,355526638325653.13,0,6.704718843594823E-2]
[null,170,204,{"$f":"IF('18 Concrete HVAG Dir-1'!$D$84>'19 Concrete HVAG Dir-2'!$D$84,'18 Concrete HVAG Dir-1'!$D$84*'16 Axle Loads Concrete Dir-1'!VG21*'16 Axle Loads Concrete Dir-1'!$UQ$48/100,'19 Concrete HVAG Dir-2'!$D$84*'17 Axle Loads Concrete Dir-2'!VG21*'17 Axle Loads Concrete Dir-2'!$UQ$48/100)","v":0},"3000000000",null,0,5569917333768566,0,7.9525681442435922E-2,null,null,"3000000000",0,355526638325653.13,0,7.097898313274445E-2]
[null,180,216,{"$f":"IF('18 Concrete HVAG Dir-1'!$D$84>'19 Concrete HVAG Dir-2'!$D$84,'18 Concrete HVAG Dir-1'!$D$84*'16 Axle Loads Concrete Dir-1'!VG22*'16 Axle Loads Concrete Dir-1'!$UQ$48/100,'19 Concrete HVAG Dir-2'!$D$84*'17 Axle Loads Concrete Dir-2'!VG22*'17 Axle Loads Concrete Dir-2'!$UQ$48/100)","v":0},"3000000000",null,0,5569917333768566,0,8.391538045101786E-2,null,null,"3000000000",0,355526638325653.13,0,7.4896917141439437E-2]
[null,190,228,{"$f":"IF('18 Concrete HVAG Dir-1'!$D$84>'19 Concrete HVAG Dir-2'!$D$84,'18 Concrete HVAG Dir-1'!$D$84*'16 Axle Loads Concrete Dir-1'!VG23*'16 Axle Loads Concrete Dir-1'!$UQ$48/100,'19 Concrete HVAG Dir-2'!$D$84*'17 Axle Loads Concrete Dir-2'!VG23*'17 Axle Loads Concrete Dir-2'!$UQ$48/100)","v":0},"3000000000",null,0,5569917333768566,0,8.8290463753003298E-2,null,null,"3000000000",0,355526638325653.13,0,7.8801806207001945E-2]
[null,200,240,{"$f":"IF('18 Concrete HVAG Dir-1'!$D$84>'19 Concrete HVAG Dir-2'!$D$84,'18 Concrete HVAG Dir-1'!$D$84*'16 Axle Loads Concrete Dir-1'!VG24*'16 Axle Loads Concrete Dir-1'!$UQ$48/100,'19 Concrete HVAG Dir-2'!$D$84*'17 Axle Loads Concrete Dir-2'!VG24*'17 Axle Loads Concrete Dir-2'!$UQ$48/100)","v":0},"3000000000",null,{"$f":"D219/E219","v":0},5569917333768566,0,9.2651746237643925E-2,{"$f":"($AQ$50)+($AQ$51/$C$21)+($AQ$52*LN($C$20))+($AQ$53/($C$21^2))+($AQ$54*((LN($C$20))^2))+($AQ$55*((LN($C$20))/$C$21))+($AQ$56/($C$21^3))+($AQ$57*((LN($C$20))^3))+($AQ$58*((LN($C$20))^2)/($C$21))+($AQ$59*(LN($C$20))/($C$21^2))","v":0.51640508116499095},{"$f":"($AQ$82)+($AQ$83/$C$21)+($AQ$84*LN($C$20))+($AQ$85/($C$21^2))+($AQ$86*((LN($C$20))^2))+($AQ$87*((LN($C$20))/$C$21))+($AQ$88/($C$21^3))+($AQ$89*((LN($C$20))^3))+($AQ$90*((LN($C$20))^2)/($C$21))+($AQ$91*(LN($C$20))/($C$21^2))","v":2.5200236288183078},"3000000000",{"$f":"D219/M219","v":0},355526638325653.13,{"$f":"D219/O219","v":0},8.2694377641784486E-2,{"$f":"($AU$50)+($AU$51/$C$21)+($AU$52*LN($C$20))+($AU$53/($C$21^2))+($AU$54*((LN($C$20))^2))+($AU$55*((LN($C$20))/$C$21))+($AU$56/($C$21^3))+($AU$57*((LN($C$20))^3))+($AU$58*((LN($C$20))^2)/($C$21))+($AU$59*(LN($C$20))/($C$21^2))","v":0.46090655095115513},{"$f":"($AU$82)+($AU$83/$C$21)+($AU$84*LN($C$20))+($AU$85/($C$21^2))+($AU$86*((LN($C$20))^2))+($AU$87*((LN($C$20))/$C$21))+($AU$88/($C$21^3))+($AU$89*((LN($C$20))^3))+($AU$90*((LN($C$20))^2)/($C$21))+($AU$91*(LN($C$20))/($C$21^2))","v":1.9844928569139597}]
[null,210,252,{"$f":"IF('18 Concrete HVAG Dir-1'!$D$84>'19 Concrete HVAG Dir-2'!$D$84,'18 Concrete HVAG Dir-1'!$D$84*'16 Axle Loads Concrete Dir-1'!VG25*'16 Axle Loads Concrete Dir-1'!$UQ$48/100,'19 Concrete HVAG Dir-2'!$D$84*'17 Axle Loads Concrete Dir-2'!VG25*'17 Axle Loads Concrete Dir-2'!$UQ$48/100)","v":0},"3000000000",null,{"$f":"D220/E220","v":0},5569917333768566,0,9.6999958876919729E-2,null,null,"3000000000",{"$f":"D220/M220","v":0},355526638325653.13,{"$f":"D220/O220","v":0},8.6575283859534335E-2]
[null,220,264,{"$f":"IF('18 Concrete HVAG Dir-1'!$D$84>'19 Concrete HVAG Dir-2'!$D$84,'18 Concrete HVAG Dir-1'!$D$84*'16 Axle Loads Concrete Dir-1'!VG26*'16 Axle Loads Concrete Dir-1'!$UQ$48/100,'19 Concrete HVAG Dir-2'!$D$84*'17 Axle Loads Concrete Dir-2'!VG26*'17 Axle Loads Concrete Dir-2'!$UQ$48/100)","v":0},"3000000000",null,0,1764739240.802633,0,0.10133576095569874,"F2","F4","3000000000",0,355526638325653.13,0,9.044511329116689E-2,"F2","F4"]
[null,230,276,{"$f":"IF('18 Concrete HVAG Dir-1'!$D$84>'19 Concrete HVAG Dir-2'!$D$84,'18 Concrete HVAG Dir-1'!$D$84*'16 Axle Loads Concrete Dir-1'!VG27*'16 Axle Loads Concrete Dir-1'!$UQ$48/100,'19 Concrete HVAG Dir-2'!$D$84*'17 Axle Loads Concrete Dir-2'!VG27*'17 Axle Loads Concrete Dir-2'!$UQ$48/100)","v":0},"3000000000",null,0,445665834.96586162,0,0.1056597500437329,0.06,54,"3000000000",0,355526638325653.13,0,9.4304399285061874E-2,0.94,54]
[null,240,288,{"$f":"IF('18 Concrete HVAG Dir-1'!$D$84>'19 Concrete HVAG Dir-2'!$D$84,'18 Concrete HVAG Dir-1'!$D$84*'16 Axle Loads Concrete Dir-1'!VG28*'16 Axle Loads Concrete Dir-1'!$UQ$48/100,'19 Concrete HVAG Dir-2'!$D$84*'17 Axle Loads Concrete Dir-2'!VG28*'17 Axle Loads Concrete Dir-2'!$UQ$48/100)","v":0},"3000000000",null,0,198179101.05075374,0,0.1099724702066784,null,null,"3000000000",0,355526638325653.13,0,9.8153627435637769E-2]
[null,250,300,{"$f":"IF('18 Concrete HVAG Dir-1'!$D$84>'19 Concrete HVAG Dir-2'!$D$84,'18 Concrete HVAG Dir-1'!$D$84*'16 Axle Loads Concrete Dir-1'!VG29*'16 Axle Loads Concrete Dir-1'!$UQ$48/100,'19 Concrete HVAG Dir-2'!$D$84*'17 Axle Loads Concrete Dir-2'!VG29*'17 Axle Loads Concrete Dir-2'!$UQ$48/100)","v":0},"3000000000",null,0,109536042.74333791,0,0.11427441882765885,"F1",null,"3000000000",0,355526638325653.13,0,0.1019932416717953,"F1"]
[null,260,312,{"$f":"IF('18 Concrete HVAG Dir-1'!$D$84>'19 Concrete HVAG Dir-2'!$D$84,'18 Concrete HVAG Dir-1'!$D$84*'16 Axle Loads Concrete Dir-1'!VG30*'16 Axle Loads Concrete Dir-1'!$UQ$48/100,'19 Concrete HVAG Dir-2'!$D$84*'17 Axle Loads Concrete Dir-2'!VG30*'17 Axle Loads Concrete Dir-2'!$UQ$48/100)","v":0},"3000000000",null,0,68104211.356664419,0,0.1185660523207528,72,null,"3000000000",0,355526638325653.13,0,0.10582364935637113,72]
[null,270,324,{"$f":"IF('18 Concrete HVAG Dir-1'!$D$84>'19 Concrete HVAG Dir-2'!$D$84,'18 Concrete HVAG Dir-1'!$D$84*'16 Axle Loads Concrete Dir-1'!VG31*'16 Axle Loads Concrete Dir-1'!$UQ$48/100,'19 Concrete HVAG Dir-2'!$D$84*'17 Axle Loads Concrete Dir-2'!VG31*'17 Axle Loads Concrete Dir-2'!$UQ$48/100)","v":804339.08021199319},"3000000000",null,2.6811302673733104E-4,45618229.965052918,1.7631966010697456E-2,0.12284779095215345,null,null,"3000000000",2.6811302673733104E-4,355526638325653.13,2.2623876624266886E-9,0.1096452255891632]
[null,280,336,{"$f":"IF('18 Concrete HVAG Dir-1'!$D$84>'19 Concrete HVAG Dir-2'!$D$84,'18 Concrete HVAG Dir-1'!$D$84*'16 Axle Loads Concrete Dir-1'!VG32*'16 Axle Loads Concrete Dir-1'!$UQ$48/100,'19 Concrete HVAG Dir-2'!$D$84*'17 Axle Loads Concrete Dir-2'!VG32*'17 Axle Loads Concrete Dir-2'!$UQ$48/100)","v":0},"3000000000",null,0,32177045.482462421,0,0.12712002293629229,null,null,"3000000000",0,355526638325653.13,0,0.11345831686284012]
[null,290,348,{"$f":"IF('18 Concrete HVAG Dir-1'!$D$84>'19 Concrete HVAG Dir-2'!$D$84,'18 Concrete HVAG Dir-1'!$D$84*'16 Axle Loads Concrete Dir-1'!VG33*'16 Axle Loads Concrete Dir-1'!$UQ$48/100,'19 Concrete HVAG Dir-2'!$D$84*'17 Axle Loads Concrete Dir-2'!VG33*'17 Axle Loads Concrete Dir-2'!$UQ$48/100)","v":0},"3000000000",null,0,23578046.713887405,0,0.13138310793799154,null,null,"3000000000",0,355526638325653.13,0,0.11726324418871402]
[null,300,360,{"$f":"IF('18 Concrete HVAG Dir-1'!$D$84>'19 Concrete HVAG Dir-2'!$D$84,'18 Concrete HVAG Dir-1'!$D$84*'16 Axle Loads Concrete Dir-1'!VG34*'16 Axle Loads Concrete Dir-1'!$UQ$48/100,'19 Concrete HVAG Dir-2'!$D$84*'17 Axle Loads Concrete Dir-2'!VG34*'17 Axle Loads Concrete Dir-2'!$UQ$48/100)","v":0},"3000000000",null,0,17792047.247363925,0,0.1356373800843084,null,null,"3000000000",0,355526638325653.13,0,0.12106030578489918]
[null,310,372,{"$f":"IF('18 Concrete HVAG Dir-1'!$D$84>'19 Concrete HVAG Dir-2'!$D$84,'18 Concrete HVAG Dir-1'!$D$84*'16 Axle Loads Concrete Dir-1'!VG35*'16 Axle Loads Concrete Dir-1'!$UQ$48/100,'19 Concrete HVAG Dir-2'!$D$84*'17 Axle Loads Concrete Dir-2'!VG35*'17 Axle Loads Concrete Dir-2'!$UQ$48/100)","v":0},"3000000000",null,0,13743690.930346627,0,0.13988315056878631,null,null,"3000000000",0,355526638325653.13,0,0.12484977940068202]
[null,320,384,{"$f":"IF('18 Concrete HVAG Dir-1'!$D$84>'19 Concrete HVAG Dir-2'!$D$84,'18 Concrete HVAG Dir-1'!$D$84*'16 Axle Loads Concrete Dir-1'!VG36*'16 Axle Loads Concrete Dir-1'!$UQ$48/100,'19 Concrete HVAG Dir-2'!$D$84*'17 Axle Loads Concrete Dir-2'!VG36*'17 Axle Loads Concrete Dir-2'!$UQ$48/100)","v":0},"3000000000",null,0,10821379.680498157,0,0.14412070991465159,null,null,"3000000000",0,355526638325653.13,0,0.12863192433648984]
[null,330,396,{"$f":"IF('18 Concrete HVAG Dir-1'!$D$84>'19 Concrete HVAG Dir-2'!$D$84,'18 Concrete HVAG Dir-1'!$D$84*'16 Axle Loads Concrete Dir-1'!VG37*'16 Axle Loads Concrete Dir-1'!$UQ$48/100,'19 Concrete HVAG Dir-2'!$D$84*'17 Axle Loads Concrete Dir-2'!VG37*'17 Axle Loads Concrete Dir-2'!$UQ$48/100)","v":0},"3000000000",null,0,8657395.8238967322,0,0.14835032995089131,null,null,"3000000000",0,355526638325653.13,0,0.13240698320759786]
[null,340,408,{"$f":"IF('18 Concrete HVAG Dir-1'!$D$84>'19 Concrete HVAG Dir-2'!$D$84,'18 Concrete HVAG Dir-1'!$D$84*'16 Axle Loads Concrete Dir-1'!VG38*'16 Axle Loads Concrete Dir-1'!$UQ$48/100,'19 Concrete HVAG Dir-2'!$D$84*'17 Axle Loads Concrete Dir-2'!VG38*'17 Axle Loads Concrete Dir-2'!$UQ$48/100)","v":0},"3000000000",null,0,7020495.9923808184,0,0.15257226554523964,null,null,"3000000000",0,355526638325653.13,0,0.13617518349086982]
[null,350,420,{"$f":"IF('18 Concrete HVAG Dir-1'!$D$84>'19 Concrete HVAG Dir-2'!$D$84,'18 Concrete HVAG Dir-1'!$D$84*'16 Axle Loads Concrete Dir-1'!VG39*'16 Axle Loads Concrete Dir-1'!$UQ$48/100,'19 Concrete HVAG Dir-2'!$D$84*'17 Axle Loads Concrete Dir-2'!VG39*'17 Axle Loads Concrete Dir-2'!$UQ$48/100)","v":0},"3000000000",null,0,5759765.4716832582,0,0.15678675613025195,null,null,"3000000000",0,355526638325653.13,0,0.13993673888682362]
[null,"Totals",null,{"$f":"SUM(D200:D234)","v":804339.08021199319},{"$f":"SUM(E198:E234)","v":0},null,{"$f":"SUM(G219:G234)","v":2.6811302673733104E-4},{"$f":"SUM(H198:H234)","v":1.1696826676053238E+17},{"$f":"SUM(I219:I234)","v":1.7631966010697456E-2},null,null,null,{"$f":"SUM(M198:M234)","v":0},{"$f":"SUM(N198:N234)","v":2.6811302673733104E-4},{"$f":"SUM(O198:O234)","v":1.2443432341397866E+16},{"$f":"SUM(P198:P234)","v":2.2623876624266886E-9}]
[]
[]
[null,"TAST"]
[null,"Axle Group Load, P (kN)","Design Load, P*LSF (kN)","Expected Load Repetitions","Fatigue Analysis",null,null,"Erosion Analysis",null,"Sr","F3","Se","Fatigue Analysis",null,"Erosion Analysis",null,"Sr","F3","Se"]
[null,null,null,null,"Allowable Repetitions",null,"Damage (%)","Allowable Repetitions","Damage (%)",null,null,null,"Allowable Repetitions","Damage (%)","Allowable Repetitions","Damage (%)"]
[null,10,{"$f":"$C$16*B241","v":12},{"$f":"IF('18 Concrete HVAG Dir-1'!$D$84>'19 Concrete HVAG Dir-2'!$D$84,'18 Concrete HVAG Dir-1'!$D$84*'16 Axle Loads Concrete Dir-1'!UX5*'16 Axle Loads Concrete Dir-1'!$UQ$45/100,'19 Concrete HVAG Dir-2'!$D$84*'17 Axle Loads Concrete Dir-2'!UX5*'17 Axle Loads Concrete Dir-2'!$UQ$45/100)","v":0},{"$f":"IF(J241>0.55,10^((0.9719-J241)/(0.0828)),IF((0.45<=J241)*(J241<=0.55),(4.258/(J241-0.4325))^3.268,\"3000000000\"))","v":"3000000000"},null,{"$f":"D241/E241","v":0},{"$f":"(10^(14.524-6.777*(MAX(0,(C241/(4.45*$L$249))^2*((10^$L$246)/(41.35))-9))^0.103))/$K$249","v":5569917333768566},{"$f":"D241/H241","v":0},{"$f":"($K$246/(0.944*$C$18))*((C241/(4.45*$K$252))^0.94)","v":1.9526819847164232E-2},null,null,{"$f":"IF(Q241>0.55,10^((0.9719-Q241)/(0.0828)),IF((0.45<=Q241)*(Q241<=0.55),(4.258/(Q241-0.4325))^3.268,\"3000000000\"))","v":"3000000000"},{"$f":"D241/M241","v":0},{"$f":"(10^(14.524-6.777*(MAX(0,(C241/(4.45*$S$249))^2*((10^$S$246)/(41.35))-9))^0.103))/$R$249","v":355526638325653.13},{"$f":"D241/O241","v":0},{"$f":"($R$246/(0.944*$C$18))*((C241/(4.45*$R$252))^0.94)","v":1.8241652090939846E-2}]
[null,20,24,{"$f":"IF('18 Concrete HVAG Dir-1'!$D$84>'19 Concrete HVAG Dir-2'!$D$84,'18 Concrete HVAG Dir-1'!$D$84*'16 Axle Loads Concrete Dir-1'!UX6*'16 Axle Loads Concrete Dir-1'!$UQ$45/100,'19 Concrete HVAG Dir-2'!$D$84*'17 Axle Loads Concrete Dir-2'!UX6*'17 Axle Loads Concrete Dir-2'!$UQ$45/100)","v":0},{"$f":"IF(J242>0.55,10^((0.9719-J242)/(0.0828)),IF((0.45<=J242)*(J242<=0.55),(4.258/(J242-0.4325))^3.268,\"3000000000\"))","v":"3000000000"},null,0,{"$f":"(10^(14.524-6.777*(MAX(0,(C242/(4.45*$L$249))^2*((10^$L$246)/(41.35))-9))^0.103))/$K$249","v":5569917333768566},{"$f":"D242/H242","v":0},3.746275528782618E-2,null,null,{"$f":"IF(Q242>0.55,10^((0.9719-Q242)/(0.0828)),IF((0.45<=Q242)*(Q242<=0.55),(4.258/(Q242-0.4325))^3.268,\"3000000000\"))","v":"3000000000"},0,{"$f":"(10^(14.524-6.777*(MAX(0,(C242/(4.45*$S$249))^2*((10^$S$246)/(41.35))-9))^0.103))/$R$249","v":355526638325653.13},{"$f":"D242/O242","v":0},3.4997124656106562E-2]
[null,30,36,{"$f":"IF('18 Concrete HVAG Dir-1'!$D$84>'19 Concrete HVAG Dir-2'!$D$84,'18 Concrete HVAG Dir-1'!$D$84*'16 Axle Loads Concrete Dir-1'!UX7*'16 Axle Loads Concrete Dir-1'!$UQ$45/100,'19 Concrete HVAG Dir-2'!$D$84*'17 Axle Loads Concrete Dir-2'!UX7*'17 Axle Loads Concrete Dir-2'!$UQ$45/100)","v":0},"3000000000",null,0,5569917333768566,0,5.4843542451397297E-2,null,null,"3000000000",0,355526638325653.13,0,5.1233986315409541E-2]
[null,40,48,{"$f":"IF('18 Concrete HVAG Dir-1'!$D$84>'19 Concrete HVAG Dir-2'!$D$84,'18 Concrete HVAG Dir-1'!$D$84*'16 Axle Loads Concrete Dir-1'!UX8*'16 Axle Loads Concrete Dir-1'!$UQ$45/100,'19 Concrete HVAG Dir-2'!$D$84*'17 Axle Loads Concrete Dir-2'!UX8*'17 Axle Loads Concrete Dir-2'!$UQ$45/100)","v":0},"3000000000",null,0,5569917333768566,0,7.1873353917348948E-2,null,null,"3000000000",0,355526638325653.13,0,6.7142971924313108E-2]
[null,50,60,{"$f":"IF('18 Concrete HVAG Dir-1'!$D$84>'19 Concrete HVAG Dir-2'!$D$84,'18 Concrete HVAG Dir-1'!$D$84*'16 Axle Loads Concrete Dir-1'!UX9*'16 Axle Loads Concrete Dir-1'!$UQ$45/100,'19 Concrete HVAG Dir-2'!$D$84*'17 Axle Loads Concrete Dir-2'!UX9*'17 Axle Loads Concrete Dir-2'!$UQ$45/100)","v":0},"3000000000",null,0,5569917333768566,0,8.864685320698977E-2,null,null,"3000000000",0,355526638325653.13,0,8.2812514675468754E-2]
[null,60,72,{"$f":"IF('18 Concrete HVAG Dir-1'!$D$84>'19 Concrete HVAG Dir-2'!$D$84,'18 Concrete HVAG Dir-1'!$D$84*'16 Axle Loads Concrete Dir-1'!UX10*'16 Axle Loads Concrete Dir-1'!$UQ$45/100,'19 Concrete HVAG Dir-2'!$D$84*'17 Axle Loads Concrete Dir-2'!UX10*'17 Axle Loads Concrete Dir-2'!$UQ$45/100)","v":0},"3000000000",null,0,5569917333768566,0,0.10521888490063475,{"$f":"K51","v":0.49408335281626187},{"$f":"L128","v":2.4123991772431634},"3000000000",0,355526638325653.13,0,9.8293849524747956E-2,{"$f":"R51","v":0.4615650011903103},{"$f":"S128","v":1.9255296030546178}]
[null,70,84,{"$f":"IF('18 Concrete HVAG Dir-1'!$D$84>'19 Concrete HVAG Dir-2'!$D$84,'18 Concrete HVAG Dir-1'!$D$84*'16 Axle Loads Concrete Dir-1'!UX11*'16 Axle Loads Concrete Dir-1'!$UQ$45/100,'19 Concrete HVAG Dir-2'!$D$84*'17 Axle Loads Concrete Dir-2'!UX11*'17 Axle Loads Concrete Dir-2'!$UQ$45/100)","v":0},"3000000000",null,0,5569917333768566,0,0.12162523072149313,null,null,"3000000000",0,355526638325653.13,0,0.11362040320272467]
[null,80,96,{"$f":"IF('18 Concrete HVAG Dir-1'!$D$84>'19 Concrete HVAG Dir-2'!$D$84,'18 Concrete HVAG Dir-1'!$D$84*'16 Axle Loads Concrete Dir-1'!UX12*'16 Axle Loads Concrete Dir-1'!$UQ$45/100,'19 Concrete HVAG Dir-2'!$D$84*'17 Axle Loads Concrete Dir-2'!UX12*'17 Axle Loads Concrete Dir-2'!$UQ$45/100)","v":0},"3000000000",null,0,5569917333768566,0,0.13789105909695756,"F2","F4","3000000000",0,355526638325653.13,0,0.12881568766371432,"F2","F4"]
[null,90,108,{"$f":"IF('18 Concrete HVAG Dir-1'!$D$84>'19 Concrete HVAG Dir-2'!$D$84,'18 Concrete HVAG Dir-1'!$D$84*'16 Axle Loads Concrete Dir-1'!UX13*'16 Axle Loads Concrete Dir-1'!$UQ$45/100,'19 Concrete HVAG Dir-2'!$D$84*'17 Axle Loads Concrete Dir-2'!UX13*'17 Axle Loads Concrete Dir-2'!$UQ$45/100)","v":0},"3000000000",null,0,219327309.46842128,0,0.15403502322243348,0.06,18,"3000000000",0,355526638325653.13,0,0.14389712843341107,0.94,18]
[null,100,120,{"$f":"IF('18 Concrete HVAG Dir-1'!$D$84>'19 Concrete HVAG Dir-2'!$D$84,'18 Concrete HVAG Dir-1'!$D$84*'16 Axle Loads Concrete Dir-1'!UX14*'16 Axle Loads Concrete Dir-1'!$UQ$45/100,'19 Concrete HVAG Dir-2'!$D$84*'17 Axle Loads Concrete Dir-2'!UX14*'17 Axle Loads Concrete Dir-2'!$UQ$45/100)","v":446395.78963461076},"3000000000",null,1.4879859654487026E-4,55232080.423630349,8.0821831481043757E-3,0.17007149114511805,null,null,"3000000000",1.4879859654487026E-4,355526638325653.13,1.2555902751391693E-9,0.15887814791854812]
[null,110,132,{"$f":"IF('18 Concrete HVAG Dir-1'!$D$84>'19 Concrete HVAG Dir-2'!$D$84,'18 Concrete HVAG Dir-1'!$D$84*'16 Axle Loads Concrete Dir-1'!UX15*'16 Axle Loads Concrete Dir-1'!$UQ$45/100,'19 Concrete HVAG Dir-2'!$D$84*'17 Axle Loads Concrete Dir-2'!UX15*'17 Axle Loads Concrete Dir-2'!$UQ$45/100)","v":0},"3000000000",null,0,22536746.269004844,0,0.1860118634769854,"F1",null,"3000000000",0,355526638325653.13,0,0.17376939639392114,"F1"]
[null,120,144,{"$f":"IF('18 Concrete HVAG Dir-1'!$D$84>'19 Concrete HVAG Dir-2'!$D$84,'18 Concrete HVAG Dir-1'!$D$84*'16 Axle Loads Concrete Dir-1'!UX16*'16 Axle Loads Concrete Dir-1'!$UQ$45/100,'19 Concrete HVAG Dir-2'!$D$84*'17 Axle Loads Concrete Dir-2'!UX16*'17 Axle Loads Concrete Dir-2'!$UQ$45/100)","v":0},"3000000000",null,0,11323600.943191178,0,0.20186540192118752,18,null,"3000000000",0,355526638325653.13,0,0.18857952599889483,18]
[null,130,156,{"$f":"IF('18 Concrete HVAG Dir-1'!$D$84>'19 Concrete HVAG Dir-2'!$D$84,'18 Concrete HVAG Dir-1'!$D$84*'16 Axle Loads Concrete Dir-1'!UX17*'16 Axle Loads Concrete Dir-1'!$UQ$45/100,'19 Concrete HVAG Dir-2'!$D$84*'17 Axle Loads Concrete Dir-2'!UX17*'17 Axle Loads Concrete Dir-2'!$UQ$45/100)","v":0},"3000000000",null,0,6407216.1659852145,0,0.21763977621813776,null,null,"3000000000",0,355526638325653.13,0,0.20331570168594704]
[null,140,168,{"$f":"IF('18 Concrete HVAG Dir-1'!$D$84>'19 Concrete HVAG Dir-2'!$D$84,'18 Concrete HVAG Dir-1'!$D$84*'16 Axle Loads Concrete Dir-1'!UX18*'16 Axle Loads Concrete Dir-1'!$UQ$45/100,'19 Concrete HVAG Dir-2'!$D$84*'17 Axle Loads Concrete Dir-2'!UX18*'17 Axle Loads Concrete Dir-2'!$UQ$45/100)","v":0},"3000000000",null,0,3919055.8218742986,0,0.23334143967157039,null,null,"3000000000",0,355526638325653.13,0,0.21798395203128626]
[null,150,180,{"$f":"IF('18 Concrete HVAG Dir-1'!$D$84>'19 Concrete HVAG Dir-2'!$D$84,'18 Concrete HVAG Dir-1'!$D$84*'16 Axle Loads Concrete Dir-1'!UX19*'16 Axle Loads Concrete Dir-1'!$UQ$45/100,'19 Concrete HVAG Dir-2'!$D$84*'17 Axle Loads Concrete Dir-2'!UX19*'17 Axle Loads Concrete Dir-2'!$UQ$45/100)","v":781192.63186056877},"3000000000",null,2.603975439535229E-4,2534101.237089132,0.30827206917664746,0.24897589546545465,null,null,"3000000000",2.603975439535229E-4,39340802.788897254,1.9857058740068129E-2,0.23258941802398003]
[null,160,192,{"$f":"IF('18 Concrete HVAG Dir-1'!$D$84>'19 Concrete HVAG Dir-2'!$D$84,'18 Concrete HVAG Dir-1'!$D$84*'16 Axle Loads Concrete Dir-1'!UX20*'16 Axle Loads Concrete Dir-1'!$UQ$45/100,'19 Concrete HVAG Dir-2'!$D$84*'17 Axle Loads Concrete Dir-2'!UX20*'17 Axle Loads Concrete Dir-2'!$UQ$45/100)","v":0},"3000000000",null,0,1708783.8085016264,0,0.26454789073494195,null,null,"3000000000",0,11021990.123132328,0,0.24713653436402253]
[null,170,204,{"$f":"IF('18 Concrete HVAG Dir-1'!$D$84>'19 Concrete HVAG Dir-2'!$D$84,'18 Concrete HVAG Dir-1'!$D$84*'16 Axle Loads Concrete Dir-1'!UX21*'16 Axle Loads Concrete Dir-1'!$UQ$45/100,'19 Concrete HVAG Dir-2'!$D$84*'17 Axle Loads Concrete Dir-2'!UX21*'17 Axle Loads Concrete Dir-2'!$UQ$45/100)","v":0},"3000000000",null,0,1190923.1578040817,0,0.28006156130196286,null,null,"3000000000",0,4915134.7291058656,0,0.26162916467208297]
[null,180,216,{"$f":"IF('18 Concrete HVAG Dir-1'!$D$84>'19 Concrete HVAG Dir-2'!$D$84,'18 Concrete HVAG Dir-1'!$D$84*'16 Axle Loads Concrete Dir-1'!UX22*'16 Axle Loads Concrete Dir-1'!$UQ$45/100,'19 Concrete HVAG Dir-2'!$D$84*'17 Axle Loads Concrete Dir-2'!UX22*'17 Axle Loads Concrete Dir-2'!$UQ$45/100)","v":1874862.3164653652},"3000000000",null,6.2495410548845504E-4,852529.33422035573,2.1991763112526099,0.29552054179342863,null,null,"3000000000",6.2495410548845504E-4,2670510.3737870115,0.70206142423878715,0.27607070436022102]
[null,190,228,{"$f":"IF('18 Concrete HVAG Dir-1'!$D$84>'19 Concrete HVAG Dir-2'!$D$84,'18 Concrete HVAG Dir-1'!$D$84*'16 Axle Loads Concrete Dir-1'!UX23*'16 Axle Loads Concrete Dir-1'!$UQ$45/100,'19 Concrete HVAG Dir-2'!$D$84*'17 Axle Loads Concrete Dir-2'!UX23*'17 Axle Loads Concrete Dir-2'!$UQ$45/100)","v":0},"3000000000",null,0,624021.11465859564,0,0.31092805089182096,null,null,"3000000000",0,1622030.0572356461,0,0.29046416027166483]
[null,200,240,{"$f":"IF('18 Concrete HVAG Dir-1'!$D$84>'19 Concrete HVAG Dir-2'!$D$84,'18 Concrete HVAG Dir-1'!$D$84*'16 Axle Loads Concrete Dir-1'!UX24*'16 Axle Loads Concrete Dir-1'!$UQ$45/100,'19 Concrete HVAG Dir-2'!$D$84*'17 Axle Loads Concrete Dir-2'!UX24*'17 Axle Loads Concrete Dir-2'!$UQ$45/100)","v":0},"3000000000",null,0,465454.01149371982,0,0.32628695835131233,null,null,"3000000000",0,1059069.4223524232,0,0.30481221328623032]
[null,210,252,{"$f":"IF('18 Concrete HVAG Dir-1'!$D$84>'19 Concrete HVAG Dir-2'!$D$84,'18 Concrete HVAG Dir-1'!$D$84*'16 Axle Loads Concrete Dir-1'!UX25*'16 Axle Loads Concrete Dir-1'!$UQ$45/100,'19 Concrete HVAG Dir-2'!$D$84*'17 Axle Loads Concrete Dir-2'!UX25*'17 Axle Loads Concrete Dir-2'!$UQ$45/100)","v":0},"3000000000",null,0,352858.32137260254,0,0.34159983839887254,null,null,"3000000000",0,727711.97506643285,0,0.3191172682068068]
[null,220,264,{"$f":"IF('18 Concrete HVAG Dir-1'!$D$84>'19 Concrete HVAG Dir-2'!$D$84,'18 Concrete HVAG Dir-1'!$D$84*'16 Axle Loads Concrete Dir-1'!UX26*'16 Axle Loads Concrete Dir-1'!$UQ$45/100,'19 Concrete HVAG Dir-2'!$D$84*'17 Axle Loads Concrete Dir-2'!UX26*'17 Axle Loads Concrete Dir-2'!$UQ$45/100)","v":0},"3000000000",null,0,271310.91454866115,0,0.35686901280460337,null,null,"3000000000",0,519480.50352367008,0,0.333381493994995]
[null,230,276,{"$f":"IF('18 Concrete HVAG Dir-1'!$D$84>'19 Concrete HVAG Dir-2'!$D$84,'18 Concrete HVAG Dir-1'!$D$84*'16 Axle Loads Concrete Dir-1'!UX27*'16 Axle Loads Concrete Dir-1'!$UQ$45/100,'19 Concrete HVAG Dir-2'!$D$84*'17 Axle Loads Concrete Dir-2'!UX27*'17 Axle Loads Concrete Dir-2'!$UQ$45/100)","v":0},"3000000000",null,0,211227.03578907784,0,0.37209658599961037,null,null,"3000000000",0,382027.74845053378,0,0.34760685657767787]
[null,240,288,{"$f":"IF('18 Concrete HVAG Dir-1'!$D$84>'19 Concrete HVAG Dir-2'!$D$84,'18 Concrete HVAG Dir-1'!$D$84*'16 Axle Loads Concrete Dir-1'!UX28*'16 Axle Loads Concrete Dir-1'!$UQ$45/100,'19 Concrete HVAG Dir-2'!$D$84*'17 Axle Loads Concrete Dir-2'!UX28*'17 Axle Loads Concrete Dir-2'!$UQ$45/100)","v":0},"3000000000",null,0,166283.93295297911,0,0.38728447399233695,null,null,"3000000000",0,287744.11566929985,0,0.36179514586021128]
[null,250,300,{"$f":"IF('18 Concrete HVAG Dir-1'!$D$84>'19 Concrete HVAG Dir-2'!$D$84,'18 Concrete HVAG Dir-1'!$D$84*'16 Axle Loads Concrete Dir-1'!UX29*'16 Axle Loads Concrete Dir-1'!$UQ$45/100,'19 Concrete HVAG Dir-2'!$D$84*'17 Axle Loads Concrete Dir-2'!UX29*'17 Axle Loads Concrete Dir-2'!$UQ$45/100)","v":0},"3000000000",null,0,132212.75572984089,0,0.402434428391718,null,null,"3000000000",0,221043.42253011698,0,0.37594799816848135]
[null,260,312,{"$f":"IF('18 Concrete HVAG Dir-1'!$D$84>'19 Concrete HVAG Dir-2'!$D$84,'18 Concrete HVAG Dir-1'!$D$84*'16 Axle Loads Concrete Dir-1'!UX30*'16 Axle Loads Concrete Dir-1'!$UQ$45/100,'19 Concrete HVAG Dir-2'!$D$84*'17 Axle Loads Concrete Dir-2'!UX30*'17 Axle Loads Concrete Dir-2'!$UQ$45/100)","v":0},"3000000000",null,0,106072.03847374377,0,0.41754805652807914,null,null,"3000000000",0,172641.17012483857,0,0.39006691504553637]
[null,270,324,{"$f":"IF('18 Concrete HVAG Dir-1'!$D$84>'19 Concrete HVAG Dir-2'!$D$84,'18 Concrete HVAG Dir-1'!$D$84*'16 Axle Loads Concrete Dir-1'!UX31*'16 Axle Loads Concrete Dir-1'!$UQ$45/100,'19 Concrete HVAG Dir-2'!$D$84*'17 Axle Loads Concrete Dir-2'!UX31*'17 Axle Loads Concrete Dir-2'!$UQ$45/100)","v":0},"3000000000",null,0,85798.042353482815,0,0.43262683843157018,null,null,"3000000000",0,136760.10819639344,0,0.40415327911257559]
[null,280,336,{"$f":"IF('18 Concrete HVAG Dir-1'!$D$84>'19 Concrete HVAG Dir-2'!$D$84,'18 Concrete HVAG Dir-1'!$D$84*'16 Axle Loads Concrete Dir-1'!UX32*'16 Axle Loads Concrete Dir-1'!$UQ$45/100,'19 Concrete HVAG Dir-2'!$D$84*'17 Axle Loads Concrete Dir-2'!UX32*'17 Axle Loads Concrete Dir-2'!$UQ$45/100)","v":0},"3000000000",null,0,69919.320372500646,0,0.44767214125727661,null,null,"3000000000",0,109673.03201543963,0,0.41820836754466501]
[null,290,348,{"$f":"IF('18 Concrete HVAG Dir-1'!$D$84>'19 Concrete HVAG Dir-2'!$D$84,'18 Concrete HVAG Dir-1'!$D$84*'16 Axle Loads Concrete Dir-1'!UX33*'16 Axle Loads Concrete Dir-1'!$UQ$45/100,'19 Concrete HVAG Dir-2'!$D$84*'17 Axle Loads Concrete Dir-2'!UX33*'17 Axle Loads Concrete Dir-2'!$UQ$45/100)","v":0},10574884.193470947,null,0,57371.415515771419,0,0.46268523161857178,null,null,"3000000000",0,88900.930156153801,0,0.43223336359236297]
[null,300,360,{"$f":"IF('18 Concrete HVAG Dir-1'!$D$84>'19 Concrete HVAG Dir-2'!$D$84,'18 Concrete HVAG Dir-1'!$D$84*'16 Axle Loads Concrete Dir-1'!UX34*'16 Axle Loads Concrete Dir-1'!$UQ$45/100,'19 Concrete HVAG Dir-2'!$D$84*'17 Axle Loads Concrete Dir-2'!UX34*'17 Axle Loads Concrete Dir-2'!$UQ$45/100)","v":0},2833213.2474356047,null,0,47374.127039555075,0,0.47766728619377691,null,null,"3000000000",0,72751.463257738927,0,0.44622936649029799]
[null,"Totals",null,{"$f":"SUM(D241:D270)","v":3102450.7379605449},{"$f":"SUM(E241:E270)","v":13408097.440906553},{"$f":"SUM(F246:F263)","v":0},{"$f":"SUM(G241:G270)","v":1.0341502459868483E-3},{"$f":"SUM(H241:H270)","v":4.4559338997770784E+16},{"$f":"SUM(I241:I270)","v":2.5155305635773617},null,null,null,{"$f":"SUM(M241:M270)","v":0},{"$f":"SUM(N241:N270)","v":1.0341502459868483E-3},{"$f":"SUM(O241:O270)","v":4977372999907414},{"$f":"SUM(P241:P270)","v":0.7219184842344456}]
[]
[]
[]
[]
[]
[]
[]
[]
[]
[]
[]
[]
[]
[]
[]
[]
[]
[]
[]
[]
[]
[]
[]
[]
[]
[]
[]
[]
[]
[]
[]
[]
[]
[]
[]
[]
[]
[]
[]
[]
[]
[]
[]
[]
[]
[]
[]
[]
[]
[]
[]
[]
[]
[]
[]
[]
[]
[]
[]
[]
[]
[]
[]
[]
[]
[]
[]
[]
[]
[]
[]
[]
[]
[]
[]
[]
[]
[]
[]
[]
[]
[]
[]
[]
[]
[]
[]
[]
[]
[]
[]
[]
[]
[]
[]
[]
[]
[]
[null,null,null,null,null,null,null,null,null,null,null,null," "]

{"sheet":"22 Concrete Catalogue+Cons","index":23,"n_rows":28,"n_cols":10,"rows_kept":28,"cut":false,"hidden":false,"merged":[[12,4,13,6],[16,1,21,1],[16,2,21,2],[16,3,17,3],[18,3,19,3],[20,3,21,3],[1,4,2,6],[5,1,10,1],[5,2,10,2],[5,3,6,3],[7,3,8,3],[9,3,10,3]]}
[]
[null,null,null,null,"Concrete Shoulders Recommended"]
[]
[null,null,null,"Loads Safety Factor",1.1499999999999999,1.2,1.3]
[null,null,null,"Traffic Class","T1-T4 (0.1-3)","T5-T7 (3-30)","T8-T10 (30-80)"]
[null,"JUCP, JRCP","Foundation Classes","F1 (S3)","200 PCC","215 PCC","230 PCC",null,null,"CB1 = 3.0-6.0 MPa"]
[null,null,null,null,"125 CB2","150 CB1","150 LMC",null,null,"CB2 = 1.5-3.0 MPa"]
[null,null,null,"F2 (S4)","200 PCC","215 PCC","230 PCC",null,null,"PCC = Portland Cement Concrete "]
[null,null,null,null,"125 CB2","150 CB1","150 LMC",null,null,"LMC = Lean Mix Concrete"]
[null,null,null,"F3 (S5), F4 (S6)","195 PCC","210 PCC","230 PCC"]
[null,null,null,null,"125 CB2","150 CB1","150 LMC"]
[]
[null,null,null,null,"Concrete Shoulders Recommended"]
[]
[null,null,null,"Loads Safety Factor",1.05,1.1000000000000001,1.2]
[null,null,null,"Traffic Class","T1-T4 (0.1-3)","T5-T7 (3-30)","T8-T10 (30-80)"]
[null,"Dowelled JUCP,JRCP, & CRCP","Foundation Classes","F1 (S3)","190 PCC","205 PCC","220 PCC"]
[null,null,null,null,"125 C3","150 C3","150 LMC"]
[null,null,null,"F2 (S4)","185 PCC","205 PCC","220 PCC"]
[null,null,null,null,"125 C3","150 C3","150 LMC"]
[null,null,null,"F3 (S5), F4 (S6)","185 PCC","200 PCC","220 PCC"]
[null,null,null,null,"125 C3","150 C3","150 LMC"]
[]
[null,"Assumptions"]
[null,"1. fcf=4.5"]
[null,"2. ESA/HVAG =1.5 - 2.0"]
[null,"3. Proportion of axles SAST = 40%, SADT=20%, TADT =25% , TRDT/TRST =14%, TAST=1%"]
[null,"4. Added 15 mm to the concrete thickness for construction tolerance"]

{"sheet":"23 Table A","index":24,"n_rows":247,"n_cols":22,"rows_kept":247,"cut":false,"hidden":true,"merged":[]}
[null,"Checks"]
[null,null,null,"Max",null,{"$f":"MIN(F8:F1000)","v":50},null,{"$f":"MIN(H8:H1000)","v":100},null,{"$f":"MIN(J8:J1000)","v":125},null,{"$f":"MIN(L8:L1000)","v":125},null,{"$f":"MIN(N8:N1000)","v":100},null,{"$f":"MIN(P8:P1000)","v":100},null,{"$f":"MIN(R8:R1000)","v":0},null,{"$f":"MIN(T8:T1000)","v":1}]
[null,null,null,"Min",null,{"$f":"MAX(F8:F1000)","v":150},null,{"$f":"MAX(H8:H1000)","v":325},null,{"$f":"MAX(J8:J1000)","v":275},null,{"$f":"MAX(L8:L1000)","v":175},null,{"$f":"MAX(N8:N1000)","v":350},null,{"$f":"MAX(P8:P1000)","v":350},null,{"$f":"MAX(R8:R1000)","v":0},null,{"$f":"MAX(T8:T1000)","v":5}]
[]
[]
[]
["Code","Chart","T-Value","S-Value","Surfacing","Thickness","Base 1","Thickness","Base 2","Thickness","Base 3","Thickness","Sub-base 1","Thickness","Capping 1","Thickness","Capping 2","Thickness",null,"Layer Count","T Check = 1","S Check = 1"]
[{"$f":"_xlfn.CONCAT(\"Chart \",B8,\"-\",\"T\",C8,\"-\",\"S\",D8)","v":"Chart 1-T1-S1"},1,1,1,"SD","-","GB1-GB3",175,"-","-","-","-","GS",175,"GC",300,"-","-",null,{"$f":"COUNT(E8:R8)","v":3},{"$f":"IF(D8=D7,C8-C7,1)","v":1},{"$f":"IF(D8=D7,D7-D8+1,1)","v":1}]
["Chart 1-T2-S1",1,2,1,"SD","-","GB1-GB3",225,"-","-","-","-","GS",225,"GC",300,"-","-",null,{"$f":"COUNT(E9:R9)","v":3},{"$f":"IF(D9=D8,C9-C8,1)","v":1},{"$f":"IF(D9=D8,D8-D9+1,1)","v":1}]
["Chart 1-T3-S1",1,3,1,"SD","-","GB1-GB3",200,"-","-","-","-","GS",200,"GC",300,"-","-",null,3,{"$f":"IF(D10=D9,C10-C9,1)","v":1},1]
["Chart 1-T4-S1",1,4,1,"SD","-","GB1-GB3",250,"-","-","-","-","GS",250,"GC",300,"-","-",null,3,1,1]
["Chart 1-T5-S1",1,5,1,"SD","-","GB1-GB3",300,"-","-","-","-","GS",300,"GC",300,"-","-",null,3,1,1]
["Chart 1-T6-S1",1,6,1,"SD","-","GB1-GB3",325,"-","-","-","-","GS",325,"GC",300,"-","-",null,3,1,1]
["Chart 1-T1-S2",1,1,2,"SD","-","GB1-GB3",150,"-","-","-","-","GS",150,"GC",200,"-","-",null,3,1,1]
["Chart 1-T2-S2",1,2,2,"SD","-","GB1-GB3",150,"-","-","-","-","GS",200,"GC",200,"-","-",null,3,1,1]
["Chart 1-T3-S2",1,3,2,"SD","-","GB1-GB3",200,"-","-","-","-","GS",175,"GC",200,"-","-",null,3,1,1]
["Chart 1-T4-S2",1,4,2,"SD","-","GB1-GB3",200,"-","-","-","-","GS",225,"GC",200,"-","-",null,3,1,1]
["Chart 1-T5-S2",1,5,2,"SD","-","GB1-GB3",200,"-","-","-","-","GS",275,"GC",200,"-","-",null,3,1,1]
["Chart 1-T6-S2",1,6,2,"SD","-","GB1-GB3",225,"-","-","-","-","GS",300,"GC",200,"-","-",null,3,1,1]
["Chart 1-T1-S3",1,1,3,"SD","-","GB1-GB3",150,"-","-","-","-","GS",200,"-","-","-","-",null,2,1,1]
["Chart 1-T2-S3",1,2,3,"SD","-","GB1-GB3",150,"-","-","-","-","GS",250,"-","-","-","-",null,2,1,1]
["Chart 1-T3-S3",1,3,3,"SD","-","GB1-GB3",200,"-","-","-","-","GS",225,"-","-","-","-",null,2,1,1]
["Chart 1-T4-S3",1,4,3,"SD","-","GB1-GB3",200,"-","-","-","-","GS",275,"-","-","-","-",null,2,1,1]
["Chart 1-T5-S3",1,5,3,"SD","-","GB1-GB3",200,"-","-","-","-","GS",325,"-","-","-","-",null,2,1,1]
["Chart 1-T6-S3",1,6,3,"SD","-","GB1-GB3",225,"-","-","-","-","GS",350,"-","-","-","-",null,2,1,1]
["Chart 1-T1-S4",1,1,4,"SD","-","GB1-GB3",150,"-","-","-","-","GS",125,"-","-","-","-",null,2,1,1]
["Chart 1-T2-S4",1,2,4,"SD","-","GB1-GB3",150,"-","-","-","-","GS",175,"-","-","-","-",null,2,1,1]
["Chart 1-T3-S4",1,3,4,"SD","-","GB1-GB3",200,"-","-","-","-","GS",150,"-","-","-","-",null,2,1,1]
["Chart 1-T4-S4",1,4,4,"SD","-","GB1-GB3",200,"-","-","-","-","GS",200,"-","-","-","-",null,2,1,1]
["Chart 1-T5-S4",1,5,4,"SD","-","GB1-GB3",200,"-","-","-","-","GS",250,"-","-","-","-",null,2,1,1]
["Chart 1-T6-S4",1,6,4,"SD","-","GB1-GB3",225,"-","-","-","-","GS",275,"-","-","-","-",null,2,1,1]
["Chart 1-T1-S5",1,1,5,"SD","-","GB1-GB3",150,"-","-","-","-","GS",100,"-","-","-","-",null,2,1,1]
["Chart 1-T2-S5",1,2,5,"SD","-","GB1-GB3",150,"-","-","-","-","GS",100,"-","-","-","-",null,2,1,1]
["Chart 1-T3-S5",1,3,5,"SD","-","GB1-GB3",175,"-","-","-","-","GS",100,"-","-","-","-",null,2,1,1]
["Chart 1-T4-S5",1,4,5,"SD","-","GB1-GB3",200,"-","-","-","-","GS",125,"-","-","-","-",null,2,1,1]
["Chart 1-T5-S5",1,5,5,"SD","-","GB1-GB3",225,"-","-","-","-","GS",150,"-","-","-","-",null,2,1,1]
["Chart 1-T6-S5",1,6,5,"SD","-","GB1-GB3",250,"-","-","-","-","GS",175,"-","-","-","-",null,2,1,1]
["Chart 1-T1-S6",1,1,6,"SD","-","GB1-GB3",150,"-","-","-","-","-","-","-","-","-","-",null,1,1,1]
["Chart 1-T2-S6",1,2,6,"SD","-","GB1-GB3",150,"-","-","-","-","-","-","-","-","-","-",null,1,1,1]
["Chart 1-T3-S6",1,3,6,"SD","-","GB1-GB3",175,"-","-","-","-","-","-","-","-","-","-",null,1,1,1]
["Chart 1-T4-S6",1,4,6,"SD","-","GB1-GB3",200,"-","-","-","-","-","-","-","-","-","-",null,1,1,1]
["Chart 1-T5-S6",1,5,6,"SD","-","GB1-GB3",225,"-","-","-","-","-","-","-","-","-","-",null,1,1,1]
["Chart 1-T6-S6",1,6,6,"SD","-","GB1-GB3",250,"-","-","-","-","-","-","-","-","-","-",null,1,1,1]
["Chart 2-T1-S1",2,1,1,"SD","-","GB1-GB3",150,"CB2",150,"-","-","-","-","GC",300,"-","-",null,3,1,1]
["Chart 2-T2-S1",2,2,1,"SD","-","GB1-GB3",150,"CB2",175,"-","-","-","-","GC",300,"-","-",null,3,1,1]
["Chart 2-T3-S1",2,3,1,"SD","-","GB1-GB3",150,"CB2",200,"-","-","-","-","GC",300,"-","-",null,3,1,1]
["Chart 2-T4-S1",2,4,1,"SD","-","GB1-GB3",150,"CB2",225,"-","-","-","-","GC",300,"-","-",null,3,1,1]
["Chart 2-T5-S1",2,5,1,"SD","-","GB1-GB3",150,"CB2",275,"-","-","-","-","GC",300,"-","-",null,3,1,1]
["Chart 2-T6-S1",2,6,1,"SD","-","GB1-GB3",150,"CB1",125,"CB2",150,"-","-","GC",300,"-","-",null,4,1,1]
["Chart 2-T7-S1",2,7,1,"SD","-","GB1-GB3",150,"CB2",125,"CB2",175,"-","-","GC",200,"-","-",null,4,1,1]
["Chart 2-T1-S2",2,1,2,"SD","-","GB1-GB3",125,"CB2",150,"-","-","-","-","GC",200,"-","-",null,3,1,1]
["Chart 2-T2-S2",2,2,2,"SD","-","GB1-GB3",150,"CB2",150,"-","-","-","-","GC",200,"-","-",null,3,1,1]
["Chart 2-T3-S2",2,3,2,"SD","-","GB1-GB3",150,"CB2",175,"-","-","-","-","GC",200,"-","-",null,3,1,1]
["Chart 2-T4-S2",2,4,2,"SD","-","GB1-GB3",150,"CB2",200,"-","-","-","-","GC",200,"-","-",null,3,1,1]
["Chart 2-T5-S2",2,5,2,"SD","-","GB1-GB3",150,"CB2",250,"-","-","-","-","GC",200,"-","-",null,3,1,1]
["Chart 2-T6-S2",2,6,2,"SD","-","GB1-GB3",150,"CB1",125,"CB2",125,"-","-","GC",200,"-","-",null,4,1,1]
["Chart 2-T7-S2",2,7,2,"SD","-","GB1-GB3",150,"CB2",125,"CB2",175,"-","-","GC",200,"-","-",null,4,1,1]
["Chart 2-T1-S3",2,1,3,"SD","-","GB1-GB3",125,"CB2",150,"-","-","-","-","GC",100,"-","-",null,3,1,1]
["Chart 2-T2-S3",2,2,3,"SD","-","GB1-GB3",125,"CB2",150,"-","-","-","-","GC",125,"-","-",null,3,1,1]
["Chart 2-T3-S3",2,3,3,"SD","-","GB1-GB3",150,"CB2",150,"-","-","-","-","GC",125,"-","-",null,3,1,1]
["Chart 2-T4-S3",2,4,3,"SD","-","GB1-GB3",150,"CB2",175,"-","-","-","-","GC",150,"-","-",null,3,1,1]
["Chart 2-T5-S3",2,5,3,"SD","-","GB1-GB3",150,"CB2",225,"-","-","-","-","GC",150,"-","-",null,3,1,1]
["Chart 2-T6-S3",2,6,3,"SD","-","GB1-GB3",150,"CB1",125,"CB2",125,"-","-","GC",150,"-","-",null,4,1,1]
["Chart 2-T7-S3",2,7,3,"SD","-","GB1-GB3",150,"CB2",125,"CB2",150,"-","-","GC",150,"-","-",null,4,1,1]
["Chart 2-T1-S4",2,1,4,"SD","-","GB1-GB3",125,"CB2",150,"-","-","-","-","-","-","-","-",null,2,1,1]
["Chart 2-T2-S4",2,2,4,"SD","-","GB1-GB3",125,"CB2",175,"-","-","-","-","-","-","-","-",null,2,1,1]
["Chart 2-T3-S4",2,3,4,"SD","-","GB1-GB3",150,"CB2",175,"-","-","-","-","-","-","-","-",null,2,1,1]
["Chart 2-T4-S4",2,4,4,"SD","-","GB1-GB3",150,"CB2",200,"-","-","-","-","-","-","-","-",null,2,1,1]
["Chart 2-T5-S4",2,5,4,"SD","-","GB1-GB3",150,"CB2",250,"-","-","-","-","-","-","-","-",null,2,1,1]
["Chart 2-T6-S4",2,6,4,"SD","-","GB1-GB3",150,"CB1",125,"CB2",150,"-","-","-","-","-","-",null,3,1,1]
["Chart 2-T7-S4",2,7,4,"SD","-","GB1-GB3",150,"CB2",125,"CB2",175,"-","-","-","-","-","-",null,3,1,1]
[{"$f":"_xlfn.CONCAT(\"Chart \",B72,\"-\",\"T\",C72,\"-\",\"S\",D72)","v":"Chart 2-T1-S5"},2,1,5,"SD","-","GB1-GB3",125,"CB2",125,"-","-","-","-","-","-","-","-",null,2,1,1]
["Chart 2-T2-S5",2,2,5,"SD","-","GB1-GB3",125,"CB2",125,"-","-","-","-","-","-","-","-",null,{"$f":"COUNT(E73:R73)","v":2},1,{"$f":"IF(D73=D72,D72-D73+1,1)","v":1}]
["Chart 2-T3-S5",2,3,5,"SD","-","GB1-GB3",150,"CB2",125,"-","-","-","-","-","-","-","-",null,2,{"$f":"IF(D74=D73,C74-C73,1)","v":1},1]
["Chart 2-T4-S5",2,4,5,"SD","-","GB1-GB3",150,"CB2",150,"-","-","-","-","-","-","-","-",null,2,1,1]
["Chart 2-T5-S5",2,5,5,"SD","-","GB1-GB3",150,"CB2",175,"-","-","-","-","-","-","-","-",null,2,1,1]
["Chart 2-T6-S5",2,6,5,"SD","-","GB1-GB3",150,"CB2",200,"-","-","-","-","-","-","-","-",null,2,1,1]
["Chart 2-T7-S5",2,7,5,"SD","-","GB1-GB3",150,"CB2",250,"-","-","-","-","-","-","-","-",null,2,1,1]
["Chart 2-T1-S6",2,1,6,"SD","-","GB1-GB3",150,"-","-","-","-","-","-","-","-","-","-",null,1,1,1]
["Chart 2-T2-S6",2,2,6,"SD","-","GB1-GB3",150,"-","-","-","-","-","-","-","-","-","-",null,1,1,1]
["Chart 2-T3-S6",2,3,6,"SD","-","GB1-GB3",175,"-","-","-","-","-","-","-","-","-","-",null,1,1,1]
["Chart 2-T4-S6",2,4,6,"SD","-","GB1-GB3",200,"-","-","-","-","-","-","-","-","-","-",null,1,1,1]
["Chart 2-T5-S6",2,5,6,"SD","-","GB1-GB3",225,"-","-","-","-","-","-","-","-","-","-",null,1,1,1]
["Chart 2-T6-S6",2,6,6,"SD","-","GB1-GB3",125,"CB2",150,"-","-","-","-","-","-","-","-",null,2,1,1]
["Chart 2-T7-S6",2,7,6,"SD","-","GB1-GB3",150,"CB2",175,"-","-","-","-","-","-","-","-",null,2,1,1]
["Chart 3-T3-S1",3,3,1,"FBS",50,"GB1-GB3",175,"-","-","-","-","GS",200,"GC",300,"-","-",null,4,1,1]
["Chart 3-T4-S1",3,4,1,"FBS",50,"GB1-GB3",175,"-","-","-","-","GS",250,"GC",300,"-","-",null,4,1,1]
["Chart 3-T5-S1",3,5,1,"FBS",50,"GB1-GB3",175,"-","-","-","-","GS",300,"GC",300,"-","-",null,4,1,1]
["Chart 3-T6-S1",3,6,1,"FBS",50,"GB1-GB3",200,"-","-","-","-","GS",325,"GC",300,"-","-",null,4,1,1]
["Chart 3-T3-S2",3,3,2,"FBS",50,"GB1-GB3",175,"-","-","-","-","GS",175,"GC",200,"-","-",null,4,1,1]
["Chart 3-T4-S2",3,4,2,"FBS",50,"GB1-GB3",175,"-","-","-","-","GS",225,"GC",200,"-","-",null,4,1,1]
["Chart 3-T5-S2",3,5,2,"FBS",50,"GB1-GB3",175,"-","-","-","-","GS",275,"GC",200,"-","-",null,4,1,1]
["Chart 3-T6-S2",3,6,2,"FBS",50,"GB1-GB3",200,"-","-","-","-","GS",300,"GC",200,"-","-",null,4,1,1]
["Chart 3-T3-S3",3,3,3,"FBS",50,"GB1-GB3",175,"-","-","-","-","GS",225,"-","-","-","-",null,3,1,1]
["Chart 3-T4-S3",3,4,3,"FBS",50,"GB1-GB3",175,"-","-","-","-","GS",275,"-","-","-","-",null,3,1,1]
["Chart 3-T5-S3",3,5,3,"FBS",50,"GB1-GB3",175,"-","-","-","-","GS",325,"-","-","-","-",null,3,1,1]
["Chart 3-T6-S3",3,6,3,"FBS",50,"GB1-GB3",200,"-","-","-","-","GS",350,"-","-","-","-",null,3,1,1]
["Chart 3-T3-S4",3,3,4,"FBS",50,"GB1-GB3",175,"-","-","-","-","GS",150,"-","-","-","-",null,3,1,1]
["Chart 3-T4-S4",3,4,4,"FBS",50,"GB1-GB3",175,"-","-","-","-","GS",200,"-","-","-","-",null,3,1,1]
["Chart 3-T5-S4",3,5,4,"FBS",50,"GB1-GB3",175,"-","-","-","-","GS",250,"-","-","-","-",null,3,1,1]
["Chart 3-T6-S4",3,6,4,"FBS",50,"GB1-GB3",200,"-","-","-","-","GS",275,"-","-","-","-",null,3,1,1]
["Chart 3-T3-S5",3,3,5,"FBS",50,"GB1-GB3",150,"-","-","-","-","GS",100,"-","-","-","-",null,3,1,1]
["Chart 3-T4-S5",3,4,5,"FBS",50,"GB1-GB3",175,"-","-","-","-","GS",125,"-","-","-","-",null,3,1,1]
["Chart 3-T5-S5",3,5,5,"FBS",50,"GB1-GB3",175,"-","-","-","-","GS",150,"-","-","-","-",null,3,1,1]
["Chart 3-T6-S5",3,6,5,"FBS",50,"GB1-GB3",200,"-","-","-","-","GS",175,"-","-","-","-",null,3,1,1]
["Chart 3-T3-S6",3,3,6,"FBS",50,"GB1-GB3",150,"-","-","-","-","-","-","-","-","-","-",null,2,1,1]
["Chart 3-T4-S6",3,4,6,"FBS",50,"GB1-GB3",175,"-","-","-","-","-","-","-","-","-","-",null,2,1,1]
["Chart 3-T5-S6",3,5,6,"FBS",50,"GB1-GB3",200,"-","-","-","-","-","-","-","-","-","-",null,2,1,1]
["Chart 3-T6-S6",3,6,6,"FBS",50,"GB1-GB3",225,"-","-","-","-","-","-","-","-","-","-",null,2,1,1]
["Chart 4-T3-S1",4,3,1,"FBS",50,"GB1-GB3",150,"CB2",175,"-","-","-","-","GC",300,"-","-",null,4,1,1]
["Chart 4-T4-S1",4,4,1,"FBS",50,"GB1-GB3",150,"CB2",200,"-","-","-","-","GC",300,"-","-",null,4,1,1]
["Chart 4-T5-S1",4,5,1,"FBS",50,"GB1-GB3",150,"CB2",225,"-","-","-","-","GC",300,"-","-",null,4,1,1]
["Chart 4-T6-S1",4,6,1,"FBS",50,"GB1-GB3",150,"CB1",125,"CB2",125,"-","-","GC",300,"-","-",null,5,1,1]
["Chart 4-T7-S1",4,7,1,"FBS",50,"GB1-GB3",150,"CB1",125,"CB2",150,"-","-","GC",300,"-","-",null,5,1,1]
["Chart 4-T8-S1",4,8,1,"FBS",50,"GB1-GB3",150,"CB1",150,"CB2",150,"-","-","GC",200,"-","-",null,5,1,1]
["Chart 4-T3-S2",4,3,2,"FBS",50,"GB1-GB3",150,"CB2",175,"-","-","-","-","GC",200,"-","-",null,4,1,1]
["Chart 4-T4-S2",4,4,2,"FBS",50,"GB1-GB3",150,"CB2",200,"-","-","-","-","GC",200,"-","-",null,4,1,1]
["Chart 4-T5-S2",4,5,2,"FBS",50,"GB1-GB3",150,"CB2",225,"-","-","-","-","GC",200,"-","-",null,4,1,1]
["Chart 4-T6-S2",4,6,2,"FBS",50,"GB1-GB3",150,"CB1",125,"CB2",125,"-","-","GC",200,"-","-",null,5,1,1]
["Chart 4-T7-S2",4,7,2,"FBS",50,"GB1-GB3",150,"CB1",125,"CB2",150,"-","-","GC",200,"-","-",null,5,1,1]
["Chart 4-T8-S2",4,8,2,"FBS",50,"GB1-GB3",150,"CB1",150,"CB2",150,"-","-","GC",200,"-","-",null,5,1,1]
["Chart 4-T3-S3",4,3,3,"FBS",50,"GB1-GB3",150,"CB2",150,"-","-","-","-","GC",125,"-","-",null,4,1,1]
["Chart 4-T4-S3",4,4,3,"FBS",50,"GB1-GB3",150,"CB2",150,"-","-","-","-","GC",150,"-","-",null,4,1,1]
["Chart 4-T5-S3",4,5,3,"FBS",50,"GB1-GB3",150,"CB2",200,"-","-","-","-","GC",150,"-","-",null,4,1,1]
["Chart 4-T6-S3",4,6,3,"FBS",50,"GB1-GB3",150,"CB2",250,"-","-","-","-","GC",150,"-","-",null,4,1,1]
["Chart 4-T7-S3",4,7,3,"FBS",50,"GB1-GB3",150,"CB1",125,"CB2",125,"-","-","GC",150,"-","-",null,5,1,1]
["Chart 4-T8-S3",4,8,3,"FBS",50,"GB1-GB3",150,"CB1",150,"CB2",125,"-","-","GC",150,"-","-",null,5,1,1]
["Chart 4-T3-S4",4,3,4,"FBS",50,"GB1-GB3",150,"CB2",150,"-","-","-","-","-","-","-","-",null,3,1,1]
["Chart 4-T4-S4",4,4,4,"FBS",50,"GB1-GB3",150,"CB2",175,"-","-","-","-","-","-","-","-",null,3,1,1]
["Chart 4-T5-S4",4,5,4,"FBS",50,"GB1-GB3",150,"CB2",225,"-","-","-","-","-","-","-","-",null,3,1,1]
["Chart 4-T6-S4",4,6,4,"FBS",50,"GB1-GB3",150,"CB2",250,"-","-","-","-","-","-","-","-",null,3,1,1]
["Chart 4-T7-S4",4,7,4,"FBS",50,"GB1-GB3",150,"CB1",125,"CB2",150,"-","-","-","-","-","-",null,4,1,1]
["Chart 4-T8-S4",4,8,4,"FBS",50,"GB1-GB3",150,"CB1",150,"CB2",150,"-","-","-","-","-","-",null,4,1,1]
["Chart 4-T3-S5",4,3,5,"FBS",50,"GB1-GB3",125,"CB2",125,"-","-","-","-","-","-","-","-",null,3,1,1]
["Chart 4-T4-S5",4,4,5,"FBS",50,"GB1-GB3",150,"CB2",125,"-","-","-","-","-","-","-","-",null,3,1,1]
[{"$f":"_xlfn.CONCAT(\"Chart \",B136,\"-\",\"T\",C136,\"-\",\"S\",D136)","v":"Chart 4-T5-S5"},4,5,5,"FBS",50,"GB1-GB3",150,"CB2",150,"-","-","-","-","-","-","-","-",null,3,1,1]
["Chart 4-T6-S5",4,6,5,"FBS",50,"GB1-GB3",150,"CB2",175,"-","-","-","-","-","-","-","-",null,{"$f":"COUNT(E137:R137)","v":3},1,{"$f":"IF(D137=D136,D136-D137+1,1)","v":1}]
["Chart 4-T7-S5",4,7,5,"FBS",50,"GB1-GB3",150,"CB2",225,"-","-","-","-","-","-","-","-",null,3,{"$f":"IF(D138=D137,C138-C137,1)","v":1},1]
["Chart 4-T8-S5",4,8,5,"FBS",50,"GB1-GB3",150,"CB1",125,"CB2",125,"-","-","-","-","-","-",null,4,1,1]
["Chart 4-T3-S6",4,3,6,"FBS",50,"GB1-GB3",150,"-","-","-","-","-","-","-","-","-","-",null,2,1,1]
["Chart 4-T4-S6",4,4,6,"FBS",50,"GB1-GB3",175,"-","-","-","-","-","-","-","-","-","-",null,2,1,1]
["Chart 4-T5-S6",4,5,6,"FBS",50,"GB1-GB3",200,"-","-","-","-","-","-","-","-","-","-",null,2,1,1]
["Chart 4-T6-S6",4,6,6,"FBS",50,"GB1-GB3",100,"CB2",150,"-","-","-","-","-","-","-","-",null,3,1,1]
["Chart 4-T7-S6",4,7,6,"FBS",50,"GB1-GB3",150,"CB2",150,"-","-","-","-","-","-","-","-",null,3,1,1]
["Chart 4-T8-S6",4,8,6,"FBS",50,"GB1-GB3",150,"CB1",150,"-","-","-","-","-","-","-","-",null,3,1,1]
["Chart 5-T6-S1",5,6,1,"BS",50,"GB1-GB3",200,"-","-","-","-","GS",225,"GC",300,"-","-",null,4,1,1]
["Chart 5-T7-S1",5,7,1,"BS",50,"GB1-GB3",225,"-","-","-","-","GS",225,"GC",300,"-","-",null,4,1,1]
["Chart 5-T8-S1",5,8,1,"BS",50,"GB1-GB3",250,"-","-","-","-","GS",250,"GC",200,"-","-",null,4,1,1]
["Chart 5-T6-S2",5,6,2,"BS",50,"GB1-GB3",220,"-","-","-","-","GS",225,"GC",200,"-","-",null,4,1,1]
["Chart 5-T7-S2",5,7,2,"BS",50,"GB1-GB3",225,"-","-","-","-","GS",225,"GC",200,"-","-",null,4,1,1]
["Chart 5-T8-S2",5,8,2,"BS",50,"GB1-GB3",250,"-","-","-","-","GS",250,"GC",200,"-","-",null,4,1,1]
["Chart 5-T6-S3",5,6,3,"BS",50,"GB1-GB3",200,"-","-","-","-","GS",250,"-","-","-","-",null,3,1,1]
["Chart 5-T7-S3",5,7,3,"BS",50,"GB1-GB3",225,"-","-","-","-","GS",250,"-","-","-","-",null,3,1,1]
["Chart 5-T8-S3",5,8,3,"BS",50,"GB1-GB3",250,"-","-","-","-","GS",275,"-","-","-","-",null,3,1,1]
["Chart 5-T6-S4",5,6,4,"BS",50,"GB1-GB3",200,"-","-","-","-","GS",175,"-","-","-","-",null,3,1,1]
["Chart 5-T7-S4",5,7,4,"BS",50,"GB1-GB3",225,"-","-","-","-","GS",175,"-","-","-","-",null,3,1,1]
["Chart 5-T8-S4",5,8,4,"BS",50,"GB1-GB3",250,"-","-","-","-","GS",175,"-","-","-","-",null,3,1,1]
["Chart 5-T6-S5",5,6,5,"BS",50,"GB1-GB3",200,"-","-","-","-","GS",100,"-","-","-","-",null,3,1,1]
["Chart 5-T7-S5",5,7,5,"BS",50,"GB1-GB3",225,"-","-","-","-","GS",100,"-","-","-","-",null,3,1,1]
["Chart 5-T8-S5",5,8,5,"BS",50,"GB1-GB3",250,"-","-","-","-","GS",100,"-","-","-","-",null,3,1,1]
["Chart 5-T6-S6",5,6,6,"BS",50,"GB1-GB3",200,"-","-","-","-","-","-","-","-","-","-",null,2,1,1]
["Chart 5-T7-S6",5,7,6,"BS",50,"GB1-GB3",225,"-","-","-","-","-","-","-","-","-","-",null,2,1,1]
["Chart 5-T8-S6",5,8,6,"BS",50,"GB1-GB3",250,"-","-","-","-","-","-","-","-","-","-",null,2,1,1]
["Chart 6-T6-S1",6,6,1,"BS",100,"GB1-GB3",150,"CB2",200,"-","-","-","-","GC",350,"-","-",null,4,1,1]
["Chart 6-T7-S1",6,7,1,"BS",125,"GB1-GB3",150,"CB2",250,"-","-","-","-","GC",350,"-","-",null,4,1,1]
["Chart 6-T8-S1",6,8,1,"BS",150,"GB1-GB3",150,"CB1",125,"CB2",125,"-","-","GC",350,"-","-",null,5,1,1]
["Chart 6-T6-S2",6,6,2,"BS",100,"GB1-GB3",150,"CB2",200,"-","-","-","-","GC",200,"-","-",null,4,1,1]
["Chart 6-T7-S2",6,7,2,"BS",125,"GB1-GB3",150,"CB2",250,"-","-","-","-","GC",200,"-","-",null,4,1,1]
["Chart 6-T8-S2",6,8,2,"BS",150,"GB1-GB3",150,"CB1",125,"CB2",125,"-","-","GC",200,"-","-",null,5,1,1]
["Chart 6-T6-S3",6,6,3,"BS",100,"GB1-GB3",150,"CB2",175,"-","-","-","-","GC",125,"-","-",null,4,1,1]
["Chart 6-T7-S3",6,7,3,"BS",125,"GB1-GB3",150,"CB2",200,"-","-","-","-","GC",125,"-","-",null,4,1,1]
["Chart 6-T8-S3",6,8,3,"BS",150,"GB1-GB3",150,"CB2",225,"-","-","-","-","GC",125,"-","-",null,4,1,1]
["Chart 6-T6-S4",6,6,4,"BS",100,"GB1-GB3",150,"CB2",175,"-","-","-","-","-","-","-","-",null,3,1,1]
["Chart 6-T7-S4",6,7,4,"BS",125,"GB1-GB3",150,"CB2",200,"-","-","-","-","-","-","-","-",null,3,1,1]
["Chart 6-T8-S4",6,8,4,"BS",150,"GB1-GB3",150,"CB2",225,"-","-","-","-","-","-","-","-",null,3,1,1]
["Chart 6-T6-S5",6,6,5,"BS",100,"GB1-GB3",150,"CB2",150,"-","-","-","-","-","-","-","-",null,3,1,1]
["Chart 6-T7-S5",6,7,5,"BS",125,"GB1-GB3",150,"CB2",150,"-","-","-","-","-","-","-","-",null,3,1,1]
["Chart 6-T8-S5",6,8,5,"BS",150,"GB1-GB3",150,"CB2",150,"-","-","-","-","-","-","-","-",null,3,1,1]
["Chart 6-T6-S6",6,6,6,"BS",100,"GB1-GB3",100,"CB2",150,"-","-","-","-","-","-","-","-",null,3,1,1]
["Chart 6-T7-S6",6,7,6,"BS",125,"GB1-GB3",100,"CB2",150,"-","-","-","-","-","-","-","-",null,3,1,1]
["Chart 6-T8-S6",6,8,6,"BS",150,"GB1-GB3",100,"CB2",150,"-","-","-","-","-","-","-","-",null,3,1,1]
["Chart 7-T4-S1",7,4,1,"SD","-","RB",150,"-","-","-","-","GS",200,"GC",350,"-","-",null,3,1,1]
["Chart 7-T5-S1",7,5,1,"FBS",50,"RB",125,"-","-","-","-","GS",225,"GC",350,"-","-",null,4,1,1]
["Chart 7-T6-S1",7,6,1,"FBS",50,"RB",150,"-","-","-","-","GS",225,"GC",350,"-","-",null,4,1,1]
["Chart 7-T7-S1",7,7,1,"FBS",50,"RB",175,"-","-","-","-","GS",225,"GC",350,"-","-",null,4,1,1]
["Chart 7-T8-S1",7,8,1,"FBS",50,"RB",200,"-","-","-","-","GS",250,"GC",350,"-","-",null,4,1,1]
["Chart 7-T4-S2",7,4,2,"SD","-","RB",150,"-","-","-","-","GS",200,"GC",200,"-","-",null,3,1,1]
["Chart 7-T5-S2",7,5,2,"FBS",50,"RB",125,"-","-","-","-","GS",225,"GC",200,"-","-",null,4,1,1]
["Chart 7-T6-S2",7,6,2,"FBS",50,"RB",150,"-","-","-","-","GS",225,"GC",200,"-","-",null,4,1,1]
["Chart 7-T7-S2",7,7,2,"FBS",50,"RB",175,"-","-","-","-","GS",225,"GC",200,"-","-",null,4,1,1]
["Chart 7-T8-S2",7,8,2,"FBS",50,"RB",200,"-","-","-","-","GS",250,"GC",200,"-","-",null,4,1,1]
["Chart 7-T4-S3",7,4,3,"SD","-","RB",150,"-","-","-","-","GS",250,"-","-","-","-",null,2,1,1]
["Chart 7-T5-S3",7,5,3,"FBS",50,"RB",125,"-","-","-","-","GS",250,"-","-","-","-",null,3,1,1]
["Chart 7-T6-S3",7,6,3,"FBS",50,"RB",150,"-","-","-","-","GS",275,"-","-","-","-",null,3,1,1]
["Chart 7-T7-S3",7,7,3,"FBS",50,"RB",175,"-","-","-","-","GS",275,"-","-","-","-",null,3,1,1]
["Chart 7-T8-S3",7,8,3,"FBS",50,"RB",200,"-","-","-","-","GS",275,"-","-","-","-",null,3,1,1]
["Chart 7-T4-S4",7,4,4,"SD","-","RB",150,"-","-","-","-","GS",175,"-","-","-","-",null,2,1,1]
["Chart 7-T5-S4",7,5,4,"FBS",50,"RB",125,"-","-","-","-","GS",200,"-","-","-","-",null,3,1,1]
["Chart 7-T6-S4",7,6,4,"FBS",50,"RB",150,"-","-","-","-","GS",200,"-","-","-","-",null,3,1,1]
[{"$f":"_xlfn.CONCAT(\"Chart \",B200,\"-\",\"T\",C200,\"-\",\"S\",D200)","v":"Chart 7-T7-S4"},7,7,4,"FBS",50,"RB",175,"-","-","-","-","GS",200,"-","-","-","-",null,3,1,1]
["Chart 7-T8-S4",7,8,4,"FBS",50,"RB",200,"-","-","-","-","GS",200,"-","-","-","-",null,{"$f":"COUNT(E201:R201)","v":3},1,{"$f":"IF(D201=D200,D200-D201+1,1)","v":1}]
["Chart 7-T4-S5",7,4,5,"SD","-","RB",150,"-","-","-","-","GS",125,"-","-","-","-",null,2,{"$f":"IF(D202=D201,C202-C201,1)","v":1},1]
["Chart 7-T5-S5",7,5,5,"FBS",50,"RB",125,"-","-","-","-","GS",125,"-","-","-","-",null,3,1,1]
["Chart 7-T6-S5",7,6,5,"FBS",50,"RB",150,"-","-","-","-","GS",125,"-","-","-","-",null,3,1,1]
["Chart 7-T7-S5",7,7,5,"FBS",50,"RB",175,"-","-","-","-","GS",125,"-","-","-","-",null,3,1,1]
["Chart 7-T8-S5",7,8,5,"FBS",50,"RB",200,"-","-","-","-","GS",125,"-","-","-","-",null,3,1,1]
["Chart 7-T4-S6",7,4,6,"SD","-","RB",150,"-","-","-","-","-","-","-","-","-","-",null,1,1,1]
["Chart 7-T5-S6",7,5,6,"FBS",50,"RB",125,"-","-","-","-","-","-","-","-","-","-",null,2,1,1]
["Chart 7-T6-S6",7,6,6,"FBS",50,"RB",150,"-","-","-","-","-","-","-","-","-","-",null,2,1,1]
["Chart 7-T7-S6",7,7,6,"FBS",50,"RB",175,"-","-","-","-","-","-","-","-","-","-",null,2,1,1]
["Chart 7-T8-S6",7,8,6,"FBS",50,"RB",200,"-","-","-","-","-","-","-","-","-","-",null,2,1,1]
["Chart 8-T1-S1",8,1,1,"SD","-","CB2",150,"-","-","-","-","CS",150,"GC",350,"-","-",null,3,1,1]
["Chart 8-T2-S1",8,2,1,"SD","-","CB2",150,"-","-","-","-","CS",175,"GC",350,"-","-",null,3,1,1]
["Chart 8-T3-S1",8,3,1,"SD","-","CB2",175,"-","-","-","-","CS",176,"GC",350,"-","-",null,3,1,1]
["Chart 8-T4-S1",8,4,1,"SD","-","CB2",200,"-","-","-","-","CS",200,"GC",350,"-","-",null,3,1,1]
["Chart 8-T5-S1",8,5,1,"SD","-","CB2",225,"-","-","-","-","CS",225,"GC",350,"-","-",null,3,1,1]
["Chart 8-T6-S1",8,6,1,"SD","-","CB2",250,"-","-","-","-","CS",250,"GC",350,"-","-",null,3,1,1]
["Chart 8-T1-S2",8,1,2,"SD","-","CB2",150,"-","-","-","-","CS",150,"GC",225,"-","-",null,3,1,1]
["Chart 8-T2-S2",8,2,2,"SD","-","CB2",150,"-","-","-","-","CS",175,"GC",225,"-","-",null,3,1,1]
["Chart 8-T3-S2",8,3,2,"SD","-","CB2",175,"-","-","-","-","CS",175,"GC",225,"-","-",null,3,1,1]
["Chart 8-T4-S2",8,4,2,"SD","-","CB2",200,"-","-","-","-","CS",175,"GC",225,"-","-",null,3,1,1]
["Chart 8-T5-S2",8,5,2,"SD","-","CB2",200,"-","-","-","-","CS",225,"GC",225,"-","-",null,3,1,1]
["Chart 8-T6-S2",8,6,2,"SD","-","CB2",200,"-","-","-","-","CS",275,"GC",225,"-","-",null,3,1,1]
["Chart 8-T1-S3",8,1,3,"SD","-","CB2",150,"-","-","-","-","CS",150,"GC",125,"-","-",null,3,1,1]
["Chart 8-T2-S3",8,2,3,"SD","-","CB2",150,"-","-","-","-","CS",150,"GC",125,"-","-",null,3,1,1]
["Chart 8-T3-S3",8,3,3,"SD","-","CB2",175,"-","-","-","-","CS",150,"GC",125,"-","-",null,3,1,1]
["Chart 8-T4-S3",8,4,3,"SD","-","CB2",200,"-","-","-","-","CS",175,"GC",125,"-","-",null,3,1,1]
["Chart 8-T5-S3",8,5,3,"SD","-","CB2",200,"-","-","-","-","CS",200,"GC",125,"-","-",null,3,1,1]
["Chart 8-T6-S3",8,6,3,"SD","-","CB2",200,"-","-","-","-","CS",225,"GC",125,"-","-",null,3,1,1]
["Chart 8-T1-S4",8,1,4,"SD","-","CB2",150,"-","-","-","-","CS",150,"-","-","-","-",null,2,1,1]
["Chart 8-T2-S4",8,2,4,"SD","-","CB2",150,"-","-","-","-","CS",150,"-","-","-","-",null,2,1,1]
["Chart 8-T3-S4",8,3,4,"SD","-","CB2",175,"-","-","-","-","CS",150,"-","-","-","-",null,2,1,1]
["Chart 8-T4-S4",8,4,4,"SD","-","CB2",200,"-","-","-","-","CS",100,"GC",100,"-","-",null,3,1,1]
["Chart 8-T5-S4",8,5,4,"SD","-","CB2",200,"-","-","-","-","CS",150,"GC",100,"-","-",null,3,1,1]
["Chart 8-T6-S4",8,6,4,"SD","-","CB2",200,"-","-","-","-","CS",200,"GC",100,"-","-",null,3,1,1]
["Chart 8-T1-S5",8,1,5,"SD","-","CB2",150,"-","-","-","-","CS",100,"-","-","-","-",null,2,1,1]
["Chart 8-T2-S5",8,2,5,"SD","-","CB2",150,"-","-","-","-","CS",100,"-","-","-","-",null,2,1,1]
["Chart 8-T3-S5",8,3,5,"SD","-","CB2",175,"-","-","-","-","CS",100,"-","-","-","-",null,2,1,1]
["Chart 8-T4-S5",8,4,5,"SD","-","CB2",175,"-","-","-","-","CS",150,"-","-","-","-",null,2,1,1]
["Chart 8-T5-S5",8,5,5,"SD","-","CB2",200,"-","-","-","-","CS",175,"-","-","-","-",null,2,1,1]
["Chart 8-T6-S5",8,6,5,"SD","-","CB2",200,"-","-","-","-","CS",200,"-","-","-","-",null,2,1,1]
["Chart 8-T1-S6",8,1,6,"SD","-","CB2",150,"-","-","-","-","-","-","-","-","-","-",null,1,1,1]
["Chart 8-T2-S6",8,2,6,"SD","-","CB2",150,"-","-","-","-","-","-","-","-","-","-",null,1,1,1]
["Chart 8-T3-S6",8,3,6,"SD","-","CB2",175,"-","-","-","-","-","-","-","-","-","-",null,1,1,1]
["Chart 8-T4-S6",8,4,6,"SD","-","CB2",200,"-","-","-","-","-","-","-","-","-","-",null,1,1,1]
["Chart 8-T5-S6",8,5,6,"SD","-","CB2",225,"-","-","-","-","-","-","-","-","-","-",null,1,1,1]
["Chart 8-T6-S6",8,6,6,"SD","-","CB2",250,"-","-","-","-","-","-","-","-","-","-",null,1,1,1]

{"sheet":"24 Table B","index":25,"n_rows":161,"n_cols":14,"rows_kept":161,"cut":false,"hidden":true,"merged":[]}
[]
[]
[]
[]
[]
[]
["Code","Chart","T-Value","F-Value","T-Range","Surfacing","Wearing Course","Binder Course","Roadbase","Sub-base"]
[{"$f":"_xlfn.CONCAT(\"Chart \",B8,\"-\",\"T\",C8,\"-\",D8)","v":"Chart A1-T1-F1 (S3)"},"A1",1,"F1 (S3)","<0.3","DSD/DBST","-","-","150 GB3","150 GS2"]
[{"$f":"_xlfn.CONCAT(\"Chart \",B9,\"-\",\"T\",C9,\"-\",D9)","v":"Chart A1-T2-F1 (S3)"},"A1",2,"F1 (S3)","0.3-0.7","DSD/DBST","-","-","150 GB3","175 GS2"]
["Chart A1-T3-F1 (S3)","A1",3,"F1 (S3)","0.7-1.5","DSD/DBST","-","-","175 GB3","175 GS2"]
["Chart A1-T4-F1 (S3)","A1",4,"F1 (S3)","1.5-3.0","DSD/DBST","-","-","200 GB2","200 GS2"]
["Chart A1-T5-F1 (S3)","A1",5,"F1 (S3)","3.0-6.0","DSD/DBST","-","-","200 GB1","250 GS2",null,null,null,{"$f":"IF(D12=D11,C12-C11,1)","v":1}]
["Chart A1-T6-F1 (S3)","A1",6,"F1 (S3)","6.0-10","DSD/DBST","-","-","225 GB1","250 GS2"]
["Chart A1-T1-F2 (S4)","A1",1,"F2 (S4)","<0.3","DSD/DBST","-","-","150 GB3","125 GS2"]
["Chart A1-T2-F2 (S4)","A1",2,"F2 (S4)","0.3-0.7","DSD/DBST","-","-","150 GB3","150 GS2"]
["Chart A1-T3-F2 (S4)","A1",3,"F2 (S4)","0.7-1.5","DSD/DBST","-","-","175 GB3","150 GS2"]
["Chart A1-T4-F2 (S4)","A1",4,"F2 (S4)","1.5-3.0","DSD/DBST","-","-","200 GB2","175 GS2"]
["Chart A1-T5-F2 (S4)","A1",5,"F2 (S4)","3.0-6.0","DSD/DBST","-","-","200 GB1","225 GS2"]
["Chart A1-T6-F2 (S4)","A1",6,"F2 (S4)","6.0-10","DSD/DBST","-","-","225 GB1","225 GS2"]
["Chart A1-T1-F3 (S5)","A1",1,"F3 (S5)","<0.3","DSD/DBST","-","-","125 GB3","100 GS2"]
["Chart A1-T2-F3 (S5)","A1",2,"F3 (S5)","0.3-0.7","DSD/DBST","-","-","125 GB3","100 GS2"]
["Chart A1-T3-F3 (S5)","A1",3,"F3 (S5)","0.7-1.5","DSD/DBST","-","-","150 GB3","100 GS2"]
["Chart A1-T4-F3 (S5)","A1",4,"F3 (S5)","1.5-3.0","DSD/DBST","-","-","175 GB2","100 GS2"]
["Chart A1-T5-F3 (S5)","A1",5,"F3 (S5)","3.0-6.0","DSD/DBST","-","-","200 GB1","100 GS2"]
["Chart A1-T6-F3 (S5)","A1",6,"F3 (S5)","6.0-10","DSD/DBST","-","-","200 GB1","150 GS2"]
["Chart A1-T1-F4 (S6)","A1",1,"F4 (S6)","<0.3","DSD/DBST","-","-","150 GB3","-"]
["Chart A1-T2-F4 (S6)","A1",2,"F4 (S6)","0.3-0.7","DSD/DBST","-","-","150 GB3","-"]
["Chart A1-T3-F4 (S6)","A1",3,"F4 (S6)","0.7-1.5","DSD/DBST","-","-","175 GB3","-"]
["Chart A1-T4-F4 (S6)","A1",4,"F4 (S6)","1.5-3.0","DSD/DBST","-","-","175 GB2","-"]
["Chart A1-T5-F4 (S6)","A1",5,"F4 (S6)","3.0-6.0","DSD/DBST","-","-","200 GB1","-"]
["Chart A1-T6-F4 (S6)","A1",6,"F4 (S6)","6.0-10","DSD/DBST","-","-","225 GB1","-"]
["Chart A2-T1-F1 (S3)","A2",1,"F1 (S3)","<0.3","DSD/DBST","-","-","125 GB3  \n","150 CB2  "]
["Chart A2-T2-F1 (S3)","A2",2,"F1 (S3)","0.3-0.7","DSD/DBST","-","-","125 GB3  \n","150 CB2  "]
["Chart A2-T3-F1 (S3)","A2",3,"F1 (S3)","0.7-1.5","DSD/DBST","-","-","150 GB3  \n","150 CB2  "]
["Chart A2-T4-F1 (S3)","A2",4,"F1 (S3)","1.5-3.0","DSD/DBST","-","-","150 GB2  \n","175 CB2  "]
["Chart A2-T5-F1 (S3)","A2",5,"F1 (S3)","1.5-3.0","DSD/DBST","-","-","150 GB1  \n","225 CB2  "]
["Chart A2-T6-F1 (S3)","A2",6,"F1 (S3)","3.0-6.0","DSD/DBST","-","-","150 GB1 125 CB1","175 CB2  "]
["Chart A2-T7-F1 (S3)","A2",7,"F1 (S3)","6.0-10","DSD/DBST","-","-","150 GB1 125 CB1","200 CB2  "]
["Chart A2-T1-F2 (S4)","A2",1,"F2 (S4)","<0.3","DSD/DBST","-","-","125 GB3  ","175 CB2  "]
["Chart A2-T2-F2 (S4)","A2",2,"F2 (S4)","0.3-0.7","DSD/DBST","-","-","125 GB3  ","175 CB2  "]
["Chart A2-T3-F2 (S4)","A2",3,"F2 (S4)","0.7-1.5","DSD/DBST","-","-","150 GB3  ","175 CB2  "]
["Chart A2-T4-F2 (S4)","A2",4,"F2 (S4)","1.5-3.0","DSD/DBST","-","-","150 GB2  ","200 CB2  "]
["Chart A2-T5-F2 (S4)","A2",5,"F2 (S4)","1.5-3.0","DSD/DBST","-","-","150 GB1  ","200 CB2  "]
["Chart A2-T6-F2 (S4)","A2",6,"F2 (S4)","3.0-6.0","DSD/DBST","-","-","150 GB1 125 CB1","125 CB2  "]
["Chart A2-T7-F2 (S4)","A2",7,"F2 (S4)","6.0-10","DSD/DBST","-","-","150 GB1 125 CB1","175 CB2  "]
["Chart A2-T1-F3 (S5)","A2",1,"F3 (S5)","<0.3","DSD/DBST","-","-","125 GB3  ","125 CB2  "]
["Chart A2-T2-F3 (S5)","A2",2,"F3 (S5)","0.3-0.7","DSD/DBST","-","-","125 GB3  ","125 CB2  "]
["Chart A2-T3-F3 (S5)","A2",3,"F3 (S5)","0.7-1.5","DSD/DBST","-","-","150 GB3  ","125 CB2  "]
["Chart A2-T4-F3 (S5)","A2",4,"F3 (S5)","1.5-3.0","DSD/DBST","-","-","150 GB2  ","150 CB2  "]
["Chart A2-T5-F2 (S4)","A2",5,"F2 (S4)","1.5-3.0","DSD/DBST","-","-","150 GB1  ","175 CB2  "]
["Chart A2-T6-F3 (S5)","A2",6,"F3 (S5)","3.0-6.0","DSD/DBST","-","-","150 GB1 200 CB1","-"]
["Chart A2-T7-F3 (S5)","A2",7,"F3 (S5)","6.0-10","DSD/DBST","-","-","150 GB1 2050 CB1","-"]
["Chart A2-T1-F4 (S6)","A2",1,"F4 (S6)","<0.3","DSD/DBST","-","-","150 GB3  ","-"]
["Chart A2-T2-F4 (S6)","A2",2,"F4 (S6)","0.3-0.7","DSD/DBST","-","-","150 GB3  ","-"]
["Chart A2-T3-F4 (S6)","A2",3,"F4 (S6)","0.7-1.5","DSD/DBST","-","-","175 GB3  ","-"]
["Chart A2-T4-F4 (S6)","A2",4,"F4 (S6)","1.5-3.0","DSD/DBST","-","-","175 GB2  ","-"]
["Chart A2-T5-F4 (S6)","A2",5,"F4 (S6)","1.5-3.0","DSD/DBST","-","-","200 GB1  ","-"]
["Chart A2-T6-F4 (S6)","A2",6,"F4 (S6)","3.0-6.0","DSD/DBST","-","-","175 GB1 150 CB1","-"]
["Chart A2-T7-F4 (S6)","A2",7,"F4 (S6)","6.0-10","DSD/DBST","-","-","175 GB1 175 CB1","-"]
["Chart A3-T1-F1 (S3)","A3",1,"F1 (S3)","<0.3","DSD/DBST","-","-","150 CB1  \n","225 GS2  "]
["Chart A3-T2-F1 (S3)","A3",2,"F1 (S3)","0.3-0.7","DSD/DBST","-","-","150 CB1  \n","225 GS2  "]
["Chart A3-T3-F1 (S3)","A3",3,"F1 (S3)","0.7-1.5","DSD/DBST","-","-","175 CB1  \n","225 GS2  "]
["Chart A3-T4-F1 (S3)","A3",4,"F1 (S3)","1.5-3.0","DSD/DBST","-","-","175 CB1  \n","250 GS2  "]
["Chart A3-T5-F1 (S3)","A3",5,"F1 (S3)","1.5-3.0","DSD/DBST","-","-","200 CB1  \n","300 GS2  "]
["Chart A3-T6-F1 (S3)","A3",6,"F1 (S3)","3.0-6.0","DSD/DBST","-","-","200 CB1  \n125 CB2  ","200 GS2  "]
["Chart A3-T7-F1 (S3)","A3",7,"F1 (S3)","6.0-10","DSD/DBST","-","-","225 CB1  \n150 CB2  ","200 GS2  "]
["Chart A3-T1-F2 (S4)","A3",1,"F2 (S4)","<0.3","DSD/DBST","-","-","150 CB1  ","175 GS2  "]
["Chart A3-T2-F2 (S4)","A3",2,"F2 (S4)","0.3-0.7","DSD/DBST","-","-","150 CB1  ","175 GS2  "]
["Chart A3-T3-F2 (S4)","A3",3,"F2 (S4)","0.7-1.5","DSD/DBST","-","-","175 CB1  ","200 GS2  "]
["Chart A3-T4-F2 (S4)","A3",4,"F2 (S4)","1.5-3.0","DSD/DBST","-","-","175 CB1  ","200 GS2  "]
["Chart A3-T5-F2 (S4)","A3",5,"F2 (S4)","1.5-3.0","DSD/DBST","-","-","200 CB1  ","250 GS2  "]
["Chart A3-T6-F2 (S4)","A3",6,"F2 (S4)","3.0-6.0","DSD/DBST","-","-","200 CB1  ","300 GS2  "]
[{"$f":"_xlfn.CONCAT(\"Chart \",B73,\"-\",\"T\",C73,\"-\",D73)","v":"Chart A3-T7-F2 (S4)"},"A3",7,"F2 (S4)","6.0-10","DSD/DBST","-","-","225 CB1  ","300 GS2  "]
["Chart A3-T1-F3 (S5)","A3",1,"F3 (S5)","<0.3","DSD/DBST","-","-","150 CB1  ","100 GS2  "]
["Chart A3-T2-F3 (S5)","A3",2,"F3 (S5)","0.3-0.7","DSD/DBST","-","-","150 CB1  ","100 GS2  "]
["Chart A3-T3-F3 (S5)","A3",3,"F3 (S5)","0.7-1.5","DSD/DBST","-","-","175 CB1  ","100 GS2  "]
["Chart A3-T4-F3 (S5)","A3",4,"F3 (S5)","1.5-3.0","DSD/DBST","-","-","175 CB1  ","150 GS2  "]
["Chart A3-T5-F2 (S4)","A3",5,"F2 (S4)","1.5-3.0","DSD/DBST","-","-","200 CB1  ","175 GS2  "]
["Chart A3-T6-F3 (S5)","A3",6,"F3 (S5)","3.0-6.0","DSD/DBST","-","-","200 CB1  ","200 GS2  "]
["Chart A3-T7-F3 (S5)","A3",7,"F3 (S5)","6.0-10","DSD/DBST","-","-","225 GB1  ","200 GS2  "]
["Chart A3-T1-F4 (S6)","A3",1,"F4 (S6)","<0.3","DSD/DBST","-","-","150 CB1  ","-  "]
["Chart A3-T2-F4 (S6)","A3",2,"F4 (S6)","0.3-0.7","DSD/DBST","-","-","150 CB1  ","-  "]
["Chart A3-T3-F4 (S6)","A3",3,"F4 (S6)","0.7-1.5","DSD/DBST","-","-","175 CB1  ","-  "]
["Chart A3-T4-F4 (S6)","A3",4,"F4 (S6)","1.5-3.0","DSD/DBST","-","-","200 CB1  ","-  "]
["Chart A3-T5-F4 (S6)","A3",5,"F4 (S6)","1.5-3.0","DSD/DBST","-","-","225 CB1  ","-  "]
["Chart A3-T6-F4 (S6)","A3",6,"F4 (S6)","3.0-6.0","DSD/DBST","-","-","250 CB1  ","-  "]
["Chart A3-T7-F4 (S6)","A3",7,"F4 (S6)","6.0-10","DSD/DBST","-","-","275 CB1  ","-  "]
["Chart B-T1-F1 (S3)","B",1,"F1 (S3)","<0.3","-  ","-","-","-  ","-  "]
["Chart B-T2-F1 (S3)","B",2,"F1 (S3)","0.3-0.7","-  ","-","-","-  ","-  "]
["Chart B-T3-F1 (S3)","B",3,"F1 (S3)","0.7-1.5","50 HMA  ","-","-","175 GB3  ","225 GS2  "]
["Chart B-T4-F1 (S3)","B",4,"F1 (S3)","1.5-3.0","50 HMA  ","-","-","175 GB2  ","275 GS2  "]
["Chart B-T5-F1 (S3)","B",5,"F1 (S3)","1.5-3.0","50 HMA  ","-","-","175 GB1/MAC  ","325 GS2  "]
["Chart B-T6-F1 (S3)","B",6,"F1 (S3)","3.0-6.0","-  ","-","-","-  ","-  "]
["Chart B-T7-F1 (S3)","B",7,"F1 (S3)","6.0-10","-  ","-","-","-  ","-  "]
["Chart B-T1-F2 (S4)","B",1,"F2 (S4)","<0.3","-  ","-","-","-  ","-  "]
["Chart B-T2-F2 (S4)","B",2,"F2 (S4)","0.3-0.7","-  ","-","-","-  ","-  "]
["Chart B-T3-F2 (S4)","B",3,"F2 (S4)","0.7-1.5","40 HMA  ","-","-","175 GB3  ","150 GS2  "]
["Chart B-T4-F2 (S4)","B",4,"F2 (S4)","1.5-3.0","40 HMA  ","-","-","175 GB2  ","175 GS2  "]
["Chart B-T5-F2 (S4)","B",5,"F2 (S4)","1.5-3.0","40 HMA  ","-","-","175 GB1/MAC/BSM  ","225 GS2  "]
["Chart B-T6-F2 (S4)","B",6,"F2 (S4)","3.0-6.0","50 HMA  ","-","-","200 GB1/MAC/BSM  ","250 GS2  "]
["Chart B-T7-F2 (S4)","B",7,"F2 (S4)","6.0-10","-  ","-","-","-  ","-  "]
["Chart B-T1-F3 (S5)","B",1,"F3 (S5)","<0.3","-  ","-","-","-  ","-  "]
["Chart B-T2-F3 (S5)","B",2,"F3 (S5)","0.3-0.7","40 HMA  ","-","-","150 GB3  ","100 GS2  "]
["Chart B-T3-F3 (S5)","B",3,"F3 (S5)","0.7-1.5","40 HMA  ","-","-","150 GB2  ","125 GS2  "]
["Chart B-T4-F3 (S5)","B",4,"F3 (S5)","1.5-3.0","40 HMA  ","-","-","150 GB1/MAC/BSM  ","150 GS2  "]
["Chart B-T5-F2 (S4)","B",5,"F2 (S4)","1.5-3.0","50 HMA  ","-","-","175 GB1/MAC/BSM  ","175 GS2  "]
["Chart B-T6-F3 (S5)","B",6,"F3 (S5)","3.0-6.0","-  ","-","-","-  ","-  "]
["Chart B-T7-F3 (S5)","B",7,"F3 (S5)","6.0-10","-  ","-","-","-  ","-  "]
["Chart B-T1-F4 (S6)","B",1,"F4 (S6)","<0.3","-  ","-","-","-  ","-  "]
["Chart B-T2-F4 (S6)","B",2,"F4 (S6)","0.3-0.7","-  ","-","-","-  ","-  "]
["Chart B-T3-F4 (S6)","B",3,"F4 (S6)","0.7-1.5","40 HMA  ","-","-","150 GB3  ","-  "]
["Chart B-T4-F4 (S6)","B",4,"F4 (S6)","1.5-3.0","40 HMA  ","-","-","175 GB2  ","-  "]
["Chart B-T5-F4 (S6)","B",5,"F4 (S6)","1.5-3.0","40 HMA  ","-","-","200 GB1/MAC/BSM  ","-  "]
["Chart B-T6-F4 (S6)","B",6,"F4 (S6)","3.0-6.0","50 HMA  ","-","-","225 GB1/MAC/BSM  ","-  "]
["Chart B-T7-F4 (S6)","B",7,"F4 (S6)","6.0-10","-  ","-","-","-  ","-  "]
["Chart C1-T6-F1 (S3)","C1",6,"F1 (S3)","6.0-10","-","40 HMA  ","60 DBM  ","200 GB1/MAC/BSM  ","225 GS2  "]
["Chart C1-T7-F1 (S3)","C1",7,"F1 (S3)","10-17","-","50 HMA  ","75 DBM  ","200 GB1/MAC/BSM  ","250 GS2  "]
["Chart C1-T8-F1 (S3)","C1",8,"F1 (S3)","17-30","-","50 HMA  ","100 DBM  ","200 GB1/MAC/BSM  ","275 GS2  "]
["Chart C1-T9-F1 (S3)","C1",9,"F1 (S3)","30-50","-","50 HMA  ","125 DBM","200 GB1/MAC/BSM  ","300 GS2  "]
["Chart C1-T6-F2 (S4)","C1",6,"F2 (S4)","6.0-10","-","40 HMA  ","60 DBM  ","200 GB1/MAC/BSM  ","175 GS2  "]
["Chart C1-T7-F2 (S4)","C1",7,"F2 (S4)","10-17","-","50 HMA  ","75 DBM  ","200 GB1/MAC/BSM  ","200 GS2  "]
["Chart C1-T8-F2 (S4)","C1",8,"F2 (S4)","17-30","-","50 HMA  ","100 DBM  ","200 GB1/MAC/BSM  ","225 GS2  "]
["Chart C1-T9-F2 (S4)","C1",9,"F2 (S4)","30-50","-","50 HMA  ","125 DBM","200 GB1/MAC/BSM  ","250 GS2  "]
["Chart C1-T6-F3 (S5)","C1",6,"F3 (S5)","6.0-10","-","40 HMA  ","60 DBM  ","150 GB1/MAC/BSM  ","150 GS2  "]
["Chart C1-T7-F3 (S5)","C1",7,"F3 (S5)","10-17","-","50 HMA  ","75 DBM  ","175 GB1/MAC/BSM  ","150 GS2  "]
["Chart C1-T8-F3 (S5)","C1",8,"F3 (S5)","17-30","-","50 HMA  ","100 DBM  ","200 GB1/MAC/BSM  ","150 GS2  "]
["Chart C1-T9-F3 (S5)","C1",9,"F3 (S5)","30-50",null,"50 HMA  ","125 DBM","225 GB1/MAC/BSM  ","150 GS2  "]
["Chart C1-T6-F4 (S6)","C1",6,"F4 (S6)","6.0-10","-","40 HMA  ","60 DBM  ","200 GB1/MAC/BSM  ","-"]
["Chart C1-T7-F4 (S6)","C1",7,"F4 (S6)","10-17","-","50 HMA  ","75 DBM  ","225 GB1/MAC/BSM  ","-"]
["Chart C1-T8-F4 (S6)","C1",8,"F4 (S6)","17-30","-","50 HMA  ","100 DBM  ","250 GB1/MAC/BSM  ","-"]
["Chart C1-T9-F4 (S6)","C1",9,"F4 (S6)","30-50","-","50 HMA  ","125 DBM","275 GB1/MAC/BSM  ","-"]
["Chart C2-T6-F1 (S3)","C2",6,"F1 (S3)","6.0-10","-","50 HMA  ","-","150 GB1/MAC/BSM  ","275 CB1  "]
["Chart C2-T7-F1 (S3)","C2",7,"F1 (S3)","10-17","-","50 HMA  ","-","150 GB1/MAC/BSM  ","300 CB1  "]
["Chart C2-T8-F1 (S3)","C2",8,"F1 (S3)","17-30","-","50 HMA  ","-","175 GB1/MAC/BSM  ","300 CB1  "]
["Chart C2-T9-F1 (S3)","C2",9,"F1 (S3)","30-50","-","75 HMA  ","-","175 GB1/MAC/BSM  ","300 CB1  "]
["Chart C2-T10-F1 (S3)","C2",10,"F1 (S3)","50-80","-","40 HMA  ","60 DBM  ","175 GB1/MAC/BSM  ","300 CB1  "]
["Chart C2-T6-F2 (S4)","C2",6,"F2 (S4)","6.0-10","-","50 HMA  ","-","150 GB1/MAC/BSM  ","200 CB1  "]
["Chart C2-T7-F2 (S4)","C2",7,"F2 (S4)","10-17","-","50 HMA  ","-","150 GB1/MAC/BSM  ","250 CB1  "]
["Chart C2-T8-F2 (S4)","C2",8,"F2 (S4)","17-30","-","50 HMA  ","-","175 GB1/MAC/BSM  ","250 CB1  "]
["Chart C2-T9-F2 (S4)","C2",9,"F2 (S4)","30-50","-","75 HMA  ","-","175 GB1/MAC/BSM  ","250 CB1  "]
["Chart C2-T10-F2 (S4)","C2",10,"F2 (S4)","50-80","-","40 HMA  ","60 DBM  ","175 GB1/MAC/BSM  ","250 CB1  "]
["Chart C2-T6-F3 (S5)","C2",6,"F3 (S5)","6.0-10","-","50 HMA  ","-","150 GB1/MAC/BSM  ","150 CB1  "]
["Chart C2-T7-F3 (S5)","C2",7,"F3 (S5)","10-17","-","50 HMA  ","-","150 GB1/MAC/BSM  ","225 CB1  "]
["Chart C2-T8-F3 (S5)","C2",8,"F3 (S5)","17-30","-","50 HMA  ","-","150 GB1/MAC/BSM  ","225 CB1  "]
["Chart C2-T9-F3 (S5)","C2",9,"F3 (S5)","30-50","-","75 HMA  ","-","150 GB1/MAC/BSM  ","200 CB1  "]
[{"$f":"_xlfn.CONCAT(\"Chart \",B146,\"-\",\"T\",C146,\"-\",D146)","v":"Chart C2-T10-F3 (S5)"},"C2",10,"F3 (S5)","50-80","-","40 HMA  ","60 DBM  ","150 GB1/MAC/BSM  ","200 CB1  "]
[{"$f":"_xlfn.CONCAT(\"Chart \",B147,\"-\",\"T\",C147,\"-\",D147)","v":"Chart C2-T6-F4 (S6)"},"C2",6,"F4 (S6)","6.0-10","-","50 HMA  ","-","100 GB1/MAC/BSM  ","150 CB1  "]
["Chart C2-T7-F4 (S6)","C2",7,"F4 (S6)","10-17","-","50 HMA  ","-","150 GB1/MAC/BSM  ","150 CB1  "]
["Chart C2-T8-F4 (S6)","C2",8,"F4 (S6)","17-30","-","50 HMA  ","-","150 GB1/MAC/BSM  ","150 CB1  "]
["Chart C2-T9-F4 (S6)","C2",9,"F4 (S6)","30-50","-","75 HMA  ","-","150 GB1/MAC/BSM  ","150 CB1  "]
["Chart C2-T10-F4 (S6)","C2",10,"F4 (S6)","50-80","-","40 HMA  ","60 DBM  ","150 GB1/MAC/BSM  ","150 CB1  "]
["Chart D-T9-F1 (S3)","D",9,"F1 (S3)","30-50","-","40 HMA  ","60 DBM/SMA/EME2  ","300 GB1/MAC/BSM  ","300 CB1  "]
["Chart D-T10-F1 (S3)","D",10,"F1 (S3)","50-80","-","50 HMA  ","75 DBM/SMA/EME2  ","300 GB1/MAC/BSM ","300 CB1  "]
["Chart D-T9-F2 (S4)","D",9,"F2 (S4)","30-50","-","40 HMA  ","60 DBM/SMA/EME2  ","300 GB1/MAC/BSM  ","250 CB1  "]
["Chart D-T10-F2 (S4)","D",10,"F2 (S4)","50-80","-","50 HMA  ","75 DBM/SMA/EME2  ","300 GB1/MAC/BSM  ","250 CB1  "]
["Chart D-T9-F3 (S5)","D",9,"F3 (S5)","30-50","-","40 HMA  ","60 DBM/SMA/EME2  ","275 GB1/MAC/BSM  ","200 CB1  "]
["Chart D-T10-F3 (S5)","D",10,"F3 (S5)","50-80","-","50 HMA  ","75 DBM/SMA/EME2  ","275 GB1/MAC/BSM  ","200 CB1  "]
["Chart D-T9-F4 (S6)","D",9,"F4 (S6)","30-50","-","40 HMA  ","60 DBM/SMA/EME2  ","250 GB1/MAC/BSM  ","175 CB1  "]
["Chart D-T10-F4 (S6)","D",10,"F4 (S6)","50-80","-","50 HMA  ","75 DBM/SMA/EME2  ","250 GB1/MAC/BSM  ","175 CB1  "]
["Chart D-T9-F5 (400 Mpa)","D",9,"F5 (400 Mpa)","30-50","-","40 HMA  ","60 DBM/SMA/EME2  ","250 GB1/MAC/BSM  ","-  "]
["Chart D-T10-F5 (400 Mpa)","D",10,"F5 (400 Mpa)","50-80","-","50 HMA  ","75 DBM/SMA/EME2  ","250 GB1/MAC/BSM  ","-  "]

{"sheet":"25 ORN 18 Diagnosis","index":26,"n_rows":7,"n_cols":3,"rows_kept":7,"cut":false,"hidden":true,"merged":[[6,0,6,2]]}
["Overseas Road Note 18 - Flowcharts"]
[]
[null,null,{"$f":"IFERROR(VLOOKUP(B3,#REF!,2,0),\"\")","v":""}]
[]
[]
[]
["PLEASE SEE OTHER SPREADSHEET FILE FOR ORN 18"]

{"sheet":"26 VCS Form","index":27,"n_rows":48,"n_cols":59,"rows_kept":48,"cut":false,"hidden":false,"merged":[[9,0,9,3],[9,9,9,13],[9,14,9,15],[9,16,9,17],[2,14,2,15],[4,14,4,15],[6,5,6,6],[6,14,6,15],[6,16,6,17],[9,51,11,51],[9,52,9,58],[9,18,9,19],[9,20,9,24],[9,25,9,29],[9,30,9,33],[9,36,9,38],[9,39,9,40],[10,8,11,8],[9,41,9,42],[9,43,9,44],[9,46,9,48],[9,49,9,50],[10,0,11,0],[10,2,11,4],[10,5,11,5],[10,6,11,6],[10,7,11,7]]}
["DETAILED CONDITION SURVEY"]
[]
["Road Name:",null,null,null,null,null,null,"Lane:",null,null,null,null,null,null,"Route No:"]
[]
["Road Section:  ",null,null,null,null,null,null,"To: ",null,null,null,null,null,null,"Location: "]
[]
["Date: ",null,null,null,null,null,null,null,null,null,null,null,null,null,"Inspector: "]
[null,null,null,null,null,null,null,null,null,"Severity",null,null,null,"(0 = None, 1=Minor, 2= Moderate, 3 = Severe, 4 = Very severe, 5 = Extreme)"]
[null,null,null,null,null,null,null,null,null,"Extent",null,null,null,"(0 = 0-10%, 1=11-20%, 2= 21-40%, 3 = 41-60%, 4 = 61-80%, 5 = 80-100%)"]
["CHAINAGE",null,null,null,"TEST POINT","TOTAL","X-section ","Road Width*","Surface type","Cracking",null,null,null,null,"Potholes",null,"Patching",null,"Rutting - depth  exactly at chainage point",null,"Ravelling",null,null,null,null,"Bleeding",null,null,null,null,"Edgebreaks",null,null,null,null,"   Deformation","Slips",null,null,"Patching Quantities",null,"Crown Height",null,"Camber",null,"Abnormal features","Surface Drainage",null,null,"Shoulder Damage",null,"Remarks","Indices (0 -5 = Very Good, 6-10= Good, 11-15 = Fair, 16-20 = Poor, 20-25 = Very Poor)"]
["Km",null,"Block",null,null,"km","0,1,2,3","  (m)","S/U","Type","Width","Intensity","Extent","Posn","Severity","Extent","Severity","Extent","Depth left","Depth   right","Type","Width","Intensity","Extent","Posn","Type","Width","Intensity","Extent","Posn","Drop -LHS","Break - LHS","Drop -RHS","Break - RHS","Type","Depth","Ext","Posn","Sever","Shallow  ","Deep","LHS","RHS","LHS","RHS","Yes, No","LHS","Extent","Remarks",null,null,null,"Crack Index","Pothole Index","Patching Index","Rutting Index","Ravelling Index","Bleeding Index","Drainage Index"]
[null,null,null,null,null,null,null,null,null,"Ln, Tr,Cr","1,2,3,4","0,1,2,3,4,5","0,1,2,3,4,5","L,C,R,A","0,1,2,3,4,5","0,1,2,3,4,5","0,1,2,3,4,5","0,1,2,3,4,5","(mm)","(mm)","Ln, Tr,Cr","1,2,3,4","0,1,2,3,4,5","0,1,2,3,4,5","L,C,R,A","Ln, Tr,Cr","1,2,3,4","0,1,2,3,4,5","0,1,2,3,4,5","L,C,R,A","(mm)","(mm)","(mm)","(mm)","S or G","(mm)","0,1,2,3,4,5","L,C,R,A","0,1,2,3","(m2)","(m2)","(mm)","(mm)","(%)","(%)","Y, N","Side drains clear = 0, Debris = 1, Standing water/blocked culvert = 5","0,1,2,3,4,5",null,"Defect","Severity",null,"(0-25)","(0-25)","(0-25)","(0-25)","(0-25)","(0-25)","(0-25)"]
[null," +",0,"to",0,null,null,null,null,null,null,null,null,null,null,null,null,null,null,null,null,null,null,null,null,null,null,null,null,null,null,null,null,null,null,null,null,null,null,null,null,null,null,null,null,null,null,null,null,null,null,null,{"$f":"L13*M13","v":0},{"$f":"O13*P13","v":0},{"$f":"Q13*R13","v":0},{"$f":"(IF(S13>T13,S13,T13))","v":0},{"$f":"W13*X13","v":0},{"$f":"AB13*AC13","v":0},{"$f":"AU13*AV13","v":0}]
[null,null,null,null,null,null,null,null,null,null,null,null,null,null,null,null,null,null,null,null,null,null,null,null,null,null,null,null,null,null,null,null,null,null,null,null,null,null,null,null,null,null,null,null,null,null,null,null,null,null,null,null,{"$f":"L14*M14","v":0},{"$f":"O14*P14","v":0},{"$f":"Q14*R14","v":0},{"$f":"(IF(S14>T14,S14,T14))","v":0},{"$f":"W14*X14","v":0},{"$f":"AB14*AC14","v":0},{"$f":"AU14*AV14","v":0}]
[null,null,null,null,null,null,null,null,null,null,null,null,null,null,null,null,null,null,null,null,null,null,null,null,null,null,null,null,null,null,null,null,null,null,null,null,null,null,null,null,null,null,null,null,null,null,null,null,null,null,null,null,0,0,0,0,0,0,0]
[null,null,null,null,null,null,null,null,null,null,null,null,null,null,null,null,null,null,null,null,null,null,null,null,null,null,null,null,null,null,null,null,null,null,null,null,null,null,null,null,null,null,null,null,null,null,null,null,null,null,null,null,0,0,0,0,0,0,0]
[null,null,null,null,null,null,null,null,null,null,null,null,null,null,null,null,null,null,null,null,null,null,null,null,null,null,null,null,null,null,null,null,null,null,null,null,null,null,null,null,null,null,null,null,null,null,null,null,null,null,null,null,0,0,0,0,0,0,0]
[null,null,null,null,null,null,null,null,null,null,null,null,null,null,null,null,null,null,null,null,null,null,null,null,null,null,null,null,null,null,null,null,null,null,null,null,null,null,null,null,null,null,null,null,null,null,null,null,null,null,null,null,0,0,0,0,0,0,0]
[null,null,null,null,null,null,null,null,null,null,null,null,null,null,null,null,null,null,null,null,null,null,null,null,null,null,null,null,null,null,null,null,null,null,null,null,null,null,null,null,null,null,null,null,null,null,null,null,null,null,null,null,0,0,0,0,0,0,0]
[null,null,null,null,null,null,null,null,null,null,null,null,null,null,null,null,null,null,null,null,null,null,null,null,null,null,null,null,null,null,null,null,null,null,null,null,null,null,null,null,null,null,null,null,null,null,null,null,null,null,null,null,0,0,0,0,0,0,0]
[null,null,null,null,null,null,null,null,null,null,null,null,null,null,null,null,null,null,null,null,null,null,null,null,null,null,null,null,null,null,null,null,null,null,null,null,null,null,null,null,null,null,null,null,null,null,null,null,null,null,null,null,0,0,0,0,0,0,0]
[null,null,null,null,null,null,null,null,null,null,null,null,null,null,null,null,null,null,null,null,null,null,null,null,null,null,null,null,null,null,null,null,null,null,null,null,null,null,null,null,null,null,null,null,null,null,null,null,null,null,null,null,0,0,0,0,0,0,0]
[null,null,null,null,null,null,null,null,null,null,null,null,null,null,null,null,null,null,null,null,null,null,null,null,null,null,null,null,null,null,null,null,null,null,null,null,null,null,null,null,null,null,null,null,null,null,null,null,null,null,null,null,0,0,0,0,0,0,0]
[null,null,null,null,null,null,null,null,null,null,null,null,null,null,null,null,null,null,null,null,null,null,null,null,null,null,null,null,null,null,null,null,null,null,null,null,null,null,null,null,null,null,null,null,null,null,null,null,null,null,null,null,0,0,0,0,0,0,0]
[null,null,null,null,null,null,null,null,null,null,null,null,null,null,null,null,null,null,null,null,null,null,null,null,null,null,null,null,null,null,null,null,null,null,null,null,null,null,null,null,null,null,null,null,null,null,null,null,null,null,null,null,0,0,0,0,0,0,0]
[null,null,null,null,null,null,null,null,null,null,null,null,null,null,null,null,null,null,null,null,null,null,null,null,null,null,null,null,null,null,null,null,null,null,null,null,null,null,null,null,null,null,null,null,null,null,null,null,null,null,null,null,0,0,0,0,0,0,0]
[null,null,null,null,null,null,null,null,null,null,null,null,null,null,null,null,null,null,null,null,null,null,null,null,null,null,null,null,null,null,null,null,null,null,null,null,null,null,null,null,null,null,null,null,null,null,null,null,null,null,null,null,0,0,0,0,0,0,0]
[null,null,null,null,null,null,null,null,null,null,null,null,null,null,null,null,null,null,null,null,null,null,null,null,null,null,null,null,null,null,null,null,null,null,null,null,null,null,null,null,null,null,null,null,null,null,null,null,null,null,null,null,0,0,0,0,0,0,0]
[null,null,null,null,null,null,null,null,null,null,null,null,null,null,null,null,null,null,null,null,null,null,null,null,null,null,null,null,null,null,null,null,null,null,null,null,null,null,null,null,null,null,null,null,null,null,null,null,null,null,null,null,0,0,0,0,0,0,0]
[null,null,null,null,null,null,null,null,null,null,null,null,null,null,null,null,null,null,null,null,null,null,null,null,null,null,null,null,null,null,null,null,null,null,null,null,null,null,null,null,null,null,null,null,null,null,null,null,null,null,null,null,0,0,0,0,0,0,0]
[null,null,null,null,null,null,null,null,null,null,null,null,null,null,null,null,null,null,null,null,null,null,null,null,null,null,null,null,null,null,null,null,null,null,null,null,null,null,null,null,null,null,null,null,null,null,null,null,null,null,null,null,0,0,0,0,0,0,0]
[null,null,null,null,null,null,null,null,null,null,null,null,null,null,null,null,null,null,null,null,null,null,null,null,null,null,null,null,null,null,null,null,null,null,null,null,null,null,null,null,null,null,null,null,null,null,null,null,null,null,null,null,0,0,0,0,0,0,0]
[null,null,null,null,null,null,null,null,null,null,null,null,null,null,null,null,null,null,null,null,null,null,null,null,null,null,null,null,null,null,null,null,null,null,null,null,null,null,null,null,null,null,null,null,null,null,null,null,null,null,null,null,0,0,0,0,0,0,0]
[null,null,null,null,null,null,null,null,null,null,null,null,null,null,null,null,null,null,null,null,null,null,null,null,null,null,null,null,null,null,null,null,null,null,null,null,null,null,null,null,null,null,null,null,null,null,null,null,null,null,null,null,0,0,0,0,0,0,0]
[null,null,null,null,null,null,null,null,null,null,null,null,null,null,null,null,null,null,null,null,null,null,null,null,null,null,null,null,null,null,null,null,null,null,null,null,null,null,null,null,null,null,null,null,null,null,null,null,null,null,null,null,0,0,0,0,0,0,0]
[null,null,null,null,null,null,null,null,null,null,null,null,null,null,null,null,null,null,null,null,null,null,null,null,null,null,null,null,null,null,null,null,null,null,null,null,null,null,null,null,null,null,null,null,null,null,null,null,null,null,null,null,0,0,0,0,0,0,0]
[null,null,null,null,null,null,null,null,null,null,null,null,null,null,null,null,null,null,null,null,null,null,null,null,null,null,null,null,null,null,null,null,null,null,null,null,null,null,null,null,null,null,null,null,null,null,null,null,null,null,null,null,0,0,0,0,0,0,0]
[null,null,null,null,null,null,null,null,null,null,null,null,null,null,null,null,null,null,null,null,null,null,null,null,null,null,null,null,null,null,null,null,null,null,null,null,null,null,null,null,null,null,null,null,null,null,null,null,null,null,null,null,0,0,0,0,0,0,0]
[null,null,null,null,null,null,null,null,null,null,null,null,null,null,null,null,null,null,null,null,null,null,null,null,null,null,null,null,null,null,null,null,null,null,null,null,null,null,null,null,null,null,null,null,null,null,null,null,null,null,null,null,0,0,0,0,0,0,0]
[null,null,null,null,null,null,null,null,null,null,null,null,null,null,null,null,null,null,null,null,null,null,null,null,null,null,null,null,null,null,null,null,null,null,null,null,null,null,null,null,null,null,null,null,null,null,null,null,null,null,null,null,0,0,0,0,0,0,0]
[null,null,null,null,null,null,null,null,null,null,null,null,null,null,null,null,null,null,null,null,null,null,null,null,null,null,null,null,null,null,null,null,null,null,null,null,null,null,null,null,null,null,null,null,null,null,null,null,null,null,null,null,0,0,0,0,0,0,0]
[null,null,null,null,null,null,null,null,null,null,null,null,null,null,null,null,null,null,null,null,null,null,null,null,null,null,null,null,null,null,null,null,null,null,null,null,null,null,null,null,null,null,null,null,null,null,null,null,null,null,null,null,0,0,0,0,0,0,0]
[null,null,null,null,null,null,null,null,null,null,null,null,null,null,null,null,null,null,null,null,null,null,null,null,null,null,null,null,null,null,null,null,null,null,null,null,null,null,null,null,null,null,null,null,null,null,null,null,null,null,null,null,0,0,0,0,0,0,0]
[null,null,null,null,null,null,null,null,null,null,null,null,null,null,null,null,null,null,null,null,null,null,null,null,null,null,null,null,null,null,null,null,null,null,null,null,null,null,null,null,null,null,null,null,null,null,null,null,null,null,null,null,0,0,0,0,0,0,0]
[null,null,null,null,null,null,null,null,null,null,null,null,null,null,null,null,null,null,null,null,null,null,null,null,null,null,null,null,null,null,null,null,null,null,null,null,null,null,null,null,null,null,null,null,null,null,null,null,null,null,null,null,0,0,0,0,0,0,0]
[null,null,null,null,null,null,null,null,null,null,null,null,null,null,null,null,null,null,null,null,null,null,null,null,null,null,null,null,null,null,null,null,null,null,null,null,null,null,null,null,null,null,null,null,null,null,null,null,null,null,null,null,0,0,0,0,0,0,0]
[null,null,null,null,null,null,null,null,null,null,null,null,null,null,null,null,null,null,null,null,null,null,null,null,null,null,null,null,null,null,null,null,null,null,null,null,null,null,null,null,null,null,null,null,null,null,null,null,null,null,null,null,0,0,0,0,0,0,0]
[null,null,null,null,null,null,null,null,null,null,null,null,null,null,null,null,null,null,null,null,null,null,null,null,null,null,null,null,null,null,null,null,null,null,null,null,null,null,null,null,null,null,null,null,null,null,null,null,null,null,null,null,0,0,0,0,0,0,0]

{"sheet":"27 Traffic Tally Form","index":28,"n_rows":35,"n_cols":16,"rows_kept":35,"cut":false,"hidden":false,"merged":[[30,0,31,0],[30,13,31,13],[30,14,31,14],[30,15,31,15],[32,0,33,0],[32,13,33,13],[32,14,33,14],[32,15,33,15],[25,0,27,0],[25,13,27,13],[25,14,27,14],[25,15,27,15],[28,0,29,0],[28,13,29,13],[28,14,29,14],[28,15,29,15],[18,0,21,0],[18,13,21,13],[18,14,21,14],[18,15,21,15],[22,0,24,0],[22,13,24,13],[22,14,24,14],[22,15,24,15],[13,0,14,0],[13,13,14,13],[13,14,14,14],[13,15,14,15],[15,0,17,0],[15,13,17,13],[15,14,17,14],[15,15,17,15],[10,0,12,0],[10,13,12,13],[10,14,12,14],[10,15,12,15],[2,0,2,2],[2,3,2,7],[2,8,2,11],[5,0,6,0],[5,13,6,13],[5,14,6,14],[5,15,6,15],[7,0,9,0],[7,13,9,13],[7,14,9,14],[7,15,9,15],[0,0,0,5],[0,6,0,15],[1,0,1,3],[1,4,1,7],[1,8,1,11],[1,13,1,14]]}
["TRAFFIC TALLYING FORM",null,null,null,null,null,"Project:"]
["Area/Town:",null,null,null,"Road:",null,null,null,"Count Made By:",null,null,null,"Date",null,null,"Day or Night"]
["Location/Chainage of Count Station",null,null,null,null,null,null,null,"Day of the Week:",null,null,null,"Sheet"]
["Vehicle Class\\ HOUR","6-7","7-8","8-9","9-10","10-11","11-12","12-1","1-2","2-3","3-4","4-5","5-6","COUNT","Factor","FACTORED TOTAL (ADT)"]
["Bicycles and NMT",null,null,null,null,null,null,null,null,null,null,null,null,{"$f":"SUM(B5:M5)","v":0},null,{"$f":"N5*O5","v":0}]
["Motorcycles (2 or 3 Wheels)",null,null,null,null,null,null,null,null,null,null,null,null,{"$f":"SUM(B6:M7)","v":0},null,{"$f":"N6*O6","v":0}]
[]
["Passenger Cars",null,null,null,null,null,null,null,null,null,null,null,null,{"$f":"SUM(B8:M10)","v":0},null,{"$f":"N8*O8","v":0}]
[]
[]
["Light Goods Vehicles: (Pickups, Small Bus/\"Taxi\", Vans, Station Wagons, Small Trucks-4tonne)",null,null,null,null,null,null,null,null,null,null,null,null,{"$f":"SUM(B11:M13)","v":0},null,{"$f":"N11*O11","v":0}]
[]
[]
["Medium Bus (Matatu)",null,null,null,null,null,null,null,null,null,null,null,null,{"$f":"SUM(B14:M15)","v":0},null,{"$f":"N14*O14","v":0}]
[]
["Truck 2-Axle or Heavy Bus (2-Axle).",null,null,null,null,null,null,null,null,null,null,null,null,{"$f":"SUM(B16:M18)","v":0},null,{"$f":"N16*O16","v":0}]
[]
[]
["Heavy Truck 3-Axle or Heavy Bus 3-axle",null,null,null,null,null,null,null,null,null,null,null,null,{"$f":"SUM(B19:M22)","v":0},null,{"$f":"N19*O19","v":0}]
[]
[]
[]
["Heavy Truck 4-Axle.",null,null,null,null,null,null,null,null,null,null,null,null,{"$f":"SUM(B23:M25)","v":0},null,{"$f":"N23*O23","v":0}]
[]
[]
["Semi-Trailer 5-Axle",null,null,null,null,null,null,null,null,null,null,null,null,{"$f":"SUM(B26:M28)","v":0},null,{"$f":"N26*O26","v":0}]
[]
[]
["Semi-Trailer 6-Axle",null,null,null,null,null,null,null,null,null,null,null,null,{"$f":"SUM(B29:M30)","v":0},null,{"$f":"N29*O29","v":0}]
[]
["Trailer 7-Axle",null,null,null,null,null,null,null,null,null,null,null,null,{"$f":"SUM(B31:M32)","v":0},null,{"$f":"N31*O31","v":0}]
[]
["Trailer 9-Axle",null,null,null,null,null,null,null,null,null,null,null,null,{"$f":"SUM(B33:M34)","v":0},null,{"$f":"N33*O33","v":0}]
[]
["Hour Total (Design Trucks)",{"$f":"SUM(B16:B34)","v":0},{"$f":"SUM(C16:C34)","v":0},0,0,0,0,0,0,0,0,0,0,{"$f":"SUM(B35:M35)","v":0},null,{"$f":"SUM(P16:P34)","v":0}]

{"sheet":"28 Traffic Tally Form-SS","index":29,"n_rows":59,"n_cols":19,"rows_kept":59,"cut":false,"hidden":false,"merged":[[56,0,57,0],[56,13,57,13],[56,14,57,14],[56,15,57,15],[50,0,51,0],[50,13,51,13],[50,14,51,14],[50,15,51,15],[54,0,55,0],[54,13,55,13],[54,14,55,14],[54,15,55,15],[52,0,53,0],[52,13,53,13],[52,14,53,14],[52,15,53,15],[44,0,45,0],[44,13,45,13],[44,14,45,14],[44,15,45,15],[48,0,49,0],[48,13,49,13],[48,14,49,14],[48,15,49,15],[46,0,47,0],[46,13,47,13],[46,14,47,14],[46,15,47,15],[39,0,41,0],[39,13,41,13],[39,14,41,14],[39,15,41,15],[42,0,43,0],[42,13,43,13],[42,14,43,14],[42,15,43,15],[33,0,35,0],[33,13,35,13],[33,14,35,14],[33,15,35,15],[36,0,38,0],[36,13,38,13],[36,14,38,14],[36,15,38,15],[26,0,29,0],[26,13,29,13],[26,14,29,14],[26,15,29,15],[30,0,32,0],[30,13,32,13],[30,14,32,14],[30,15,32,15],[18,0,21,0],[18,13,21,13],[18,14,21,14],[18,15,21,15],[22,0,25,0],[22,13,25,13],[22,14,25,14],[22,15,25,15],[13,0,14,0],[13,13,14,13],[13,14,14,14],[13,15,14,15],[15,0,17,0],[15,13,17,13],[15,14,17,14],[15,15,17,15],[10,0,12,0],[10,13,12,13],[10,14,12,14],[10,15,12,15],[2,0,2,2],[2,3,2,7],[2,8,2,11],[5,0,6,0],[5,13,6,13],[5,14,6,14],[5,15,6,15],[7,0,9,0],[7,13,9,13],[7,14,9,14],[7,15,9,15],[0,0,0,5],[0,6,0,15],[1,0,1,3],[1,4,1,7],[1,8,1,11],[1,13,1,14]]}
["TRAFFIC TALLYING FORM",null,null,null,null,null,"Project:"]
["Area/Town:",null,null,null,"Road:",null,null,null,"Count Made By:",null,null,null,"Date",null,null,"Day or Night",null,null,"For counts that include vehicles with with super-singles"]
["Location/Chainage of Count Station",null,null,null,null,null,null,null,"Day of the Week:",null,null,null,"Sheet"]
["Vehicle Class\\ HOUR","6-7","7-8","8-9","9-10","10-11","11-12","12-1","1-2","2-3","3-4","4-5","5-6","COUNT","Factor","FACTORED TOTAL (ADT)"]
["Bicycles and NMT",null,null,null,null,null,null,null,null,null,null,null,null,{"$f":"SUM(B5:M5)","v":0},null,{"$f":"N5*O5","v":0}]
["Motorcycles (2 or 3 Wheels)",null,null,null,null,null,null,null,null,null,null,null,null,{"$f":"SUM(B6:M7)","v":0},null,{"$f":"N6*O6","v":0}]
[]
["Passenger Cars",null,null,null,null,null,null,null,null,null,null,null,null,{"$f":"SUM(B8:M10)","v":0},null,{"$f":"N8*O8","v":0}]
[]
[]
["Light Goods Vehicles: (Pickups, Small Bus/\"Taxi\", Vans, Station Wagons, Small Trucks-4tonne)",null,null,null,null,null,null,null,null,null,null,null,null,{"$f":"SUM(B11:M13)","v":0},null,{"$f":"N11*O11","v":0}]
[]
[]
["Medium Bus (Matatu)",null,null,null,null,null,null,null,null,null,null,null,null,{"$f":"SUM(B14:M15)","v":0},null,{"$f":"N14*O14","v":0}]
[]
["Medium Truck (2 Axles) - Type 2. (SAST+SADT)",null,null,null,null,null,null,null,null,null,null,null,null,{"$f":"SUM(B16:M18)","v":0},null,{"$f":"N16*O16","v":0}]
[]
[]
["Heavy Truck (3 Axles) - Type 3. (SAST+TADT)",null,null,null,null,null,null,null,null,null,null,null,null,{"$f":"SUM(B19:M22)","v":0},null,{"$f":"N19*O19","v":0}]
[]
[]
[]
["Heavy Truck (3 Axles) - Type 3B. (SAST+SADT+SADT)",null,null,null,null,null,null,null,null,null,null,null,null,{"$f":"SUM(B23:M26)","v":0},null,{"$f":"N23*O23","v":0}]
[]
[]
[]
["Heavy Truck (4 Axles) - Type 4. (SAST+SAST+TADT)",null,null,null,null,null,null,null,null,null,null,null,null,{"$f":"SUM(B27:M30)","v":0},null,{"$f":"N27*O27","v":0}]
[]
[]
[]
["Semi-Trailers (5 Axles) - Type 5. (SAST+TADT+TADT)",null,null,null,null,null,null,null,null,null,null,null,null,{"$f":"SUM(B31:M33)","v":0},null,{"$f":"N31*O31","v":0}]
[]
[]
["Semi-Trailers (5 Axles) - Type 5B. (SAST+TADT+TAST)",null,null,null,null,null,null,null,null,null,null,null,null,{"$f":"SUM(B34:M36)","v":0},null,{"$f":"N34*O34","v":0}]
[]
[]
["Semi-Trailers (5 Axles) - Type 5C. (SAST+SADT+TRDT)",null,null,null,null,null,null,null,null,null,null,null,null,{"$f":"SUM(B37:M39)","v":0},null,{"$f":"N37*O37","v":0}]
[]
[]
["Semi-Trailers (5 Axles) - Type 5D. (SAST+SADT+TRST)",null,null,null,null,null,null,null,null,null,null,null,null,{"$f":"SUM(B40:M42)","v":0},null,{"$f":"N40*O40","v":0}]
[]
[]
["Semi-Trailers (6 Axles) - Type 6. (SAST+TADT+TRDT)",null,null,null,null,null,null,null,null,null,null,null,null,{"$f":"SUM(B43:M44)","v":0},null,{"$f":"N43*O43","v":0}]
[]
["Semi-Trailers (6 Axles) - Type 6B. (SAST+TADT+TRST)",null,null,null,null,null,null,null,null,null,null,null,null,{"$f":"SUM(B45:M46)","v":0},null,{"$f":"N45*O45","v":0}]
[]
["Semi-Trailers (6 Axles) - Type 6C. (SAST+TAST+TRST)",null,null,null,null,null,null,null,null,null,null,null,null,{"$f":"SUM(B47:M48)","v":0},null,{"$f":"N47*O47","v":0}]
[]
["Trailers (7 Axles) - Type 7.(SAST+TADT+TADT+TADT)",null,null,null,null,null,null,null,null,null,null,null,null,{"$f":"SUM(B49:M50)","v":0},null,{"$f":"N49*O49","v":0}]
[]
["Trailers (7 Axles) - Type 7B.(SAST+TADT+TAST+TAST)",null,null,null,null,null,null,null,null,null,null,null,null,{"$f":"SUM(B51:M52)","v":0},null,{"$f":"N51*O51","v":0}]
[]
["Trailers (7 Axles) - Type 7C.(SAST+TAST+TAST+TAST)",null,null,null,null,null,null,null,null,null,null,null,null,{"$f":"SUM(B53:M54)","v":0},null,{"$f":"N53*O53","v":0}]
[]
["Trailers (9 Axles) - Type 9.(SAST+TADT+TADT+TADT+TADT)",null,null,null,null,null,null,null,null,null,null,null,null,{"$f":"SUM(B55:M56)","v":0},null,{"$f":"N55*O55","v":0}]
[]
["Trailers (9 Axles) - Type 9B.(SAST+TADT+TAST+TAST+TAST)",null,null,null,null,null,null,null,null,null,null,null,null,{"$f":"SUM(B57:M58)","v":0},null,{"$f":"N57*O57","v":0}]
[]
["Hour Total (Design Trucks)",{"$f":"SUM(B16:B58)","v":0},{"$f":"SUM(C16:C58)","v":0},0,0,0,0,0,0,0,0,0,0,{"$f":"SUM(B59:M59)","v":0},null,{"$f":"SUM(P16:P58)","v":0}]

{"sheet":"29 Axle Load Survey Form","index":30,"n_rows":57,"n_cols":34,"rows_kept":57,"cut":false,"hidden":false,"merged":[[55,28,55,30],[56,28,56,30],[1,24,2,24],[3,24,3,33],[4,24,5,24],[4,25,4,33],[50,27,50,28],[52,28,52,29],[53,27,53,28],[53,29,53,30],[54,27,54,28],[54,29,54,30],[42,20,42,21],[42,6,42,7],[42,8,42,9],[42,10,42,11],[42,12,42,13],[42,14,42,15],[42,16,42,17],[39,12,39,13],[39,14,39,15],[39,16,39,17],[39,18,39,19],[39,20,39,21],[40,0,42,0],[40,1,40,2],[41,1,41,2],[42,1,42,2],[42,4,42,5],[38,12,38,13],[38,14,38,15],[38,16,38,17],[38,18,38,19],[42,18,42,19],[38,20,38,21],[39,1,39,2],[39,4,39,5],[39,6,39,7],[39,8,39,9],[39,10,39,11],[35,18,35,19],[35,20,35,21],[36,0,38,0],[36,1,36,2],[37,1,37,2],[38,1,38,2],[38,4,38,5],[38,6,38,7],[38,8,38,9],[38,10,38,11],[32,0,34,0],[32,1,32,2],[33,1,33,2],[34,1,34,2],[34,4,34,5],[34,18,34,19],[34,20,34,21],[35,1,35,2],[35,4,35,5],[35,6,35,7],[35,8,35,9],[35,10,35,11],[35,12,35,13],[35,14,35,15],[35,16,35,17],[34,6,34,7],[34,8,34,9],[34,10,34,11],[34,12,34,13],[34,14,34,15],[34,16,34,17],[30,14,30,15],[30,16,30,17],[30,18,30,19],[30,20,30,21],[31,1,31,2],[31,4,31,5],[31,6,31,7],[31,8,31,9],[31,10,31,11],[31,12,31,13],[31,14,31,15],[31,16,31,17],[31,18,31,19],[31,20,31,21],[28,0,30,0],[28,1,28,2],[29,1,29,2],[30,1,30,2],[30,4,30,5],[30,6,30,7],[30,8,30,9],[30,10,30,11],[30,12,30,13],[24,0,26,0],[24,1,24,2],[25,1,25,2],[26,1,26,2],[26,4,26,5],[26,18,26,19],[26,20,26,21],[27,1,27,2],[27,4,27,5],[27,6,27,7],[27,8,27,9],[27,10,27,11],[27,12,27,13],[27,14,27,15],[27,16,27,17],[26,6,26,7],[26,8,26,9],[26,10,26,11],[26,12,26,13],[26,14,26,15],[26,16,26,17],[27,18,27,19],[27,20,27,21],[22,14,22,15],[22,16,22,17],[22,18,22,19],[22,20,22,21],[23,1,23,2],[23,4,23,5],[23,6,23,7],[23,8,23,9],[23,10,23,11],[23,12,23,13],[23,14,23,15],[23,16,23,17],[23,18,23,19],[23,20,23,21],[20,0,22,0],[20,1,20,2],[21,1,21,2],[22,1,22,2],[22,4,22,5],[22,6,22,7],[22,8,22,9],[22,10,22,11],[22,12,22,13],[16,0,18,0],[16,1,16,2],[17,1,17,2],[18,1,18,2],[18,4,18,5],[18,18,18,19],[18,20,18,21],[19,1,19,2],[19,4,19,5],[19,6,19,7],[19,8,19,9],[19,10,19,11],[19,12,19,13],[19,14,19,15],[19,16,19,17],[18,6,18,7],[18,8,18,9],[18,10,18,11],[18,12,18,13],[18,14,18,15],[18,16,18,17],[19,18,19,19],[19,20,19,21],[14,14,14,15],[14,16,14,17],[14,18,14,19],[14,20,14,21],[15,1,15,2],[15,4,15,5],[15,6,15,7],[15,8,15,9],[15,10,15,11],[15,12,15,13],[15,14,15,15],[15,16,15,17],[15,18,15,19],[15,20,15,21],[12,0,14,0],[12,1,12,2],[13,1,13,2],[14,1,14,2],[14,4,14,5],[14,6,14,7],[14,8,14,9],[14,10,14,11],[14,12,14,13],[8,0,10,0],[8,1,8,2],[9,1,9,2],[10,1,10,2],[10,4,10,5],[10,18,10,19],[10,20,10,21],[11,1,11,2],[11,4,11,5],[11,6,11,7],[11,8,11,9],[11,10,11,11],[11,12,11,13],[11,14,11,15],[11,16,11,17],[10,6,10,7],[10,8,10,9],[10,10,10,11],[10,12,10,13],[10,14,10,15],[10,16,10,17],[11,18,11,19],[11,20,11,21],[6,0,6,3],[6,4,6,21],[7,1,7,2],[7,4,7,5],[7,6,7,7],[7,8,7,9],[7,10,7,11],[7,12,7,13],[7,14,7,15],[7,16,7,17],[7,18,7,19],[7,20,7,21],[0,0,0,22],[1,1,1,22],[2,1,2,3],[2,4,4,22],[3,1,3,3],[4,1,4,3],[5,1,5,3],[5,4,5,5],[5,6,5,22]]}
["AXLE LOAD SURVEY FORM"]
["Project:",null,null,null,null,null,null,null,null,null,null,null,null,null,null,null,null,null,null,null,null,null,null,null,"Assign truck type before copying"]
["Road Name:",null,null,null,"Remarks:"]
["Station:",null,null,null,null,null,null,null,null,null,null,null,null,null,null,null,null,null,null,null,null,null,null,null,"If Supersingles ignored, then copy and paste these into Sheet 2, or 5"]
["Date:",null,null,null,null,null,null,null,null,null,null,null,null,null,null,null,null,null,null,null,null,null,null,null,"Truck Type","Axle Load (Tonnes)"]
["Survey Number:",null,null,null,"Surveyors:",null,null,null,null,null,null,null,null,null,null,null,null,null,null,null,null,null,null,null,null,"Axle 1","Axle 2","Axle 3","Axle 4","Axle 5","Axle 6","Axle 7","Axle 8","Axle 9"]
[null,null,null,null,"Axle Number",null,null,null,null,null,null,null,null,null,null,null,null,null,null,null,null,null,null,null,2,{"$f":"E11","v":0},{"$f":"G11","v":0},{"$f":"I11","v":0},{"$f":"K11","v":0},{"$f":"M11","v":0},{"$f":"O11","v":0},{"$f":"Q11","v":0},{"$f":"S11","v":0},{"$f":"U11","v":0}]
["Vehicle Type","Axle Configuration",null,null,1,null,2,null,3,null,4,null,5,null,6,null,7,null,8,null,9,null,null,null,3,{"$f":"E15","v":0},{"$f":"G15","v":0},{"$f":"I15","v":0},{"$f":"K15","v":0},{"$f":"M15","v":0},{"$f":"O15","v":0},{"$f":"Q15","v":0},{"$f":"S15","v":0},{"$f":"U15","v":0}]
[null,null,null,"Wheel","L","R","L","R","L","R","L","R","L","R","L","R","L","R","L","R","L","R","Total",null,4,{"$f":"E19","v":0},{"$f":"G19","v":0},{"$f":"I19","v":0},{"$f":"K19","v":0},{"$f":"M19","v":0},{"$f":"O19","v":0},{"$f":"Q19","v":0},{"$f":"S19","v":0},{"$f":"U19","v":0}]
[null,"O: ",null,"Wheel Load (kg)",null,null,null,null,null,null,null,null,null,null,null,null,null,null,null,null,null,null,null,null,3,{"$f":"E23","v":0},{"$f":"G23","v":0},{"$f":"I23","v":0},{"$f":"K23","v":0},{"$f":"M23","v":0},{"$f":"O23","v":0},{"$f":"Q23","v":0},{"$f":"S23","v":0},{"$f":"U23","v":0}]
[null,"D:",null,"Axle Load (tonnes)",{"$f":"(E10+F10)/1000","v":0},null,{"$f":"(G10+H10)/1000","v":0},null,{"$f":"(I10+J10)/1000","v":0},null,{"$f":"(K10+L10)/1000","v":0},null,{"$f":"(M10+N10)/1000","v":0},null,{"$f":"(O10+P10)/1000","v":0},null,{"$f":"(Q10+R10)/1000","v":0},null,{"$f":"(S10+T10)/1000","v":0},null,{"$f":"(U10+V10)/1000","v":0},null,{"$f":"SUM(E11:V11)","v":0},null,null,{"$f":"E27","v":0},{"$f":"G27","v":0},{"$f":"I27","v":0},{"$f":"K27","v":0},{"$f":"M27","v":0},{"$f":"O27","v":0},{"$f":"Q27","v":0},{"$f":"S27","v":0},{"$f":"U27","v":0}]
["Vehicle Type","Axle Configuration",null,null,1,null,2,null,3,null,4,null,5,null,6,null,7,null,8,null,9,null,null,null,null,{"$f":"E31","v":0},{"$f":"G31","v":0},{"$f":"I31","v":0},{"$f":"K31","v":0},{"$f":"M31","v":0},{"$f":"O31","v":0},{"$f":"Q31","v":0},{"$f":"S31","v":0},{"$f":"U31","v":0}]
[null,null,null,"Wheel","L","R","L","R","L","R","L","R","L","R","L","R","L","R","L","R","L","R","Total",null,4,{"$f":"E35","v":0},{"$f":"G35","v":0},{"$f":"I35","v":0},{"$f":"K35","v":0},{"$f":"M35","v":0},{"$f":"O35","v":0},{"$f":"Q35","v":0},{"$f":"S35","v":0},{"$f":"U35","v":0}]
[null,"O: ",null,"Wheel Load (kg)",null,null,null,null,null,null,null,null,null,null,null,null,null,null,null,null,null,null,null,null,null,{"$f":"E39","v":0},{"$f":"G39","v":0},{"$f":"I39","v":0},{"$f":"K39","v":0},{"$f":"M39","v":0},{"$f":"O39","v":0},{"$f":"Q39","v":0},{"$f":"S39","v":0},{"$f":"U39","v":0}]
[null,"D:",null,"Axle Load (tonnes)",{"$f":"(E14+F14)/1000","v":0},null,{"$f":"(G14+H14)/1000","v":0},null,{"$f":"(I14+J14)/1000","v":0},null,{"$f":"(K14+L14)/1000","v":0},null,{"$f":"(M14+N14)/1000","v":0},null,{"$f":"(O14+P14)/1000","v":0},null,{"$f":"(Q14+R14)/1000","v":0},null,{"$f":"(S14+T14)/1000","v":0},null,{"$f":"(U14+V14)/1000","v":0},null,{"$f":"SUM(E15:V15)","v":0},null,null,{"$f":"E43","v":0},{"$f":"G43","v":0},{"$f":"I43","v":0},{"$f":"K43","v":0},{"$f":"M43","v":0},{"$f":"O43","v":0},{"$f":"Q43","v":0},{"$f":"S43","v":0},{"$f":"U43","v":0}]
["Vehicle Type","Axle Configuration",null,null,1,null,2,null,3,null,4,null,5,null,6,null,7,null,8,null,9]
[null,null,null,"Wheel","L","R","L","R","L","R","L","R","L","R","L","R","L","R","L","R","L","R","Total"]
[null,"O: ",null,"Wheel Load (kg)"]
[null,"D:",null,"Axle Load (tonnes)",{"$f":"(E18+F18)/1000","v":0},null,{"$f":"(G18+H18)/1000","v":0},null,{"$f":"(I18+J18)/1000","v":0},null,{"$f":"(K18+L18)/1000","v":0},null,{"$f":"(M18+N18)/1000","v":0},null,{"$f":"(O18+P18)/1000","v":0},null,{"$f":"(Q18+R18)/1000","v":0},null,{"$f":"(S18+T18)/1000","v":0},null,{"$f":"(U18+V18)/1000","v":0},null,{"$f":"SUM(E19:V19)","v":0}]
["Vehicle Type","Axle Configuration",null,null,1,null,2,null,3,null,4,null,5,null,6,null,7,null,8,null,9]
[null,null,null,"Wheel","L","R","L","R","L","R","L","R","L","R","L","R","L","R","L","R","L","R","Total"]
[null,"O: ",null,"Wheel Load (kg)"]
[null,"D:",null,"Axle Load (tonnes)",{"$f":"(E22+F22)/1000","v":0},null,{"$f":"(G22+H22)/1000","v":0},null,{"$f":"(I22+J22)/1000","v":0},null,{"$f":"(K22+L22)/1000","v":0},null,{"$f":"(M22+N22)/1000","v":0},null,{"$f":"(O22+P22)/1000","v":0},null,{"$f":"(Q22+R22)/1000","v":0},null,{"$f":"(S22+T22)/1000","v":0},null,{"$f":"(U22+V22)/1000","v":0},null,{"$f":"SUM(E23:V23)","v":0}]
["Vehicle Type","Axle Configuration",null,null,1,null,2,null,3,null,4,null,5,null,6,null,7,null,8,null,9]
[null,null,null,"Wheel","L","R","L","R","L","R","L","R","L","R","L","R","L","R","L","R","L","R","Total"]
[null,"O: ",null,"Wheel Load (kg)"]
[null,"D:",null,"Axle Load (tonnes)",{"$f":"(E26+F26)/1000","v":0},null,{"$f":"(G26+H26)/1000","v":0},null,{"$f":"(I26+J26)/1000","v":0},null,{"$f":"(K26+L26)/1000","v":0},null,{"$f":"(M26+N26)/1000","v":0},null,{"$f":"(O26+P26)/1000","v":0},null,{"$f":"(Q26+R26)/1000","v":0},null,{"$f":"(S26+T26)/1000","v":0},null,{"$f":"(U26+V26)/1000","v":0},null,{"$f":"SUM(E27:V27)","v":0}]
["Vehicle Type","Axle Configuration",null,null,1,null,2,null,3,null,4,null,5,null,6,null,7,null,8,null,9]
[null,null,null,"Wheel","L","R","L","R","L","R","L","R","L","R","L","R","L","R","L","R","L","R","Total"]
[null,"O: ",null,"Wheel Load (kg)"]
[null,"D:",null,"Axle Load (tonnes)",{"$f":"(E30+F30)/1000","v":0},null,{"$f":"(G30+H30)/1000","v":0},null,{"$f":"(I30+J30)/1000","v":0},null,{"$f":"(K30+L30)/1000","v":0},null,{"$f":"(M30+N30)/1000","v":0},null,{"$f":"(O30+P30)/1000","v":0},null,{"$f":"(Q30+R30)/1000","v":0},null,{"$f":"(S30+T30)/1000","v":0},null,{"$f":"(U30+V30)/1000","v":0},null,{"$f":"SUM(E31:V31)","v":0}]
["Vehicle Type","Axle Configuration",null,null,1,null,2,null,3,null,4,null,5,null,6,null,7,null,8,null,9]
[null,null,null,"Wheel","L","R","L","R","L","R","L","R","L","R","L","R","L","R","L","R","L","R","Total"]
[null,"O: ",null,"Wheel Load (kg)"]
[null,"D:",null,"Axle Load (tonnes)",{"$f":"(E34+F34)/1000","v":0},null,{"$f":"(G34+H34)/1000","v":0},null,{"$f":"(I34+J34)/1000","v":0},null,{"$f":"(K34+L34)/1000","v":0},null,{"$f":"(M34+N34)/1000","v":0},null,{"$f":"(O34+P34)/1000","v":0},null,{"$f":"(Q34+R34)/1000","v":0},null,{"$f":"(S34+T34)/1000","v":0},null,{"$f":"(U34+V34)/1000","v":0},null,{"$f":"SUM(E35:V35)","v":0}]
["Vehicle Type","Axle Configuration",null,null,1,null,2,null,3,null,4,null,5,null,6,null,7,null,8,null,9]
[null,null,null,"Wheel","L","R","L","R","L","R","L","R","L","R","L","R","L","R","L","R","L","R","Total"]
[null,"O: ",null,"Wheel Load (kg)"]
[null,"D:",null,"Axle Load (tonnes)",{"$f":"(E38+F38)/1000","v":0},null,{"$f":"(G38+H38)/1000","v":0},null,{"$f":"(I38+J38)/1000","v":0},null,{"$f":"(K38+L38)/1000","v":0},null,{"$f":"(M38+N38)/1000","v":0},null,{"$f":"(O38+P38)/1000","v":0},null,{"$f":"(Q38+R38)/1000","v":0},null,{"$f":"(S38+T38)/1000","v":0},null,{"$f":"(U38+V38)/1000","v":0},null,{"$f":"SUM(E39:V39)","v":0}]
["Vehicle Type","Axle Configuration",null,null,1,null,2,null,3,null,4,null,5,null,6,null,7,null,8,null,9]
[null,null,null,"Wheel","L","R","L","R","L","R","L","R","L","R","L","R","L","R","L","R","L","R","Total"]
[null,"O: ",null,"Wheel Load (kg)"]
[null,"D:",null,"Axle Load (tonnes)",{"$f":"(E42+F42)/1000","v":0},null,{"$f":"(G42+H42)/1000","v":0},null,{"$f":"(I42+J42)/1000","v":0},null,{"$f":"(K42+L42)/1000","v":0},null,{"$f":"(M42+N42)/1000","v":0},null,{"$f":"(O42+P42)/1000","v":0},null,{"$f":"(Q42+R42)/1000","v":0},null,{"$f":"(S42+T42)/1000","v":0},null,{"$f":"(U42+V42)/1000","v":0},null,{"$f":"SUM(E43:V43)","v":0}]
[]
[]
[]
[]
[]
[null,null,null,null,null,null,null,null,null,null,null,null,null,null,null,null,null,null,null,null,null,null,null,null,null,"Truck Type"]
[null,null,null,null,null,null,null,null,null,null,null,null,null,null,null,null,null,null,null,null,null,null,null,null,null,2]
[null,null,null,null,null,null,null,null,null,null,null,null,null,null,null,null,null,null,null,null,null,null,null,null,null,3]
[null,null,null,null,null,null,null,null,null,null,null,null,null,null,null,null,null,null,null,null,null,null,null,null,null,4]
[null,null,null,null,null,null,null,null,null,null,null,null,null,null,null,null,null,null,null,null,null,null,null,null,null,5]
[null,null,null,null,null,null,null,null,null,null,null,null,null,null,null,null,null,null,null,null,null,null,null,null,null,6]
[null,null,null,null,null,null,null,null,null,null,null,null,null,null,null,null,null,null,null,null,null,null,null,null,null,7]
[null,null,null,null,null,null,null,null,null,null,null,null,null,null,null,null,null,null,null,null,null,null,null,null,null,8]
[null,null,null,null,null,null,null,null,null,null,null,null,null,null,null,null,null,null,null,null,null,null,null,null,null,9]

{"sheet":"30 Axle Load Survey Form-SS","index":31,"n_rows":65,"n_cols":35,"rows_kept":65,"cut":false,"hidden":false,"merged":[[4,25,4,33],[3,24,3,33],[4,24,5,24],[1,24,2,24],[63,27,63,28],[63,29,63,30],[63,31,63,32],[63,33,63,34],[64,27,64,28],[64,29,64,30],[64,31,64,32],[64,33,64,34],[61,27,61,28],[61,29,61,30],[61,31,61,32],[62,27,62,28],[62,29,62,30],[62,31,62,32],[58,27,58,28],[58,29,58,31],[59,27,59,28],[59,29,59,31],[60,27,60,28],[60,29,60,30],[60,31,60,32],[54,27,54,28],[54,29,54,30],[55,28,55,30],[56,28,56,30],[57,27,57,28],[57,29,57,31],[42,18,42,19],[42,20,42,21],[50,27,50,28],[52,28,52,29],[53,27,53,28],[53,29,53,30],[39,20,39,21],[40,0,42,0],[40,1,40,2],[41,1,41,2],[42,1,42,2],[42,4,42,5],[38,12,38,13],[38,14,38,15],[38,16,38,17],[38,18,38,19],[38,20,38,21],[39,1,39,2],[39,4,39,5],[39,6,39,7],[39,8,39,9],[39,10,39,11],[42,6,42,7],[42,8,42,9],[42,10,42,11],[42,12,42,13],[42,14,42,15],[42,16,42,17],[39,12,39,13],[39,14,39,15],[36,0,38,0],[36,1,36,2],[37,1,37,2],[38,1,38,2],[38,4,38,5],[38,6,38,7],[38,8,38,9],[38,10,38,11],[39,18,39,19],[39,16,39,17],[32,0,34,0],[32,1,32,2],[33,1,33,2],[34,1,34,2],[34,4,34,5],[34,18,34,19],[34,20,34,21],[35,1,35,2],[35,4,35,5],[35,6,35,7],[35,8,35,9],[35,10,35,11],[35,12,35,13],[35,14,35,15],[35,16,35,17],[34,6,34,7],[34,8,34,9],[34,10,34,11],[34,12,34,13],[34,14,34,15],[34,16,34,17],[35,18,35,19],[35,20,35,21],[30,14,30,15],[30,16,30,17],[30,18,30,19],[30,20,30,21],[31,1,31,2],[31,4,31,5],[31,6,31,7],[31,8,31,9],[31,10,31,11],[31,12,31,13],[31,14,31,15],[31,16,31,17],[31,18,31,19],[31,20,31,21],[28,0,30,0],[28,1,28,2],[29,1,29,2],[30,1,30,2],[30,4,30,5],[30,6,30,7],[30,8,30,9],[30,10,30,11],[30,12,30,13],[24,0,26,0],[24,1,24,2],[25,1,25,2],[26,1,26,2],[26,4,26,5],[26,18,26,19],[26,20,26,21],[27,1,27,2],[27,4,27,5],[27,6,27,7],[27,8,27,9],[27,10,27,11],[27,12,27,13],[27,14,27,15],[27,16,27,17],[26,6,26,7],[26,8,26,9],[26,10,26,11],[26,12,26,13],[26,14,26,15],[26,16,26,17],[27,18,27,19],[27,20,27,21],[22,14,22,15],[22,16,22,17],[22,18,22,19],[22,20,22,21],[23,1,23,2],[23,4,23,5],[23,6,23,7],[23,8,23,9],[23,10,23,11],[23,12,23,13],[23,14,23,15],[23,16,23,17],[23,18,23,19],[23,20,23,21],[20,0,22,0],[20,1,20,2],[21,1,21,2],[22,1,22,2],[22,4,22,5],[22,6,22,7],[22,8,22,9],[22,10,22,11],[22,12,22,13],[16,0,18,0],[16,1,16,2],[17,1,17,2],[18,1,18,2],[18,4,18,5],[18,18,18,19],[18,20,18,21],[19,1,19,2],[19,4,19,5],[19,6,19,7],[19,8,19,9],[19,10,19,11],[19,12,19,13],[19,14,19,15],[19,16,19,17],[18,6,18,7],[18,8,18,9],[18,10,18,11],[18,12,18,13],[18,14,18,15],[18,16,18,17],[19,18,19,19],[19,20,19,21],[14,14,14,15],[14,16,14,17],[14,18,14,19],[14,20,14,21],[15,1,15,2],[15,4,15,5],[15,6,15,7],[15,8,15,9],[15,10,15,11],[15,12,15,13],[15,14,15,15],[15,16,15,17],[15,18,15,19],[15,20,15,21],[12,0,14,0],[12,1,12,2],[13,1,13,2],[14,1,14,2],[14,4,14,5],[14,6,14,7],[14,8,14,9],[14,10,14,11],[14,12,14,13],[8,0,10,0],[8,1,8,2],[9,1,9,2],[10,1,10,2],[10,4,10,5],[10,18,10,19],[10,20,10,21],[11,1,11,2],[11,4,11,5],[11,6,11,7],[11,8,11,9],[11,10,11,11],[11,12,11,13],[11,14,11,15],[11,16,11,17],[10,6,10,7],[10,8,10,9],[10,10,10,11],[10,12,10,13],[10,14,10,15],[10,16,10,17],[11,18,11,19],[11,20,11,21],[6,0,6,3],[6,4,6,21],[7,1,7,2],[7,4,7,5],[7,6,7,7],[7,8,7,9],[7,10,7,11],[7,12,7,13],[7,14,7,15],[7,16,7,17],[7,18,7,19],[7,20,7,21],[0,0,0,22],[1,1,1,22],[2,1,2,3],[2,4,4,22],[3,1,3,3],[4,1,4,3],[5,1,5,3],[5,4,5,5],[5,6,5,22]]}
["AXLE LOAD SURVEY FORM"]
["Project:",null,null,null,null,null,null,null,null,null,null,null,null,null,null,null,null,null,null,null,null,null,null,null,"Assign truck type before copying"]
["Road Name:",null,null,null,"Remarks:"]
["Station:",null,null,null,null,null,null,null,null,null,null,null,null,null,null,null,null,null,null,null,null,null,null,null,"For Supersingles Copy and paste these into Sheet 8, or 11"]
["Date:",null,null,null,null,null,null,null,null,null,null,null,null,null,null,null,null,null,null,null,null,null,null,null,"Truck Type","Axle Load (Tonnes)"]
["Survey Number:",null,null,null,"Surveyors:",null,null,null,null,null,null,null,null,null,null,null,null,null,null,null,null,null,null,null,null,"Axle 1","Axle 2","Axle 3","Axle 4","Axle 5","Axle 6","Axle 7","Axle 8","Axle 9"]
[null,null,null,null,"Axle Number",null,null,null,null,null,null,null,null,null,null,null,null,null,null,null,null,null,null,null,2,{"$f":"E11","v":0},{"$f":"G11","v":0},{"$f":"I11","v":0},{"$f":"K11","v":0},{"$f":"M11","v":0},{"$f":"O11","v":0},{"$f":"Q11","v":0},{"$f":"S11","v":0},{"$f":"U11","v":0}]
["Vehicle Type","Axle Configuration",null,null,1,null,2,null,3,null,4,null,5,null,6,null,7,null,8,null,9,null,null,null,"3B",{"$f":"E15","v":0},{"$f":"G15","v":0},{"$f":"I15","v":0},{"$f":"K15","v":0},{"$f":"M15","v":0},{"$f":"O15","v":0},{"$f":"Q15","v":0},{"$f":"S15","v":0},{"$f":"U15","v":0}]
[null,null,null,"Wheel","L","R","L","R","L","R","L","R","L","R","L","R","L","R","L","R","L","R","Total",null,4,{"$f":"E19","v":0},{"$f":"G19","v":0},{"$f":"I19","v":0},{"$f":"K19","v":0},{"$f":"M19","v":0},{"$f":"O19","v":0},{"$f":"Q19","v":0},{"$f":"S19","v":0},{"$f":"U19","v":0}]
[null,"O: ",null,"Wheel Load (kg)",null,null,null,null,null,null,null,null,null,null,null,null,null,null,null,null,null,null,null,null,null,{"$f":"E23","v":0},{"$f":"G23","v":0},{"$f":"I23","v":0},{"$f":"K23","v":0},{"$f":"M23","v":0},{"$f":"O23","v":0},{"$f":"Q23","v":0},{"$f":"S23","v":0},{"$f":"U23","v":0}]
[null,"D:",null,"Axle Load (tonnes)",{"$f":"(E10+F10)/1000","v":0},null,{"$f":"(G10+H10)/1000","v":0},null,{"$f":"(I10+J10)/1000","v":0},null,{"$f":"(K10+L10)/1000","v":0},null,{"$f":"(M10+N10)/1000","v":0},null,{"$f":"(O10+P10)/1000","v":0},null,{"$f":"(Q10+R10)/1000","v":0},null,{"$f":"(S10+T10)/1000","v":0},null,{"$f":"(U10+V10)/1000","v":0},null,{"$f":"SUM(E11:V11)","v":0},null,"5B",{"$f":"E27","v":0},{"$f":"G27","v":0},{"$f":"I27","v":0},{"$f":"K27","v":0},{"$f":"M27","v":0},{"$f":"O27","v":0},{"$f":"Q27","v":0},{"$f":"S27","v":0},{"$f":"U27","v":0}]
["Vehicle Type","Axle Configuration",null,null,1,null,2,null,3,null,4,null,5,null,6,null,7,null,8,null,9,null,null,null,"3B",{"$f":"E31","v":0},{"$f":"G31","v":0},{"$f":"I31","v":0},{"$f":"K31","v":0},{"$f":"M31","v":0},{"$f":"O31","v":0},{"$f":"Q31","v":0},{"$f":"S31","v":0},{"$f":"U31","v":0}]
[null,null,null,"Wheel","L","R","L","R","L","R","L","R","L","R","L","R","L","R","L","R","L","R","Total",null,null,{"$f":"E35","v":0},{"$f":"G35","v":0},{"$f":"I35","v":0},{"$f":"K35","v":0},{"$f":"M35","v":0},{"$f":"O35","v":0},{"$f":"Q35","v":0},{"$f":"S35","v":0},{"$f":"U35","v":0}]
[null,"O: ",null,"Wheel Load (kg)",null,null,null,null,null,null,null,null,null,null,null,null,null,null,null,null,null,null,null,null,null,{"$f":"E39","v":0},{"$f":"G39","v":0},{"$f":"I39","v":0},{"$f":"K39","v":0},{"$f":"M39","v":0},{"$f":"O39","v":0},{"$f":"Q39","v":0},{"$f":"S39","v":0},{"$f":"U39","v":0}]
[null,"D:",null,"Axle Load (tonnes)",{"$f":"(E14+F14)/1000","v":0},null,{"$f":"(G14+H14)/1000","v":0},null,{"$f":"(I14+J14)/1000","v":0},null,{"$f":"(K14+L14)/1000","v":0},null,{"$f":"(M14+N14)/1000","v":0},null,{"$f":"(O14+P14)/1000","v":0},null,{"$f":"(Q14+R14)/1000","v":0},null,{"$f":"(S14+T14)/1000","v":0},null,{"$f":"(U14+V14)/1000","v":0},null,{"$f":"SUM(E15:V15)","v":0},null,null,{"$f":"E43","v":0},{"$f":"G43","v":0},{"$f":"I43","v":0},{"$f":"K43","v":0},{"$f":"M43","v":0},{"$f":"O43","v":0},{"$f":"Q43","v":0},{"$f":"S43","v":0},{"$f":"U43","v":0}]
["Vehicle Type","Axle Configuration",null,null,1,null,2,null,3,null,4,null,5,null,6,null,7,null,8,null,9]
[null,null,null,"Wheel","L","R","L","R","L","R","L","R","L","R","L","R","L","R","L","R","L","R","Total"]
[null,"O: ",null,"Wheel Load (kg)"]
[null,"D:",null,"Axle Load (tonnes)",{"$f":"(E18+F18)/1000","v":0},null,{"$f":"(G18+H18)/1000","v":0},null,{"$f":"(I18+J18)/1000","v":0},null,{"$f":"(K18+L18)/1000","v":0},null,{"$f":"(M18+N18)/1000","v":0},null,{"$f":"(O18+P18)/1000","v":0},null,{"$f":"(Q18+R18)/1000","v":0},null,{"$f":"(S18+T18)/1000","v":0},null,{"$f":"(U18+V18)/1000","v":0},null,{"$f":"SUM(E19:V19)","v":0}]
["Vehicle Type","Axle Configuration",null,null,1,null,2,null,3,null,4,null,5,null,6,null,7,null,8,null,9]
[null,null,null,"Wheel","L","R","L","R","L","R","L","R","L","R","L","R","L","R","L","R","L","R","Total"]
[null,"O: ",null,"Wheel Load (kg)"]
[null,"D:",null,"Axle Load (tonnes)",{"$f":"(E22+F22)/1000","v":0},null,{"$f":"(G22+H22)/1000","v":0},null,{"$f":"(I22+J22)/1000","v":0},null,{"$f":"(K22+L22)/1000","v":0},null,{"$f":"(M22+N22)/1000","v":0},null,{"$f":"(O22+P22)/1000","v":0},null,{"$f":"(Q22+R22)/1000","v":0},null,{"$f":"(S22+T22)/1000","v":0},null,{"$f":"(U22+V22)/1000","v":0},null,{"$f":"SUM(E23:V23)","v":0}]
["Vehicle Type","Axle Configuration",null,null,1,null,2,null,3,null,4,null,5,null,6,null,7,null,8,null,9]
[null,null,null,"Wheel","L","R","L","R","L","R","L","R","L","R","L","R","L","R","L","R","L","R","Total"]
[null,"O: ",null,"Wheel Load (kg)"]
[null,"D:",null,"Axle Load (tonnes)",{"$f":"(E26+F26)/1000","v":0},null,{"$f":"(G26+H26)/1000","v":0},null,{"$f":"(I26+J26)/1000","v":0},null,{"$f":"(K26+L26)/1000","v":0},null,{"$f":"(M26+N26)/1000","v":0},null,{"$f":"(O26+P26)/1000","v":0},null,{"$f":"(Q26+R26)/1000","v":0},null,{"$f":"(S26+T26)/1000","v":0},null,{"$f":"(U26+V26)/1000","v":0},null,{"$f":"SUM(E27:V27)","v":0}]
["Vehicle Type","Axle Configuration",null,null,1,null,2,null,3,null,4,null,5,null,6,null,7,null,8,null,9]
[null,null,null,"Wheel","L","R","L","R","L","R","L","R","L","R","L","R","L","R","L","R","L","R","Total"]
[null,"O: ",null,"Wheel Load (kg)"]
[null,"D:",null,"Axle Load (tonnes)",{"$f":"(E30+F30)/1000","v":0},null,{"$f":"(G30+H30)/1000","v":0},null,{"$f":"(I30+J30)/1000","v":0},null,{"$f":"(K30+L30)/1000","v":0},null,{"$f":"(M30+N30)/1000","v":0},null,{"$f":"(O30+P30)/1000","v":0},null,{"$f":"(Q30+R30)/1000","v":0},null,{"$f":"(S30+T30)/1000","v":0},null,{"$f":"(U30+V30)/1000","v":0},null,{"$f":"SUM(E31:V31)","v":0}]
["Vehicle Type","Axle Configuration",null,null,1,null,2,null,3,null,4,null,5,null,6,null,7,null,8,null,9]
[null,null,null,"Wheel","L","R","L","R","L","R","L","R","L","R","L","R","L","R","L","R","L","R","Total"]
[null,"O: ",null,"Wheel Load (kg)"]
[null,"D:",null,"Axle Load (tonnes)",{"$f":"(E34+F34)/1000","v":0},null,{"$f":"(G34+H34)/1000","v":0},null,{"$f":"(I34+J34)/1000","v":0},null,{"$f":"(K34+L34)/1000","v":0},null,{"$f":"(M34+N34)/1000","v":0},null,{"$f":"(O34+P34)/1000","v":0},null,{"$f":"(Q34+R34)/1000","v":0},null,{"$f":"(S34+T34)/1000","v":0},null,{"$f":"(U34+V34)/1000","v":0},null,{"$f":"SUM(E35:V35)","v":0}]
["Vehicle Type","Axle Configuration",null,null,1,null,2,null,3,null,4,null,5,null,6,null,7,null,8,null,9]
[null,null,null,"Wheel","L","R","L","R","L","R","L","R","L","R","L","R","L","R","L","R","L","R","Total"]
[null,"O: ",null,"Wheel Load (kg)"]
[null,"D:",null,"Axle Load (tonnes)",{"$f":"(E38+F38)/1000","v":0},null,{"$f":"(G38+H38)/1000","v":0},null,{"$f":"(I38+J38)/1000","v":0},null,{"$f":"(K38+L38)/1000","v":0},null,{"$f":"(M38+N38)/1000","v":0},null,{"$f":"(O38+P38)/1000","v":0},null,{"$f":"(Q38+R38)/1000","v":0},null,{"$f":"(S38+T38)/1000","v":0},null,{"$f":"(U38+V38)/1000","v":0},null,{"$f":"SUM(E39:V39)","v":0}]
["Vehicle Type","Axle Configuration",null,null,1,null,2,null,3,null,4,null,5,null,6,null,7,null,8,null,9]
[null,null,null,"Wheel","L","R","L","R","L","R","L","R","L","R","L","R","L","R","L","R","L","R","Total"]
[null,"O: ",null,"Wheel Load (kg)"]
[null,"D:",null,"Axle Load (tonnes)",{"$f":"(E42+F42)/1000","v":0},null,{"$f":"(G42+H42)/1000","v":0},null,{"$f":"(I42+J42)/1000","v":0},null,{"$f":"(K42+L42)/1000","v":0},null,{"$f":"(M42+N42)/1000","v":0},null,{"$f":"(O42+P42)/1000","v":0},null,{"$f":"(Q42+R42)/1000","v":0},null,{"$f":"(S42+T42)/1000","v":0},null,{"$f":"(U42+V42)/1000","v":0},null,{"$f":"SUM(E43:V43)","v":0}]
[]
[]
[]
[]
[]
[null,null,null,null,null,null,null,null,null,null,null,null,null,null,null,null,null,null,null,null,null,null,null,null,null,"Truck Type","Axle 1","Axle 2","Axle 3","Axle 4","Axle 5","Axle 6","Axle 7","Axle 8","Axle 9"]
[null,null,null,null,null,null,null,null,null,null,null,null,null,null,null,null,null,null,null,null,null,null,null,null,null,2,"SAST","SADT"]
[null,null,null,null,null,null,null,null,null,null,null,null,null,null,null,null,null,null,null,null,null,null,null,null,null,3,"SAST","TADT"]
[null,null,null,null,null,null,null,null,null,null,null,null,null,null,null,null,null,null,null,null,null,null,null,null,null,"3B","SAST","SADT","SADT"]
[null,null,null,null,null,null,null,null,null,null,null,null,null,null,null,null,null,null,null,null,null,null,null,null,null,4,"SAST","SAST","TADT"]
[null,null,null,null,null,null,null,null,null,null,null,null,null,null,null,null,null,null,null,null,null,null,null,null,null,5,"SAST","TADT",null,"TADT"]
[null,null,null,null,null,null,null,null,null,null,null,null,null,null,null,null,null,null,null,null,null,null,null,null,null,"5B","SAST","TADT",null,"TAST"]
[null,null,null,null,null,null,null,null,null,null,null,null,null,null,null,null,null,null,null,null,null,null,null,null,null,"5C","SAST","SADT","TRDT"]
[null,null,null,null,null,null,null,null,null,null,null,null,null,null,null,null,null,null,null,null,null,null,null,null,null,"5D","SAST","SADT","TRST"]
[null,null,null,null,null,null,null,null,null,null,null,null,null,null,null,null,null,null,null,null,null,null,null,null,null,6,"SAST","TADT",null,"TRDT"]
[null,null,null,null,null,null,null,null,null,null,null,null,null,null,null,null,null,null,null,null,null,null,null,null,null,"6B","SAST","TADT",null,"TRST"]
[null,null,null,null,null,null,null,null,null,null,null,null,null,null,null,null,null,null,null,null,null,null,null,null,null,"6C","SAST","TAST",null,"TRST"]
[null,null,null,null,null,null,null,null,null,null,null,null,null,null,null,null,null,null,null,null,null,null,null,null,null,7,"SAST","TADT",null,"TADT",null,"TADT"]
[null,null,null,null,null,null,null,null,null,null,null,null,null,null,null,null,null,null,null,null,null,null,null,null,null,"7B","SAST","TADT",null,"TAST",null,"TAST"]
[null,null,null,null,null,null,null,null,null,null,null,null,null,null,null,null,null,null,null,null,null,null,null,null,null,"7C","SAST","TAST",null,"TAST",null,"TAST"]
[null,null,null,null,null,null,null,null,null,null,null,null,null,null,null,null,null,null,null,null,null,null,null,null,null,9,"SAST","TADT",null,"TADT",null,"TADT",null,"TADT"]
[null,null,null,null,null,null,null,null,null,null,null,null,null,null,null,null,null,null,null,null,null,null,null,null,null,"9B","SAST","TADT",null,"TAST",null,"TAST",null,"TAST"]